{"text_format":"1","workbook":"xlsx","n_sheets":5,"sheets":["サマリー","データセット1","カテゴリースコア","Sheet1","説明変数のダミー化"],"not_rendered":{"charts":0,"images":0,"macros":1,"external_links":0,"defined_names":0,"comments":0,"pivot_tables":0},"unopened":[],"bounds":{"document_bytes":16777216,"sheet_cells":100000,"rows_first":2000,"rows_last":500,"rows_between":2000,"halvings":0,"cell_chars":16384,"cell_head_chars":4096},"cells_cut":0,"cells_raw":0,"read":"whole","date_system":"1900"}

{"sheet":"サマリー","index":0,"n_rows":31,"n_cols":3,"rows_kept":31,"cut":false,"hidden":false,"merged":[]}
[]
[]
[null,"カテゴリースコア算出"]
[]
[]
[]
[]
[null,"シート内容"]
[null,"データセット１シート"]
[null,"・・・","GoogleAnalyticsのレポートを張り付けるシート"]
[]
[null,"カテゴリースコアシート"]
[null,"・・・","データセット1からデータを読み込む。また回帰分析結果のSheet1からデータを読み込む"]
[]
[null,"説明変数のダミー化シート"]
[null,"・・・","データシート１のデータが並べ替えられるシート"]
[]
[null,"Sheet1"]
[null,"・・・","説明変数のダミー化シートで回帰分析を行い生成されるシート"]
[]
[]
[]
[null,"手順"]
[null,"①","データセット1シートにGoogleAnalyticsのレポートを張り付ける。"]
[null,null,"【日付】・【設定したディメンション】・【収益】・【セッション】の順に並べる。"]
[]
[null,"②","カテゴリースコアシートのB2～B9にデータセット１の【設定したディメンション】の内容を記入する"]
[]
[null,"③","説明変数のダミー化シートのデータで「回帰分析」を実行しSheet1を生成する。"]
[]
[null,"④","カテゴリースコアシートでマクロを実行する"]

{"sheet":"データセット1","index":1,"n_rows":187,"n_cols":7,"rows_kept":187,"cut":false,"hidden":false,"merged":[]}
["日付","年齢","収益","セッション"]
["20171003","25-34",8349.49,849]
["20171004","25-34",6725.62,1300,null,null,"A列：日付や番号など（データが違うのであれば重複しても問題はない）"]
["20171023","25-34",6677.38,836,null,null,"B列：カテゴリー　定性である　（例：メディア、性別、年齢など）"]
["20171004","35-44",5773.21,720,null,null,"C列：目的変数Y　数量である　（例：売上、収益など）"]
["20171010","25-34",5571.51,810,null,null,"D列：カテゴリーの持つある種の数量　（セッション数、クリック数など）"]
["20171009","35-44",5533.83,468]
["20171024","35-44",5370.78,433,null,null,"例）収益に対するメディア別のセッションの重要度を見る"]
["20171020","25-34",5278.24,767]
["20171010","35-44",5238.51,486]
["20171017","35-44",5220.3599999999997,467,null,null,"必須：GoogleAnalyticsでカスタムレポートを用意する。"]
["20171026","25-34",5136.9399999999996,889,null,null,"項目は日付とでディメンションで１つ、指標は２つにする。"]
["20171016","25-34",4790.1000000000004,734,null,null,"（例：ディメンションはメディア、指標を収益とセッションにすると"]
["20171003","35-44",4767.3500000000004,527,null,null,"収益に対するメディアごとのセッションの重要度がわかる）"]
["20171012","25-34",4663.1499999999996,677]
["20171030","35-44",4543.6899999999996,395]
["20171028","35-44",4541.46,263]
["20171021","25-34",4533.8500000000004,412]
["20171009","25-34",4496.0200000000004,873]
["20171016","35-44",4434.78,427]
["20171025","25-34",4220.74,820]
["20171013","35-44",4212.37,389]
["20171031","25-34",4156.8500000000004,635]
["20171029","25-34",4156.29,451]
["20171007","25-34",4080.02,606]
["20171002","25-34",4030.11,853]
["20171002","35-44",4003.89,492]
["20171026","35-44",3933.74,459]
["20171018","25-34",3849.72,821]
["20171019","35-44",3819.18,406]
["20171019","25-34",3718.95,713]
["20171005","35-44",3511.68,678]
["20171011","35-44",3482.78,386]
["20171030","25-34",3446.53,790]
["20171006","35-44",3420.4,558]
["20171001","35-44",3388.52,382]
["20171013","25-34",3385.52,660]
["20171020","35-44",3332.93,339]
["20171015","35-44",3238.4,244]
["20171027","45-54",3237.96,146]
["20171027","25-34",3204.68,661]
["20171027","35-44",3143.71,375]
["20171006","25-34",3011.97,854]
["20171014","25-34",2892.24,363]
["20171001","25-34",2888.88,500]
["20171008","35-44",2861.17,367]
["20171015","25-34",2857.4,408]
["20171012","35-44",2836.91,355]
["20171004","45-54",2734.01,263]
["20171005","25-34",2726.13,1039]
["20171022","25-34",2599.9299999999998,544]
["20171029","35-44",2596.41,223]
["20171023","35-44",2538.39,428]
["20171024","25-34",2489.2600000000002,824]
["20171031","35-44",2444.44,332]
["20171011","25-34",2315.89,758]
["20171014","35-44",2278,240]
["20171017","25-34",2253.98,946]
["20171003","45-54",2130.7399999999998,176]
["20171022","35-44",2103.96,300]
["20171018","35-44",2094.87,431]
["20171025","35-44",1743.78,441]
["20171003","18-24",1710.16,474]
["20171008","25-34",1706.2,624]
["20171016","45-54",1704.15,162]
["20171028","25-34",1674.09,351]
["20171011","45-54",1604.35,190]
["20171021","35-44",1516.72,242]
["20171017","18-24",1505.99,711]
["20171002","18-24",1455,504]
["20171021","45-54",1320.87,120]
["20171027","18-24",1152.74,453]
["20171005","45-54",1117.8800000000001,250]
["20171030","55-64",1115.99,68]
["20171008","18-24",1062.58,509]
["20171031","45-54",1005.27,150]
["20171009","18-24",1001.25,505]
["20171017","45-54",976.44,168]
["20171006","45-54",967.55,236]
["20171022","18-24",958.2,435]
["20171007","35-44",955.69,409]
["20171012","18-24",944.91,440]
["20171013","45-54",899.83,116]
["20171009","55-64",787.6,111]
["20171001","18-24",730.33,402]
["20171015","18-24",707.36,288]
["20171010","45-54",701.88,165]
["20171012","45-54",674.79,140]
["20171015","45-54",655,107]
["20171029","45-54",622.75,114]
["20171011","18-24",615.23,492]
["20171023","45-54",598.6,178]
["20171030","45-54",596,156]
["20171022","45-54",558,110]
["20171028","18-24",550.71,304]
["20171024","55-64",531.91,63]
["20171020","18-24",508.62,402]
["20171019","45-54",475.06,160]
["20171024","45-54",467,144]
["20171022","55-64",456,65]
["20171006","18-24",449.8,485]
["20171030","18-24",424.98,520]
["20171018","45-54",404.47,147]
["20171023","18-24",397,564]
["20171025","45-54",391,175]
["20171031","65+",388.7,43]
["20171009","45-54",383.47,188]
["20171002","45-54",376,183]
["20171031","18-24",367.88,422]
["20171016","18-24",335.68,406]
["20171026","45-54",327,158]
["20171007","18-24",262.14999999999998,410]
["20171031","55-64",254.5,64]
["20171001","45-54",238,197]
["20171020","45-54",228.28,166]
["20171005","18-24",225.91,599]
["20171027","55-64",224.85,68]
["20171013","18-24",223.77,337]
["20171004","18-24",218.2,623]
["20171014","18-24",200.39,335]
["20171026","18-24",198.86,512]
["20171028","45-54",176.95,119]
["20171010","55-64",168.19,128]
["20171024","18-24",166.72,467]
["20171021","18-24",158,337]
["20171024","65+",158,61]
["20171007","45-54",157.94,218]
["20171002","55-64",149,111]
["20171019","18-24",149,425]
["20171010","18-24",142.97999999999999,519]
["20171026","55-64",129.62,83]
["20171028","55-64",122.5,71]
["20171007","55-64",119,120]
["20171021","65+",119,53]
["20171025","18-24",112.49,443]
["20171006","55-64",68.55,122]
["20171018","18-24",58.56,514]
["20171025","55-64",48.93,75]
["20171005","65+",33.979999999999997,80]
["20171001","55-64",31.98,109]
["20171023","55-64",21.79,86]
["20171029","18-24",15.74,363]
["20171005","55-64",10.5,154]
["20171001","65+",0,73]
["20171002","65+",0,64]
["20171003","55-64",0,113]
["20171003","65+",0,66]
["20171004","55-64",0,134]
["20171004","65+",0,63]
["20171006","65+",0,68]
["20171007","65+",0,77]
["20171008","45-54",0,144]
["20171008","55-64",0,77]
["20171008","65+",0,58]
["20171009","65+",0,60]
["20171010","65+",0,63]
["20171011","55-64",0,74]
["20171011","65+",0,48]
["20171012","55-64",0,63]
["20171012","65+",0,31]
["20171013","55-64",0,58]
["20171013","65+",0,45]
["20171014","45-54",0,104]
["20171014","55-64",0,44]
["20171014","65+",0,28]
["20171015","55-64",0,44]
["20171015","65+",0,19]
["20171016","55-64",0,78]
["20171016","65+",0,68]
["20171017","55-64",0,78]
["20171017","65+",0,64]
["20171018","55-64",0,71]
["20171018","65+",0,40]
["20171019","55-64",0,62]
["20171019","65+",0,41]
["20171020","55-64",0,61]
["20171020","65+",0,65]
["20171021","55-64",0,75]
["20171022","65+",0,50]
["20171023","65+",0,58]
["20171025","65+",0,43]
["20171026","65+",0,52]
["20171027","65+",0,42]
["20171028","65+",0,41]
["20171029","55-64",0,49]
["20171029","65+",0,41]
["20171030","65+",0,42]

{"sheet":"カテゴリースコア","index":2,"n_rows":1002,"n_cols":21,"rows_kept":1002,"cut":false,"hidden":false,"merged":[[33,1,41,1],[1,7,9,7],[1,8,9,8],[22,2,22,4],[20,2,20,4]]}
[null,"説明変数\nカテゴリーデータ",{"$f":"データセット1!D1","v":"セッション"},"①標本数","平均","②係数","③（①＊②）","④（③の合計）","⑤（④の平均）","⑥（②‐⑤）",null,"説明変数名",{"$f":"IF(B2<>\"\",B2,\"\")","v":"18-24"},{"$f":"IF(B3<>\"\",B3,\"\")","v":"25-34"},{"$f":"IF(B4<>\"\",B4,\"\")","v":"35-44"},{"$f":"IF(B5<>\"\",B5,\"\")","v":"45-54"},{"$f":"IF(B6<>\"\",B6,\"\")","v":"55-64"},{"$f":"IF(B7<>\"\",B7,\"\")","v":"65+"},{"$f":"IF(B8<>\"\",B8,\"\")","v":""},{"$f":"IF(B9<>\"\",B9,\"\")","v":""},{"$f":"IF(B10<>\"\",B10,\"\")","v":""}]
[null,"18-24",{"$f":"IF(B2<>\"\",SUM(M:M),\"\")","v":14200},{"$f":"IF(B2<>\"\",COUNT(M:M),0)","v":31},{"$f":"IF(D2=0,\"\",C2/D2)","v":458.06451612903226},-778.78395486616398,{"$f":"F2*D2","v":-24142.302600851082},{"$f":"SUM(G2:G10)","v":117556.83352076908},{"$f":"H2/SUM(D2:D10)","v":632.02598667080156},{"$f":"IF(B2<>\"\",F2-$I$2,\"\")","v":-1410.8099415369657},null,null,{"$f":"IF(データセット1!$B2<>\"\",IF($M$1=データセット1!$B2,データセット1!$D2),\"\")","v":false},{"$f":"IF(データセット1!$B2<>\"\",IF($N$1=データセット1!$B2,データセット1!$D2),\"\")","v":849},{"$f":"IF(データセット1!$B2<>\"\",IF($O$1=データセット1!$B2,データセット1!$D2),\"\")","v":false},{"$f":"IF(データセット1!$B2<>\"\",IF($P$1=データセット1!$B2,データセット1!$D2),\"\")","v":false},{"$f":"IF(データセット1!$B2<>\"\",IF($Q$1=データセット1!$B2,データセット1!$D2),\"\")","v":false},{"$f":"IF(データセット1!$B2<>\"\",IF($R$1=データセット1!$B2,データセット1!$D2),\"\")","v":false},{"$f":"IF(データセット1!$B2<>\"\",IF($S$1=データセット1!$B2,データセット1!$D2),\"\")","v":false},{"$f":"IF(データセット1!$B2<>\"\",IF($T$1=データセット1!$B2,データセット1!$D2),\"\")","v":false},{"$f":"IF(データセット1!$B2<>\"\",IF($U$1=データセット1!$B2,データセット1!$D2),\"\")","v":false}]
[null,"25-34",{"$f":"IF(B3<>\"\",SUM(N:N),\"\")","v":22368},31,721.54838709677415,1755.21469767608,{"$f":"F3*D3","v":54411.655627958484},null,null,1123.1887110052785,null,null,{"$f":"IF(データセット1!$B3<>\"\",IF($M$1=データセット1!$B3,データセット1!$D3),\"\")","v":false},{"$f":"IF(データセット1!$B3<>\"\",IF($N$1=データセット1!$B3,データセット1!$D3),\"\")","v":1300},{"$f":"IF(データセット1!$B3<>\"\",IF($O$1=データセット1!$B3,データセット1!$D3),\"\")","v":false},{"$f":"IF(データセット1!$B3<>\"\",IF($P$1=データセット1!$B3,データセット1!$D3),\"\")","v":false},{"$f":"IF(データセット1!$B3<>\"\",IF($Q$1=データセット1!$B3,データセット1!$D3),\"\")","v":false},{"$f":"IF(データセット1!$B3<>\"\",IF($R$1=データセット1!$B3,データセット1!$D3),\"\")","v":false},{"$f":"IF(データセット1!$B3<>\"\",IF($S$1=データセット1!$B3,データセット1!$D3),\"\")","v":false},{"$f":"IF(データセット1!$B3<>\"\",IF($T$1=データセット1!$B3,データセット1!$D3),\"\")","v":false},{"$f":"IF(データセット1!$B3<>\"\",IF($U$1=データセット1!$B3,データセット1!$D3),\"\")","v":false}]
[null,"35-44",{"$f":"IF(B4<>\"\",SUM(O:O),\"\")","v":12662},31,408.45161290322579,2344.67223460688,72684.839272813275,null,null,1712.6462479360785,null,null,{"$f":"IF(データセット1!$B4<>\"\",IF($M$1=データセット1!$B4,データセット1!$D4),\"\")","v":false},{"$f":"IF(データセット1!$B4<>\"\",IF($N$1=データセット1!$B4,データセット1!$D4),\"\")","v":836},{"$f":"IF(データセット1!$B4<>\"\",IF($O$1=データセット1!$B4,データセット1!$D4),\"\")","v":false},{"$f":"IF(データセット1!$B4<>\"\",IF($P$1=データセット1!$B4,データセット1!$D4),\"\")","v":false},{"$f":"IF(データセット1!$B4<>\"\",IF($Q$1=データセット1!$B4,データセット1!$D4),\"\")","v":false},{"$f":"IF(データセット1!$B4<>\"\",IF($R$1=データセット1!$B4,データセット1!$D4),\"\")","v":false},{"$f":"IF(データセット1!$B4<>\"\",IF($S$1=データセット1!$B4,データセット1!$D4),\"\")","v":false},{"$f":"IF(データセット1!$B4<>\"\",IF($T$1=データセット1!$B4,データセット1!$D4),\"\")","v":false},{"$f":"IF(データセット1!$B4<>\"\",IF($U$1=データセット1!$B4,データセット1!$D4),\"\")","v":false}]
[null,"45-54",{"$f":"IF(B5<>\"\",SUM(P:P),\"\")","v":5050},31,162.90322580645162,453.70685943034698,14064.912642340756,null,null,-178.31912724045458,null,null,{"$f":"IF(データセット1!$B5<>\"\",IF($M$1=データセット1!$B5,データセット1!$D5),\"\")","v":false},{"$f":"IF(データセット1!$B5<>\"\",IF($N$1=データセット1!$B5,データセット1!$D5),\"\")","v":false},{"$f":"IF(データセット1!$B5<>\"\",IF($O$1=データセット1!$B5,データセット1!$D5),\"\")","v":720},{"$f":"IF(データセット1!$B5<>\"\",IF($P$1=データセット1!$B5,データセット1!$D5),\"\")","v":false},{"$f":"IF(データセット1!$B5<>\"\",IF($Q$1=データセット1!$B5,データセット1!$D5),\"\")","v":false},{"$f":"IF(データセット1!$B5<>\"\",IF($R$1=データセット1!$B5,データセット1!$D5),\"\")","v":false},{"$f":"IF(データセット1!$B5<>\"\",IF($S$1=データセット1!$B5,データセット1!$D5),\"\")","v":false},{"$f":"IF(データセット1!$B5<>\"\",IF($T$1=データセット1!$B5,データセット1!$D5),\"\")","v":false},{"$f":"IF(データセット1!$B5<>\"\",IF($U$1=データセット1!$B5,データセット1!$D5),\"\")","v":false}]
[null,"55-64",{"$f":"IF(B6<>\"\",SUM(Q:Q),\"\")","v":2579},31,{"$f":"IF(D6=0,\"\",C6/D6)","v":83.193548387096769},17.346083177666301,537.72857850765536,null,null,-614.67990349313527,null,null,{"$f":"IF(データセット1!$B6<>\"\",IF($M$1=データセット1!$B6,データセット1!$D6),\"\")","v":false},{"$f":"IF(データセット1!$B6<>\"\",IF($N$1=データセット1!$B6,データセット1!$D6),\"\")","v":810},{"$f":"IF(データセット1!$B6<>\"\",IF($O$1=データセット1!$B6,データセット1!$D6),\"\")","v":false},{"$f":"IF(データセット1!$B6<>\"\",IF($P$1=データセット1!$B6,データセット1!$D6),\"\")","v":false},{"$f":"IF(データセット1!$B6<>\"\",IF($Q$1=データセット1!$B6,データセット1!$D6),\"\")","v":false},{"$f":"IF(データセット1!$B6<>\"\",IF($R$1=データセット1!$B6,データセット1!$D6),\"\")","v":false},{"$f":"IF(データセット1!$B6<>\"\",IF($S$1=データセット1!$B6,データセット1!$D6),\"\")","v":false},{"$f":"IF(データセット1!$B6<>\"\",IF($T$1=データセット1!$B6,データセット1!$D6),\"\")","v":false},{"$f":"IF(データセット1!$B6<>\"\",IF($U$1=データセット1!$B6,データセット1!$D6),\"\")","v":false}]
[null,"65+",{"$f":"IF(B7<>\"\",SUM(R:R),\"\")","v":1647},31,53.12903225806452,0,0,null,null,-632.02598667080156,null,null,{"$f":"IF(データセット1!$B7<>\"\",IF($M$1=データセット1!$B7,データセット1!$D7),\"\")","v":false},{"$f":"IF(データセット1!$B7<>\"\",IF($N$1=データセット1!$B7,データセット1!$D7),\"\")","v":false},{"$f":"IF(データセット1!$B7<>\"\",IF($O$1=データセット1!$B7,データセット1!$D7),\"\")","v":468},{"$f":"IF(データセット1!$B7<>\"\",IF($P$1=データセット1!$B7,データセット1!$D7),\"\")","v":false},{"$f":"IF(データセット1!$B7<>\"\",IF($Q$1=データセット1!$B7,データセット1!$D7),\"\")","v":false},{"$f":"IF(データセット1!$B7<>\"\",IF($R$1=データセット1!$B7,データセット1!$D7),\"\")","v":false},{"$f":"IF(データセット1!$B7<>\"\",IF($S$1=データセット1!$B7,データセット1!$D7),\"\")","v":false},{"$f":"IF(データセット1!$B7<>\"\",IF($T$1=データセット1!$B7,データセット1!$D7),\"\")","v":false},{"$f":"IF(データセット1!$B7<>\"\",IF($U$1=データセット1!$B7,データセット1!$D7),\"\")","v":false}]
[null,null,{"$f":"IF(B8<>\"\",SUM(S:S),\"\")","v":""},0,{"$f":"IF(D8=0,\"\",C8/D8)","v":""},0,0,null,null,"",null,null,{"$f":"IF(データセット1!$B8<>\"\",IF($M$1=データセット1!$B8,データセット1!$D8),\"\")","v":false},{"$f":"IF(データセット1!$B8<>\"\",IF($N$1=データセット1!$B8,データセット1!$D8),\"\")","v":false},{"$f":"IF(データセット1!$B8<>\"\",IF($O$1=データセット1!$B8,データセット1!$D8),\"\")","v":433},{"$f":"IF(データセット1!$B8<>\"\",IF($P$1=データセット1!$B8,データセット1!$D8),\"\")","v":false},{"$f":"IF(データセット1!$B8<>\"\",IF($Q$1=データセット1!$B8,データセット1!$D8),\"\")","v":false},{"$f":"IF(データセット1!$B8<>\"\",IF($R$1=データセット1!$B8,データセット1!$D8),\"\")","v":false},{"$f":"IF(データセット1!$B8<>\"\",IF($S$1=データセット1!$B8,データセット1!$D8),\"\")","v":false},{"$f":"IF(データセット1!$B8<>\"\",IF($T$1=データセット1!$B8,データセット1!$D8),\"\")","v":false},{"$f":"IF(データセット1!$B8<>\"\",IF($U$1=データセット1!$B8,データセット1!$D8),\"\")","v":false}]
[null,null,{"$f":"IF(B9<>\"\",SUM(T:T),\"\")","v":""},0,{"$f":"IF(D9=0,\"\",C9/D9)","v":""},0,0,null,null,"",null,null,{"$f":"IF(データセット1!$B9<>\"\",IF($M$1=データセット1!$B9,データセット1!$D9),\"\")","v":false},{"$f":"IF(データセット1!$B9<>\"\",IF($N$1=データセット1!$B9,データセット1!$D9),\"\")","v":767},{"$f":"IF(データセット1!$B9<>\"\",IF($O$1=データセット1!$B9,データセット1!$D9),\"\")","v":false},{"$f":"IF(データセット1!$B9<>\"\",IF($P$1=データセット1!$B9,データセット1!$D9),\"\")","v":false},{"$f":"IF(データセット1!$B9<>\"\",IF($Q$1=データセット1!$B9,データセット1!$D9),\"\")","v":false},{"$f":"IF(データセット1!$B9<>\"\",IF($R$1=データセット1!$B9,データセット1!$D9),\"\")","v":false},{"$f":"IF(データセット1!$B9<>\"\",IF($S$1=データセット1!$B9,データセット1!$D9),\"\")","v":false},{"$f":"IF(データセット1!$B9<>\"\",IF($T$1=データセット1!$B9,データセット1!$D9),\"\")","v":false},{"$f":"IF(データセット1!$B9<>\"\",IF($U$1=データセット1!$B9,データセット1!$D9),\"\")","v":false}]
[null,null,{"$f":"IF(B10<>\"\",SUM(U:U),\"\")","v":""},0,"",0,0,null,null,{"$f":"IF(B10<>\"\",F10-$I$2,\"\")","v":""},null,null,{"$f":"IF(データセット1!$B10<>\"\",IF($M$1=データセット1!$B10,データセット1!$D10),\"\")","v":false},{"$f":"IF(データセット1!$B10<>\"\",IF($N$1=データセット1!$B10,データセット1!$D10),\"\")","v":false},{"$f":"IF(データセット1!$B10<>\"\",IF($O$1=データセット1!$B10,データセット1!$D10),\"\")","v":486},{"$f":"IF(データセット1!$B10<>\"\",IF($P$1=データセット1!$B10,データセット1!$D10),\"\")","v":false},{"$f":"IF(データセット1!$B10<>\"\",IF($Q$1=データセット1!$B10,データセット1!$D10),\"\")","v":false},{"$f":"IF(データセット1!$B10<>\"\",IF($R$1=データセット1!$B10,データセット1!$D10),\"\")","v":false},{"$f":"IF(データセット1!$B10<>\"\",IF($S$1=データセット1!$B10,データセット1!$D10),\"\")","v":false},{"$f":"IF(データセット1!$B10<>\"\",IF($T$1=データセット1!$B10,データセット1!$D10),\"\")","v":false},{"$f":"IF(データセット1!$B10<>\"\",IF($U$1=データセット1!$B10,データセット1!$D10),\"\")","v":false}]
[null,"全体",{"$f":"SUM(C2:C10)","v":58506},{"$f":"SUM(D2:D10)","v":186},{"$f":"C11/D11","v":314.54838709677421},null,null,null,null,null,null,null,{"$f":"IF(データセット1!$B11<>\"\",IF($M$1=データセット1!$B11,データセット1!$D11),\"\")","v":false},{"$f":"IF(データセット1!$B11<>\"\",IF($N$1=データセット1!$B11,データセット1!$D11),\"\")","v":false},{"$f":"IF(データセット1!$B11<>\"\",IF($O$1=データセット1!$B11,データセット1!$D11),\"\")","v":467},{"$f":"IF(データセット1!$B11<>\"\",IF($P$1=データセット1!$B11,データセット1!$D11),\"\")","v":false},{"$f":"IF(データセット1!$B11<>\"\",IF($Q$1=データセット1!$B11,データセット1!$D11),\"\")","v":false},{"$f":"IF(データセット1!$B11<>\"\",IF($R$1=データセット1!$B11,データセット1!$D11),\"\")","v":false},{"$f":"IF(データセット1!$B11<>\"\",IF($S$1=データセット1!$B11,データセット1!$D11),\"\")","v":false},{"$f":"IF(データセット1!$B11<>\"\",IF($T$1=データセット1!$B11,データセット1!$D11),\"\")","v":false},{"$f":"IF(データセット1!$B11<>\"\",IF($U$1=データセット1!$B11,データセット1!$D11),\"\")","v":false}]
[null,null,null,null,null,null,null,null,null,null,null,null,{"$f":"IF(データセット1!$B12<>\"\",IF($M$1=データセット1!$B12,データセット1!$D12),\"\")","v":false},{"$f":"IF(データセット1!$B12<>\"\",IF($N$1=データセット1!$B12,データセット1!$D12),\"\")","v":889},{"$f":"IF(データセット1!$B12<>\"\",IF($O$1=データセット1!$B12,データセット1!$D12),\"\")","v":false},{"$f":"IF(データセット1!$B12<>\"\",IF($P$1=データセット1!$B12,データセット1!$D12),\"\")","v":false},{"$f":"IF(データセット1!$B12<>\"\",IF($Q$1=データセット1!$B12,データセット1!$D12),\"\")","v":false},{"$f":"IF(データセット1!$B12<>\"\",IF($R$1=データセット1!$B12,データセット1!$D12),\"\")","v":false},{"$f":"IF(データセット1!$B12<>\"\",IF($S$1=データセット1!$B12,データセット1!$D12),\"\")","v":false},{"$f":"IF(データセット1!$B12<>\"\",IF($T$1=データセット1!$B12,データセット1!$D12),\"\")","v":false},{"$f":"IF(データセット1!$B12<>\"\",IF($U$1=データセット1!$B12,データセット1!$D12),\"\")","v":false}]
[null,"①データセット１のシートのA列にあるカテゴリーにする項目を上の表のB列にコピーする",null,null,null,null,null,null,null,null,null,null,{"$f":"IF(データセット1!$B13<>\"\",IF($M$1=データセット1!$B13,データセット1!$D13),\"\")","v":false},{"$f":"IF(データセット1!$B13<>\"\",IF($N$1=データセット1!$B13,データセット1!$D13),\"\")","v":734},{"$f":"IF(データセット1!$B13<>\"\",IF($O$1=データセット1!$B13,データセット1!$D13),\"\")","v":false},{"$f":"IF(データセット1!$B13<>\"\",IF($P$1=データセット1!$B13,データセット1!$D13),\"\")","v":false},{"$f":"IF(データセット1!$B13<>\"\",IF($Q$1=データセット1!$B13,データセット1!$D13),\"\")","v":false},{"$f":"IF(データセット1!$B13<>\"\",IF($R$1=データセット1!$B13,データセット1!$D13),\"\")","v":false},{"$f":"IF(データセット1!$B13<>\"\",IF($S$1=データセット1!$B13,データセット1!$D13),\"\")","v":false},{"$f":"IF(データセット1!$B13<>\"\",IF($T$1=データセット1!$B13,データセット1!$D13),\"\")","v":false},{"$f":"IF(データセット1!$B13<>\"\",IF($U$1=データセット1!$B13,データセット1!$D13),\"\")","v":false}]
[null,"→次に説明変数のダミー化シート内で作業",null,null,null,null,null,null,null,null,null,null,{"$f":"IF(データセット1!$B14<>\"\",IF($M$1=データセット1!$B14,データセット1!$D14),\"\")","v":false},{"$f":"IF(データセット1!$B14<>\"\",IF($N$1=データセット1!$B14,データセット1!$D14),\"\")","v":false},{"$f":"IF(データセット1!$B14<>\"\",IF($O$1=データセット1!$B14,データセット1!$D14),\"\")","v":527},{"$f":"IF(データセット1!$B14<>\"\",IF($P$1=データセット1!$B14,データセット1!$D14),\"\")","v":false},{"$f":"IF(データセット1!$B14<>\"\",IF($Q$1=データセット1!$B14,データセット1!$D14),\"\")","v":false},{"$f":"IF(データセット1!$B14<>\"\",IF($R$1=データセット1!$B14,データセット1!$D14),\"\")","v":false},{"$f":"IF(データセット1!$B14<>\"\",IF($S$1=データセット1!$B14,データセット1!$D14),\"\")","v":false},{"$f":"IF(データセット1!$B14<>\"\",IF($T$1=データセット1!$B14,データセット1!$D14),\"\")","v":false},{"$f":"IF(データセット1!$B14<>\"\",IF($U$1=データセット1!$B14,データセット1!$D14),\"\")","v":false}]
[null,null,null,null,null,null,null,null,null,null,null,null,{"$f":"IF(データセット1!$B15<>\"\",IF($M$1=データセット1!$B15,データセット1!$D15),\"\")","v":false},{"$f":"IF(データセット1!$B15<>\"\",IF($N$1=データセット1!$B15,データセット1!$D15),\"\")","v":677},{"$f":"IF(データセット1!$B15<>\"\",IF($O$1=データセット1!$B15,データセット1!$D15),\"\")","v":false},{"$f":"IF(データセット1!$B15<>\"\",IF($P$1=データセット1!$B15,データセット1!$D15),\"\")","v":false},{"$f":"IF(データセット1!$B15<>\"\",IF($Q$1=データセット1!$B15,データセット1!$D15),\"\")","v":false},{"$f":"IF(データセット1!$B15<>\"\",IF($R$1=データセット1!$B15,データセット1!$D15),\"\")","v":false},{"$f":"IF(データセット1!$B15<>\"\",IF($S$1=データセット1!$B15,データセット1!$D15),\"\")","v":false},{"$f":"IF(データセット1!$B15<>\"\",IF($T$1=データセット1!$B15,データセット1!$D15),\"\")","v":false},{"$f":"IF(データセット1!$B15<>\"\",IF($U$1=データセット1!$B15,データセット1!$D15),\"\")","v":false}]
[null,null,null,null,null,null,null,null,null,null,null,null,{"$f":"IF(データセット1!$B16<>\"\",IF($M$1=データセット1!$B16,データセット1!$D16),\"\")","v":false},{"$f":"IF(データセット1!$B16<>\"\",IF($N$1=データセット1!$B16,データセット1!$D16),\"\")","v":false},{"$f":"IF(データセット1!$B16<>\"\",IF($O$1=データセット1!$B16,データセット1!$D16),\"\")","v":395},{"$f":"IF(データセット1!$B16<>\"\",IF($P$1=データセット1!$B16,データセット1!$D16),\"\")","v":false},{"$f":"IF(データセット1!$B16<>\"\",IF($Q$1=データセット1!$B16,データセット1!$D16),\"\")","v":false},{"$f":"IF(データセット1!$B16<>\"\",IF($R$1=データセット1!$B16,データセット1!$D16),\"\")","v":false},{"$f":"IF(データセット1!$B16<>\"\",IF($S$1=データセット1!$B16,データセット1!$D16),\"\")","v":false},{"$f":"IF(データセット1!$B16<>\"\",IF($T$1=データセット1!$B16,データセット1!$D16),\"\")","v":false},{"$f":"IF(データセット1!$B16<>\"\",IF($U$1=データセット1!$B16,データセット1!$D16),\"\")","v":false}]
[null,null,null,null,null,null,null,null,null,null,null,null,{"$f":"IF(データセット1!$B17<>\"\",IF($M$1=データセット1!$B17,データセット1!$D17),\"\")","v":false},{"$f":"IF(データセット1!$B17<>\"\",IF($N$1=データセット1!$B17,データセット1!$D17),\"\")","v":false},{"$f":"IF(データセット1!$B17<>\"\",IF($O$1=データセット1!$B17,データセット1!$D17),\"\")","v":263},{"$f":"IF(データセット1!$B17<>\"\",IF($P$1=データセット1!$B17,データセット1!$D17),\"\")","v":false},{"$f":"IF(データセット1!$B17<>\"\",IF($Q$1=データセット1!$B17,データセット1!$D17),\"\")","v":false},{"$f":"IF(データセット1!$B17<>\"\",IF($R$1=データセット1!$B17,データセット1!$D17),\"\")","v":false},{"$f":"IF(データセット1!$B17<>\"\",IF($S$1=データセット1!$B17,データセット1!$D17),\"\")","v":false},{"$f":"IF(データセット1!$B17<>\"\",IF($T$1=データセット1!$B17,データセット1!$D17),\"\")","v":false},{"$f":"IF(データセット1!$B17<>\"\",IF($U$1=データセット1!$B17,データセット1!$D17),\"\")","v":false}]
[null,null,null,null,null,null,null,null,null,null,null,null,{"$f":"IF(データセット1!$B18<>\"\",IF($M$1=データセット1!$B18,データセット1!$D18),\"\")","v":false},{"$f":"IF(データセット1!$B18<>\"\",IF($N$1=データセット1!$B18,データセット1!$D18),\"\")","v":412},{"$f":"IF(データセット1!$B18<>\"\",IF($O$1=データセット1!$B18,データセット1!$D18),\"\")","v":false},{"$f":"IF(データセット1!$B18<>\"\",IF($P$1=データセット1!$B18,データセット1!$D18),\"\")","v":false},{"$f":"IF(データセット1!$B18<>\"\",IF($Q$1=データセット1!$B18,データセット1!$D18),\"\")","v":false},{"$f":"IF(データセット1!$B18<>\"\",IF($R$1=データセット1!$B18,データセット1!$D18),\"\")","v":false},{"$f":"IF(データセット1!$B18<>\"\",IF($S$1=データセット1!$B18,データセット1!$D18),\"\")","v":false},{"$f":"IF(データセット1!$B18<>\"\",IF($T$1=データセット1!$B18,データセット1!$D18),\"\")","v":false},{"$f":"IF(データセット1!$B18<>\"\",IF($U$1=データセット1!$B18,データセット1!$D18),\"\")","v":false}]
[null,"スコア計算",null,null,null,null,null,null,null,null,null,null,{"$f":"IF(データセット1!$B19<>\"\",IF($M$1=データセット1!$B19,データセット1!$D19),\"\")","v":false},{"$f":"IF(データセット1!$B19<>\"\",IF($N$1=データセット1!$B19,データセット1!$D19),\"\")","v":873},{"$f":"IF(データセット1!$B19<>\"\",IF($O$1=データセット1!$B19,データセット1!$D19),\"\")","v":false},{"$f":"IF(データセット1!$B19<>\"\",IF($P$1=データセット1!$B19,データセット1!$D19),\"\")","v":false},{"$f":"IF(データセット1!$B19<>\"\",IF($Q$1=データセット1!$B19,データセット1!$D19),\"\")","v":false},{"$f":"IF(データセット1!$B19<>\"\",IF($R$1=データセット1!$B19,データセット1!$D19),\"\")","v":false},{"$f":"IF(データセット1!$B19<>\"\",IF($S$1=データセット1!$B19,データセット1!$D19),\"\")","v":false},{"$f":"IF(データセット1!$B19<>\"\",IF($T$1=データセット1!$B19,データセット1!$D19),\"\")","v":false},{"$f":"IF(データセット1!$B19<>\"\",IF($U$1=データセット1!$B19,データセット1!$D19),\"\")","v":false}]
[null,"説明変数数量データ",null,null,null,null,null,null,null,null,null,null,{"$f":"IF(データセット1!$B20<>\"\",IF($M$1=データセット1!$B20,データセット1!$D20),\"\")","v":false},{"$f":"IF(データセット1!$B20<>\"\",IF($N$1=データセット1!$B20,データセット1!$D20),\"\")","v":false},{"$f":"IF(データセット1!$B20<>\"\",IF($O$1=データセット1!$B20,データセット1!$D20),\"\")","v":427},{"$f":"IF(データセット1!$B20<>\"\",IF($P$1=データセット1!$B20,データセット1!$D20),\"\")","v":false},{"$f":"IF(データセット1!$B20<>\"\",IF($Q$1=データセット1!$B20,データセット1!$D20),\"\")","v":false},{"$f":"IF(データセット1!$B20<>\"\",IF($R$1=データセット1!$B20,データセット1!$D20),\"\")","v":false},{"$f":"IF(データセット1!$B20<>\"\",IF($S$1=データセット1!$B20,データセット1!$D20),\"\")","v":false},{"$f":"IF(データセット1!$B20<>\"\",IF($T$1=データセット1!$B20,データセット1!$D20),\"\")","v":false},{"$f":"IF(データセット1!$B20<>\"\",IF($U$1=データセット1!$B20,データセット1!$D20),\"\")","v":false}]
[null,{"$f":"C1","v":"セッション"},"説明変数が増えることでのYの変動量を表す",null,null,3.2226410101849101,null,null,null,null,null,null,{"$f":"IF(データセット1!$B21<>\"\",IF($M$1=データセット1!$B21,データセット1!$D21),\"\")","v":false},{"$f":"IF(データセット1!$B21<>\"\",IF($N$1=データセット1!$B21,データセット1!$D21),\"\")","v":820},{"$f":"IF(データセット1!$B21<>\"\",IF($O$1=データセット1!$B21,データセット1!$D21),\"\")","v":false},{"$f":"IF(データセット1!$B21<>\"\",IF($P$1=データセット1!$B21,データセット1!$D21),\"\")","v":false},{"$f":"IF(データセット1!$B21<>\"\",IF($Q$1=データセット1!$B21,データセット1!$D21),\"\")","v":false},{"$f":"IF(データセット1!$B21<>\"\",IF($R$1=データセット1!$B21,データセット1!$D21),\"\")","v":false},{"$f":"IF(データセット1!$B21<>\"\",IF($S$1=データセット1!$B21,データセット1!$D21),\"\")","v":false},{"$f":"IF(データセット1!$B21<>\"\",IF($T$1=データセット1!$B21,データセット1!$D21),\"\")","v":false},{"$f":"IF(データセット1!$B21<>\"\",IF($U$1=データセット1!$B21,データセット1!$D21),\"\")","v":false}]
[null,null,null,null,null,null,null,null,null,null,null,null,{"$f":"IF(データセット1!$B22<>\"\",IF($M$1=データセット1!$B22,データセット1!$D22),\"\")","v":false},{"$f":"IF(データセット1!$B22<>\"\",IF($N$1=データセット1!$B22,データセット1!$D22),\"\")","v":false},{"$f":"IF(データセット1!$B22<>\"\",IF($O$1=データセット1!$B22,データセット1!$D22),\"\")","v":389},{"$f":"IF(データセット1!$B22<>\"\",IF($P$1=データセット1!$B22,データセット1!$D22),\"\")","v":false},{"$f":"IF(データセット1!$B22<>\"\",IF($Q$1=データセット1!$B22,データセット1!$D22),\"\")","v":false},{"$f":"IF(データセット1!$B22<>\"\",IF($R$1=データセット1!$B22,データセット1!$D22),\"\")","v":false},{"$f":"IF(データセット1!$B22<>\"\",IF($S$1=データセット1!$B22,データセット1!$D22),\"\")","v":false},{"$f":"IF(データセット1!$B22<>\"\",IF($T$1=データセット1!$B22,データセット1!$D22),\"\")","v":false},{"$f":"IF(データセット1!$B22<>\"\",IF($U$1=データセット1!$B22,データセット1!$D22),\"\")","v":false}]
[null,"切片","回帰式においてYの平均を表す",null,null,865.03105633995096,null,null,null,null,null,null,{"$f":"IF(データセット1!$B23<>\"\",IF($M$1=データセット1!$B23,データセット1!$D23),\"\")","v":false},{"$f":"IF(データセット1!$B23<>\"\",IF($N$1=データセット1!$B23,データセット1!$D23),\"\")","v":635},{"$f":"IF(データセット1!$B23<>\"\",IF($O$1=データセット1!$B23,データセット1!$D23),\"\")","v":false},{"$f":"IF(データセット1!$B23<>\"\",IF($P$1=データセット1!$B23,データセット1!$D23),\"\")","v":false},{"$f":"IF(データセット1!$B23<>\"\",IF($Q$1=データセット1!$B23,データセット1!$D23),\"\")","v":false},{"$f":"IF(データセット1!$B23<>\"\",IF($R$1=データセット1!$B23,データセット1!$D23),\"\")","v":false},{"$f":"IF(データセット1!$B23<>\"\",IF($S$1=データセット1!$B23,データセット1!$D23),\"\")","v":false},{"$f":"IF(データセット1!$B23<>\"\",IF($T$1=データセット1!$B23,データセット1!$D23),\"\")","v":false},{"$f":"IF(データセット1!$B23<>\"\",IF($U$1=データセット1!$B23,データセット1!$D23),\"\")","v":false}]
[null,null,null,null,null,null,null,null,null,null,null,null,{"$f":"IF(データセット1!$B24<>\"\",IF($M$1=データセット1!$B24,データセット1!$D24),\"\")","v":false},{"$f":"IF(データセット1!$B24<>\"\",IF($N$1=データセット1!$B24,データセット1!$D24),\"\")","v":451},{"$f":"IF(データセット1!$B24<>\"\",IF($O$1=データセット1!$B24,データセット1!$D24),\"\")","v":false},{"$f":"IF(データセット1!$B24<>\"\",IF($P$1=データセット1!$B24,データセット1!$D24),\"\")","v":false},{"$f":"IF(データセット1!$B24<>\"\",IF($Q$1=データセット1!$B24,データセット1!$D24),\"\")","v":false},{"$f":"IF(データセット1!$B24<>\"\",IF($R$1=データセット1!$B24,データセット1!$D24),\"\")","v":false},{"$f":"IF(データセット1!$B24<>\"\",IF($S$1=データセット1!$B24,データセット1!$D24),\"\")","v":false},{"$f":"IF(データセット1!$B24<>\"\",IF($T$1=データセット1!$B24,データセット1!$D24),\"\")","v":false},{"$f":"IF(データセット1!$B24<>\"\",IF($U$1=データセット1!$B24,データセット1!$D24),\"\")","v":false}]
[null,"②回帰分析が終了したらカテゴリースコア計算を行う",null,null,null,null,null,null,null,null,null,null,{"$f":"IF(データセット1!$B25<>\"\",IF($M$1=データセット1!$B25,データセット1!$D25),\"\")","v":false},{"$f":"IF(データセット1!$B25<>\"\",IF($N$1=データセット1!$B25,データセット1!$D25),\"\")","v":606},{"$f":"IF(データセット1!$B25<>\"\",IF($O$1=データセット1!$B25,データセット1!$D25),\"\")","v":false},{"$f":"IF(データセット1!$B25<>\"\",IF($P$1=データセット1!$B25,データセット1!$D25),\"\")","v":false},{"$f":"IF(データセット1!$B25<>\"\",IF($Q$1=データセット1!$B25,データセット1!$D25),\"\")","v":false},{"$f":"IF(データセット1!$B25<>\"\",IF($R$1=データセット1!$B25,データセット1!$D25),\"\")","v":false},{"$f":"IF(データセット1!$B25<>\"\",IF($S$1=データセット1!$B25,データセット1!$D25),\"\")","v":false},{"$f":"IF(データセット1!$B25<>\"\",IF($T$1=データセット1!$B25,データセット1!$D25),\"\")","v":false},{"$f":"IF(データセット1!$B25<>\"\",IF($U$1=データセット1!$B25,データセット1!$D25),\"\")","v":false}]
[null,null,null,null,null,null,null,null,null,null,null,null,{"$f":"IF(データセット1!$B26<>\"\",IF($M$1=データセット1!$B26,データセット1!$D26),\"\")","v":false},{"$f":"IF(データセット1!$B26<>\"\",IF($N$1=データセット1!$B26,データセット1!$D26),\"\")","v":853},{"$f":"IF(データセット1!$B26<>\"\",IF($O$1=データセット1!$B26,データセット1!$D26),\"\")","v":false},{"$f":"IF(データセット1!$B26<>\"\",IF($P$1=データセット1!$B26,データセット1!$D26),\"\")","v":false},{"$f":"IF(データセット1!$B26<>\"\",IF($Q$1=データセット1!$B26,データセット1!$D26),\"\")","v":false},{"$f":"IF(データセット1!$B26<>\"\",IF($R$1=データセット1!$B26,データセット1!$D26),\"\")","v":false},{"$f":"IF(データセット1!$B26<>\"\",IF($S$1=データセット1!$B26,データセット1!$D26),\"\")","v":false},{"$f":"IF(データセット1!$B26<>\"\",IF($T$1=データセット1!$B26,データセット1!$D26),\"\")","v":false},{"$f":"IF(データセット1!$B26<>\"\",IF($U$1=データセット1!$B26,データセット1!$D26),\"\")","v":false}]
[null,null,"カテゴリースコア計算ボタン",null,"→",null,null,null,null,null,null,null,{"$f":"IF(データセット1!$B27<>\"\",IF($M$1=データセット1!$B27,データセット1!$D27),\"\")","v":false},{"$f":"IF(データセット1!$B27<>\"\",IF($N$1=データセット1!$B27,データセット1!$D27),\"\")","v":false},{"$f":"IF(データセット1!$B27<>\"\",IF($O$1=データセット1!$B27,データセット1!$D27),\"\")","v":492},{"$f":"IF(データセット1!$B27<>\"\",IF($P$1=データセット1!$B27,データセット1!$D27),\"\")","v":false},{"$f":"IF(データセット1!$B27<>\"\",IF($Q$1=データセット1!$B27,データセット1!$D27),\"\")","v":false},{"$f":"IF(データセット1!$B27<>\"\",IF($R$1=データセット1!$B27,データセット1!$D27),\"\")","v":false},{"$f":"IF(データセット1!$B27<>\"\",IF($S$1=データセット1!$B27,データセット1!$D27),\"\")","v":false},{"$f":"IF(データセット1!$B27<>\"\",IF($T$1=データセット1!$B27,データセット1!$D27),\"\")","v":false},{"$f":"IF(データセット1!$B27<>\"\",IF($U$1=データセット1!$B27,データセット1!$D27),\"\")","v":false}]
[null,null,null,null,null,null,null,null,null,null,null,null,{"$f":"IF(データセット1!$B28<>\"\",IF($M$1=データセット1!$B28,データセット1!$D28),\"\")","v":false},{"$f":"IF(データセット1!$B28<>\"\",IF($N$1=データセット1!$B28,データセット1!$D28),\"\")","v":false},{"$f":"IF(データセット1!$B28<>\"\",IF($O$1=データセット1!$B28,データセット1!$D28),\"\")","v":459},{"$f":"IF(データセット1!$B28<>\"\",IF($P$1=データセット1!$B28,データセット1!$D28),\"\")","v":false},{"$f":"IF(データセット1!$B28<>\"\",IF($Q$1=データセット1!$B28,データセット1!$D28),\"\")","v":false},{"$f":"IF(データセット1!$B28<>\"\",IF($R$1=データセット1!$B28,データセット1!$D28),\"\")","v":false},{"$f":"IF(データセット1!$B28<>\"\",IF($S$1=データセット1!$B28,データセット1!$D28),\"\")","v":false},{"$f":"IF(データセット1!$B28<>\"\",IF($T$1=データセット1!$B28,データセット1!$D28),\"\")","v":false},{"$f":"IF(データセット1!$B28<>\"\",IF($U$1=データセット1!$B28,データセット1!$D28),\"\")","v":false}]
[null,null,null,null,null,null,null,null,null,null,null,null,{"$f":"IF(データセット1!$B29<>\"\",IF($M$1=データセット1!$B29,データセット1!$D29),\"\")","v":false},{"$f":"IF(データセット1!$B29<>\"\",IF($N$1=データセット1!$B29,データセット1!$D29),\"\")","v":821},{"$f":"IF(データセット1!$B29<>\"\",IF($O$1=データセット1!$B29,データセット1!$D29),\"\")","v":false},{"$f":"IF(データセット1!$B29<>\"\",IF($P$1=データセット1!$B29,データセット1!$D29),\"\")","v":false},{"$f":"IF(データセット1!$B29<>\"\",IF($Q$1=データセット1!$B29,データセット1!$D29),\"\")","v":false},{"$f":"IF(データセット1!$B29<>\"\",IF($R$1=データセット1!$B29,データセット1!$D29),\"\")","v":false},{"$f":"IF(データセット1!$B29<>\"\",IF($S$1=データセット1!$B29,データセット1!$D29),\"\")","v":false},{"$f":"IF(データセット1!$B29<>\"\",IF($T$1=データセット1!$B29,データセット1!$D29),\"\")","v":false},{"$f":"IF(データセット1!$B29<>\"\",IF($U$1=データセット1!$B29,データセット1!$D29),\"\")","v":false}]
[]
[]
[null,"スコア分析",null,null,null,null,null,null,null,null,null,null,{"$f":"IF(データセット1!$B30<>\"\",IF($M$1=データセット1!$B30,データセット1!$D30),\"\")","v":false},{"$f":"IF(データセット1!$B30<>\"\",IF($N$1=データセット1!$B30,データセット1!$D30),\"\")","v":false},{"$f":"IF(データセット1!$B30<>\"\",IF($O$1=データセット1!$B30,データセット1!$D30),\"\")","v":406},{"$f":"IF(データセット1!$B30<>\"\",IF($P$1=データセット1!$B30,データセット1!$D30),\"\")","v":false},{"$f":"IF(データセット1!$B30<>\"\",IF($Q$1=データセット1!$B30,データセット1!$D30),\"\")","v":false},{"$f":"IF(データセット1!$B30<>\"\",IF($R$1=データセット1!$B30,データセット1!$D30),\"\")","v":false},{"$f":"IF(データセット1!$B30<>\"\",IF($S$1=データセット1!$B30,データセット1!$D30),\"\")","v":false},{"$f":"IF(データセット1!$B30<>\"\",IF($T$1=データセット1!$B30,データセット1!$D30),\"\")","v":false},{"$f":"IF(データセット1!$B30<>\"\",IF($U$1=データセット1!$B30,データセット1!$D30),\"\")","v":false}]
[null,"回帰式","係数","*","変数名",null,null,null,null,null,null,null,{"$f":"IF(データセット1!$B31<>\"\",IF($M$1=データセット1!$B31,データセット1!$D31),\"\")","v":false},{"$f":"IF(データセット1!$B31<>\"\",IF($N$1=データセット1!$B31,データセット1!$D31),\"\")","v":713},{"$f":"IF(データセット1!$B31<>\"\",IF($O$1=データセット1!$B31,データセット1!$D31),\"\")","v":false},{"$f":"IF(データセット1!$B31<>\"\",IF($P$1=データセット1!$B31,データセット1!$D31),\"\")","v":false},{"$f":"IF(データセット1!$B31<>\"\",IF($Q$1=データセット1!$B31,データセット1!$D31),\"\")","v":false},{"$f":"IF(データセット1!$B31<>\"\",IF($R$1=データセット1!$B31,データセット1!$D31),\"\")","v":false},{"$f":"IF(データセット1!$B31<>\"\",IF($S$1=データセット1!$B31,データセット1!$D31),\"\")","v":false},{"$f":"IF(データセット1!$B31<>\"\",IF($T$1=データセット1!$B31,データセット1!$D31),\"\")","v":false},{"$f":"IF(データセット1!$B31<>\"\",IF($U$1=データセット1!$B31,データセット1!$D31),\"\")","v":false}]
[null,null,{"$f":"J2","v":-1410.8099415369657},"*",{"$f":"B2","v":"18-24"},null,"カテゴリーデータの説明変数が一つ選択されるたびに",null,null,null,null,null,{"$f":"IF(データセット1!$B32<>\"\",IF($M$1=データセット1!$B32,データセット1!$D32),\"\")","v":false},{"$f":"IF(データセット1!$B32<>\"\",IF($N$1=データセット1!$B32,データセット1!$D32),\"\")","v":false},{"$f":"IF(データセット1!$B32<>\"\",IF($O$1=データセット1!$B32,データセット1!$D32),\"\")","v":678},{"$f":"IF(データセット1!$B32<>\"\",IF($P$1=データセット1!$B32,データセット1!$D32),\"\")","v":false},{"$f":"IF(データセット1!$B32<>\"\",IF($Q$1=データセット1!$B32,データセット1!$D32),\"\")","v":false},{"$f":"IF(データセット1!$B32<>\"\",IF($R$1=データセット1!$B32,データセット1!$D32),\"\")","v":false},{"$f":"IF(データセット1!$B32<>\"\",IF($S$1=データセット1!$B32,データセット1!$D32),\"\")","v":false},{"$f":"IF(データセット1!$B32<>\"\",IF($T$1=データセット1!$B32,データセット1!$D32),\"\")","v":false},{"$f":"IF(データセット1!$B32<>\"\",IF($U$1=データセット1!$B32,データセット1!$D32),\"\")","v":false}]
[null,null,1123.1887110052785,"*","25-34",null,"係数の分だけ切片のYの平均値が変動する。",null,null,null,null,null,{"$f":"IF(データセット1!$B33<>\"\",IF($M$1=データセット1!$B33,データセット1!$D33),\"\")","v":false},{"$f":"IF(データセット1!$B33<>\"\",IF($N$1=データセット1!$B33,データセット1!$D33),\"\")","v":false},{"$f":"IF(データセット1!$B33<>\"\",IF($O$1=データセット1!$B33,データセット1!$D33),\"\")","v":386},{"$f":"IF(データセット1!$B33<>\"\",IF($P$1=データセット1!$B33,データセット1!$D33),\"\")","v":false},{"$f":"IF(データセット1!$B33<>\"\",IF($Q$1=データセット1!$B33,データセット1!$D33),\"\")","v":false},{"$f":"IF(データセット1!$B33<>\"\",IF($R$1=データセット1!$B33,データセット1!$D33),\"\")","v":false},{"$f":"IF(データセット1!$B33<>\"\",IF($S$1=データセット1!$B33,データセット1!$D33),\"\")","v":false},{"$f":"IF(データセット1!$B33<>\"\",IF($T$1=データセット1!$B33,データセット1!$D33),\"\")","v":false},{"$f":"IF(データセット1!$B33<>\"\",IF($U$1=データセット1!$B33,データセット1!$D33),\"\")","v":false}]
[null,null,1712.6462479360785,"*","35-44",null,null,null,null,null,null,null,{"$f":"IF(データセット1!$B34<>\"\",IF($M$1=データセット1!$B34,データセット1!$D34),\"\")","v":false},{"$f":"IF(データセット1!$B34<>\"\",IF($N$1=データセット1!$B34,データセット1!$D34),\"\")","v":790},{"$f":"IF(データセット1!$B34<>\"\",IF($O$1=データセット1!$B34,データセット1!$D34),\"\")","v":false},{"$f":"IF(データセット1!$B34<>\"\",IF($P$1=データセット1!$B34,データセット1!$D34),\"\")","v":false},{"$f":"IF(データセット1!$B34<>\"\",IF($Q$1=データセット1!$B34,データセット1!$D34),\"\")","v":false},{"$f":"IF(データセット1!$B34<>\"\",IF($R$1=データセット1!$B34,データセット1!$D34),\"\")","v":false},{"$f":"IF(データセット1!$B34<>\"\",IF($S$1=データセット1!$B34,データセット1!$D34),\"\")","v":false},{"$f":"IF(データセット1!$B34<>\"\",IF($T$1=データセット1!$B34,データセット1!$D34),\"\")","v":false},{"$f":"IF(データセット1!$B34<>\"\",IF($U$1=データセット1!$B34,データセット1!$D34),\"\")","v":false}]
[null,null,-178.31912724045458,"*","45-54",null,{"$f":"\"例）\"&E35&\"が一つ選択されると\"","v":"例）25-34が一つ選択されると"},null,null,null,null,null,{"$f":"IF(データセット1!$B35<>\"\",IF($M$1=データセット1!$B35,データセット1!$D35),\"\")","v":false},{"$f":"IF(データセット1!$B35<>\"\",IF($N$1=データセット1!$B35,データセット1!$D35),\"\")","v":false},{"$f":"IF(データセット1!$B35<>\"\",IF($O$1=データセット1!$B35,データセット1!$D35),\"\")","v":558},{"$f":"IF(データセット1!$B35<>\"\",IF($P$1=データセット1!$B35,データセット1!$D35),\"\")","v":false},{"$f":"IF(データセット1!$B35<>\"\",IF($Q$1=データセット1!$B35,データセット1!$D35),\"\")","v":false},{"$f":"IF(データセット1!$B35<>\"\",IF($R$1=データセット1!$B35,データセット1!$D35),\"\")","v":false},{"$f":"IF(データセット1!$B35<>\"\",IF($S$1=データセット1!$B35,データセット1!$D35),\"\")","v":false},{"$f":"IF(データセット1!$B35<>\"\",IF($T$1=データセット1!$B35,データセット1!$D35),\"\")","v":false},{"$f":"IF(データセット1!$B35<>\"\",IF($U$1=データセット1!$B35,データセット1!$D35),\"\")","v":false}]
[null,null,-614.67990349313527,"*","55-64",null,{"$f":"F23","v":865.03105633995096},{"$f":"\"+(\"&C35&\")\"","v":"+(1123.18871100528)"},null,"となり",null,null,{"$f":"IF(データセット1!$B36<>\"\",IF($M$1=データセット1!$B36,データセット1!$D36),\"\")","v":false},{"$f":"IF(データセット1!$B36<>\"\",IF($N$1=データセット1!$B36,データセット1!$D36),\"\")","v":false},{"$f":"IF(データセット1!$B36<>\"\",IF($O$1=データセット1!$B36,データセット1!$D36),\"\")","v":382},{"$f":"IF(データセット1!$B36<>\"\",IF($P$1=データセット1!$B36,データセット1!$D36),\"\")","v":false},{"$f":"IF(データセット1!$B36<>\"\",IF($Q$1=データセット1!$B36,データセット1!$D36),\"\")","v":false},{"$f":"IF(データセット1!$B36<>\"\",IF($R$1=データセット1!$B36,データセット1!$D36),\"\")","v":false},{"$f":"IF(データセット1!$B36<>\"\",IF($S$1=データセット1!$B36,データセット1!$D36),\"\")","v":false},{"$f":"IF(データセット1!$B36<>\"\",IF($T$1=データセット1!$B36,データセット1!$D36),\"\")","v":false},{"$f":"IF(データセット1!$B36<>\"\",IF($U$1=データセット1!$B36,データセット1!$D36),\"\")","v":false}]
[null,null,-632.02598667080156,"*","65+",null,"Yは",{"$f":"F23+C35","v":1988.2197673452295},"変動する",null,null,null,{"$f":"IF(データセット1!$B37<>\"\",IF($M$1=データセット1!$B37,データセット1!$D37),\"\")","v":false},{"$f":"IF(データセット1!$B37<>\"\",IF($N$1=データセット1!$B37,データセット1!$D37),\"\")","v":660},{"$f":"IF(データセット1!$B37<>\"\",IF($O$1=データセット1!$B37,データセット1!$D37),\"\")","v":false},{"$f":"IF(データセット1!$B37<>\"\",IF($P$1=データセット1!$B37,データセット1!$D37),\"\")","v":false},{"$f":"IF(データセット1!$B37<>\"\",IF($Q$1=データセット1!$B37,データセット1!$D37),\"\")","v":false},{"$f":"IF(データセット1!$B37<>\"\",IF($R$1=データセット1!$B37,データセット1!$D37),\"\")","v":false},{"$f":"IF(データセット1!$B37<>\"\",IF($S$1=データセット1!$B37,データセット1!$D37),\"\")","v":false},{"$f":"IF(データセット1!$B37<>\"\",IF($T$1=データセット1!$B37,データセット1!$D37),\"\")","v":false},{"$f":"IF(データセット1!$B37<>\"\",IF($U$1=データセット1!$B37,データセット1!$D37),\"\")","v":false}]
[null,null,"","*",0,null,null,null,null,null,null,null,{"$f":"IF(データセット1!$B38<>\"\",IF($M$1=データセット1!$B38,データセット1!$D38),\"\")","v":false},{"$f":"IF(データセット1!$B38<>\"\",IF($N$1=データセット1!$B38,データセット1!$D38),\"\")","v":false},{"$f":"IF(データセット1!$B38<>\"\",IF($O$1=データセット1!$B38,データセット1!$D38),\"\")","v":339},{"$f":"IF(データセット1!$B38<>\"\",IF($P$1=データセット1!$B38,データセット1!$D38),\"\")","v":false},{"$f":"IF(データセット1!$B38<>\"\",IF($Q$1=データセット1!$B38,データセット1!$D38),\"\")","v":false},{"$f":"IF(データセット1!$B38<>\"\",IF($R$1=データセット1!$B38,データセット1!$D38),\"\")","v":false},{"$f":"IF(データセット1!$B38<>\"\",IF($S$1=データセット1!$B38,データセット1!$D38),\"\")","v":false},{"$f":"IF(データセット1!$B38<>\"\",IF($T$1=データセット1!$B38,データセット1!$D38),\"\")","v":false},{"$f":"IF(データセット1!$B38<>\"\",IF($U$1=データセット1!$B38,データセット1!$D38),\"\")","v":false}]
[null,null,"","*",0,null,null,null,null,null,null,null,{"$f":"IF(データセット1!$B39<>\"\",IF($M$1=データセット1!$B39,データセット1!$D39),\"\")","v":false},{"$f":"IF(データセット1!$B39<>\"\",IF($N$1=データセット1!$B39,データセット1!$D39),\"\")","v":false},{"$f":"IF(データセット1!$B39<>\"\",IF($O$1=データセット1!$B39,データセット1!$D39),\"\")","v":244},{"$f":"IF(データセット1!$B39<>\"\",IF($P$1=データセット1!$B39,データセット1!$D39),\"\")","v":false},{"$f":"IF(データセット1!$B39<>\"\",IF($Q$1=データセット1!$B39,データセット1!$D39),\"\")","v":false},{"$f":"IF(データセット1!$B39<>\"\",IF($R$1=データセット1!$B39,データセット1!$D39),\"\")","v":false},{"$f":"IF(データセット1!$B39<>\"\",IF($S$1=データセット1!$B39,データセット1!$D39),\"\")","v":false},{"$f":"IF(データセット1!$B39<>\"\",IF($T$1=データセット1!$B39,データセット1!$D39),\"\")","v":false},{"$f":"IF(データセット1!$B39<>\"\",IF($U$1=データセット1!$B39,データセット1!$D39),\"\")","v":false}]
[null,null,"","*",0,null,null,null,null,null,null,null,{"$f":"IF(データセット1!$B40<>\"\",IF($M$1=データセット1!$B40,データセット1!$D40),\"\")","v":false},{"$f":"IF(データセット1!$B40<>\"\",IF($N$1=データセット1!$B40,データセット1!$D40),\"\")","v":false},{"$f":"IF(データセット1!$B40<>\"\",IF($O$1=データセット1!$B40,データセット1!$D40),\"\")","v":false},{"$f":"IF(データセット1!$B40<>\"\",IF($P$1=データセット1!$B40,データセット1!$D40),\"\")","v":146},{"$f":"IF(データセット1!$B40<>\"\",IF($Q$1=データセット1!$B40,データセット1!$D40),\"\")","v":false},{"$f":"IF(データセット1!$B40<>\"\",IF($R$1=データセット1!$B40,データセット1!$D40),\"\")","v":false},{"$f":"IF(データセット1!$B40<>\"\",IF($S$1=データセット1!$B40,データセット1!$D40),\"\")","v":false},{"$f":"IF(データセット1!$B40<>\"\",IF($T$1=データセット1!$B40,データセット1!$D40),\"\")","v":false},{"$f":"IF(データセット1!$B40<>\"\",IF($U$1=データセット1!$B40,データセット1!$D40),\"\")","v":false}]
[null,null,null,null,null,null,null,null,null,null,null,null,{"$f":"IF(データセット1!$B41<>\"\",IF($M$1=データセット1!$B41,データセット1!$D41),\"\")","v":false},{"$f":"IF(データセット1!$B41<>\"\",IF($N$1=データセット1!$B41,データセット1!$D41),\"\")","v":661},{"$f":"IF(データセット1!$B41<>\"\",IF($O$1=データセット1!$B41,データセット1!$D41),\"\")","v":false},{"$f":"IF(データセット1!$B41<>\"\",IF($P$1=データセット1!$B41,データセット1!$D41),\"\")","v":false},{"$f":"IF(データセット1!$B41<>\"\",IF($Q$1=データセット1!$B41,データセット1!$D41),\"\")","v":false},{"$f":"IF(データセット1!$B41<>\"\",IF($R$1=データセット1!$B41,データセット1!$D41),\"\")","v":false},{"$f":"IF(データセット1!$B41<>\"\",IF($S$1=データセット1!$B41,データセット1!$D41),\"\")","v":false},{"$f":"IF(データセット1!$B41<>\"\",IF($T$1=データセット1!$B41,データセット1!$D41),\"\")","v":false},{"$f":"IF(データセット1!$B41<>\"\",IF($U$1=データセット1!$B41,データセット1!$D41),\"\")","v":false}]
[null,null,null,null,null,null,null,null,null,null,null,null,{"$f":"IF(データセット1!$B42<>\"\",IF($M$1=データセット1!$B42,データセット1!$D42),\"\")","v":false},{"$f":"IF(データセット1!$B42<>\"\",IF($N$1=データセット1!$B42,データセット1!$D42),\"\")","v":false},{"$f":"IF(データセット1!$B42<>\"\",IF($O$1=データセット1!$B42,データセット1!$D42),\"\")","v":375},{"$f":"IF(データセット1!$B42<>\"\",IF($P$1=データセット1!$B42,データセット1!$D42),\"\")","v":false},{"$f":"IF(データセット1!$B42<>\"\",IF($Q$1=データセット1!$B42,データセット1!$D42),\"\")","v":false},{"$f":"IF(データセット1!$B42<>\"\",IF($R$1=データセット1!$B42,データセット1!$D42),\"\")","v":false},{"$f":"IF(データセット1!$B42<>\"\",IF($S$1=データセット1!$B42,データセット1!$D42),\"\")","v":false},{"$f":"IF(データセット1!$B42<>\"\",IF($T$1=データセット1!$B42,データセット1!$D42),\"\")","v":false},{"$f":"IF(データセット1!$B42<>\"\",IF($U$1=データセット1!$B42,データセット1!$D42),\"\")","v":false}]
[null,null,null,null,null,null,null,null,null,null,null,null,{"$f":"IF(データセット1!$B43<>\"\",IF($M$1=データセット1!$B43,データセット1!$D43),\"\")","v":false},{"$f":"IF(データセット1!$B43<>\"\",IF($N$1=データセット1!$B43,データセット1!$D43),\"\")","v":854},{"$f":"IF(データセット1!$B43<>\"\",IF($O$1=データセット1!$B43,データセット1!$D43),\"\")","v":false},{"$f":"IF(データセット1!$B43<>\"\",IF($P$1=データセット1!$B43,データセット1!$D43),\"\")","v":false},{"$f":"IF(データセット1!$B43<>\"\",IF($Q$1=データセット1!$B43,データセット1!$D43),\"\")","v":false},{"$f":"IF(データセット1!$B43<>\"\",IF($R$1=データセット1!$B43,データセット1!$D43),\"\")","v":false},{"$f":"IF(データセット1!$B43<>\"\",IF($S$1=データセット1!$B43,データセット1!$D43),\"\")","v":false},{"$f":"IF(データセット1!$B43<>\"\",IF($T$1=データセット1!$B43,データセット1!$D43),\"\")","v":false},{"$f":"IF(データセット1!$B43<>\"\",IF($U$1=データセット1!$B43,データセット1!$D43),\"\")","v":false}]
[null,"考え方は係数の値が大きいものが効果が高い。（Yに与える影響は大きい）",null,null,null,null,null,null,null,null,null,null,{"$f":"IF(データセット1!$B44<>\"\",IF($M$1=データセット1!$B44,データセット1!$D44),\"\")","v":false},{"$f":"IF(データセット1!$B44<>\"\",IF($N$1=データセット1!$B44,データセット1!$D44),\"\")","v":363},{"$f":"IF(データセット1!$B44<>\"\",IF($O$1=データセット1!$B44,データセット1!$D44),\"\")","v":false},{"$f":"IF(データセット1!$B44<>\"\",IF($P$1=データセット1!$B44,データセット1!$D44),\"\")","v":false},{"$f":"IF(データセット1!$B44<>\"\",IF($Q$1=データセット1!$B44,データセット1!$D44),\"\")","v":false},{"$f":"IF(データセット1!$B44<>\"\",IF($R$1=データセット1!$B44,データセット1!$D44),\"\")","v":false},{"$f":"IF(データセット1!$B44<>\"\",IF($S$1=データセット1!$B44,データセット1!$D44),\"\")","v":false},{"$f":"IF(データセット1!$B44<>\"\",IF($T$1=データセット1!$B44,データセット1!$D44),\"\")","v":false},{"$f":"IF(データセット1!$B44<>\"\",IF($U$1=データセット1!$B44,データセット1!$D44),\"\")","v":false}]
[null,"このため優先的に手をいれたいところであるが、実際に着手できる内容かを考える必要がある。",null,null,null,null,null,null,null,null,null,null,{"$f":"IF(データセット1!$B45<>\"\",IF($M$1=データセット1!$B45,データセット1!$D45),\"\")","v":false},{"$f":"IF(データセット1!$B45<>\"\",IF($N$1=データセット1!$B45,データセット1!$D45),\"\")","v":500},{"$f":"IF(データセット1!$B45<>\"\",IF($O$1=データセット1!$B45,データセット1!$D45),\"\")","v":false},{"$f":"IF(データセット1!$B45<>\"\",IF($P$1=データセット1!$B45,データセット1!$D45),\"\")","v":false},{"$f":"IF(データセット1!$B45<>\"\",IF($Q$1=データセット1!$B45,データセット1!$D45),\"\")","v":false},{"$f":"IF(データセット1!$B45<>\"\",IF($R$1=データセット1!$B45,データセット1!$D45),\"\")","v":false},{"$f":"IF(データセット1!$B45<>\"\",IF($S$1=データセット1!$B45,データセット1!$D45),\"\")","v":false},{"$f":"IF(データセット1!$B45<>\"\",IF($T$1=データセット1!$B45,データセット1!$D45),\"\")","v":false},{"$f":"IF(データセット1!$B45<>\"\",IF($U$1=データセット1!$B45,データセット1!$D45),\"\")","v":false}]
[null,"また、施策が効果を及ぼす余地も多く残っていることが必要。",null,null,null,null,null,null,null,null,null,null,{"$f":"IF(データセット1!$B46<>\"\",IF($M$1=データセット1!$B46,データセット1!$D46),\"\")","v":false},{"$f":"IF(データセット1!$B46<>\"\",IF($N$1=データセット1!$B46,データセット1!$D46),\"\")","v":false},{"$f":"IF(データセット1!$B46<>\"\",IF($O$1=データセット1!$B46,データセット1!$D46),\"\")","v":367},{"$f":"IF(データセット1!$B46<>\"\",IF($P$1=データセット1!$B46,データセット1!$D46),\"\")","v":false},{"$f":"IF(データセット1!$B46<>\"\",IF($Q$1=データセット1!$B46,データセット1!$D46),\"\")","v":false},{"$f":"IF(データセット1!$B46<>\"\",IF($R$1=データセット1!$B46,データセット1!$D46),\"\")","v":false},{"$f":"IF(データセット1!$B46<>\"\",IF($S$1=データセット1!$B46,データセット1!$D46),\"\")","v":false},{"$f":"IF(データセット1!$B46<>\"\",IF($T$1=データセット1!$B46,データセット1!$D46),\"\")","v":false},{"$f":"IF(データセット1!$B46<>\"\",IF($U$1=データセット1!$B46,データセット1!$D46),\"\")","v":false}]
[null,null,null,null,null,null,null,null,null,null,null,null,{"$f":"IF(データセット1!$B47<>\"\",IF($M$1=データセット1!$B47,データセット1!$D47),\"\")","v":false},{"$f":"IF(データセット1!$B47<>\"\",IF($N$1=データセット1!$B47,データセット1!$D47),\"\")","v":408},{"$f":"IF(データセット1!$B47<>\"\",IF($O$1=データセット1!$B47,データセット1!$D47),\"\")","v":false},{"$f":"IF(データセット1!$B47<>\"\",IF($P$1=データセット1!$B47,データセット1!$D47),\"\")","v":false},{"$f":"IF(データセット1!$B47<>\"\",IF($Q$1=データセット1!$B47,データセット1!$D47),\"\")","v":false},{"$f":"IF(データセット1!$B47<>\"\",IF($R$1=データセット1!$B47,データセット1!$D47),\"\")","v":false},{"$f":"IF(データセット1!$B47<>\"\",IF($S$1=データセット1!$B47,データセット1!$D47),\"\")","v":false},{"$f":"IF(データセット1!$B47<>\"\",IF($T$1=データセット1!$B47,データセット1!$D47),\"\")","v":false},{"$f":"IF(データセット1!$B47<>\"\",IF($U$1=データセット1!$B47,データセット1!$D47),\"\")","v":false}]
[null,null,null,null,null,null,null,null,null,null,null,null,{"$f":"IF(データセット1!$B48<>\"\",IF($M$1=データセット1!$B48,データセット1!$D48),\"\")","v":false},{"$f":"IF(データセット1!$B48<>\"\",IF($N$1=データセット1!$B48,データセット1!$D48),\"\")","v":false},{"$f":"IF(データセット1!$B48<>\"\",IF($O$1=データセット1!$B48,データセット1!$D48),\"\")","v":355},{"$f":"IF(データセット1!$B48<>\"\",IF($P$1=データセット1!$B48,データセット1!$D48),\"\")","v":false},{"$f":"IF(データセット1!$B48<>\"\",IF($Q$1=データセット1!$B48,データセット1!$D48),\"\")","v":false},{"$f":"IF(データセット1!$B48<>\"\",IF($R$1=データセット1!$B48,データセット1!$D48),\"\")","v":false},{"$f":"IF(データセット1!$B48<>\"\",IF($S$1=データセット1!$B48,データセット1!$D48),\"\")","v":false},{"$f":"IF(データセット1!$B48<>\"\",IF($T$1=データセット1!$B48,データセット1!$D48),\"\")","v":false},{"$f":"IF(データセット1!$B48<>\"\",IF($U$1=データセット1!$B48,データセット1!$D48),\"\")","v":false}]
[null,null,null,null,null,null,null,null,null,null,null,null,{"$f":"IF(データセット1!$B49<>\"\",IF($M$1=データセット1!$B49,データセット1!$D49),\"\")","v":false},{"$f":"IF(データセット1!$B49<>\"\",IF($N$1=データセット1!$B49,データセット1!$D49),\"\")","v":false},{"$f":"IF(データセット1!$B49<>\"\",IF($O$1=データセット1!$B49,データセット1!$D49),\"\")","v":false},{"$f":"IF(データセット1!$B49<>\"\",IF($P$1=データセット1!$B49,データセット1!$D49),\"\")","v":263},{"$f":"IF(データセット1!$B49<>\"\",IF($Q$1=データセット1!$B49,データセット1!$D49),\"\")","v":false},{"$f":"IF(データセット1!$B49<>\"\",IF($R$1=データセット1!$B49,データセット1!$D49),\"\")","v":false},{"$f":"IF(データセット1!$B49<>\"\",IF($S$1=データセット1!$B49,データセット1!$D49),\"\")","v":false},{"$f":"IF(データセット1!$B49<>\"\",IF($T$1=データセット1!$B49,データセット1!$D49),\"\")","v":false},{"$f":"IF(データセット1!$B49<>\"\",IF($U$1=データセット1!$B49,データセット1!$D49),\"\")","v":false}]
[null,null,null,null,null,null,null,null,null,null,null,null,{"$f":"IF(データセット1!$B50<>\"\",IF($M$1=データセット1!$B50,データセット1!$D50),\"\")","v":false},{"$f":"IF(データセット1!$B50<>\"\",IF($N$1=データセット1!$B50,データセット1!$D50),\"\")","v":1039},{"$f":"IF(データセット1!$B50<>\"\",IF($O$1=データセット1!$B50,データセット1!$D50),\"\")","v":false},{"$f":"IF(データセット1!$B50<>\"\",IF($P$1=データセット1!$B50,データセット1!$D50),\"\")","v":false},{"$f":"IF(データセット1!$B50<>\"\",IF($Q$1=データセット1!$B50,データセット1!$D50),\"\")","v":false},{"$f":"IF(データセット1!$B50<>\"\",IF($R$1=データセット1!$B50,データセット1!$D50),\"\")","v":false},{"$f":"IF(データセット1!$B50<>\"\",IF($S$1=データセット1!$B50,データセット1!$D50),\"\")","v":false},{"$f":"IF(データセット1!$B50<>\"\",IF($T$1=データセット1!$B50,データセット1!$D50),\"\")","v":false},{"$f":"IF(データセット1!$B50<>\"\",IF($U$1=データセット1!$B50,データセット1!$D50),\"\")","v":false}]
[null,null,null,null,null,null,null,null,null,null,null,null,{"$f":"IF(データセット1!$B51<>\"\",IF($M$1=データセット1!$B51,データセット1!$D51),\"\")","v":false},{"$f":"IF(データセット1!$B51<>\"\",IF($N$1=データセット1!$B51,データセット1!$D51),\"\")","v":544},{"$f":"IF(データセット1!$B51<>\"\",IF($O$1=データセット1!$B51,データセット1!$D51),\"\")","v":false},{"$f":"IF(データセット1!$B51<>\"\",IF($P$1=データセット1!$B51,データセット1!$D51),\"\")","v":false},{"$f":"IF(データセット1!$B51<>\"\",IF($Q$1=データセット1!$B51,データセット1!$D51),\"\")","v":false},{"$f":"IF(データセット1!$B51<>\"\",IF($R$1=データセット1!$B51,データセット1!$D51),\"\")","v":false},{"$f":"IF(データセット1!$B51<>\"\",IF($S$1=データセット1!$B51,データセット1!$D51),\"\")","v":false},{"$f":"IF(データセット1!$B51<>\"\",IF($T$1=データセット1!$B51,データセット1!$D51),\"\")","v":false},{"$f":"IF(データセット1!$B51<>\"\",IF($U$1=データセット1!$B51,データセット1!$D51),\"\")","v":false}]
[null,null,null,null,null,null,null,null,null,null,null,null,{"$f":"IF(データセット1!$B52<>\"\",IF($M$1=データセット1!$B52,データセット1!$D52),\"\")","v":false},{"$f":"IF(データセット1!$B52<>\"\",IF($N$1=データセット1!$B52,データセット1!$D52),\"\")","v":false},{"$f":"IF(データセット1!$B52<>\"\",IF($O$1=データセット1!$B52,データセット1!$D52),\"\")","v":223},{"$f":"IF(データセット1!$B52<>\"\",IF($P$1=データセット1!$B52,データセット1!$D52),\"\")","v":false},{"$f":"IF(データセット1!$B52<>\"\",IF($Q$1=データセット1!$B52,データセット1!$D52),\"\")","v":false},{"$f":"IF(データセット1!$B52<>\"\",IF($R$1=データセット1!$B52,データセット1!$D52),\"\")","v":false},{"$f":"IF(データセット1!$B52<>\"\",IF($S$1=データセット1!$B52,データセット1!$D52),\"\")","v":false},{"$f":"IF(データセット1!$B52<>\"\",IF($T$1=データセット1!$B52,データセット1!$D52),\"\")","v":false},{"$f":"IF(データセット1!$B52<>\"\",IF($U$1=データセット1!$B52,データセット1!$D52),\"\")","v":false}]
[null,null,null,null,null,null,null,null,null,null,null,null,{"$f":"IF(データセット1!$B53<>\"\",IF($M$1=データセット1!$B53,データセット1!$D53),\"\")","v":false},{"$f":"IF(データセット1!$B53<>\"\",IF($N$1=データセット1!$B53,データセット1!$D53),\"\")","v":false},{"$f":"IF(データセット1!$B53<>\"\",IF($O$1=データセット1!$B53,データセット1!$D53),\"\")","v":428},{"$f":"IF(データセット1!$B53<>\"\",IF($P$1=データセット1!$B53,データセット1!$D53),\"\")","v":false},{"$f":"IF(データセット1!$B53<>\"\",IF($Q$1=データセット1!$B53,データセット1!$D53),\"\")","v":false},{"$f":"IF(データセット1!$B53<>\"\",IF($R$1=データセット1!$B53,データセット1!$D53),\"\")","v":false},{"$f":"IF(データセット1!$B53<>\"\",IF($S$1=データセット1!$B53,データセット1!$D53),\"\")","v":false},{"$f":"IF(データセット1!$B53<>\"\",IF($T$1=データセット1!$B53,データセット1!$D53),\"\")","v":false},{"$f":"IF(データセット1!$B53<>\"\",IF($U$1=データセット1!$B53,データセット1!$D53),\"\")","v":false}]
[null,null,null,null,null,null,null,null,null,null,null,null,{"$f":"IF(データセット1!$B54<>\"\",IF($M$1=データセット1!$B54,データセット1!$D54),\"\")","v":false},{"$f":"IF(データセット1!$B54<>\"\",IF($N$1=データセット1!$B54,データセット1!$D54),\"\")","v":824},{"$f":"IF(データセット1!$B54<>\"\",IF($O$1=データセット1!$B54,データセット1!$D54),\"\")","v":false},{"$f":"IF(データセット1!$B54<>\"\",IF($P$1=データセット1!$B54,データセット1!$D54),\"\")","v":false},{"$f":"IF(データセット1!$B54<>\"\",IF($Q$1=データセット1!$B54,データセット1!$D54),\"\")","v":false},{"$f":"IF(データセット1!$B54<>\"\",IF($R$1=データセット1!$B54,データセット1!$D54),\"\")","v":false},{"$f":"IF(データセット1!$B54<>\"\",IF($S$1=データセット1!$B54,データセット1!$D54),\"\")","v":false},{"$f":"IF(データセット1!$B54<>\"\",IF($T$1=データセット1!$B54,データセット1!$D54),\"\")","v":false},{"$f":"IF(データセット1!$B54<>\"\",IF($U$1=データセット1!$B54,データセット1!$D54),\"\")","v":false}]
[null,null,null,null,null,null,null,null,null,null,null,null,{"$f":"IF(データセット1!$B55<>\"\",IF($M$1=データセット1!$B55,データセット1!$D55),\"\")","v":false},{"$f":"IF(データセット1!$B55<>\"\",IF($N$1=データセット1!$B55,データセット1!$D55),\"\")","v":false},{"$f":"IF(データセット1!$B55<>\"\",IF($O$1=データセット1!$B55,データセット1!$D55),\"\")","v":332},{"$f":"IF(データセット1!$B55<>\"\",IF($P$1=データセット1!$B55,データセット1!$D55),\"\")","v":false},{"$f":"IF(データセット1!$B55<>\"\",IF($Q$1=データセット1!$B55,データセット1!$D55),\"\")","v":false},{"$f":"IF(データセット1!$B55<>\"\",IF($R$1=データセット1!$B55,データセット1!$D55),\"\")","v":false},{"$f":"IF(データセット1!$B55<>\"\",IF($S$1=データセット1!$B55,データセット1!$D55),\"\")","v":false},{"$f":"IF(データセット1!$B55<>\"\",IF($T$1=データセット1!$B55,データセット1!$D55),\"\")","v":false},{"$f":"IF(データセット1!$B55<>\"\",IF($U$1=データセット1!$B55,データセット1!$D55),\"\")","v":false}]
[null,null,null,null,null,null,null,null,null,null,null,null,{"$f":"IF(データセット1!$B56<>\"\",IF($M$1=データセット1!$B56,データセット1!$D56),\"\")","v":false},{"$f":"IF(データセット1!$B56<>\"\",IF($N$1=データセット1!$B56,データセット1!$D56),\"\")","v":758},{"$f":"IF(データセット1!$B56<>\"\",IF($O$1=データセット1!$B56,データセット1!$D56),\"\")","v":false},{"$f":"IF(データセット1!$B56<>\"\",IF($P$1=データセット1!$B56,データセット1!$D56),\"\")","v":false},{"$f":"IF(データセット1!$B56<>\"\",IF($Q$1=データセット1!$B56,データセット1!$D56),\"\")","v":false},{"$f":"IF(データセット1!$B56<>\"\",IF($R$1=データセット1!$B56,データセット1!$D56),\"\")","v":false},{"$f":"IF(データセット1!$B56<>\"\",IF($S$1=データセット1!$B56,データセット1!$D56),\"\")","v":false},{"$f":"IF(データセット1!$B56<>\"\",IF($T$1=データセット1!$B56,データセット1!$D56),\"\")","v":false},{"$f":"IF(データセット1!$B56<>\"\",IF($U$1=データセット1!$B56,データセット1!$D56),\"\")","v":false}]
[null,null,null,null,null,null,null,null,null,null,null,null,{"$f":"IF(データセット1!$B57<>\"\",IF($M$1=データセット1!$B57,データセット1!$D57),\"\")","v":false},{"$f":"IF(データセット1!$B57<>\"\",IF($N$1=データセット1!$B57,データセット1!$D57),\"\")","v":false},{"$f":"IF(データセット1!$B57<>\"\",IF($O$1=データセット1!$B57,データセット1!$D57),\"\")","v":240},{"$f":"IF(データセット1!$B57<>\"\",IF($P$1=データセット1!$B57,データセット1!$D57),\"\")","v":false},{"$f":"IF(データセット1!$B57<>\"\",IF($Q$1=データセット1!$B57,データセット1!$D57),\"\")","v":false},{"$f":"IF(データセット1!$B57<>\"\",IF($R$1=データセット1!$B57,データセット1!$D57),\"\")","v":false},{"$f":"IF(データセット1!$B57<>\"\",IF($S$1=データセット1!$B57,データセット1!$D57),\"\")","v":false},{"$f":"IF(データセット1!$B57<>\"\",IF($T$1=データセット1!$B57,データセット1!$D57),\"\")","v":false},{"$f":"IF(データセット1!$B57<>\"\",IF($U$1=データセット1!$B57,データセット1!$D57),\"\")","v":false}]
[null,null,null,null,null,null,null,null,null,null,null,null,{"$f":"IF(データセット1!$B58<>\"\",IF($M$1=データセット1!$B58,データセット1!$D58),\"\")","v":false},{"$f":"IF(データセット1!$B58<>\"\",IF($N$1=データセット1!$B58,データセット1!$D58),\"\")","v":946},{"$f":"IF(データセット1!$B58<>\"\",IF($O$1=データセット1!$B58,データセット1!$D58),\"\")","v":false},{"$f":"IF(データセット1!$B58<>\"\",IF($P$1=データセット1!$B58,データセット1!$D58),\"\")","v":false},{"$f":"IF(データセット1!$B58<>\"\",IF($Q$1=データセット1!$B58,データセット1!$D58),\"\")","v":false},{"$f":"IF(データセット1!$B58<>\"\",IF($R$1=データセット1!$B58,データセット1!$D58),\"\")","v":false},{"$f":"IF(データセット1!$B58<>\"\",IF($S$1=データセット1!$B58,データセット1!$D58),\"\")","v":false},{"$f":"IF(データセット1!$B58<>\"\",IF($T$1=データセット1!$B58,データセット1!$D58),\"\")","v":false},{"$f":"IF(データセット1!$B58<>\"\",IF($U$1=データセット1!$B58,データセット1!$D58),\"\")","v":false}]
[null,null,null,null,null,null,null,null,null,null,null,null,{"$f":"IF(データセット1!$B59<>\"\",IF($M$1=データセット1!$B59,データセット1!$D59),\"\")","v":false},{"$f":"IF(データセット1!$B59<>\"\",IF($N$1=データセット1!$B59,データセット1!$D59),\"\")","v":false},{"$f":"IF(データセット1!$B59<>\"\",IF($O$1=データセット1!$B59,データセット1!$D59),\"\")","v":false},{"$f":"IF(データセット1!$B59<>\"\",IF($P$1=データセット1!$B59,データセット1!$D59),\"\")","v":176},{"$f":"IF(データセット1!$B59<>\"\",IF($Q$1=データセット1!$B59,データセット1!$D59),\"\")","v":false},{"$f":"IF(データセット1!$B59<>\"\",IF($R$1=データセット1!$B59,データセット1!$D59),\"\")","v":false},{"$f":"IF(データセット1!$B59<>\"\",IF($S$1=データセット1!$B59,データセット1!$D59),\"\")","v":false},{"$f":"IF(データセット1!$B59<>\"\",IF($T$1=データセット1!$B59,データセット1!$D59),\"\")","v":false},{"$f":"IF(データセット1!$B59<>\"\",IF($U$1=データセット1!$B59,データセット1!$D59),\"\")","v":false}]
[null,null,null,null,null,null,null,null,null,null,null,null,{"$f":"IF(データセット1!$B60<>\"\",IF($M$1=データセット1!$B60,データセット1!$D60),\"\")","v":false},{"$f":"IF(データセット1!$B60<>\"\",IF($N$1=データセット1!$B60,データセット1!$D60),\"\")","v":false},{"$f":"IF(データセット1!$B60<>\"\",IF($O$1=データセット1!$B60,データセット1!$D60),\"\")","v":300},{"$f":"IF(データセット1!$B60<>\"\",IF($P$1=データセット1!$B60,データセット1!$D60),\"\")","v":false},{"$f":"IF(データセット1!$B60<>\"\",IF($Q$1=データセット1!$B60,データセット1!$D60),\"\")","v":false},{"$f":"IF(データセット1!$B60<>\"\",IF($R$1=データセット1!$B60,データセット1!$D60),\"\")","v":false},{"$f":"IF(データセット1!$B60<>\"\",IF($S$1=データセット1!$B60,データセット1!$D60),\"\")","v":false},{"$f":"IF(データセット1!$B60<>\"\",IF($T$1=データセット1!$B60,データセット1!$D60),\"\")","v":false},{"$f":"IF(データセット1!$B60<>\"\",IF($U$1=データセット1!$B60,データセット1!$D60),\"\")","v":false}]
[null,null,null,null,null,null,null,null,null,null,null,null,{"$f":"IF(データセット1!$B61<>\"\",IF($M$1=データセット1!$B61,データセット1!$D61),\"\")","v":false},{"$f":"IF(データセット1!$B61<>\"\",IF($N$1=データセット1!$B61,データセット1!$D61),\"\")","v":false},{"$f":"IF(データセット1!$B61<>\"\",IF($O$1=データセット1!$B61,データセット1!$D61),\"\")","v":431},{"$f":"IF(データセット1!$B61<>\"\",IF($P$1=データセット1!$B61,データセット1!$D61),\"\")","v":false},{"$f":"IF(データセット1!$B61<>\"\",IF($Q$1=データセット1!$B61,データセット1!$D61),\"\")","v":false},{"$f":"IF(データセット1!$B61<>\"\",IF($R$1=データセット1!$B61,データセット1!$D61),\"\")","v":false},{"$f":"IF(データセット1!$B61<>\"\",IF($S$1=データセット1!$B61,データセット1!$D61),\"\")","v":false},{"$f":"IF(データセット1!$B61<>\"\",IF($T$1=データセット1!$B61,データセット1!$D61),\"\")","v":false},{"$f":"IF(データセット1!$B61<>\"\",IF($U$1=データセット1!$B61,データセット1!$D61),\"\")","v":false}]
[null,null,null,null,null,null,null,null,null,null,null,null,{"$f":"IF(データセット1!$B62<>\"\",IF($M$1=データセット1!$B62,データセット1!$D62),\"\")","v":false},{"$f":"IF(データセット1!$B62<>\"\",IF($N$1=データセット1!$B62,データセット1!$D62),\"\")","v":false},{"$f":"IF(データセット1!$B62<>\"\",IF($O$1=データセット1!$B62,データセット1!$D62),\"\")","v":441},{"$f":"IF(データセット1!$B62<>\"\",IF($P$1=データセット1!$B62,データセット1!$D62),\"\")","v":false},{"$f":"IF(データセット1!$B62<>\"\",IF($Q$1=データセット1!$B62,データセット1!$D62),\"\")","v":false},{"$f":"IF(データセット1!$B62<>\"\",IF($R$1=データセット1!$B62,データセット1!$D62),\"\")","v":false},{"$f":"IF(データセット1!$B62<>\"\",IF($S$1=データセット1!$B62,データセット1!$D62),\"\")","v":false},{"$f":"IF(データセット1!$B62<>\"\",IF($T$1=データセット1!$B62,データセット1!$D62),\"\")","v":false},{"$f":"IF(データセット1!$B62<>\"\",IF($U$1=データセット1!$B62,データセット1!$D62),\"\")","v":false}]
[null,null,null,null,null,null,null,null,null,null,null,null,{"$f":"IF(データセット1!$B63<>\"\",IF($M$1=データセット1!$B63,データセット1!$D63),\"\")","v":474},{"$f":"IF(データセット1!$B63<>\"\",IF($N$1=データセット1!$B63,データセット1!$D63),\"\")","v":false},{"$f":"IF(データセット1!$B63<>\"\",IF($O$1=データセット1!$B63,データセット1!$D63),\"\")","v":false},{"$f":"IF(データセット1!$B63<>\"\",IF($P$1=データセット1!$B63,データセット1!$D63),\"\")","v":false},{"$f":"IF(データセット1!$B63<>\"\",IF($Q$1=データセット1!$B63,データセット1!$D63),\"\")","v":false},{"$f":"IF(データセット1!$B63<>\"\",IF($R$1=データセット1!$B63,データセット1!$D63),\"\")","v":false},{"$f":"IF(データセット1!$B63<>\"\",IF($S$1=データセット1!$B63,データセット1!$D63),\"\")","v":false},{"$f":"IF(データセット1!$B63<>\"\",IF($T$1=データセット1!$B63,データセット1!$D63),\"\")","v":false},{"$f":"IF(データセット1!$B63<>\"\",IF($U$1=データセット1!$B63,データセット1!$D63),\"\")","v":false}]
[null,null,null,null,null,null,null,null,null,null,null,null,{"$f":"IF(データセット1!$B64<>\"\",IF($M$1=データセット1!$B64,データセット1!$D64),\"\")","v":false},{"$f":"IF(データセット1!$B64<>\"\",IF($N$1=データセット1!$B64,データセット1!$D64),\"\")","v":624},{"$f":"IF(データセット1!$B64<>\"\",IF($O$1=データセット1!$B64,データセット1!$D64),\"\")","v":false},{"$f":"IF(データセット1!$B64<>\"\",IF($P$1=データセット1!$B64,データセット1!$D64),\"\")","v":false},{"$f":"IF(データセット1!$B64<>\"\",IF($Q$1=データセット1!$B64,データセット1!$D64),\"\")","v":false},{"$f":"IF(データセット1!$B64<>\"\",IF($R$1=データセット1!$B64,データセット1!$D64),\"\")","v":false},{"$f":"IF(データセット1!$B64<>\"\",IF($S$1=データセット1!$B64,データセット1!$D64),\"\")","v":false},{"$f":"IF(データセット1!$B64<>\"\",IF($T$1=データセット1!$B64,データセット1!$D64),\"\")","v":false},{"$f":"IF(データセット1!$B64<>\"\",IF($U$1=データセット1!$B64,データセット1!$D64),\"\")","v":false}]
[null,null,null,null,null,null,null,null,null,null,null,null,{"$f":"IF(データセット1!$B65<>\"\",IF($M$1=データセット1!$B65,データセット1!$D65),\"\")","v":false},{"$f":"IF(データセット1!$B65<>\"\",IF($N$1=データセット1!$B65,データセット1!$D65),\"\")","v":false},{"$f":"IF(データセット1!$B65<>\"\",IF($O$1=データセット1!$B65,データセット1!$D65),\"\")","v":false},{"$f":"IF(データセット1!$B65<>\"\",IF($P$1=データセット1!$B65,データセット1!$D65),\"\")","v":162},{"$f":"IF(データセット1!$B65<>\"\",IF($Q$1=データセット1!$B65,データセット1!$D65),\"\")","v":false},{"$f":"IF(データセット1!$B65<>\"\",IF($R$1=データセット1!$B65,データセット1!$D65),\"\")","v":false},{"$f":"IF(データセット1!$B65<>\"\",IF($S$1=データセット1!$B65,データセット1!$D65),\"\")","v":false},{"$f":"IF(データセット1!$B65<>\"\",IF($T$1=データセット1!$B65,データセット1!$D65),\"\")","v":false},{"$f":"IF(データセット1!$B65<>\"\",IF($U$1=データセット1!$B65,データセット1!$D65),\"\")","v":false}]
[null,null,null,null,null,null,null,null,null,null,null,null,{"$f":"IF(データセット1!$B66<>\"\",IF($M$1=データセット1!$B66,データセット1!$D66),\"\")","v":false},{"$f":"IF(データセット1!$B66<>\"\",IF($N$1=データセット1!$B66,データセット1!$D66),\"\")","v":351},{"$f":"IF(データセット1!$B66<>\"\",IF($O$1=データセット1!$B66,データセット1!$D66),\"\")","v":false},{"$f":"IF(データセット1!$B66<>\"\",IF($P$1=データセット1!$B66,データセット1!$D66),\"\")","v":false},{"$f":"IF(データセット1!$B66<>\"\",IF($Q$1=データセット1!$B66,データセット1!$D66),\"\")","v":false},{"$f":"IF(データセット1!$B66<>\"\",IF($R$1=データセット1!$B66,データセット1!$D66),\"\")","v":false},{"$f":"IF(データセット1!$B66<>\"\",IF($S$1=データセット1!$B66,データセット1!$D66),\"\")","v":false},{"$f":"IF(データセット1!$B66<>\"\",IF($T$1=データセット1!$B66,データセット1!$D66),\"\")","v":false},{"$f":"IF(データセット1!$B66<>\"\",IF($U$1=データセット1!$B66,データセット1!$D66),\"\")","v":false}]
[null,null,null,null,null,null,null,null,null,null,null,null,{"$f":"IF(データセット1!$B67<>\"\",IF($M$1=データセット1!$B67,データセット1!$D67),\"\")","v":false},{"$f":"IF(データセット1!$B67<>\"\",IF($N$1=データセット1!$B67,データセット1!$D67),\"\")","v":false},{"$f":"IF(データセット1!$B67<>\"\",IF($O$1=データセット1!$B67,データセット1!$D67),\"\")","v":false},{"$f":"IF(データセット1!$B67<>\"\",IF($P$1=データセット1!$B67,データセット1!$D67),\"\")","v":190},{"$f":"IF(データセット1!$B67<>\"\",IF($Q$1=データセット1!$B67,データセット1!$D67),\"\")","v":false},{"$f":"IF(データセット1!$B67<>\"\",IF($R$1=データセット1!$B67,データセット1!$D67),\"\")","v":false},{"$f":"IF(データセット1!$B67<>\"\",IF($S$1=データセット1!$B67,データセット1!$D67),\"\")","v":false},{"$f":"IF(データセット1!$B67<>\"\",IF($T$1=データセット1!$B67,データセット1!$D67),\"\")","v":false},{"$f":"IF(データセット1!$B67<>\"\",IF($U$1=データセット1!$B67,データセット1!$D67),\"\")","v":false}]
[null,null,null,null,null,null,null,null,null,null,null,null,{"$f":"IF(データセット1!$B68<>\"\",IF($M$1=データセット1!$B68,データセット1!$D68),\"\")","v":false},{"$f":"IF(データセット1!$B68<>\"\",IF($N$1=データセット1!$B68,データセット1!$D68),\"\")","v":false},{"$f":"IF(データセット1!$B68<>\"\",IF($O$1=データセット1!$B68,データセット1!$D68),\"\")","v":242},{"$f":"IF(データセット1!$B68<>\"\",IF($P$1=データセット1!$B68,データセット1!$D68),\"\")","v":false},{"$f":"IF(データセット1!$B68<>\"\",IF($Q$1=データセット1!$B68,データセット1!$D68),\"\")","v":false},{"$f":"IF(データセット1!$B68<>\"\",IF($R$1=データセット1!$B68,データセット1!$D68),\"\")","v":false},{"$f":"IF(データセット1!$B68<>\"\",IF($S$1=データセット1!$B68,データセット1!$D68),\"\")","v":false},{"$f":"IF(データセット1!$B68<>\"\",IF($T$1=データセット1!$B68,データセット1!$D68),\"\")","v":false},{"$f":"IF(データセット1!$B68<>\"\",IF($U$1=データセット1!$B68,データセット1!$D68),\"\")","v":false}]
[null,null,null,null,null,null,null,null,null,null,null,null,{"$f":"IF(データセット1!$B69<>\"\",IF($M$1=データセット1!$B69,データセット1!$D69),\"\")","v":711},{"$f":"IF(データセット1!$B69<>\"\",IF($N$1=データセット1!$B69,データセット1!$D69),\"\")","v":false},{"$f":"IF(データセット1!$B69<>\"\",IF($O$1=データセット1!$B69,データセット1!$D69),\"\")","v":false},{"$f":"IF(データセット1!$B69<>\"\",IF($P$1=データセット1!$B69,データセット1!$D69),\"\")","v":false},{"$f":"IF(データセット1!$B69<>\"\",IF($Q$1=データセット1!$B69,データセット1!$D69),\"\")","v":false},{"$f":"IF(データセット1!$B69<>\"\",IF($R$1=データセット1!$B69,データセット1!$D69),\"\")","v":false},{"$f":"IF(データセット1!$B69<>\"\",IF($S$1=データセット1!$B69,データセット1!$D69),\"\")","v":false},{"$f":"IF(データセット1!$B69<>\"\",IF($T$1=データセット1!$B69,データセット1!$D69),\"\")","v":false},{"$f":"IF(データセット1!$B69<>\"\",IF($U$1=データセット1!$B69,データセット1!$D69),\"\")","v":false}]
[null,null,null,null,null,null,null,null,null,null,null,null,{"$f":"IF(データセット1!$B70<>\"\",IF($M$1=データセット1!$B70,データセット1!$D70),\"\")","v":504},{"$f":"IF(データセット1!$B70<>\"\",IF($N$1=データセット1!$B70,データセット1!$D70),\"\")","v":false},{"$f":"IF(データセット1!$B70<>\"\",IF($O$1=データセット1!$B70,データセット1!$D70),\"\")","v":false},{"$f":"IF(データセット1!$B70<>\"\",IF($P$1=データセット1!$B70,データセット1!$D70),\"\")","v":false},{"$f":"IF(データセット1!$B70<>\"\",IF($Q$1=データセット1!$B70,データセット1!$D70),\"\")","v":false},{"$f":"IF(データセット1!$B70<>\"\",IF($R$1=データセット1!$B70,データセット1!$D70),\"\")","v":false},{"$f":"IF(データセット1!$B70<>\"\",IF($S$1=データセット1!$B70,データセット1!$D70),\"\")","v":false},{"$f":"IF(データセット1!$B70<>\"\",IF($T$1=データセット1!$B70,データセット1!$D70),\"\")","v":false},{"$f":"IF(データセット1!$B70<>\"\",IF($U$1=データセット1!$B70,データセット1!$D70),\"\")","v":false}]
[null,null,null,null,null,null,null,null,null,null,null,null,{"$f":"IF(データセット1!$B71<>\"\",IF($M$1=データセット1!$B71,データセット1!$D71),\"\")","v":false},{"$f":"IF(データセット1!$B71<>\"\",IF($N$1=データセット1!$B71,データセット1!$D71),\"\")","v":false},{"$f":"IF(データセット1!$B71<>\"\",IF($O$1=データセット1!$B71,データセット1!$D71),\"\")","v":false},{"$f":"IF(データセット1!$B71<>\"\",IF($P$1=データセット1!$B71,データセット1!$D71),\"\")","v":120},{"$f":"IF(データセット1!$B71<>\"\",IF($Q$1=データセット1!$B71,データセット1!$D71),\"\")","v":false},{"$f":"IF(データセット1!$B71<>\"\",IF($R$1=データセット1!$B71,データセット1!$D71),\"\")","v":false},{"$f":"IF(データセット1!$B71<>\"\",IF($S$1=データセット1!$B71,データセット1!$D71),\"\")","v":false},{"$f":"IF(データセット1!$B71<>\"\",IF($T$1=データセット1!$B71,データセット1!$D71),\"\")","v":false},{"$f":"IF(データセット1!$B71<>\"\",IF($U$1=データセット1!$B71,データセット1!$D71),\"\")","v":false}]
[null,null,null,null,null,null,null,null,null,null,null,null,{"$f":"IF(データセット1!$B72<>\"\",IF($M$1=データセット1!$B72,データセット1!$D72),\"\")","v":453},{"$f":"IF(データセット1!$B72<>\"\",IF($N$1=データセット1!$B72,データセット1!$D72),\"\")","v":false},{"$f":"IF(データセット1!$B72<>\"\",IF($O$1=データセット1!$B72,データセット1!$D72),\"\")","v":false},{"$f":"IF(データセット1!$B72<>\"\",IF($P$1=データセット1!$B72,データセット1!$D72),\"\")","v":false},{"$f":"IF(データセット1!$B72<>\"\",IF($Q$1=データセット1!$B72,データセット1!$D72),\"\")","v":false},{"$f":"IF(データセット1!$B72<>\"\",IF($R$1=データセット1!$B72,データセット1!$D72),\"\")","v":false},{"$f":"IF(データセット1!$B72<>\"\",IF($S$1=データセット1!$B72,データセット1!$D72),\"\")","v":false},{"$f":"IF(データセット1!$B72<>\"\",IF($T$1=データセット1!$B72,データセット1!$D72),\"\")","v":false},{"$f":"IF(データセット1!$B72<>\"\",IF($U$1=データセット1!$B72,データセット1!$D72),\"\")","v":false}]
[null,null,null,null,null,null,null,null,null,null,null,null,{"$f":"IF(データセット1!$B73<>\"\",IF($M$1=データセット1!$B73,データセット1!$D73),\"\")","v":false},{"$f":"IF(データセット1!$B73<>\"\",IF($N$1=データセット1!$B73,データセット1!$D73),\"\")","v":false},{"$f":"IF(データセット1!$B73<>\"\",IF($O$1=データセット1!$B73,データセット1!$D73),\"\")","v":false},{"$f":"IF(データセット1!$B73<>\"\",IF($P$1=データセット1!$B73,データセット1!$D73),\"\")","v":250},{"$f":"IF(データセット1!$B73<>\"\",IF($Q$1=データセット1!$B73,データセット1!$D73),\"\")","v":false},{"$f":"IF(データセット1!$B73<>\"\",IF($R$1=データセット1!$B73,データセット1!$D73),\"\")","v":false},{"$f":"IF(データセット1!$B73<>\"\",IF($S$1=データセット1!$B73,データセット1!$D73),\"\")","v":false},{"$f":"IF(データセット1!$B73<>\"\",IF($T$1=データセット1!$B73,データセット1!$D73),\"\")","v":false},{"$f":"IF(データセット1!$B73<>\"\",IF($U$1=データセット1!$B73,データセット1!$D73),\"\")","v":false}]
[null,null,null,null,null,null,null,null,null,null,null,null,{"$f":"IF(データセット1!$B74<>\"\",IF($M$1=データセット1!$B74,データセット1!$D74),\"\")","v":false},{"$f":"IF(データセット1!$B74<>\"\",IF($N$1=データセット1!$B74,データセット1!$D74),\"\")","v":false},{"$f":"IF(データセット1!$B74<>\"\",IF($O$1=データセット1!$B74,データセット1!$D74),\"\")","v":false},{"$f":"IF(データセット1!$B74<>\"\",IF($P$1=データセット1!$B74,データセット1!$D74),\"\")","v":false},{"$f":"IF(データセット1!$B74<>\"\",IF($Q$1=データセット1!$B74,データセット1!$D74),\"\")","v":68},{"$f":"IF(データセット1!$B74<>\"\",IF($R$1=データセット1!$B74,データセット1!$D74),\"\")","v":false},{"$f":"IF(データセット1!$B74<>\"\",IF($S$1=データセット1!$B74,データセット1!$D74),\"\")","v":false},{"$f":"IF(データセット1!$B74<>\"\",IF($T$1=データセット1!$B74,データセット1!$D74),\"\")","v":false},{"$f":"IF(データセット1!$B74<>\"\",IF($U$1=データセット1!$B74,データセット1!$D74),\"\")","v":false}]
[null,null,null,null,null,null,null,null,null,null,null,null,{"$f":"IF(データセット1!$B75<>\"\",IF($M$1=データセット1!$B75,データセット1!$D75),\"\")","v":509},{"$f":"IF(データセット1!$B75<>\"\",IF($N$1=データセット1!$B75,データセット1!$D75),\"\")","v":false},{"$f":"IF(データセット1!$B75<>\"\",IF($O$1=データセット1!$B75,データセット1!$D75),\"\")","v":false},{"$f":"IF(データセット1!$B75<>\"\",IF($P$1=データセット1!$B75,データセット1!$D75),\"\")","v":false},{"$f":"IF(データセット1!$B75<>\"\",IF($Q$1=データセット1!$B75,データセット1!$D75),\"\")","v":false},{"$f":"IF(データセット1!$B75<>\"\",IF($R$1=データセット1!$B75,データセット1!$D75),\"\")","v":false},{"$f":"IF(データセット1!$B75<>\"\",IF($S$1=データセット1!$B75,データセット1!$D75),\"\")","v":false},{"$f":"IF(データセット1!$B75<>\"\",IF($T$1=データセット1!$B75,データセット1!$D75),\"\")","v":false},{"$f":"IF(データセット1!$B75<>\"\",IF($U$1=データセット1!$B75,データセット1!$D75),\"\")","v":false}]
[null,null,null,null,null,null,null,null,null,null,null,null,{"$f":"IF(データセット1!$B76<>\"\",IF($M$1=データセット1!$B76,データセット1!$D76),\"\")","v":false},{"$f":"IF(データセット1!$B76<>\"\",IF($N$1=データセット1!$B76,データセット1!$D76),\"\")","v":false},{"$f":"IF(データセット1!$B76<>\"\",IF($O$1=データセット1!$B76,データセット1!$D76),\"\")","v":false},{"$f":"IF(データセット1!$B76<>\"\",IF($P$1=データセット1!$B76,データセット1!$D76),\"\")","v":150},{"$f":"IF(データセット1!$B76<>\"\",IF($Q$1=データセット1!$B76,データセット1!$D76),\"\")","v":false},{"$f":"IF(データセット1!$B76<>\"\",IF($R$1=データセット1!$B76,データセット1!$D76),\"\")","v":false},{"$f":"IF(データセット1!$B76<>\"\",IF($S$1=データセット1!$B76,データセット1!$D76),\"\")","v":false},{"$f":"IF(データセット1!$B76<>\"\",IF($T$1=データセット1!$B76,データセット1!$D76),\"\")","v":false},{"$f":"IF(データセット1!$B76<>\"\",IF($U$1=データセット1!$B76,データセット1!$D76),\"\")","v":false}]
[null,null,null,null,null,null,null,null,null,null,null,null,{"$f":"IF(データセット1!$B77<>\"\",IF($M$1=データセット1!$B77,データセット1!$D77),\"\")","v":505},{"$f":"IF(データセット1!$B77<>\"\",IF($N$1=データセット1!$B77,データセット1!$D77),\"\")","v":false},{"$f":"IF(データセット1!$B77<>\"\",IF($O$1=データセット1!$B77,データセット1!$D77),\"\")","v":false},{"$f":"IF(データセット1!$B77<>\"\",IF($P$1=データセット1!$B77,データセット1!$D77),\"\")","v":false},{"$f":"IF(データセット1!$B77<>\"\",IF($Q$1=データセット1!$B77,データセット1!$D77),\"\")","v":false},{"$f":"IF(データセット1!$B77<>\"\",IF($R$1=データセット1!$B77,データセット1!$D77),\"\")","v":false},{"$f":"IF(データセット1!$B77<>\"\",IF($S$1=データセット1!$B77,データセット1!$D77),\"\")","v":false},{"$f":"IF(データセット1!$B77<>\"\",IF($T$1=データセット1!$B77,データセット1!$D77),\"\")","v":false},{"$f":"IF(データセット1!$B77<>\"\",IF($U$1=データセット1!$B77,データセット1!$D77),\"\")","v":false}]
[null,null,null,null,null,null,null,null,null,null,null,null,{"$f":"IF(データセット1!$B78<>\"\",IF($M$1=データセット1!$B78,データセット1!$D78),\"\")","v":false},{"$f":"IF(データセット1!$B78<>\"\",IF($N$1=データセット1!$B78,データセット1!$D78),\"\")","v":false},{"$f":"IF(データセット1!$B78<>\"\",IF($O$1=データセット1!$B78,データセット1!$D78),\"\")","v":false},{"$f":"IF(データセット1!$B78<>\"\",IF($P$1=データセット1!$B78,データセット1!$D78),\"\")","v":168},{"$f":"IF(データセット1!$B78<>\"\",IF($Q$1=データセット1!$B78,データセット1!$D78),\"\")","v":false},{"$f":"IF(データセット1!$B78<>\"\",IF($R$1=データセット1!$B78,データセット1!$D78),\"\")","v":false},{"$f":"IF(データセット1!$B78<>\"\",IF($S$1=データセット1!$B78,データセット1!$D78),\"\")","v":false},{"$f":"IF(データセット1!$B78<>\"\",IF($T$1=データセット1!$B78,データセット1!$D78),\"\")","v":false},{"$f":"IF(データセット1!$B78<>\"\",IF($U$1=データセット1!$B78,データセット1!$D78),\"\")","v":false}]
[null,null,null,null,null,null,null,null,null,null,null,null,{"$f":"IF(データセット1!$B79<>\"\",IF($M$1=データセット1!$B79,データセット1!$D79),\"\")","v":false},{"$f":"IF(データセット1!$B79<>\"\",IF($N$1=データセット1!$B79,データセット1!$D79),\"\")","v":false},{"$f":"IF(データセット1!$B79<>\"\",IF($O$1=データセット1!$B79,データセット1!$D79),\"\")","v":false},{"$f":"IF(データセット1!$B79<>\"\",IF($P$1=データセット1!$B79,データセット1!$D79),\"\")","v":236},{"$f":"IF(データセット1!$B79<>\"\",IF($Q$1=データセット1!$B79,データセット1!$D79),\"\")","v":false},{"$f":"IF(データセット1!$B79<>\"\",IF($R$1=データセット1!$B79,データセット1!$D79),\"\")","v":false},{"$f":"IF(データセット1!$B79<>\"\",IF($S$1=データセット1!$B79,データセット1!$D79),\"\")","v":false},{"$f":"IF(データセット1!$B79<>\"\",IF($T$1=データセット1!$B79,データセット1!$D79),\"\")","v":false},{"$f":"IF(データセット1!$B79<>\"\",IF($U$1=データセット1!$B79,データセット1!$D79),\"\")","v":false}]
[null,null,null,null,null,null,null,null,null,null,null,null,{"$f":"IF(データセット1!$B80<>\"\",IF($M$1=データセット1!$B80,データセット1!$D80),\"\")","v":435},{"$f":"IF(データセット1!$B80<>\"\",IF($N$1=データセット1!$B80,データセット1!$D80),\"\")","v":false},{"$f":"IF(データセット1!$B80<>\"\",IF($O$1=データセット1!$B80,データセット1!$D80),\"\")","v":false},{"$f":"IF(データセット1!$B80<>\"\",IF($P$1=データセット1!$B80,データセット1!$D80),\"\")","v":false},{"$f":"IF(データセット1!$B80<>\"\",IF($Q$1=データセット1!$B80,データセット1!$D80),\"\")","v":false},{"$f":"IF(データセット1!$B80<>\"\",IF($R$1=データセット1!$B80,データセット1!$D80),\"\")","v":false},{"$f":"IF(データセット1!$B80<>\"\",IF($S$1=データセット1!$B80,データセット1!$D80),\"\")","v":false},{"$f":"IF(データセット1!$B80<>\"\",IF($T$1=データセット1!$B80,データセット1!$D80),\"\")","v":false},{"$f":"IF(データセット1!$B80<>\"\",IF($U$1=データセット1!$B80,データセット1!$D80),\"\")","v":false}]
[null,null,null,null,null,null,null,null,null,null,null,null,{"$f":"IF(データセット1!$B81<>\"\",IF($M$1=データセット1!$B81,データセット1!$D81),\"\")","v":false},{"$f":"IF(データセット1!$B81<>\"\",IF($N$1=データセット1!$B81,データセット1!$D81),\"\")","v":false},{"$f":"IF(データセット1!$B81<>\"\",IF($O$1=データセット1!$B81,データセット1!$D81),\"\")","v":409},{"$f":"IF(データセット1!$B81<>\"\",IF($P$1=データセット1!$B81,データセット1!$D81),\"\")","v":false},{"$f":"IF(データセット1!$B81<>\"\",IF($Q$1=データセット1!$B81,データセット1!$D81),\"\")","v":false},{"$f":"IF(データセット1!$B81<>\"\",IF($R$1=データセット1!$B81,データセット1!$D81),\"\")","v":false},{"$f":"IF(データセット1!$B81<>\"\",IF($S$1=データセット1!$B81,データセット1!$D81),\"\")","v":false},{"$f":"IF(データセット1!$B81<>\"\",IF($T$1=データセット1!$B81,データセット1!$D81),\"\")","v":false},{"$f":"IF(データセット1!$B81<>\"\",IF($U$1=データセット1!$B81,データセット1!$D81),\"\")","v":false}]
[null,null,null,null,null,null,null,null,null,null,null,null,{"$f":"IF(データセット1!$B82<>\"\",IF($M$1=データセット1!$B82,データセット1!$D82),\"\")","v":440},{"$f":"IF(データセット1!$B82<>\"\",IF($N$1=データセット1!$B82,データセット1!$D82),\"\")","v":false},{"$f":"IF(データセット1!$B82<>\"\",IF($O$1=データセット1!$B82,データセット1!$D82),\"\")","v":false},{"$f":"IF(データセット1!$B82<>\"\",IF($P$1=データセット1!$B82,データセット1!$D82),\"\")","v":false},{"$f":"IF(データセット1!$B82<>\"\",IF($Q$1=データセット1!$B82,データセット1!$D82),\"\")","v":false},{"$f":"IF(データセット1!$B82<>\"\",IF($R$1=データセット1!$B82,データセット1!$D82),\"\")","v":false},{"$f":"IF(データセット1!$B82<>\"\",IF($S$1=データセット1!$B82,データセット1!$D82),\"\")","v":false},{"$f":"IF(データセット1!$B82<>\"\",IF($T$1=データセット1!$B82,データセット1!$D82),\"\")","v":false},{"$f":"IF(データセット1!$B82<>\"\",IF($U$1=データセット1!$B82,データセット1!$D82),\"\")","v":false}]
[null,null,null,null,null,null,null,null,null,null,null,null,{"$f":"IF(データセット1!$B83<>\"\",IF($M$1=データセット1!$B83,データセット1!$D83),\"\")","v":false},{"$f":"IF(データセット1!$B83<>\"\",IF($N$1=データセット1!$B83,データセット1!$D83),\"\")","v":false},{"$f":"IF(データセット1!$B83<>\"\",IF($O$1=データセット1!$B83,データセット1!$D83),\"\")","v":false},{"$f":"IF(データセット1!$B83<>\"\",IF($P$1=データセット1!$B83,データセット1!$D83),\"\")","v":116},{"$f":"IF(データセット1!$B83<>\"\",IF($Q$1=データセット1!$B83,データセット1!$D83),\"\")","v":false},{"$f":"IF(データセット1!$B83<>\"\",IF($R$1=データセット1!$B83,データセット1!$D83),\"\")","v":false},{"$f":"IF(データセット1!$B83<>\"\",IF($S$1=データセット1!$B83,データセット1!$D83),\"\")","v":false},{"$f":"IF(データセット1!$B83<>\"\",IF($T$1=データセット1!$B83,データセット1!$D83),\"\")","v":false},{"$f":"IF(データセット1!$B83<>\"\",IF($U$1=データセット1!$B83,データセット1!$D83),\"\")","v":false}]
[null,null,null,null,null,null,null,null,null,null,null,null,{"$f":"IF(データセット1!$B84<>\"\",IF($M$1=データセット1!$B84,データセット1!$D84),\"\")","v":false},{"$f":"IF(データセット1!$B84<>\"\",IF($N$1=データセット1!$B84,データセット1!$D84),\"\")","v":false},{"$f":"IF(データセット1!$B84<>\"\",IF($O$1=データセット1!$B84,データセット1!$D84),\"\")","v":false},{"$f":"IF(データセット1!$B84<>\"\",IF($P$1=データセット1!$B84,データセット1!$D84),\"\")","v":false},{"$f":"IF(データセット1!$B84<>\"\",IF($Q$1=データセット1!$B84,データセット1!$D84),\"\")","v":111},{"$f":"IF(データセット1!$B84<>\"\",IF($R$1=データセット1!$B84,データセット1!$D84),\"\")","v":false},{"$f":"IF(データセット1!$B84<>\"\",IF($S$1=データセット1!$B84,データセット1!$D84),\"\")","v":false},{"$f":"IF(データセット1!$B84<>\"\",IF($T$1=データセット1!$B84,データセット1!$D84),\"\")","v":false},{"$f":"IF(データセット1!$B84<>\"\",IF($U$1=データセット1!$B84,データセット1!$D84),\"\")","v":false}]
[null,null,null,null,null,null,null,null,null,null,null,null,{"$f":"IF(データセット1!$B85<>\"\",IF($M$1=データセット1!$B85,データセット1!$D85),\"\")","v":402},{"$f":"IF(データセット1!$B85<>\"\",IF($N$1=データセット1!$B85,データセット1!$D85),\"\")","v":false},{"$f":"IF(データセット1!$B85<>\"\",IF($O$1=データセット1!$B85,データセット1!$D85),\"\")","v":false},{"$f":"IF(データセット1!$B85<>\"\",IF($P$1=データセット1!$B85,データセット1!$D85),\"\")","v":false},{"$f":"IF(データセット1!$B85<>\"\",IF($Q$1=データセット1!$B85,データセット1!$D85),\"\")","v":false},{"$f":"IF(データセット1!$B85<>\"\",IF($R$1=データセット1!$B85,データセット1!$D85),\"\")","v":false},{"$f":"IF(データセット1!$B85<>\"\",IF($S$1=データセット1!$B85,データセット1!$D85),\"\")","v":false},{"$f":"IF(データセット1!$B85<>\"\",IF($T$1=データセット1!$B85,データセット1!$D85),\"\")","v":false},{"$f":"IF(データセット1!$B85<>\"\",IF($U$1=データセット1!$B85,データセット1!$D85),\"\")","v":false}]
[null,null,null,null,null,null,null,null,null,null,null,null,{"$f":"IF(データセット1!$B86<>\"\",IF($M$1=データセット1!$B86,データセット1!$D86),\"\")","v":288},{"$f":"IF(データセット1!$B86<>\"\",IF($N$1=データセット1!$B86,データセット1!$D86),\"\")","v":false},{"$f":"IF(データセット1!$B86<>\"\",IF($O$1=データセット1!$B86,データセット1!$D86),\"\")","v":false},{"$f":"IF(データセット1!$B86<>\"\",IF($P$1=データセット1!$B86,データセット1!$D86),\"\")","v":false},{"$f":"IF(データセット1!$B86<>\"\",IF($Q$1=データセット1!$B86,データセット1!$D86),\"\")","v":false},{"$f":"IF(データセット1!$B86<>\"\",IF($R$1=データセット1!$B86,データセット1!$D86),\"\")","v":false},{"$f":"IF(データセット1!$B86<>\"\",IF($S$1=データセット1!$B86,データセット1!$D86),\"\")","v":false},{"$f":"IF(データセット1!$B86<>\"\",IF($T$1=データセット1!$B86,データセット1!$D86),\"\")","v":false},{"$f":"IF(データセット1!$B86<>\"\",IF($U$1=データセット1!$B86,データセット1!$D86),\"\")","v":false}]
[null,null,null,null,null,null,null,null,null,null,null,null,{"$f":"IF(データセット1!$B87<>\"\",IF($M$1=データセット1!$B87,データセット1!$D87),\"\")","v":false},{"$f":"IF(データセット1!$B87<>\"\",IF($N$1=データセット1!$B87,データセット1!$D87),\"\")","v":false},{"$f":"IF(データセット1!$B87<>\"\",IF($O$1=データセット1!$B87,データセット1!$D87),\"\")","v":false},{"$f":"IF(データセット1!$B87<>\"\",IF($P$1=データセット1!$B87,データセット1!$D87),\"\")","v":165},{"$f":"IF(データセット1!$B87<>\"\",IF($Q$1=データセット1!$B87,データセット1!$D87),\"\")","v":false},{"$f":"IF(データセット1!$B87<>\"\",IF($R$1=データセット1!$B87,データセット1!$D87),\"\")","v":false},{"$f":"IF(データセット1!$B87<>\"\",IF($S$1=データセット1!$B87,データセット1!$D87),\"\")","v":false},{"$f":"IF(データセット1!$B87<>\"\",IF($T$1=データセット1!$B87,データセット1!$D87),\"\")","v":false},{"$f":"IF(データセット1!$B87<>\"\",IF($U$1=データセット1!$B87,データセット1!$D87),\"\")","v":false}]
[null,null,null,null,null,null,null,null,null,null,null,null,{"$f":"IF(データセット1!$B88<>\"\",IF($M$1=データセット1!$B88,データセット1!$D88),\"\")","v":false},{"$f":"IF(データセット1!$B88<>\"\",IF($N$1=データセット1!$B88,データセット1!$D88),\"\")","v":false},{"$f":"IF(データセット1!$B88<>\"\",IF($O$1=データセット1!$B88,データセット1!$D88),\"\")","v":false},{"$f":"IF(データセット1!$B88<>\"\",IF($P$1=データセット1!$B88,データセット1!$D88),\"\")","v":140},{"$f":"IF(データセット1!$B88<>\"\",IF($Q$1=データセット1!$B88,データセット1!$D88),\"\")","v":false},{"$f":"IF(データセット1!$B88<>\"\",IF($R$1=データセット1!$B88,データセット1!$D88),\"\")","v":false},{"$f":"IF(データセット1!$B88<>\"\",IF($S$1=データセット1!$B88,データセット1!$D88),\"\")","v":false},{"$f":"IF(データセット1!$B88<>\"\",IF($T$1=データセット1!$B88,データセット1!$D88),\"\")","v":false},{"$f":"IF(データセット1!$B88<>\"\",IF($U$1=データセット1!$B88,データセット1!$D88),\"\")","v":false}]
[null,null,null,null,null,null,null,null,null,null,null,null,{"$f":"IF(データセット1!$B89<>\"\",IF($M$1=データセット1!$B89,データセット1!$D89),\"\")","v":false},{"$f":"IF(データセット1!$B89<>\"\",IF($N$1=データセット1!$B89,データセット1!$D89),\"\")","v":false},{"$f":"IF(データセット1!$B89<>\"\",IF($O$1=データセット1!$B89,データセット1!$D89),\"\")","v":false},{"$f":"IF(データセット1!$B89<>\"\",IF($P$1=データセット1!$B89,データセット1!$D89),\"\")","v":107},{"$f":"IF(データセット1!$B89<>\"\",IF($Q$1=データセット1!$B89,データセット1!$D89),\"\")","v":false},{"$f":"IF(データセット1!$B89<>\"\",IF($R$1=データセット1!$B89,データセット1!$D89),\"\")","v":false},{"$f":"IF(データセット1!$B89<>\"\",IF($S$1=データセット1!$B89,データセット1!$D89),\"\")","v":false},{"$f":"IF(データセット1!$B89<>\"\",IF($T$1=データセット1!$B89,データセット1!$D89),\"\")","v":false},{"$f":"IF(データセット1!$B89<>\"\",IF($U$1=データセット1!$B89,データセット1!$D89),\"\")","v":false}]
[null,null,null,null,null,null,null,null,null,null,null,null,{"$f":"IF(データセット1!$B90<>\"\",IF($M$1=データセット1!$B90,データセット1!$D90),\"\")","v":false},{"$f":"IF(データセット1!$B90<>\"\",IF($N$1=データセット1!$B90,データセット1!$D90),\"\")","v":false},{"$f":"IF(データセット1!$B90<>\"\",IF($O$1=データセット1!$B90,データセット1!$D90),\"\")","v":false},{"$f":"IF(データセット1!$B90<>\"\",IF($P$1=データセット1!$B90,データセット1!$D90),\"\")","v":114},{"$f":"IF(データセット1!$B90<>\"\",IF($Q$1=データセット1!$B90,データセット1!$D90),\"\")","v":false},{"$f":"IF(データセット1!$B90<>\"\",IF($R$1=データセット1!$B90,データセット1!$D90),\"\")","v":false},{"$f":"IF(データセット1!$B90<>\"\",IF($S$1=データセット1!$B90,データセット1!$D90),\"\")","v":false},{"$f":"IF(データセット1!$B90<>\"\",IF($T$1=データセット1!$B90,データセット1!$D90),\"\")","v":false},{"$f":"IF(データセット1!$B90<>\"\",IF($U$1=データセット1!$B90,データセット1!$D90),\"\")","v":false}]
[null,null,null,null,null,null,null,null,null,null,null,null,{"$f":"IF(データセット1!$B91<>\"\",IF($M$1=データセット1!$B91,データセット1!$D91),\"\")","v":492},{"$f":"IF(データセット1!$B91<>\"\",IF($N$1=データセット1!$B91,データセット1!$D91),\"\")","v":false},{"$f":"IF(データセット1!$B91<>\"\",IF($O$1=データセット1!$B91,データセット1!$D91),\"\")","v":false},{"$f":"IF(データセット1!$B91<>\"\",IF($P$1=データセット1!$B91,データセット1!$D91),\"\")","v":false},{"$f":"IF(データセット1!$B91<>\"\",IF($Q$1=データセット1!$B91,データセット1!$D91),\"\")","v":false},{"$f":"IF(データセット1!$B91<>\"\",IF($R$1=データセット1!$B91,データセット1!$D91),\"\")","v":false},{"$f":"IF(データセット1!$B91<>\"\",IF($S$1=データセット1!$B91,データセット1!$D91),\"\")","v":false},{"$f":"IF(データセット1!$B91<>\"\",IF($T$1=データセット1!$B91,データセット1!$D91),\"\")","v":false},{"$f":"IF(データセット1!$B91<>\"\",IF($U$1=データセット1!$B91,データセット1!$D91),\"\")","v":false}]
[null,null,null,null,null,null,null,null,null,null,null,null,{"$f":"IF(データセット1!$B92<>\"\",IF($M$1=データセット1!$B92,データセット1!$D92),\"\")","v":false},{"$f":"IF(データセット1!$B92<>\"\",IF($N$1=データセット1!$B92,データセット1!$D92),\"\")","v":false},{"$f":"IF(データセット1!$B92<>\"\",IF($O$1=データセット1!$B92,データセット1!$D92),\"\")","v":false},{"$f":"IF(データセット1!$B92<>\"\",IF($P$1=データセット1!$B92,データセット1!$D92),\"\")","v":178},{"$f":"IF(データセット1!$B92<>\"\",IF($Q$1=データセット1!$B92,データセット1!$D92),\"\")","v":false},{"$f":"IF(データセット1!$B92<>\"\",IF($R$1=データセット1!$B92,データセット1!$D92),\"\")","v":false},{"$f":"IF(データセット1!$B92<>\"\",IF($S$1=データセット1!$B92,データセット1!$D92),\"\")","v":false},{"$f":"IF(データセット1!$B92<>\"\",IF($T$1=データセット1!$B92,データセット1!$D92),\"\")","v":false},{"$f":"IF(データセット1!$B92<>\"\",IF($U$1=データセット1!$B92,データセット1!$D92),\"\")","v":false}]
[null,null,null,null,null,null,null,null,null,null,null,null,{"$f":"IF(データセット1!$B93<>\"\",IF($M$1=データセット1!$B93,データセット1!$D93),\"\")","v":false},{"$f":"IF(データセット1!$B93<>\"\",IF($N$1=データセット1!$B93,データセット1!$D93),\"\")","v":false},{"$f":"IF(データセット1!$B93<>\"\",IF($O$1=データセット1!$B93,データセット1!$D93),\"\")","v":false},{"$f":"IF(データセット1!$B93<>\"\",IF($P$1=データセット1!$B93,データセット1!$D93),\"\")","v":156},{"$f":"IF(データセット1!$B93<>\"\",IF($Q$1=データセット1!$B93,データセット1!$D93),\"\")","v":false},{"$f":"IF(データセット1!$B93<>\"\",IF($R$1=データセット1!$B93,データセット1!$D93),\"\")","v":false},{"$f":"IF(データセット1!$B93<>\"\",IF($S$1=データセット1!$B93,データセット1!$D93),\"\")","v":false},{"$f":"IF(データセット1!$B93<>\"\",IF($T$1=データセット1!$B93,データセット1!$D93),\"\")","v":false},{"$f":"IF(データセット1!$B93<>\"\",IF($U$1=データセット1!$B93,データセット1!$D93),\"\")","v":false}]
[null,null,null,null,null,null,null,null,null,null,null,null,{"$f":"IF(データセット1!$B94<>\"\",IF($M$1=データセット1!$B94,データセット1!$D94),\"\")","v":false},{"$f":"IF(データセット1!$B94<>\"\",IF($N$1=データセット1!$B94,データセット1!$D94),\"\")","v":false},{"$f":"IF(データセット1!$B94<>\"\",IF($O$1=データセット1!$B94,データセット1!$D94),\"\")","v":false},{"$f":"IF(データセット1!$B94<>\"\",IF($P$1=データセット1!$B94,データセット1!$D94),\"\")","v":110},{"$f":"IF(データセット1!$B94<>\"\",IF($Q$1=データセット1!$B94,データセット1!$D94),\"\")","v":false},{"$f":"IF(データセット1!$B94<>\"\",IF($R$1=データセット1!$B94,データセット1!$D94),\"\")","v":false},{"$f":"IF(データセット1!$B94<>\"\",IF($S$1=データセット1!$B94,データセット1!$D94),\"\")","v":false},{"$f":"IF(データセット1!$B94<>\"\",IF($T$1=データセット1!$B94,データセット1!$D94),\"\")","v":false},{"$f":"IF(データセット1!$B94<>\"\",IF($U$1=データセット1!$B94,データセット1!$D94),\"\")","v":false}]
[null,null,null,null,null,null,null,null,null,null,null,null,{"$f":"IF(データセット1!$B95<>\"\",IF($M$1=データセット1!$B95,データセット1!$D95),\"\")","v":304},{"$f":"IF(データセット1!$B95<>\"\",IF($N$1=データセット1!$B95,データセット1!$D95),\"\")","v":false},{"$f":"IF(データセット1!$B95<>\"\",IF($O$1=データセット1!$B95,データセット1!$D95),\"\")","v":false},{"$f":"IF(データセット1!$B95<>\"\",IF($P$1=データセット1!$B95,データセット1!$D95),\"\")","v":false},{"$f":"IF(データセット1!$B95<>\"\",IF($Q$1=データセット1!$B95,データセット1!$D95),\"\")","v":false},{"$f":"IF(データセット1!$B95<>\"\",IF($R$1=データセット1!$B95,データセット1!$D95),\"\")","v":false},{"$f":"IF(データセット1!$B95<>\"\",IF($S$1=データセット1!$B95,データセット1!$D95),\"\")","v":false},{"$f":"IF(データセット1!$B95<>\"\",IF($T$1=データセット1!$B95,データセット1!$D95),\"\")","v":false},{"$f":"IF(データセット1!$B95<>\"\",IF($U$1=データセット1!$B95,データセット1!$D95),\"\")","v":false}]
[null,null,null,null,null,null,null,null,null,null,null,null,{"$f":"IF(データセット1!$B96<>\"\",IF($M$1=データセット1!$B96,データセット1!$D96),\"\")","v":false},{"$f":"IF(データセット1!$B96<>\"\",IF($N$1=データセット1!$B96,データセット1!$D96),\"\")","v":false},{"$f":"IF(データセット1!$B96<>\"\",IF($O$1=データセット1!$B96,データセット1!$D96),\"\")","v":false},{"$f":"IF(データセット1!$B96<>\"\",IF($P$1=データセット1!$B96,データセット1!$D96),\"\")","v":false},{"$f":"IF(データセット1!$B96<>\"\",IF($Q$1=データセット1!$B96,データセット1!$D96),\"\")","v":63},{"$f":"IF(データセット1!$B96<>\"\",IF($R$1=データセット1!$B96,データセット1!$D96),\"\")","v":false},{"$f":"IF(データセット1!$B96<>\"\",IF($S$1=データセット1!$B96,データセット1!$D96),\"\")","v":false},{"$f":"IF(データセット1!$B96<>\"\",IF($T$1=データセット1!$B96,データセット1!$D96),\"\")","v":false},{"$f":"IF(データセット1!$B96<>\"\",IF($U$1=データセット1!$B96,データセット1!$D96),\"\")","v":false}]
[null,null,null,null,null,null,null,null,null,null,null,null,{"$f":"IF(データセット1!$B97<>\"\",IF($M$1=データセット1!$B97,データセット1!$D97),\"\")","v":402},{"$f":"IF(データセット1!$B97<>\"\",IF($N$1=データセット1!$B97,データセット1!$D97),\"\")","v":false},{"$f":"IF(データセット1!$B97<>\"\",IF($O$1=データセット1!$B97,データセット1!$D97),\"\")","v":false},{"$f":"IF(データセット1!$B97<>\"\",IF($P$1=データセット1!$B97,データセット1!$D97),\"\")","v":false},{"$f":"IF(データセット1!$B97<>\"\",IF($Q$1=データセット1!$B97,データセット1!$D97),\"\")","v":false},{"$f":"IF(データセット1!$B97<>\"\",IF($R$1=データセット1!$B97,データセット1!$D97),\"\")","v":false},{"$f":"IF(データセット1!$B97<>\"\",IF($S$1=データセット1!$B97,データセット1!$D97),\"\")","v":false},{"$f":"IF(データセット1!$B97<>\"\",IF($T$1=データセット1!$B97,データセット1!$D97),\"\")","v":false},{"$f":"IF(データセット1!$B97<>\"\",IF($U$1=データセット1!$B97,データセット1!$D97),\"\")","v":false}]
[null,null,null,null,null,null,null,null,null,null,null,null,{"$f":"IF(データセット1!$B98<>\"\",IF($M$1=データセット1!$B98,データセット1!$D98),\"\")","v":false},{"$f":"IF(データセット1!$B98<>\"\",IF($N$1=データセット1!$B98,データセット1!$D98),\"\")","v":false},{"$f":"IF(データセット1!$B98<>\"\",IF($O$1=データセット1!$B98,データセット1!$D98),\"\")","v":false},{"$f":"IF(データセット1!$B98<>\"\",IF($P$1=データセット1!$B98,データセット1!$D98),\"\")","v":160},{"$f":"IF(データセット1!$B98<>\"\",IF($Q$1=データセット1!$B98,データセット1!$D98),\"\")","v":false},{"$f":"IF(データセット1!$B98<>\"\",IF($R$1=データセット1!$B98,データセット1!$D98),\"\")","v":false},{"$f":"IF(データセット1!$B98<>\"\",IF($S$1=データセット1!$B98,データセット1!$D98),\"\")","v":false},{"$f":"IF(データセット1!$B98<>\"\",IF($T$1=データセット1!$B98,データセット1!$D98),\"\")","v":false},{"$f":"IF(データセット1!$B98<>\"\",IF($U$1=データセット1!$B98,データセット1!$D98),\"\")","v":false}]
[null,null,null,null,null,null,null,null,null,null,null,null,{"$f":"IF(データセット1!$B99<>\"\",IF($M$1=データセット1!$B99,データセット1!$D99),\"\")","v":false},{"$f":"IF(データセット1!$B99<>\"\",IF($N$1=データセット1!$B99,データセット1!$D99),\"\")","v":false},{"$f":"IF(データセット1!$B99<>\"\",IF($O$1=データセット1!$B99,データセット1!$D99),\"\")","v":false},{"$f":"IF(データセット1!$B99<>\"\",IF($P$1=データセット1!$B99,データセット1!$D99),\"\")","v":144},{"$f":"IF(データセット1!$B99<>\"\",IF($Q$1=データセット1!$B99,データセット1!$D99),\"\")","v":false},{"$f":"IF(データセット1!$B99<>\"\",IF($R$1=データセット1!$B99,データセット1!$D99),\"\")","v":false},{"$f":"IF(データセット1!$B99<>\"\",IF($S$1=データセット1!$B99,データセット1!$D99),\"\")","v":false},{"$f":"IF(データセット1!$B99<>\"\",IF($T$1=データセット1!$B99,データセット1!$D99),\"\")","v":false},{"$f":"IF(データセット1!$B99<>\"\",IF($U$1=データセット1!$B99,データセット1!$D99),\"\")","v":false}]
[null,null,null,null,null,null,null,null,null,null,null,null,{"$f":"IF(データセット1!$B100<>\"\",IF($M$1=データセット1!$B100,データセット1!$D100),\"\")","v":false},{"$f":"IF(データセット1!$B100<>\"\",IF($N$1=データセット1!$B100,データセット1!$D100),\"\")","v":false},{"$f":"IF(データセット1!$B100<>\"\",IF($O$1=データセット1!$B100,データセット1!$D100),\"\")","v":false},{"$f":"IF(データセット1!$B100<>\"\",IF($P$1=データセット1!$B100,データセット1!$D100),\"\")","v":false},{"$f":"IF(データセット1!$B100<>\"\",IF($Q$1=データセット1!$B100,データセット1!$D100),\"\")","v":65},{"$f":"IF(データセット1!$B100<>\"\",IF($R$1=データセット1!$B100,データセット1!$D100),\"\")","v":false},{"$f":"IF(データセット1!$B100<>\"\",IF($S$1=データセット1!$B100,データセット1!$D100),\"\")","v":false},{"$f":"IF(データセット1!$B100<>\"\",IF($T$1=データセット1!$B100,データセット1!$D100),\"\")","v":false},{"$f":"IF(データセット1!$B100<>\"\",IF($U$1=データセット1!$B100,データセット1!$D100),\"\")","v":false}]
[null,null,null,null,null,null,null,null,null,null,null,null,{"$f":"IF(データセット1!$B101<>\"\",IF($M$1=データセット1!$B101,データセット1!$D101),\"\")","v":485},{"$f":"IF(データセット1!$B101<>\"\",IF($N$1=データセット1!$B101,データセット1!$D101),\"\")","v":false},{"$f":"IF(データセット1!$B101<>\"\",IF($O$1=データセット1!$B101,データセット1!$D101),\"\")","v":false},{"$f":"IF(データセット1!$B101<>\"\",IF($P$1=データセット1!$B101,データセット1!$D101),\"\")","v":false},{"$f":"IF(データセット1!$B101<>\"\",IF($Q$1=データセット1!$B101,データセット1!$D101),\"\")","v":false},{"$f":"IF(データセット1!$B101<>\"\",IF($R$1=データセット1!$B101,データセット1!$D101),\"\")","v":false},{"$f":"IF(データセット1!$B101<>\"\",IF($S$1=データセット1!$B101,データセット1!$D101),\"\")","v":false},{"$f":"IF(データセット1!$B101<>\"\",IF($T$1=データセット1!$B101,データセット1!$D101),\"\")","v":false},{"$f":"IF(データセット1!$B101<>\"\",IF($U$1=データセット1!$B101,データセット1!$D101),\"\")","v":false}]
[null,null,null,null,null,null,null,null,null,null,null,null,{"$f":"IF(データセット1!$B102<>\"\",IF($M$1=データセット1!$B102,データセット1!$D102),\"\")","v":520},{"$f":"IF(データセット1!$B102<>\"\",IF($N$1=データセット1!$B102,データセット1!$D102),\"\")","v":false},{"$f":"IF(データセット1!$B102<>\"\",IF($O$1=データセット1!$B102,データセット1!$D102),\"\")","v":false},{"$f":"IF(データセット1!$B102<>\"\",IF($P$1=データセット1!$B102,データセット1!$D102),\"\")","v":false},{"$f":"IF(データセット1!$B102<>\"\",IF($Q$1=データセット1!$B102,データセット1!$D102),\"\")","v":false},{"$f":"IF(データセット1!$B102<>\"\",IF($R$1=データセット1!$B102,データセット1!$D102),\"\")","v":false},{"$f":"IF(データセット1!$B102<>\"\",IF($S$1=データセット1!$B102,データセット1!$D102),\"\")","v":false},{"$f":"IF(データセット1!$B102<>\"\",IF($T$1=データセット1!$B102,データセット1!$D102),\"\")","v":false},{"$f":"IF(データセット1!$B102<>\"\",IF($U$1=データセット1!$B102,データセット1!$D102),\"\")","v":false}]
[null,null,null,null,null,null,null,null,null,null,null,null,{"$f":"IF(データセット1!$B103<>\"\",IF($M$1=データセット1!$B103,データセット1!$D103),\"\")","v":false},{"$f":"IF(データセット1!$B103<>\"\",IF($N$1=データセット1!$B103,データセット1!$D103),\"\")","v":false},{"$f":"IF(データセット1!$B103<>\"\",IF($O$1=データセット1!$B103,データセット1!$D103),\"\")","v":false},{"$f":"IF(データセット1!$B103<>\"\",IF($P$1=データセット1!$B103,データセット1!$D103),\"\")","v":147},{"$f":"IF(データセット1!$B103<>\"\",IF($Q$1=データセット1!$B103,データセット1!$D103),\"\")","v":false},{"$f":"IF(データセット1!$B103<>\"\",IF($R$1=データセット1!$B103,データセット1!$D103),\"\")","v":false},{"$f":"IF(データセット1!$B103<>\"\",IF($S$1=データセット1!$B103,データセット1!$D103),\"\")","v":false},{"$f":"IF(データセット1!$B103<>\"\",IF($T$1=データセット1!$B103,データセット1!$D103),\"\")","v":false},{"$f":"IF(データセット1!$B103<>\"\",IF($U$1=データセット1!$B103,データセット1!$D103),\"\")","v":false}]
[null,null,null,null,null,null,null,null,null,null,null,null,{"$f":"IF(データセット1!$B104<>\"\",IF($M$1=データセット1!$B104,データセット1!$D104),\"\")","v":564},{"$f":"IF(データセット1!$B104<>\"\",IF($N$1=データセット1!$B104,データセット1!$D104),\"\")","v":false},{"$f":"IF(データセット1!$B104<>\"\",IF($O$1=データセット1!$B104,データセット1!$D104),\"\")","v":false},{"$f":"IF(データセット1!$B104<>\"\",IF($P$1=データセット1!$B104,データセット1!$D104),\"\")","v":false},{"$f":"IF(データセット1!$B104<>\"\",IF($Q$1=データセット1!$B104,データセット1!$D104),\"\")","v":false},{"$f":"IF(データセット1!$B104<>\"\",IF($R$1=データセット1!$B104,データセット1!$D104),\"\")","v":false},{"$f":"IF(データセット1!$B104<>\"\",IF($S$1=データセット1!$B104,データセット1!$D104),\"\")","v":false},{"$f":"IF(データセット1!$B104<>\"\",IF($T$1=データセット1!$B104,データセット1!$D104),\"\")","v":false},{"$f":"IF(データセット1!$B104<>\"\",IF($U$1=データセット1!$B104,データセット1!$D104),\"\")","v":false}]
[null,null,null,null,null,null,null,null,null,null,null,null,{"$f":"IF(データセット1!$B105<>\"\",IF($M$1=データセット1!$B105,データセット1!$D105),\"\")","v":false},{"$f":"IF(データセット1!$B105<>\"\",IF($N$1=データセット1!$B105,データセット1!$D105),\"\")","v":false},{"$f":"IF(データセット1!$B105<>\"\",IF($O$1=データセット1!$B105,データセット1!$D105),\"\")","v":false},{"$f":"IF(データセット1!$B105<>\"\",IF($P$1=データセット1!$B105,データセット1!$D105),\"\")","v":175},{"$f":"IF(データセット1!$B105<>\"\",IF($Q$1=データセット1!$B105,データセット1!$D105),\"\")","v":false},{"$f":"IF(データセット1!$B105<>\"\",IF($R$1=データセット1!$B105,データセット1!$D105),\"\")","v":false},{"$f":"IF(データセット1!$B105<>\"\",IF($S$1=データセット1!$B105,データセット1!$D105),\"\")","v":false},{"$f":"IF(データセット1!$B105<>\"\",IF($T$1=データセット1!$B105,データセット1!$D105),\"\")","v":false},{"$f":"IF(データセット1!$B105<>\"\",IF($U$1=データセット1!$B105,データセット1!$D105),\"\")","v":false}]
[null,null,null,null,null,null,null,null,null,null,null,null,{"$f":"IF(データセット1!$B106<>\"\",IF($M$1=データセット1!$B106,データセット1!$D106),\"\")","v":false},{"$f":"IF(データセット1!$B106<>\"\",IF($N$1=データセット1!$B106,データセット1!$D106),\"\")","v":false},{"$f":"IF(データセット1!$B106<>\"\",IF($O$1=データセット1!$B106,データセット1!$D106),\"\")","v":false},{"$f":"IF(データセット1!$B106<>\"\",IF($P$1=データセット1!$B106,データセット1!$D106),\"\")","v":false},{"$f":"IF(データセット1!$B106<>\"\",IF($Q$1=データセット1!$B106,データセット1!$D106),\"\")","v":false},{"$f":"IF(データセット1!$B106<>\"\",IF($R$1=データセット1!$B106,データセット1!$D106),\"\")","v":43},{"$f":"IF(データセット1!$B106<>\"\",IF($S$1=データセット1!$B106,データセット1!$D106),\"\")","v":false},{"$f":"IF(データセット1!$B106<>\"\",IF($T$1=データセット1!$B106,データセット1!$D106),\"\")","v":false},{"$f":"IF(データセット1!$B106<>\"\",IF($U$1=データセット1!$B106,データセット1!$D106),\"\")","v":false}]
[null,null,null,null,null,null,null,null,null,null,null,null,{"$f":"IF(データセット1!$B107<>\"\",IF($M$1=データセット1!$B107,データセット1!$D107),\"\")","v":false},{"$f":"IF(データセット1!$B107<>\"\",IF($N$1=データセット1!$B107,データセット1!$D107),\"\")","v":false},{"$f":"IF(データセット1!$B107<>\"\",IF($O$1=データセット1!$B107,データセット1!$D107),\"\")","v":false},{"$f":"IF(データセット1!$B107<>\"\",IF($P$1=データセット1!$B107,データセット1!$D107),\"\")","v":188},{"$f":"IF(データセット1!$B107<>\"\",IF($Q$1=データセット1!$B107,データセット1!$D107),\"\")","v":false},{"$f":"IF(データセット1!$B107<>\"\",IF($R$1=データセット1!$B107,データセット1!$D107),\"\")","v":false},{"$f":"IF(データセット1!$B107<>\"\",IF($S$1=データセット1!$B107,データセット1!$D107),\"\")","v":false},{"$f":"IF(データセット1!$B107<>\"\",IF($T$1=データセット1!$B107,データセット1!$D107),\"\")","v":false},{"$f":"IF(データセット1!$B107<>\"\",IF($U$1=データセット1!$B107,データセット1!$D107),\"\")","v":false}]
[null,null,null,null,null,null,null,null,null,null,null,null,{"$f":"IF(データセット1!$B108<>\"\",IF($M$1=データセット1!$B108,データセット1!$D108),\"\")","v":false},{"$f":"IF(データセット1!$B108<>\"\",IF($N$1=データセット1!$B108,データセット1!$D108),\"\")","v":false},{"$f":"IF(データセット1!$B108<>\"\",IF($O$1=データセット1!$B108,データセット1!$D108),\"\")","v":false},{"$f":"IF(データセット1!$B108<>\"\",IF($P$1=データセット1!$B108,データセット1!$D108),\"\")","v":183},{"$f":"IF(データセット1!$B108<>\"\",IF($Q$1=データセット1!$B108,データセット1!$D108),\"\")","v":false},{"$f":"IF(データセット1!$B108<>\"\",IF($R$1=データセット1!$B108,データセット1!$D108),\"\")","v":false},{"$f":"IF(データセット1!$B108<>\"\",IF($S$1=データセット1!$B108,データセット1!$D108),\"\")","v":false},{"$f":"IF(データセット1!$B108<>\"\",IF($T$1=データセット1!$B108,データセット1!$D108),\"\")","v":false},{"$f":"IF(データセット1!$B108<>\"\",IF($U$1=データセット1!$B108,データセット1!$D108),\"\")","v":false}]
[null,null,null,null,null,null,null,null,null,null,null,null,{"$f":"IF(データセット1!$B109<>\"\",IF($M$1=データセット1!$B109,データセット1!$D109),\"\")","v":422},{"$f":"IF(データセット1!$B109<>\"\",IF($N$1=データセット1!$B109,データセット1!$D109),\"\")","v":false},{"$f":"IF(データセット1!$B109<>\"\",IF($O$1=データセット1!$B109,データセット1!$D109),\"\")","v":false},{"$f":"IF(データセット1!$B109<>\"\",IF($P$1=データセット1!$B109,データセット1!$D109),\"\")","v":false},{"$f":"IF(データセット1!$B109<>\"\",IF($Q$1=データセット1!$B109,データセット1!$D109),\"\")","v":false},{"$f":"IF(データセット1!$B109<>\"\",IF($R$1=データセット1!$B109,データセット1!$D109),\"\")","v":false},{"$f":"IF(データセット1!$B109<>\"\",IF($S$1=データセット1!$B109,データセット1!$D109),\"\")","v":false},{"$f":"IF(データセット1!$B109<>\"\",IF($T$1=データセット1!$B109,データセット1!$D109),\"\")","v":false},{"$f":"IF(データセット1!$B109<>\"\",IF($U$1=データセット1!$B109,データセット1!$D109),\"\")","v":false}]
[null,null,null,null,null,null,null,null,null,null,null,null,{"$f":"IF(データセット1!$B110<>\"\",IF($M$1=データセット1!$B110,データセット1!$D110),\"\")","v":406},{"$f":"IF(データセット1!$B110<>\"\",IF($N$1=データセット1!$B110,データセット1!$D110),\"\")","v":false},{"$f":"IF(データセット1!$B110<>\"\",IF($O$1=データセット1!$B110,データセット1!$D110),\"\")","v":false},{"$f":"IF(データセット1!$B110<>\"\",IF($P$1=データセット1!$B110,データセット1!$D110),\"\")","v":false},{"$f":"IF(データセット1!$B110<>\"\",IF($Q$1=データセット1!$B110,データセット1!$D110),\"\")","v":false},{"$f":"IF(データセット1!$B110<>\"\",IF($R$1=データセット1!$B110,データセット1!$D110),\"\")","v":false},{"$f":"IF(データセット1!$B110<>\"\",IF($S$1=データセット1!$B110,データセット1!$D110),\"\")","v":false},{"$f":"IF(データセット1!$B110<>\"\",IF($T$1=データセット1!$B110,データセット1!$D110),\"\")","v":false},{"$f":"IF(データセット1!$B110<>\"\",IF($U$1=データセット1!$B110,データセット1!$D110),\"\")","v":false}]
[null,null,null,null,null,null,null,null,null,null,null,null,{"$f":"IF(データセット1!$B111<>\"\",IF($M$1=データセット1!$B111,データセット1!$D111),\"\")","v":false},{"$f":"IF(データセット1!$B111<>\"\",IF($N$1=データセット1!$B111,データセット1!$D111),\"\")","v":false},{"$f":"IF(データセット1!$B111<>\"\",IF($O$1=データセット1!$B111,データセット1!$D111),\"\")","v":false},{"$f":"IF(データセット1!$B111<>\"\",IF($P$1=データセット1!$B111,データセット1!$D111),\"\")","v":158},{"$f":"IF(データセット1!$B111<>\"\",IF($Q$1=データセット1!$B111,データセット1!$D111),\"\")","v":false},{"$f":"IF(データセット1!$B111<>\"\",IF($R$1=データセット1!$B111,データセット1!$D111),\"\")","v":false},{"$f":"IF(データセット1!$B111<>\"\",IF($S$1=データセット1!$B111,データセット1!$D111),\"\")","v":false},{"$f":"IF(データセット1!$B111<>\"\",IF($T$1=データセット1!$B111,データセット1!$D111),\"\")","v":false},{"$f":"IF(データセット1!$B111<>\"\",IF($U$1=データセット1!$B111,データセット1!$D111),\"\")","v":false}]
[null,null,null,null,null,null,null,null,null,null,null,null,{"$f":"IF(データセット1!$B112<>\"\",IF($M$1=データセット1!$B112,データセット1!$D112),\"\")","v":410},{"$f":"IF(データセット1!$B112<>\"\",IF($N$1=データセット1!$B112,データセット1!$D112),\"\")","v":false},{"$f":"IF(データセット1!$B112<>\"\",IF($O$1=データセット1!$B112,データセット1!$D112),\"\")","v":false},{"$f":"IF(データセット1!$B112<>\"\",IF($P$1=データセット1!$B112,データセット1!$D112),\"\")","v":false},{"$f":"IF(データセット1!$B112<>\"\",IF($Q$1=データセット1!$B112,データセット1!$D112),\"\")","v":false},{"$f":"IF(データセット1!$B112<>\"\",IF($R$1=データセット1!$B112,データセット1!$D112),\"\")","v":false},{"$f":"IF(データセット1!$B112<>\"\",IF($S$1=データセット1!$B112,データセット1!$D112),\"\")","v":false},{"$f":"IF(データセット1!$B112<>\"\",IF($T$1=データセット1!$B112,データセット1!$D112),\"\")","v":false},{"$f":"IF(データセット1!$B112<>\"\",IF($U$1=データセット1!$B112,データセット1!$D112),\"\")","v":false}]
[null,null,null,null,null,null,null,null,null,null,null,null,{"$f":"IF(データセット1!$B113<>\"\",IF($M$1=データセット1!$B113,データセット1!$D113),\"\")","v":false},{"$f":"IF(データセット1!$B113<>\"\",IF($N$1=データセット1!$B113,データセット1!$D113),\"\")","v":false},{"$f":"IF(データセット1!$B113<>\"\",IF($O$1=データセット1!$B113,データセット1!$D113),\"\")","v":false},{"$f":"IF(データセット1!$B113<>\"\",IF($P$1=データセット1!$B113,データセット1!$D113),\"\")","v":false},{"$f":"IF(データセット1!$B113<>\"\",IF($Q$1=データセット1!$B113,データセット1!$D113),\"\")","v":64},{"$f":"IF(データセット1!$B113<>\"\",IF($R$1=データセット1!$B113,データセット1!$D113),\"\")","v":false},{"$f":"IF(データセット1!$B113<>\"\",IF($S$1=データセット1!$B113,データセット1!$D113),\"\")","v":false},{"$f":"IF(データセット1!$B113<>\"\",IF($T$1=データセット1!$B113,データセット1!$D113),\"\")","v":false},{"$f":"IF(データセット1!$B113<>\"\",IF($U$1=データセット1!$B113,データセット1!$D113),\"\")","v":false}]
[null,null,null,null,null,null,null,null,null,null,null,null,{"$f":"IF(データセット1!$B114<>\"\",IF($M$1=データセット1!$B114,データセット1!$D114),\"\")","v":false},{"$f":"IF(データセット1!$B114<>\"\",IF($N$1=データセット1!$B114,データセット1!$D114),\"\")","v":false},{"$f":"IF(データセット1!$B114<>\"\",IF($O$1=データセット1!$B114,データセット1!$D114),\"\")","v":false},{"$f":"IF(データセット1!$B114<>\"\",IF($P$1=データセット1!$B114,データセット1!$D114),\"\")","v":197},{"$f":"IF(データセット1!$B114<>\"\",IF($Q$1=データセット1!$B114,データセット1!$D114),\"\")","v":false},{"$f":"IF(データセット1!$B114<>\"\",IF($R$1=データセット1!$B114,データセット1!$D114),\"\")","v":false},{"$f":"IF(データセット1!$B114<>\"\",IF($S$1=データセット1!$B114,データセット1!$D114),\"\")","v":false},{"$f":"IF(データセット1!$B114<>\"\",IF($T$1=データセット1!$B114,データセット1!$D114),\"\")","v":false},{"$f":"IF(データセット1!$B114<>\"\",IF($U$1=データセット1!$B114,データセット1!$D114),\"\")","v":false}]
[null,null,null,null,null,null,null,null,null,null,null,null,{"$f":"IF(データセット1!$B115<>\"\",IF($M$1=データセット1!$B115,データセット1!$D115),\"\")","v":false},{"$f":"IF(データセット1!$B115<>\"\",IF($N$1=データセット1!$B115,データセット1!$D115),\"\")","v":false},{"$f":"IF(データセット1!$B115<>\"\",IF($O$1=データセット1!$B115,データセット1!$D115),\"\")","v":false},{"$f":"IF(データセット1!$B115<>\"\",IF($P$1=データセット1!$B115,データセット1!$D115),\"\")","v":166},{"$f":"IF(データセット1!$B115<>\"\",IF($Q$1=データセット1!$B115,データセット1!$D115),\"\")","v":false},{"$f":"IF(データセット1!$B115<>\"\",IF($R$1=データセット1!$B115,データセット1!$D115),\"\")","v":false},{"$f":"IF(データセット1!$B115<>\"\",IF($S$1=データセット1!$B115,データセット1!$D115),\"\")","v":false},{"$f":"IF(データセット1!$B115<>\"\",IF($T$1=データセット1!$B115,データセット1!$D115),\"\")","v":false},{"$f":"IF(データセット1!$B115<>\"\",IF($U$1=データセット1!$B115,データセット1!$D115),\"\")","v":false}]
[null,null,null,null,null,null,null,null,null,null,null,null,{"$f":"IF(データセット1!$B116<>\"\",IF($M$1=データセット1!$B116,データセット1!$D116),\"\")","v":599},{"$f":"IF(データセット1!$B116<>\"\",IF($N$1=データセット1!$B116,データセット1!$D116),\"\")","v":false},{"$f":"IF(データセット1!$B116<>\"\",IF($O$1=データセット1!$B116,データセット1!$D116),\"\")","v":false},{"$f":"IF(データセット1!$B116<>\"\",IF($P$1=データセット1!$B116,データセット1!$D116),\"\")","v":false},{"$f":"IF(データセット1!$B116<>\"\",IF($Q$1=データセット1!$B116,データセット1!$D116),\"\")","v":false},{"$f":"IF(データセット1!$B116<>\"\",IF($R$1=データセット1!$B116,データセット1!$D116),\"\")","v":false},{"$f":"IF(データセット1!$B116<>\"\",IF($S$1=データセット1!$B116,データセット1!$D116),\"\")","v":false},{"$f":"IF(データセット1!$B116<>\"\",IF($T$1=データセット1!$B116,データセット1!$D116),\"\")","v":false},{"$f":"IF(データセット1!$B116<>\"\",IF($U$1=データセット1!$B116,データセット1!$D116),\"\")","v":false}]
[null,null,null,null,null,null,null,null,null,null,null,null,{"$f":"IF(データセット1!$B117<>\"\",IF($M$1=データセット1!$B117,データセット1!$D117),\"\")","v":false},{"$f":"IF(データセット1!$B117<>\"\",IF($N$1=データセット1!$B117,データセット1!$D117),\"\")","v":false},{"$f":"IF(データセット1!$B117<>\"\",IF($O$1=データセット1!$B117,データセット1!$D117),\"\")","v":false},{"$f":"IF(データセット1!$B117<>\"\",IF($P$1=データセット1!$B117,データセット1!$D117),\"\")","v":false},{"$f":"IF(データセット1!$B117<>\"\",IF($Q$1=データセット1!$B117,データセット1!$D117),\"\")","v":68},{"$f":"IF(データセット1!$B117<>\"\",IF($R$1=データセット1!$B117,データセット1!$D117),\"\")","v":false},{"$f":"IF(データセット1!$B117<>\"\",IF($S$1=データセット1!$B117,データセット1!$D117),\"\")","v":false},{"$f":"IF(データセット1!$B117<>\"\",IF($T$1=データセット1!$B117,データセット1!$D117),\"\")","v":false},{"$f":"IF(データセット1!$B117<>\"\",IF($U$1=データセット1!$B117,データセット1!$D117),\"\")","v":false}]
[null,null,null,null,null,null,null,null,null,null,null,null,{"$f":"IF(データセット1!$B118<>\"\",IF($M$1=データセット1!$B118,データセット1!$D118),\"\")","v":337},{"$f":"IF(データセット1!$B118<>\"\",IF($N$1=データセット1!$B118,データセット1!$D118),\"\")","v":false},{"$f":"IF(データセット1!$B118<>\"\",IF($O$1=データセット1!$B118,データセット1!$D118),\"\")","v":false},{"$f":"IF(データセット1!$B118<>\"\",IF($P$1=データセット1!$B118,データセット1!$D118),\"\")","v":false},{"$f":"IF(データセット1!$B118<>\"\",IF($Q$1=データセット1!$B118,データセット1!$D118),\"\")","v":false},{"$f":"IF(データセット1!$B118<>\"\",IF($R$1=データセット1!$B118,データセット1!$D118),\"\")","v":false},{"$f":"IF(データセット1!$B118<>\"\",IF($S$1=データセット1!$B118,データセット1!$D118),\"\")","v":false},{"$f":"IF(データセット1!$B118<>\"\",IF($T$1=データセット1!$B118,データセット1!$D118),\"\")","v":false},{"$f":"IF(データセット1!$B118<>\"\",IF($U$1=データセット1!$B118,データセット1!$D118),\"\")","v":false}]
[null,null,null,null,null,null,null,null,null,null,null,null,{"$f":"IF(データセット1!$B119<>\"\",IF($M$1=データセット1!$B119,データセット1!$D119),\"\")","v":623},{"$f":"IF(データセット1!$B119<>\"\",IF($N$1=データセット1!$B119,データセット1!$D119),\"\")","v":false},{"$f":"IF(データセット1!$B119<>\"\",IF($O$1=データセット1!$B119,データセット1!$D119),\"\")","v":false},{"$f":"IF(データセット1!$B119<>\"\",IF($P$1=データセット1!$B119,データセット1!$D119),\"\")","v":false},{"$f":"IF(データセット1!$B119<>\"\",IF($Q$1=データセット1!$B119,データセット1!$D119),\"\")","v":false},{"$f":"IF(データセット1!$B119<>\"\",IF($R$1=データセット1!$B119,データセット1!$D119),\"\")","v":false},{"$f":"IF(データセット1!$B119<>\"\",IF($S$1=データセット1!$B119,データセット1!$D119),\"\")","v":false},{"$f":"IF(データセット1!$B119<>\"\",IF($T$1=データセット1!$B119,データセット1!$D119),\"\")","v":false},{"$f":"IF(データセット1!$B119<>\"\",IF($U$1=データセット1!$B119,データセット1!$D119),\"\")","v":false}]
[null,null,null,null,null,null,null,null,null,null,null,null,{"$f":"IF(データセット1!$B120<>\"\",IF($M$1=データセット1!$B120,データセット1!$D120),\"\")","v":335},{"$f":"IF(データセット1!$B120<>\"\",IF($N$1=データセット1!$B120,データセット1!$D120),\"\")","v":false},{"$f":"IF(データセット1!$B120<>\"\",IF($O$1=データセット1!$B120,データセット1!$D120),\"\")","v":false},{"$f":"IF(データセット1!$B120<>\"\",IF($P$1=データセット1!$B120,データセット1!$D120),\"\")","v":false},{"$f":"IF(データセット1!$B120<>\"\",IF($Q$1=データセット1!$B120,データセット1!$D120),\"\")","v":false},{"$f":"IF(データセット1!$B120<>\"\",IF($R$1=データセット1!$B120,データセット1!$D120),\"\")","v":false},{"$f":"IF(データセット1!$B120<>\"\",IF($S$1=データセット1!$B120,データセット1!$D120),\"\")","v":false},{"$f":"IF(データセット1!$B120<>\"\",IF($T$1=データセット1!$B120,データセット1!$D120),\"\")","v":false},{"$f":"IF(データセット1!$B120<>\"\",IF($U$1=データセット1!$B120,データセット1!$D120),\"\")","v":false}]
[null,null,null,null,null,null,null,null,null,null,null,null,{"$f":"IF(データセット1!$B121<>\"\",IF($M$1=データセット1!$B121,データセット1!$D121),\"\")","v":512},{"$f":"IF(データセット1!$B121<>\"\",IF($N$1=データセット1!$B121,データセット1!$D121),\"\")","v":false},{"$f":"IF(データセット1!$B121<>\"\",IF($O$1=データセット1!$B121,データセット1!$D121),\"\")","v":false},{"$f":"IF(データセット1!$B121<>\"\",IF($P$1=データセット1!$B121,データセット1!$D121),\"\")","v":false},{"$f":"IF(データセット1!$B121<>\"\",IF($Q$1=データセット1!$B121,データセット1!$D121),\"\")","v":false},{"$f":"IF(データセット1!$B121<>\"\",IF($R$1=データセット1!$B121,データセット1!$D121),\"\")","v":false},{"$f":"IF(データセット1!$B121<>\"\",IF($S$1=データセット1!$B121,データセット1!$D121),\"\")","v":false},{"$f":"IF(データセット1!$B121<>\"\",IF($T$1=データセット1!$B121,データセット1!$D121),\"\")","v":false},{"$f":"IF(データセット1!$B121<>\"\",IF($U$1=データセット1!$B121,データセット1!$D121),\"\")","v":false}]
[null,null,null,null,null,null,null,null,null,null,null,null,{"$f":"IF(データセット1!$B122<>\"\",IF($M$1=データセット1!$B122,データセット1!$D122),\"\")","v":false},{"$f":"IF(データセット1!$B122<>\"\",IF($N$1=データセット1!$B122,データセット1!$D122),\"\")","v":false},{"$f":"IF(データセット1!$B122<>\"\",IF($O$1=データセット1!$B122,データセット1!$D122),\"\")","v":false},{"$f":"IF(データセット1!$B122<>\"\",IF($P$1=データセット1!$B122,データセット1!$D122),\"\")","v":119},{"$f":"IF(データセット1!$B122<>\"\",IF($Q$1=データセット1!$B122,データセット1!$D122),\"\")","v":false},{"$f":"IF(データセット1!$B122<>\"\",IF($R$1=データセット1!$B122,データセット1!$D122),\"\")","v":false},{"$f":"IF(データセット1!$B122<>\"\",IF($S$1=データセット1!$B122,データセット1!$D122),\"\")","v":false},{"$f":"IF(データセット1!$B122<>\"\",IF($T$1=データセット1!$B122,データセット1!$D122),\"\")","v":false},{"$f":"IF(データセット1!$B122<>\"\",IF($U$1=データセット1!$B122,データセット1!$D122),\"\")","v":false}]
[null,null,null,null,null,null,null,null,null,null,null,null,{"$f":"IF(データセット1!$B123<>\"\",IF($M$1=データセット1!$B123,データセット1!$D123),\"\")","v":false},{"$f":"IF(データセット1!$B123<>\"\",IF($N$1=データセット1!$B123,データセット1!$D123),\"\")","v":false},{"$f":"IF(データセット1!$B123<>\"\",IF($O$1=データセット1!$B123,データセット1!$D123),\"\")","v":false},{"$f":"IF(データセット1!$B123<>\"\",IF($P$1=データセット1!$B123,データセット1!$D123),\"\")","v":false},{"$f":"IF(データセット1!$B123<>\"\",IF($Q$1=データセット1!$B123,データセット1!$D123),\"\")","v":128},{"$f":"IF(データセット1!$B123<>\"\",IF($R$1=データセット1!$B123,データセット1!$D123),\"\")","v":false},{"$f":"IF(データセット1!$B123<>\"\",IF($S$1=データセット1!$B123,データセット1!$D123),\"\")","v":false},{"$f":"IF(データセット1!$B123<>\"\",IF($T$1=データセット1!$B123,データセット1!$D123),\"\")","v":false},{"$f":"IF(データセット1!$B123<>\"\",IF($U$1=データセット1!$B123,データセット1!$D123),\"\")","v":false}]
[null,null,null,null,null,null,null,null,null,null,null,null,{"$f":"IF(データセット1!$B124<>\"\",IF($M$1=データセット1!$B124,データセット1!$D124),\"\")","v":467},{"$f":"IF(データセット1!$B124<>\"\",IF($N$1=データセット1!$B124,データセット1!$D124),\"\")","v":false},{"$f":"IF(データセット1!$B124<>\"\",IF($O$1=データセット1!$B124,データセット1!$D124),\"\")","v":false},{"$f":"IF(データセット1!$B124<>\"\",IF($P$1=データセット1!$B124,データセット1!$D124),\"\")","v":false},{"$f":"IF(データセット1!$B124<>\"\",IF($Q$1=データセット1!$B124,データセット1!$D124),\"\")","v":false},{"$f":"IF(データセット1!$B124<>\"\",IF($R$1=データセット1!$B124,データセット1!$D124),\"\")","v":false},{"$f":"IF(データセット1!$B124<>\"\",IF($S$1=データセット1!$B124,データセット1!$D124),\"\")","v":false},{"$f":"IF(データセット1!$B124<>\"\",IF($T$1=データセット1!$B124,データセット1!$D124),\"\")","v":false},{"$f":"IF(データセット1!$B124<>\"\",IF($U$1=データセット1!$B124,データセット1!$D124),\"\")","v":false}]
[null,null,null,null,null,null,null,null,null,null,null,null,{"$f":"IF(データセット1!$B125<>\"\",IF($M$1=データセット1!$B125,データセット1!$D125),\"\")","v":337},{"$f":"IF(データセット1!$B125<>\"\",IF($N$1=データセット1!$B125,データセット1!$D125),\"\")","v":false},{"$f":"IF(データセット1!$B125<>\"\",IF($O$1=データセット1!$B125,データセット1!$D125),\"\")","v":false},{"$f":"IF(データセット1!$B125<>\"\",IF($P$1=データセット1!$B125,データセット1!$D125),\"\")","v":false},{"$f":"IF(データセット1!$B125<>\"\",IF($Q$1=データセット1!$B125,データセット1!$D125),\"\")","v":false},{"$f":"IF(データセット1!$B125<>\"\",IF($R$1=データセット1!$B125,データセット1!$D125),\"\")","v":false},{"$f":"IF(データセット1!$B125<>\"\",IF($S$1=データセット1!$B125,データセット1!$D125),\"\")","v":false},{"$f":"IF(データセット1!$B125<>\"\",IF($T$1=データセット1!$B125,データセット1!$D125),\"\")","v":false},{"$f":"IF(データセット1!$B125<>\"\",IF($U$1=データセット1!$B125,データセット1!$D125),\"\")","v":false}]
[null,null,null,null,null,null,null,null,null,null,null,null,{"$f":"IF(データセット1!$B126<>\"\",IF($M$1=データセット1!$B126,データセット1!$D126),\"\")","v":false},{"$f":"IF(データセット1!$B126<>\"\",IF($N$1=データセット1!$B126,データセット1!$D126),\"\")","v":false},{"$f":"IF(データセット1!$B126<>\"\",IF($O$1=データセット1!$B126,データセット1!$D126),\"\")","v":false},{"$f":"IF(データセット1!$B126<>\"\",IF($P$1=データセット1!$B126,データセット1!$D126),\"\")","v":false},{"$f":"IF(データセット1!$B126<>\"\",IF($Q$1=データセット1!$B126,データセット1!$D126),\"\")","v":false},{"$f":"IF(データセット1!$B126<>\"\",IF($R$1=データセット1!$B126,データセット1!$D126),\"\")","v":61},{"$f":"IF(データセット1!$B126<>\"\",IF($S$1=データセット1!$B126,データセット1!$D126),\"\")","v":false},{"$f":"IF(データセット1!$B126<>\"\",IF($T$1=データセット1!$B126,データセット1!$D126),\"\")","v":false},{"$f":"IF(データセット1!$B126<>\"\",IF($U$1=データセット1!$B126,データセット1!$D126),\"\")","v":false}]
[null,null,null,null,null,null,null,null,null,null,null,null,{"$f":"IF(データセット1!$B127<>\"\",IF($M$1=データセット1!$B127,データセット1!$D127),\"\")","v":false},{"$f":"IF(データセット1!$B127<>\"\",IF($N$1=データセット1!$B127,データセット1!$D127),\"\")","v":false},{"$f":"IF(データセット1!$B127<>\"\",IF($O$1=データセット1!$B127,データセット1!$D127),\"\")","v":false},{"$f":"IF(データセット1!$B127<>\"\",IF($P$1=データセット1!$B127,データセット1!$D127),\"\")","v":218},{"$f":"IF(データセット1!$B127<>\"\",IF($Q$1=データセット1!$B127,データセット1!$D127),\"\")","v":false},{"$f":"IF(データセット1!$B127<>\"\",IF($R$1=データセット1!$B127,データセット1!$D127),\"\")","v":false},{"$f":"IF(データセット1!$B127<>\"\",IF($S$1=データセット1!$B127,データセット1!$D127),\"\")","v":false},{"$f":"IF(データセット1!$B127<>\"\",IF($T$1=データセット1!$B127,データセット1!$D127),\"\")","v":false},{"$f":"IF(データセット1!$B127<>\"\",IF($U$1=データセット1!$B127,データセット1!$D127),\"\")","v":false}]
[null,null,null,null,null,null,null,null,null,null,null,null,{"$f":"IF(データセット1!$B128<>\"\",IF($M$1=データセット1!$B128,データセット1!$D128),\"\")","v":false},{"$f":"IF(データセット1!$B128<>\"\",IF($N$1=データセット1!$B128,データセット1!$D128),\"\")","v":false},{"$f":"IF(データセット1!$B128<>\"\",IF($O$1=データセット1!$B128,データセット1!$D128),\"\")","v":false},{"$f":"IF(データセット1!$B128<>\"\",IF($P$1=データセット1!$B128,データセット1!$D128),\"\")","v":false},{"$f":"IF(データセット1!$B128<>\"\",IF($Q$1=データセット1!$B128,データセット1!$D128),\"\")","v":111},{"$f":"IF(データセット1!$B128<>\"\",IF($R$1=データセット1!$B128,データセット1!$D128),\"\")","v":false},{"$f":"IF(データセット1!$B128<>\"\",IF($S$1=データセット1!$B128,データセット1!$D128),\"\")","v":false},{"$f":"IF(データセット1!$B128<>\"\",IF($T$1=データセット1!$B128,データセット1!$D128),\"\")","v":false},{"$f":"IF(データセット1!$B128<>\"\",IF($U$1=データセット1!$B128,データセット1!$D128),\"\")","v":false}]
[null,null,null,null,null,null,null,null,null,null,null,null,{"$f":"IF(データセット1!$B129<>\"\",IF($M$1=データセット1!$B129,データセット1!$D129),\"\")","v":425},{"$f":"IF(データセット1!$B129<>\"\",IF($N$1=データセット1!$B129,データセット1!$D129),\"\")","v":false},{"$f":"IF(データセット1!$B129<>\"\",IF($O$1=データセット1!$B129,データセット1!$D129),\"\")","v":false},{"$f":"IF(データセット1!$B129<>\"\",IF($P$1=データセット1!$B129,データセット1!$D129),\"\")","v":false},{"$f":"IF(データセット1!$B129<>\"\",IF($Q$1=データセット1!$B129,データセット1!$D129),\"\")","v":false},{"$f":"IF(データセット1!$B129<>\"\",IF($R$1=データセット1!$B129,データセット1!$D129),\"\")","v":false},{"$f":"IF(データセット1!$B129<>\"\",IF($S$1=データセット1!$B129,データセット1!$D129),\"\")","v":false},{"$f":"IF(データセット1!$B129<>\"\",IF($T$1=データセット1!$B129,データセット1!$D129),\"\")","v":false},{"$f":"IF(データセット1!$B129<>\"\",IF($U$1=データセット1!$B129,データセット1!$D129),\"\")","v":false}]
[null,null,null,null,null,null,null,null,null,null,null,null,{"$f":"IF(データセット1!$B130<>\"\",IF($M$1=データセット1!$B130,データセット1!$D130),\"\")","v":519},{"$f":"IF(データセット1!$B130<>\"\",IF($N$1=データセット1!$B130,データセット1!$D130),\"\")","v":false},{"$f":"IF(データセット1!$B130<>\"\",IF($O$1=データセット1!$B130,データセット1!$D130),\"\")","v":false},{"$f":"IF(データセット1!$B130<>\"\",IF($P$1=データセット1!$B130,データセット1!$D130),\"\")","v":false},{"$f":"IF(データセット1!$B130<>\"\",IF($Q$1=データセット1!$B130,データセット1!$D130),\"\")","v":false},{"$f":"IF(データセット1!$B130<>\"\",IF($R$1=データセット1!$B130,データセット1!$D130),\"\")","v":false},{"$f":"IF(データセット1!$B130<>\"\",IF($S$1=データセット1!$B130,データセット1!$D130),\"\")","v":false},{"$f":"IF(データセット1!$B130<>\"\",IF($T$1=データセット1!$B130,データセット1!$D130),\"\")","v":false},{"$f":"IF(データセット1!$B130<>\"\",IF($U$1=データセット1!$B130,データセット1!$D130),\"\")","v":false}]
[null,null,null,null,null,null,null,null,null,null,null,null,{"$f":"IF(データセット1!$B131<>\"\",IF($M$1=データセット1!$B131,データセット1!$D131),\"\")","v":false},{"$f":"IF(データセット1!$B131<>\"\",IF($N$1=データセット1!$B131,データセット1!$D131),\"\")","v":false},{"$f":"IF(データセット1!$B131<>\"\",IF($O$1=データセット1!$B131,データセット1!$D131),\"\")","v":false},{"$f":"IF(データセット1!$B131<>\"\",IF($P$1=データセット1!$B131,データセット1!$D131),\"\")","v":false},{"$f":"IF(データセット1!$B131<>\"\",IF($Q$1=データセット1!$B131,データセット1!$D131),\"\")","v":83},{"$f":"IF(データセット1!$B131<>\"\",IF($R$1=データセット1!$B131,データセット1!$D131),\"\")","v":false},{"$f":"IF(データセット1!$B131<>\"\",IF($S$1=データセット1!$B131,データセット1!$D131),\"\")","v":false},{"$f":"IF(データセット1!$B131<>\"\",IF($T$1=データセット1!$B131,データセット1!$D131),\"\")","v":false},{"$f":"IF(データセット1!$B131<>\"\",IF($U$1=データセット1!$B131,データセット1!$D131),\"\")","v":false}]
[null,null,null,null,null,null,null,null,null,null,null,null,{"$f":"IF(データセット1!$B132<>\"\",IF($M$1=データセット1!$B132,データセット1!$D132),\"\")","v":false},{"$f":"IF(データセット1!$B132<>\"\",IF($N$1=データセット1!$B132,データセット1!$D132),\"\")","v":false},{"$f":"IF(データセット1!$B132<>\"\",IF($O$1=データセット1!$B132,データセット1!$D132),\"\")","v":false},{"$f":"IF(データセット1!$B132<>\"\",IF($P$1=データセット1!$B132,データセット1!$D132),\"\")","v":false},{"$f":"IF(データセット1!$B132<>\"\",IF($Q$1=データセット1!$B132,データセット1!$D132),\"\")","v":71},{"$f":"IF(データセット1!$B132<>\"\",IF($R$1=データセット1!$B132,データセット1!$D132),\"\")","v":false},{"$f":"IF(データセット1!$B132<>\"\",IF($S$1=データセット1!$B132,データセット1!$D132),\"\")","v":false},{"$f":"IF(データセット1!$B132<>\"\",IF($T$1=データセット1!$B132,データセット1!$D132),\"\")","v":false},{"$f":"IF(データセット1!$B132<>\"\",IF($U$1=データセット1!$B132,データセット1!$D132),\"\")","v":false}]
[null,null,null,null,null,null,null,null,null,null,null,null,{"$f":"IF(データセット1!$B133<>\"\",IF($M$1=データセット1!$B133,データセット1!$D133),\"\")","v":false},{"$f":"IF(データセット1!$B133<>\"\",IF($N$1=データセット1!$B133,データセット1!$D133),\"\")","v":false},{"$f":"IF(データセット1!$B133<>\"\",IF($O$1=データセット1!$B133,データセット1!$D133),\"\")","v":false},{"$f":"IF(データセット1!$B133<>\"\",IF($P$1=データセット1!$B133,データセット1!$D133),\"\")","v":false},{"$f":"IF(データセット1!$B133<>\"\",IF($Q$1=データセット1!$B133,データセット1!$D133),\"\")","v":120},{"$f":"IF(データセット1!$B133<>\"\",IF($R$1=データセット1!$B133,データセット1!$D133),\"\")","v":false},{"$f":"IF(データセット1!$B133<>\"\",IF($S$1=データセット1!$B133,データセット1!$D133),\"\")","v":false},{"$f":"IF(データセット1!$B133<>\"\",IF($T$1=データセット1!$B133,データセット1!$D133),\"\")","v":false},{"$f":"IF(データセット1!$B133<>\"\",IF($U$1=データセット1!$B133,データセット1!$D133),\"\")","v":false}]
[null,null,null,null,null,null,null,null,null,null,null,null,{"$f":"IF(データセット1!$B134<>\"\",IF($M$1=データセット1!$B134,データセット1!$D134),\"\")","v":false},{"$f":"IF(データセット1!$B134<>\"\",IF($N$1=データセット1!$B134,データセット1!$D134),\"\")","v":false},{"$f":"IF(データセット1!$B134<>\"\",IF($O$1=データセット1!$B134,データセット1!$D134),\"\")","v":false},{"$f":"IF(データセット1!$B134<>\"\",IF($P$1=データセット1!$B134,データセット1!$D134),\"\")","v":false},{"$f":"IF(データセット1!$B134<>\"\",IF($Q$1=データセット1!$B134,データセット1!$D134),\"\")","v":false},{"$f":"IF(データセット1!$B134<>\"\",IF($R$1=データセット1!$B134,データセット1!$D134),\"\")","v":53},{"$f":"IF(データセット1!$B134<>\"\",IF($S$1=データセット1!$B134,データセット1!$D134),\"\")","v":false},{"$f":"IF(データセット1!$B134<>\"\",IF($T$1=データセット1!$B134,データセット1!$D134),\"\")","v":false},{"$f":"IF(データセット1!$B134<>\"\",IF($U$1=データセット1!$B134,データセット1!$D134),\"\")","v":false}]
[null,null,null,null,null,null,null,null,null,null,null,null,{"$f":"IF(データセット1!$B135<>\"\",IF($M$1=データセット1!$B135,データセット1!$D135),\"\")","v":443},{"$f":"IF(データセット1!$B135<>\"\",IF($N$1=データセット1!$B135,データセット1!$D135),\"\")","v":false},{"$f":"IF(データセット1!$B135<>\"\",IF($O$1=データセット1!$B135,データセット1!$D135),\"\")","v":false},{"$f":"IF(データセット1!$B135<>\"\",IF($P$1=データセット1!$B135,データセット1!$D135),\"\")","v":false},{"$f":"IF(データセット1!$B135<>\"\",IF($Q$1=データセット1!$B135,データセット1!$D135),\"\")","v":false},{"$f":"IF(データセット1!$B135<>\"\",IF($R$1=データセット1!$B135,データセット1!$D135),\"\")","v":false},{"$f":"IF(データセット1!$B135<>\"\",IF($S$1=データセット1!$B135,データセット1!$D135),\"\")","v":false},{"$f":"IF(データセット1!$B135<>\"\",IF($T$1=データセット1!$B135,データセット1!$D135),\"\")","v":false},{"$f":"IF(データセット1!$B135<>\"\",IF($U$1=データセット1!$B135,データセット1!$D135),\"\")","v":false}]
[null,null,null,null,null,null,null,null,null,null,null,null,{"$f":"IF(データセット1!$B136<>\"\",IF($M$1=データセット1!$B136,データセット1!$D136),\"\")","v":false},{"$f":"IF(データセット1!$B136<>\"\",IF($N$1=データセット1!$B136,データセット1!$D136),\"\")","v":false},{"$f":"IF(データセット1!$B136<>\"\",IF($O$1=データセット1!$B136,データセット1!$D136),\"\")","v":false},{"$f":"IF(データセット1!$B136<>\"\",IF($P$1=データセット1!$B136,データセット1!$D136),\"\")","v":false},{"$f":"IF(データセット1!$B136<>\"\",IF($Q$1=データセット1!$B136,データセット1!$D136),\"\")","v":122},{"$f":"IF(データセット1!$B136<>\"\",IF($R$1=データセット1!$B136,データセット1!$D136),\"\")","v":false},{"$f":"IF(データセット1!$B136<>\"\",IF($S$1=データセット1!$B136,データセット1!$D136),\"\")","v":false},{"$f":"IF(データセット1!$B136<>\"\",IF($T$1=データセット1!$B136,データセット1!$D136),\"\")","v":false},{"$f":"IF(データセット1!$B136<>\"\",IF($U$1=データセット1!$B136,データセット1!$D136),\"\")","v":false}]
[null,null,null,null,null,null,null,null,null,null,null,null,{"$f":"IF(データセット1!$B137<>\"\",IF($M$1=データセット1!$B137,データセット1!$D137),\"\")","v":514},{"$f":"IF(データセット1!$B137<>\"\",IF($N$1=データセット1!$B137,データセット1!$D137),\"\")","v":false},{"$f":"IF(データセット1!$B137<>\"\",IF($O$1=データセット1!$B137,データセット1!$D137),\"\")","v":false},{"$f":"IF(データセット1!$B137<>\"\",IF($P$1=データセット1!$B137,データセット1!$D137),\"\")","v":false},{"$f":"IF(データセット1!$B137<>\"\",IF($Q$1=データセット1!$B137,データセット1!$D137),\"\")","v":false},{"$f":"IF(データセット1!$B137<>\"\",IF($R$1=データセット1!$B137,データセット1!$D137),\"\")","v":false},{"$f":"IF(データセット1!$B137<>\"\",IF($S$1=データセット1!$B137,データセット1!$D137),\"\")","v":false},{"$f":"IF(データセット1!$B137<>\"\",IF($T$1=データセット1!$B137,データセット1!$D137),\"\")","v":false},{"$f":"IF(データセット1!$B137<>\"\",IF($U$1=データセット1!$B137,データセット1!$D137),\"\")","v":false}]
[null,null,null,null,null,null,null,null,null,null,null,null,{"$f":"IF(データセット1!$B138<>\"\",IF($M$1=データセット1!$B138,データセット1!$D138),\"\")","v":false},{"$f":"IF(データセット1!$B138<>\"\",IF($N$1=データセット1!$B138,データセット1!$D138),\"\")","v":false},{"$f":"IF(データセット1!$B138<>\"\",IF($O$1=データセット1!$B138,データセット1!$D138),\"\")","v":false},{"$f":"IF(データセット1!$B138<>\"\",IF($P$1=データセット1!$B138,データセット1!$D138),\"\")","v":false},{"$f":"IF(データセット1!$B138<>\"\",IF($Q$1=データセット1!$B138,データセット1!$D138),\"\")","v":75},{"$f":"IF(データセット1!$B138<>\"\",IF($R$1=データセット1!$B138,データセット1!$D138),\"\")","v":false},{"$f":"IF(データセット1!$B138<>\"\",IF($S$1=データセット1!$B138,データセット1!$D138),\"\")","v":false},{"$f":"IF(データセット1!$B138<>\"\",IF($T$1=データセット1!$B138,データセット1!$D138),\"\")","v":false},{"$f":"IF(データセット1!$B138<>\"\",IF($U$1=データセット1!$B138,データセット1!$D138),\"\")","v":false}]
[null,null,null,null,null,null,null,null,null,null,null,null,{"$f":"IF(データセット1!$B139<>\"\",IF($M$1=データセット1!$B139,データセット1!$D139),\"\")","v":false},{"$f":"IF(データセット1!$B139<>\"\",IF($N$1=データセット1!$B139,データセット1!$D139),\"\")","v":false},{"$f":"IF(データセット1!$B139<>\"\",IF($O$1=データセット1!$B139,データセット1!$D139),\"\")","v":false},{"$f":"IF(データセット1!$B139<>\"\",IF($P$1=データセット1!$B139,データセット1!$D139),\"\")","v":false},{"$f":"IF(データセット1!$B139<>\"\",IF($Q$1=データセット1!$B139,データセット1!$D139),\"\")","v":false},{"$f":"IF(データセット1!$B139<>\"\",IF($R$1=データセット1!$B139,データセット1!$D139),\"\")","v":80},{"$f":"IF(データセット1!$B139<>\"\",IF($S$1=データセット1!$B139,データセット1!$D139),\"\")","v":false},{"$f":"IF(データセット1!$B139<>\"\",IF($T$1=データセット1!$B139,データセット1!$D139),\"\")","v":false},{"$f":"IF(データセット1!$B139<>\"\",IF($U$1=データセット1!$B139,データセット1!$D139),\"\")","v":false}]
[null,null,null,null,null,null,null,null,null,null,null,null,{"$f":"IF(データセット1!$B140<>\"\",IF($M$1=データセット1!$B140,データセット1!$D140),\"\")","v":false},{"$f":"IF(データセット1!$B140<>\"\",IF($N$1=データセット1!$B140,データセット1!$D140),\"\")","v":false},{"$f":"IF(データセット1!$B140<>\"\",IF($O$1=データセット1!$B140,データセット1!$D140),\"\")","v":false},{"$f":"IF(データセット1!$B140<>\"\",IF($P$1=データセット1!$B140,データセット1!$D140),\"\")","v":false},{"$f":"IF(データセット1!$B140<>\"\",IF($Q$1=データセット1!$B140,データセット1!$D140),\"\")","v":109},{"$f":"IF(データセット1!$B140<>\"\",IF($R$1=データセット1!$B140,データセット1!$D140),\"\")","v":false},{"$f":"IF(データセット1!$B140<>\"\",IF($S$1=データセット1!$B140,データセット1!$D140),\"\")","v":false},{"$f":"IF(データセット1!$B140<>\"\",IF($T$1=データセット1!$B140,データセット1!$D140),\"\")","v":false},{"$f":"IF(データセット1!$B140<>\"\",IF($U$1=データセット1!$B140,データセット1!$D140),\"\")","v":false}]
[null,null,null,null,null,null,null,null,null,null,null,null,{"$f":"IF(データセット1!$B141<>\"\",IF($M$1=データセット1!$B141,データセット1!$D141),\"\")","v":false},{"$f":"IF(データセット1!$B141<>\"\",IF($N$1=データセット1!$B141,データセット1!$D141),\"\")","v":false},{"$f":"IF(データセット1!$B141<>\"\",IF($O$1=データセット1!$B141,データセット1!$D141),\"\")","v":false},{"$f":"IF(データセット1!$B141<>\"\",IF($P$1=データセット1!$B141,データセット1!$D141),\"\")","v":false},{"$f":"IF(データセット1!$B141<>\"\",IF($Q$1=データセット1!$B141,データセット1!$D141),\"\")","v":86},{"$f":"IF(データセット1!$B141<>\"\",IF($R$1=データセット1!$B141,データセット1!$D141),\"\")","v":false},{"$f":"IF(データセット1!$B141<>\"\",IF($S$1=データセット1!$B141,データセット1!$D141),\"\")","v":false},{"$f":"IF(データセット1!$B141<>\"\",IF($T$1=データセット1!$B141,データセット1!$D141),\"\")","v":false},{"$f":"IF(データセット1!$B141<>\"\",IF($U$1=データセット1!$B141,データセット1!$D141),\"\")","v":false}]
[null,null,null,null,null,null,null,null,null,null,null,null,{"$f":"IF(データセット1!$B142<>\"\",IF($M$1=データセット1!$B142,データセット1!$D142),\"\")","v":363},{"$f":"IF(データセット1!$B142<>\"\",IF($N$1=データセット1!$B142,データセット1!$D142),\"\")","v":false},{"$f":"IF(データセット1!$B142<>\"\",IF($O$1=データセット1!$B142,データセット1!$D142),\"\")","v":false},{"$f":"IF(データセット1!$B142<>\"\",IF($P$1=データセット1!$B142,データセット1!$D142),\"\")","v":false},{"$f":"IF(データセット1!$B142<>\"\",IF($Q$1=データセット1!$B142,データセット1!$D142),\"\")","v":false},{"$f":"IF(データセット1!$B142<>\"\",IF($R$1=データセット1!$B142,データセット1!$D142),\"\")","v":false},{"$f":"IF(データセット1!$B142<>\"\",IF($S$1=データセット1!$B142,データセット1!$D142),\"\")","v":false},{"$f":"IF(データセット1!$B142<>\"\",IF($T$1=データセット1!$B142,データセット1!$D142),\"\")","v":false},{"$f":"IF(データセット1!$B142<>\"\",IF($U$1=データセット1!$B142,データセット1!$D142),\"\")","v":false}]
[null,null,null,null,null,null,null,null,null,null,null,null,{"$f":"IF(データセット1!$B143<>\"\",IF($M$1=データセット1!$B143,データセット1!$D143),\"\")","v":false},{"$f":"IF(データセット1!$B143<>\"\",IF($N$1=データセット1!$B143,データセット1!$D143),\"\")","v":false},{"$f":"IF(データセット1!$B143<>\"\",IF($O$1=データセット1!$B143,データセット1!$D143),\"\")","v":false},{"$f":"IF(データセット1!$B143<>\"\",IF($P$1=データセット1!$B143,データセット1!$D143),\"\")","v":false},{"$f":"IF(データセット1!$B143<>\"\",IF($Q$1=データセット1!$B143,データセット1!$D143),\"\")","v":154},{"$f":"IF(データセット1!$B143<>\"\",IF($R$1=データセット1!$B143,データセット1!$D143),\"\")","v":false},{"$f":"IF(データセット1!$B143<>\"\",IF($S$1=データセット1!$B143,データセット1!$D143),\"\")","v":false},{"$f":"IF(データセット1!$B143<>\"\",IF($T$1=データセット1!$B143,データセット1!$D143),\"\")","v":false},{"$f":"IF(データセット1!$B143<>\"\",IF($U$1=データセット1!$B143,データセット1!$D143),\"\")","v":false}]
[null,null,null,null,null,null,null,null,null,null,null,null,{"$f":"IF(データセット1!$B144<>\"\",IF($M$1=データセット1!$B144,データセット1!$D144),\"\")","v":false},{"$f":"IF(データセット1!$B144<>\"\",IF($N$1=データセット1!$B144,データセット1!$D144),\"\")","v":false},{"$f":"IF(データセット1!$B144<>\"\",IF($O$1=データセット1!$B144,データセット1!$D144),\"\")","v":false},{"$f":"IF(データセット1!$B144<>\"\",IF($P$1=データセット1!$B144,データセット1!$D144),\"\")","v":false},{"$f":"IF(データセット1!$B144<>\"\",IF($Q$1=データセット1!$B144,データセット1!$D144),\"\")","v":false},{"$f":"IF(データセット1!$B144<>\"\",IF($R$1=データセット1!$B144,データセット1!$D144),\"\")","v":73},{"$f":"IF(データセット1!$B144<>\"\",IF($S$1=データセット1!$B144,データセット1!$D144),\"\")","v":false},{"$f":"IF(データセット1!$B144<>\"\",IF($T$1=データセット1!$B144,データセット1!$D144),\"\")","v":false},{"$f":"IF(データセット1!$B144<>\"\",IF($U$1=データセット1!$B144,データセット1!$D144),\"\")","v":false}]
[null,null,null,null,null,null,null,null,null,null,null,null,{"$f":"IF(データセット1!$B145<>\"\",IF($M$1=データセット1!$B145,データセット1!$D145),\"\")","v":false},{"$f":"IF(データセット1!$B145<>\"\",IF($N$1=データセット1!$B145,データセット1!$D145),\"\")","v":false},{"$f":"IF(データセット1!$B145<>\"\",IF($O$1=データセット1!$B145,データセット1!$D145),\"\")","v":false},{"$f":"IF(データセット1!$B145<>\"\",IF($P$1=データセット1!$B145,データセット1!$D145),\"\")","v":false},{"$f":"IF(データセット1!$B145<>\"\",IF($Q$1=データセット1!$B145,データセット1!$D145),\"\")","v":false},{"$f":"IF(データセット1!$B145<>\"\",IF($R$1=データセット1!$B145,データセット1!$D145),\"\")","v":64},{"$f":"IF(データセット1!$B145<>\"\",IF($S$1=データセット1!$B145,データセット1!$D145),\"\")","v":false},{"$f":"IF(データセット1!$B145<>\"\",IF($T$1=データセット1!$B145,データセット1!$D145),\"\")","v":false},{"$f":"IF(データセット1!$B145<>\"\",IF($U$1=データセット1!$B145,データセット1!$D145),\"\")","v":false}]
[null,null,null,null,null,null,null,null,null,null,null,null,{"$f":"IF(データセット1!$B146<>\"\",IF($M$1=データセット1!$B146,データセット1!$D146),\"\")","v":false},{"$f":"IF(データセット1!$B146<>\"\",IF($N$1=データセット1!$B146,データセット1!$D146),\"\")","v":false},{"$f":"IF(データセット1!$B146<>\"\",IF($O$1=データセット1!$B146,データセット1!$D146),\"\")","v":false},{"$f":"IF(データセット1!$B146<>\"\",IF($P$1=データセット1!$B146,データセット1!$D146),\"\")","v":false},{"$f":"IF(データセット1!$B146<>\"\",IF($Q$1=データセット1!$B146,データセット1!$D146),\"\")","v":113},{"$f":"IF(データセット1!$B146<>\"\",IF($R$1=データセット1!$B146,データセット1!$D146),\"\")","v":false},{"$f":"IF(データセット1!$B146<>\"\",IF($S$1=データセット1!$B146,データセット1!$D146),\"\")","v":false},{"$f":"IF(データセット1!$B146<>\"\",IF($T$1=データセット1!$B146,データセット1!$D146),\"\")","v":false},{"$f":"IF(データセット1!$B146<>\"\",IF($U$1=データセット1!$B146,データセット1!$D146),\"\")","v":false}]
[null,null,null,null,null,null,null,null,null,null,null,null,{"$f":"IF(データセット1!$B147<>\"\",IF($M$1=データセット1!$B147,データセット1!$D147),\"\")","v":false},{"$f":"IF(データセット1!$B147<>\"\",IF($N$1=データセット1!$B147,データセット1!$D147),\"\")","v":false},{"$f":"IF(データセット1!$B147<>\"\",IF($O$1=データセット1!$B147,データセット1!$D147),\"\")","v":false},{"$f":"IF(データセット1!$B147<>\"\",IF($P$1=データセット1!$B147,データセット1!$D147),\"\")","v":false},{"$f":"IF(データセット1!$B147<>\"\",IF($Q$1=データセット1!$B147,データセット1!$D147),\"\")","v":false},{"$f":"IF(データセット1!$B147<>\"\",IF($R$1=データセット1!$B147,データセット1!$D147),\"\")","v":66},{"$f":"IF(データセット1!$B147<>\"\",IF($S$1=データセット1!$B147,データセット1!$D147),\"\")","v":false},{"$f":"IF(データセット1!$B147<>\"\",IF($T$1=データセット1!$B147,データセット1!$D147),\"\")","v":false},{"$f":"IF(データセット1!$B147<>\"\",IF($U$1=データセット1!$B147,データセット1!$D147),\"\")","v":false}]
[null,null,null,null,null,null,null,null,null,null,null,null,{"$f":"IF(データセット1!$B148<>\"\",IF($M$1=データセット1!$B148,データセット1!$D148),\"\")","v":false},{"$f":"IF(データセット1!$B148<>\"\",IF($N$1=データセット1!$B148,データセット1!$D148),\"\")","v":false},{"$f":"IF(データセット1!$B148<>\"\",IF($O$1=データセット1!$B148,データセット1!$D148),\"\")","v":false},{"$f":"IF(データセット1!$B148<>\"\",IF($P$1=データセット1!$B148,データセット1!$D148),\"\")","v":false},{"$f":"IF(データセット1!$B148<>\"\",IF($Q$1=データセット1!$B148,データセット1!$D148),\"\")","v":134},{"$f":"IF(データセット1!$B148<>\"\",IF($R$1=データセット1!$B148,データセット1!$D148),\"\")","v":false},{"$f":"IF(データセット1!$B148<>\"\",IF($S$1=データセット1!$B148,データセット1!$D148),\"\")","v":false},{"$f":"IF(データセット1!$B148<>\"\",IF($T$1=データセット1!$B148,データセット1!$D148),\"\")","v":false},{"$f":"IF(データセット1!$B148<>\"\",IF($U$1=データセット1!$B148,データセット1!$D148),\"\")","v":false}]
[null,null,null,null,null,null,null,null,null,null,null,null,{"$f":"IF(データセット1!$B149<>\"\",IF($M$1=データセット1!$B149,データセット1!$D149),\"\")","v":false},{"$f":"IF(データセット1!$B149<>\"\",IF($N$1=データセット1!$B149,データセット1!$D149),\"\")","v":false},{"$f":"IF(データセット1!$B149<>\"\",IF($O$1=データセット1!$B149,データセット1!$D149),\"\")","v":false},{"$f":"IF(データセット1!$B149<>\"\",IF($P$1=データセット1!$B149,データセット1!$D149),\"\")","v":false},{"$f":"IF(データセット1!$B149<>\"\",IF($Q$1=データセット1!$B149,データセット1!$D149),\"\")","v":false},{"$f":"IF(データセット1!$B149<>\"\",IF($R$1=データセット1!$B149,データセット1!$D149),\"\")","v":63},{"$f":"IF(データセット1!$B149<>\"\",IF($S$1=データセット1!$B149,データセット1!$D149),\"\")","v":false},{"$f":"IF(データセット1!$B149<>\"\",IF($T$1=データセット1!$B149,データセット1!$D149),\"\")","v":false},{"$f":"IF(データセット1!$B149<>\"\",IF($U$1=データセット1!$B149,データセット1!$D149),\"\")","v":false}]
[null,null,null,null,null,null,null,null,null,null,null,null,{"$f":"IF(データセット1!$B150<>\"\",IF($M$1=データセット1!$B150,データセット1!$D150),\"\")","v":false},{"$f":"IF(データセット1!$B150<>\"\",IF($N$1=データセット1!$B150,データセット1!$D150),\"\")","v":false},{"$f":"IF(データセット1!$B150<>\"\",IF($O$1=データセット1!$B150,データセット1!$D150),\"\")","v":false},{"$f":"IF(データセット1!$B150<>\"\",IF($P$1=データセット1!$B150,データセット1!$D150),\"\")","v":false},{"$f":"IF(データセット1!$B150<>\"\",IF($Q$1=データセット1!$B150,データセット1!$D150),\"\")","v":false},{"$f":"IF(データセット1!$B150<>\"\",IF($R$1=データセット1!$B150,データセット1!$D150),\"\")","v":68},{"$f":"IF(データセット1!$B150<>\"\",IF($S$1=データセット1!$B150,データセット1!$D150),\"\")","v":false},{"$f":"IF(データセット1!$B150<>\"\",IF($T$1=データセット1!$B150,データセット1!$D150),\"\")","v":false},{"$f":"IF(データセット1!$B150<>\"\",IF($U$1=データセット1!$B150,データセット1!$D150),\"\")","v":false}]
[null,null,null,null,null,null,null,null,null,null,null,null,{"$f":"IF(データセット1!$B151<>\"\",IF($M$1=データセット1!$B151,データセット1!$D151),\"\")","v":false},{"$f":"IF(データセット1!$B151<>\"\",IF($N$1=データセット1!$B151,データセット1!$D151),\"\")","v":false},{"$f":"IF(データセット1!$B151<>\"\",IF($O$1=データセット1!$B151,データセット1!$D151),\"\")","v":false},{"$f":"IF(データセット1!$B151<>\"\",IF($P$1=データセット1!$B151,データセット1!$D151),\"\")","v":false},{"$f":"IF(データセット1!$B151<>\"\",IF($Q$1=データセット1!$B151,データセット1!$D151),\"\")","v":false},{"$f":"IF(データセット1!$B151<>\"\",IF($R$1=データセット1!$B151,データセット1!$D151),\"\")","v":77},{"$f":"IF(データセット1!$B151<>\"\",IF($S$1=データセット1!$B151,データセット1!$D151),\"\")","v":false},{"$f":"IF(データセット1!$B151<>\"\",IF($T$1=データセット1!$B151,データセット1!$D151),\"\")","v":false},{"$f":"IF(データセット1!$B151<>\"\",IF($U$1=データセット1!$B151,データセット1!$D151),\"\")","v":false}]
[null,null,null,null,null,null,null,null,null,null,null,null,{"$f":"IF(データセット1!$B152<>\"\",IF($M$1=データセット1!$B152,データセット1!$D152),\"\")","v":false},{"$f":"IF(データセット1!$B152<>\"\",IF($N$1=データセット1!$B152,データセット1!$D152),\"\")","v":false},{"$f":"IF(データセット1!$B152<>\"\",IF($O$1=データセット1!$B152,データセット1!$D152),\"\")","v":false},{"$f":"IF(データセット1!$B152<>\"\",IF($P$1=データセット1!$B152,データセット1!$D152),\"\")","v":144},{"$f":"IF(データセット1!$B152<>\"\",IF($Q$1=データセット1!$B152,データセット1!$D152),\"\")","v":false},{"$f":"IF(データセット1!$B152<>\"\",IF($R$1=データセット1!$B152,データセット1!$D152),\"\")","v":false},{"$f":"IF(データセット1!$B152<>\"\",IF($S$1=データセット1!$B152,データセット1!$D152),\"\")","v":false},{"$f":"IF(データセット1!$B152<>\"\",IF($T$1=データセット1!$B152,データセット1!$D152),\"\")","v":false},{"$f":"IF(データセット1!$B152<>\"\",IF($U$1=データセット1!$B152,データセット1!$D152),\"\")","v":false}]
[null,null,null,null,null,null,null,null,null,null,null,null,{"$f":"IF(データセット1!$B153<>\"\",IF($M$1=データセット1!$B153,データセット1!$D153),\"\")","v":false},{"$f":"IF(データセット1!$B153<>\"\",IF($N$1=データセット1!$B153,データセット1!$D153),\"\")","v":false},{"$f":"IF(データセット1!$B153<>\"\",IF($O$1=データセット1!$B153,データセット1!$D153),\"\")","v":false},{"$f":"IF(データセット1!$B153<>\"\",IF($P$1=データセット1!$B153,データセット1!$D153),\"\")","v":false},{"$f":"IF(データセット1!$B153<>\"\",IF($Q$1=データセット1!$B153,データセット1!$D153),\"\")","v":77},{"$f":"IF(データセット1!$B153<>\"\",IF($R$1=データセット1!$B153,データセット1!$D153),\"\")","v":false},{"$f":"IF(データセット1!$B153<>\"\",IF($S$1=データセット1!$B153,データセット1!$D153),\"\")","v":false},{"$f":"IF(データセット1!$B153<>\"\",IF($T$1=データセット1!$B153,データセット1!$D153),\"\")","v":false},{"$f":"IF(データセット1!$B153<>\"\",IF($U$1=データセット1!$B153,データセット1!$D153),\"\")","v":false}]
[null,null,null,null,null,null,null,null,null,null,null,null,{"$f":"IF(データセット1!$B154<>\"\",IF($M$1=データセット1!$B154,データセット1!$D154),\"\")","v":false},{"$f":"IF(データセット1!$B154<>\"\",IF($N$1=データセット1!$B154,データセット1!$D154),\"\")","v":false},{"$f":"IF(データセット1!$B154<>\"\",IF($O$1=データセット1!$B154,データセット1!$D154),\"\")","v":false},{"$f":"IF(データセット1!$B154<>\"\",IF($P$1=データセット1!$B154,データセット1!$D154),\"\")","v":false},{"$f":"IF(データセット1!$B154<>\"\",IF($Q$1=データセット1!$B154,データセット1!$D154),\"\")","v":false},{"$f":"IF(データセット1!$B154<>\"\",IF($R$1=データセット1!$B154,データセット1!$D154),\"\")","v":58},{"$f":"IF(データセット1!$B154<>\"\",IF($S$1=データセット1!$B154,データセット1!$D154),\"\")","v":false},{"$f":"IF(データセット1!$B154<>\"\",IF($T$1=データセット1!$B154,データセット1!$D154),\"\")","v":false},{"$f":"IF(データセット1!$B154<>\"\",IF($U$1=データセット1!$B154,データセット1!$D154),\"\")","v":false}]
[null,null,null,null,null,null,null,null,null,null,null,null,{"$f":"IF(データセット1!$B155<>\"\",IF($M$1=データセット1!$B155,データセット1!$D155),\"\")","v":false},{"$f":"IF(データセット1!$B155<>\"\",IF($N$1=データセット1!$B155,データセット1!$D155),\"\")","v":false},{"$f":"IF(データセット1!$B155<>\"\",IF($O$1=データセット1!$B155,データセット1!$D155),\"\")","v":false},{"$f":"IF(データセット1!$B155<>\"\",IF($P$1=データセット1!$B155,データセット1!$D155),\"\")","v":false},{"$f":"IF(データセット1!$B155<>\"\",IF($Q$1=データセット1!$B155,データセット1!$D155),\"\")","v":false},{"$f":"IF(データセット1!$B155<>\"\",IF($R$1=データセット1!$B155,データセット1!$D155),\"\")","v":60},{"$f":"IF(データセット1!$B155<>\"\",IF($S$1=データセット1!$B155,データセット1!$D155),\"\")","v":false},{"$f":"IF(データセット1!$B155<>\"\",IF($T$1=データセット1!$B155,データセット1!$D155),\"\")","v":false},{"$f":"IF(データセット1!$B155<>\"\",IF($U$1=データセット1!$B155,データセット1!$D155),\"\")","v":false}]
[null,null,null,null,null,null,null,null,null,null,null,null,{"$f":"IF(データセット1!$B156<>\"\",IF($M$1=データセット1!$B156,データセット1!$D156),\"\")","v":false},{"$f":"IF(データセット1!$B156<>\"\",IF($N$1=データセット1!$B156,データセット1!$D156),\"\")","v":false},{"$f":"IF(データセット1!$B156<>\"\",IF($O$1=データセット1!$B156,データセット1!$D156),\"\")","v":false},{"$f":"IF(データセット1!$B156<>\"\",IF($P$1=データセット1!$B156,データセット1!$D156),\"\")","v":false},{"$f":"IF(データセット1!$B156<>\"\",IF($Q$1=データセット1!$B156,データセット1!$D156),\"\")","v":false},{"$f":"IF(データセット1!$B156<>\"\",IF($R$1=データセット1!$B156,データセット1!$D156),\"\")","v":63},{"$f":"IF(データセット1!$B156<>\"\",IF($S$1=データセット1!$B156,データセット1!$D156),\"\")","v":false},{"$f":"IF(データセット1!$B156<>\"\",IF($T$1=データセット1!$B156,データセット1!$D156),\"\")","v":false},{"$f":"IF(データセット1!$B156<>\"\",IF($U$1=データセット1!$B156,データセット1!$D156),\"\")","v":false}]
[null,null,null,null,null,null,null,null,null,null,null,null,{"$f":"IF(データセット1!$B157<>\"\",IF($M$1=データセット1!$B157,データセット1!$D157),\"\")","v":false},{"$f":"IF(データセット1!$B157<>\"\",IF($N$1=データセット1!$B157,データセット1!$D157),\"\")","v":false},{"$f":"IF(データセット1!$B157<>\"\",IF($O$1=データセット1!$B157,データセット1!$D157),\"\")","v":false},{"$f":"IF(データセット1!$B157<>\"\",IF($P$1=データセット1!$B157,データセット1!$D157),\"\")","v":false},{"$f":"IF(データセット1!$B157<>\"\",IF($Q$1=データセット1!$B157,データセット1!$D157),\"\")","v":74},{"$f":"IF(データセット1!$B157<>\"\",IF($R$1=データセット1!$B157,データセット1!$D157),\"\")","v":false},{"$f":"IF(データセット1!$B157<>\"\",IF($S$1=データセット1!$B157,データセット1!$D157),\"\")","v":false},{"$f":"IF(データセット1!$B157<>\"\",IF($T$1=データセット1!$B157,データセット1!$D157),\"\")","v":false},{"$f":"IF(データセット1!$B157<>\"\",IF($U$1=データセット1!$B157,データセット1!$D157),\"\")","v":false}]
[null,null,null,null,null,null,null,null,null,null,null,null,{"$f":"IF(データセット1!$B158<>\"\",IF($M$1=データセット1!$B158,データセット1!$D158),\"\")","v":false},{"$f":"IF(データセット1!$B158<>\"\",IF($N$1=データセット1!$B158,データセット1!$D158),\"\")","v":false},{"$f":"IF(データセット1!$B158<>\"\",IF($O$1=データセット1!$B158,データセット1!$D158),\"\")","v":false},{"$f":"IF(データセット1!$B158<>\"\",IF($P$1=データセット1!$B158,データセット1!$D158),\"\")","v":false},{"$f":"IF(データセット1!$B158<>\"\",IF($Q$1=データセット1!$B158,データセット1!$D158),\"\")","v":false},{"$f":"IF(データセット1!$B158<>\"\",IF($R$1=データセット1!$B158,データセット1!$D158),\"\")","v":48},{"$f":"IF(データセット1!$B158<>\"\",IF($S$1=データセット1!$B158,データセット1!$D158),\"\")","v":false},{"$f":"IF(データセット1!$B158<>\"\",IF($T$1=データセット1!$B158,データセット1!$D158),\"\")","v":false},{"$f":"IF(データセット1!$B158<>\"\",IF($U$1=データセット1!$B158,データセット1!$D158),\"\")","v":false}]
[null,null,null,null,null,null,null,null,null,null,null,null,{"$f":"IF(データセット1!$B159<>\"\",IF($M$1=データセット1!$B159,データセット1!$D159),\"\")","v":false},{"$f":"IF(データセット1!$B159<>\"\",IF($N$1=データセット1!$B159,データセット1!$D159),\"\")","v":false},{"$f":"IF(データセット1!$B159<>\"\",IF($O$1=データセット1!$B159,データセット1!$D159),\"\")","v":false},{"$f":"IF(データセット1!$B159<>\"\",IF($P$1=データセット1!$B159,データセット1!$D159),\"\")","v":false},{"$f":"IF(データセット1!$B159<>\"\",IF($Q$1=データセット1!$B159,データセット1!$D159),\"\")","v":63},{"$f":"IF(データセット1!$B159<>\"\",IF($R$1=データセット1!$B159,データセット1!$D159),\"\")","v":false},{"$f":"IF(データセット1!$B159<>\"\",IF($S$1=データセット1!$B159,データセット1!$D159),\"\")","v":false},{"$f":"IF(データセット1!$B159<>\"\",IF($T$1=データセット1!$B159,データセット1!$D159),\"\")","v":false},{"$f":"IF(データセット1!$B159<>\"\",IF($U$1=データセット1!$B159,データセット1!$D159),\"\")","v":false}]
[null,null,null,null,null,null,null,null,null,null,null,null,{"$f":"IF(データセット1!$B160<>\"\",IF($M$1=データセット1!$B160,データセット1!$D160),\"\")","v":false},{"$f":"IF(データセット1!$B160<>\"\",IF($N$1=データセット1!$B160,データセット1!$D160),\"\")","v":false},{"$f":"IF(データセット1!$B160<>\"\",IF($O$1=データセット1!$B160,データセット1!$D160),\"\")","v":false},{"$f":"IF(データセット1!$B160<>\"\",IF($P$1=データセット1!$B160,データセット1!$D160),\"\")","v":false},{"$f":"IF(データセット1!$B160<>\"\",IF($Q$1=データセット1!$B160,データセット1!$D160),\"\")","v":false},{"$f":"IF(データセット1!$B160<>\"\",IF($R$1=データセット1!$B160,データセット1!$D160),\"\")","v":31},{"$f":"IF(データセット1!$B160<>\"\",IF($S$1=データセット1!$B160,データセット1!$D160),\"\")","v":false},{"$f":"IF(データセット1!$B160<>\"\",IF($T$1=データセット1!$B160,データセット1!$D160),\"\")","v":false},{"$f":"IF(データセット1!$B160<>\"\",IF($U$1=データセット1!$B160,データセット1!$D160),\"\")","v":false}]
[null,null,null,null,null,null,null,null,null,null,null,null,{"$f":"IF(データセット1!$B161<>\"\",IF($M$1=データセット1!$B161,データセット1!$D161),\"\")","v":false},{"$f":"IF(データセット1!$B161<>\"\",IF($N$1=データセット1!$B161,データセット1!$D161),\"\")","v":false},{"$f":"IF(データセット1!$B161<>\"\",IF($O$1=データセット1!$B161,データセット1!$D161),\"\")","v":false},{"$f":"IF(データセット1!$B161<>\"\",IF($P$1=データセット1!$B161,データセット1!$D161),\"\")","v":false},{"$f":"IF(データセット1!$B161<>\"\",IF($Q$1=データセット1!$B161,データセット1!$D161),\"\")","v":58},{"$f":"IF(データセット1!$B161<>\"\",IF($R$1=データセット1!$B161,データセット1!$D161),\"\")","v":false},{"$f":"IF(データセット1!$B161<>\"\",IF($S$1=データセット1!$B161,データセット1!$D161),\"\")","v":false},{"$f":"IF(データセット1!$B161<>\"\",IF($T$1=データセット1!$B161,データセット1!$D161),\"\")","v":false},{"$f":"IF(データセット1!$B161<>\"\",IF($U$1=データセット1!$B161,データセット1!$D161),\"\")","v":false}]
[null,null,null,null,null,null,null,null,null,null,null,null,{"$f":"IF(データセット1!$B162<>\"\",IF($M$1=データセット1!$B162,データセット1!$D162),\"\")","v":false},{"$f":"IF(データセット1!$B162<>\"\",IF($N$1=データセット1!$B162,データセット1!$D162),\"\")","v":false},{"$f":"IF(データセット1!$B162<>\"\",IF($O$1=データセット1!$B162,データセット1!$D162),\"\")","v":false},{"$f":"IF(データセット1!$B162<>\"\",IF($P$1=データセット1!$B162,データセット1!$D162),\"\")","v":false},{"$f":"IF(データセット1!$B162<>\"\",IF($Q$1=データセット1!$B162,データセット1!$D162),\"\")","v":false},{"$f":"IF(データセット1!$B162<>\"\",IF($R$1=データセット1!$B162,データセット1!$D162),\"\")","v":45},{"$f":"IF(データセット1!$B162<>\"\",IF($S$1=データセット1!$B162,データセット1!$D162),\"\")","v":false},{"$f":"IF(データセット1!$B162<>\"\",IF($T$1=データセット1!$B162,データセット1!$D162),\"\")","v":false},{"$f":"IF(データセット1!$B162<>\"\",IF($U$1=データセット1!$B162,データセット1!$D162),\"\")","v":false}]
[null,null,null,null,null,null,null,null,null,null,null,null,{"$f":"IF(データセット1!$B163<>\"\",IF($M$1=データセット1!$B163,データセット1!$D163),\"\")","v":false},{"$f":"IF(データセット1!$B163<>\"\",IF($N$1=データセット1!$B163,データセット1!$D163),\"\")","v":false},{"$f":"IF(データセット1!$B163<>\"\",IF($O$1=データセット1!$B163,データセット1!$D163),\"\")","v":false},{"$f":"IF(データセット1!$B163<>\"\",IF($P$1=データセット1!$B163,データセット1!$D163),\"\")","v":104},{"$f":"IF(データセット1!$B163<>\"\",IF($Q$1=データセット1!$B163,データセット1!$D163),\"\")","v":false},{"$f":"IF(データセット1!$B163<>\"\",IF($R$1=データセット1!$B163,データセット1!$D163),\"\")","v":false},{"$f":"IF(データセット1!$B163<>\"\",IF($S$1=データセット1!$B163,データセット1!$D163),\"\")","v":false},{"$f":"IF(データセット1!$B163<>\"\",IF($T$1=データセット1!$B163,データセット1!$D163),\"\")","v":false},{"$f":"IF(データセット1!$B163<>\"\",IF($U$1=データセット1!$B163,データセット1!$D163),\"\")","v":false}]
[null,null,null,null,null,null,null,null,null,null,null,null,{"$f":"IF(データセット1!$B164<>\"\",IF($M$1=データセット1!$B164,データセット1!$D164),\"\")","v":false},{"$f":"IF(データセット1!$B164<>\"\",IF($N$1=データセット1!$B164,データセット1!$D164),\"\")","v":false},{"$f":"IF(データセット1!$B164<>\"\",IF($O$1=データセット1!$B164,データセット1!$D164),\"\")","v":false},{"$f":"IF(データセット1!$B164<>\"\",IF($P$1=データセット1!$B164,データセット1!$D164),\"\")","v":false},{"$f":"IF(データセット1!$B164<>\"\",IF($Q$1=データセット1!$B164,データセット1!$D164),\"\")","v":44},{"$f":"IF(データセット1!$B164<>\"\",IF($R$1=データセット1!$B164,データセット1!$D164),\"\")","v":false},{"$f":"IF(データセット1!$B164<>\"\",IF($S$1=データセット1!$B164,データセット1!$D164),\"\")","v":false},{"$f":"IF(データセット1!$B164<>\"\",IF($T$1=データセット1!$B164,データセット1!$D164),\"\")","v":false},{"$f":"IF(データセット1!$B164<>\"\",IF($U$1=データセット1!$B164,データセット1!$D164),\"\")","v":false}]
[null,null,null,null,null,null,null,null,null,null,null,null,{"$f":"IF(データセット1!$B165<>\"\",IF($M$1=データセット1!$B165,データセット1!$D165),\"\")","v":false},{"$f":"IF(データセット1!$B165<>\"\",IF($N$1=データセット1!$B165,データセット1!$D165),\"\")","v":false},{"$f":"IF(データセット1!$B165<>\"\",IF($O$1=データセット1!$B165,データセット1!$D165),\"\")","v":false},{"$f":"IF(データセット1!$B165<>\"\",IF($P$1=データセット1!$B165,データセット1!$D165),\"\")","v":false},{"$f":"IF(データセット1!$B165<>\"\",IF($Q$1=データセット1!$B165,データセット1!$D165),\"\")","v":false},{"$f":"IF(データセット1!$B165<>\"\",IF($R$1=データセット1!$B165,データセット1!$D165),\"\")","v":28},{"$f":"IF(データセット1!$B165<>\"\",IF($S$1=データセット1!$B165,データセット1!$D165),\"\")","v":false},{"$f":"IF(データセット1!$B165<>\"\",IF($T$1=データセット1!$B165,データセット1!$D165),\"\")","v":false},{"$f":"IF(データセット1!$B165<>\"\",IF($U$1=データセット1!$B165,データセット1!$D165),\"\")","v":false}]
[null,null,null,null,null,null,null,null,null,null,null,null,{"$f":"IF(データセット1!$B166<>\"\",IF($M$1=データセット1!$B166,データセット1!$D166),\"\")","v":false},{"$f":"IF(データセット1!$B166<>\"\",IF($N$1=データセット1!$B166,データセット1!$D166),\"\")","v":false},{"$f":"IF(データセット1!$B166<>\"\",IF($O$1=データセット1!$B166,データセット1!$D166),\"\")","v":false},{"$f":"IF(データセット1!$B166<>\"\",IF($P$1=データセット1!$B166,データセット1!$D166),\"\")","v":false},{"$f":"IF(データセット1!$B166<>\"\",IF($Q$1=データセット1!$B166,データセット1!$D166),\"\")","v":44},{"$f":"IF(データセット1!$B166<>\"\",IF($R$1=データセット1!$B166,データセット1!$D166),\"\")","v":false},{"$f":"IF(データセット1!$B166<>\"\",IF($S$1=データセット1!$B166,データセット1!$D166),\"\")","v":false},{"$f":"IF(データセット1!$B166<>\"\",IF($T$1=データセット1!$B166,データセット1!$D166),\"\")","v":false},{"$f":"IF(データセット1!$B166<>\"\",IF($U$1=データセット1!$B166,データセット1!$D166),\"\")","v":false}]
[null,null,null,null,null,null,null,null,null,null,null,null,{"$f":"IF(データセット1!$B167<>\"\",IF($M$1=データセット1!$B167,データセット1!$D167),\"\")","v":false},{"$f":"IF(データセット1!$B167<>\"\",IF($N$1=データセット1!$B167,データセット1!$D167),\"\")","v":false},{"$f":"IF(データセット1!$B167<>\"\",IF($O$1=データセット1!$B167,データセット1!$D167),\"\")","v":false},{"$f":"IF(データセット1!$B167<>\"\",IF($P$1=データセット1!$B167,データセット1!$D167),\"\")","v":false},{"$f":"IF(データセット1!$B167<>\"\",IF($Q$1=データセット1!$B167,データセット1!$D167),\"\")","v":false},{"$f":"IF(データセット1!$B167<>\"\",IF($R$1=データセット1!$B167,データセット1!$D167),\"\")","v":19},{"$f":"IF(データセット1!$B167<>\"\",IF($S$1=データセット1!$B167,データセット1!$D167),\"\")","v":false},{"$f":"IF(データセット1!$B167<>\"\",IF($T$1=データセット1!$B167,データセット1!$D167),\"\")","v":false},{"$f":"IF(データセット1!$B167<>\"\",IF($U$1=データセット1!$B167,データセット1!$D167),\"\")","v":false}]
[null,null,null,null,null,null,null,null,null,null,null,null,{"$f":"IF(データセット1!$B168<>\"\",IF($M$1=データセット1!$B168,データセット1!$D168),\"\")","v":false},{"$f":"IF(データセット1!$B168<>\"\",IF($N$1=データセット1!$B168,データセット1!$D168),\"\")","v":false},{"$f":"IF(データセット1!$B168<>\"\",IF($O$1=データセット1!$B168,データセット1!$D168),\"\")","v":false},{"$f":"IF(データセット1!$B168<>\"\",IF($P$1=データセット1!$B168,データセット1!$D168),\"\")","v":false},{"$f":"IF(データセット1!$B168<>\"\",IF($Q$1=データセット1!$B168,データセット1!$D168),\"\")","v":78},{"$f":"IF(データセット1!$B168<>\"\",IF($R$1=データセット1!$B168,データセット1!$D168),\"\")","v":false},{"$f":"IF(データセット1!$B168<>\"\",IF($S$1=データセット1!$B168,データセット1!$D168),\"\")","v":false},{"$f":"IF(データセット1!$B168<>\"\",IF($T$1=データセット1!$B168,データセット1!$D168),\"\")","v":false},{"$f":"IF(データセット1!$B168<>\"\",IF($U$1=データセット1!$B168,データセット1!$D168),\"\")","v":false}]
[null,null,null,null,null,null,null,null,null,null,null,null,{"$f":"IF(データセット1!$B169<>\"\",IF($M$1=データセット1!$B169,データセット1!$D169),\"\")","v":false},{"$f":"IF(データセット1!$B169<>\"\",IF($N$1=データセット1!$B169,データセット1!$D169),\"\")","v":false},{"$f":"IF(データセット1!$B169<>\"\",IF($O$1=データセット1!$B169,データセット1!$D169),\"\")","v":false},{"$f":"IF(データセット1!$B169<>\"\",IF($P$1=データセット1!$B169,データセット1!$D169),\"\")","v":false},{"$f":"IF(データセット1!$B169<>\"\",IF($Q$1=データセット1!$B169,データセット1!$D169),\"\")","v":false},{"$f":"IF(データセット1!$B169<>\"\",IF($R$1=データセット1!$B169,データセット1!$D169),\"\")","v":68},{"$f":"IF(データセット1!$B169<>\"\",IF($S$1=データセット1!$B169,データセット1!$D169),\"\")","v":false},{"$f":"IF(データセット1!$B169<>\"\",IF($T$1=データセット1!$B169,データセット1!$D169),\"\")","v":false},{"$f":"IF(データセット1!$B169<>\"\",IF($U$1=データセット1!$B169,データセット1!$D169),\"\")","v":false}]
[null,null,null,null,null,null,null,null,null,null,null,null,{"$f":"IF(データセット1!$B170<>\"\",IF($M$1=データセット1!$B170,データセット1!$D170),\"\")","v":false},{"$f":"IF(データセット1!$B170<>\"\",IF($N$1=データセット1!$B170,データセット1!$D170),\"\")","v":false},{"$f":"IF(データセット1!$B170<>\"\",IF($O$1=データセット1!$B170,データセット1!$D170),\"\")","v":false},{"$f":"IF(データセット1!$B170<>\"\",IF($P$1=データセット1!$B170,データセット1!$D170),\"\")","v":false},{"$f":"IF(データセット1!$B170<>\"\",IF($Q$1=データセット1!$B170,データセット1!$D170),\"\")","v":78},{"$f":"IF(データセット1!$B170<>\"\",IF($R$1=データセット1!$B170,データセット1!$D170),\"\")","v":false},{"$f":"IF(データセット1!$B170<>\"\",IF($S$1=データセット1!$B170,データセット1!$D170),\"\")","v":false},{"$f":"IF(データセット1!$B170<>\"\",IF($T$1=データセット1!$B170,データセット1!$D170),\"\")","v":false},{"$f":"IF(データセット1!$B170<>\"\",IF($U$1=データセット1!$B170,データセット1!$D170),\"\")","v":false}]
[null,null,null,null,null,null,null,null,null,null,null,null,{"$f":"IF(データセット1!$B171<>\"\",IF($M$1=データセット1!$B171,データセット1!$D171),\"\")","v":false},{"$f":"IF(データセット1!$B171<>\"\",IF($N$1=データセット1!$B171,データセット1!$D171),\"\")","v":false},{"$f":"IF(データセット1!$B171<>\"\",IF($O$1=データセット1!$B171,データセット1!$D171),\"\")","v":false},{"$f":"IF(データセット1!$B171<>\"\",IF($P$1=データセット1!$B171,データセット1!$D171),\"\")","v":false},{"$f":"IF(データセット1!$B171<>\"\",IF($Q$1=データセット1!$B171,データセット1!$D171),\"\")","v":false},{"$f":"IF(データセット1!$B171<>\"\",IF($R$1=データセット1!$B171,データセット1!$D171),\"\")","v":64},{"$f":"IF(データセット1!$B171<>\"\",IF($S$1=データセット1!$B171,データセット1!$D171),\"\")","v":false},{"$f":"IF(データセット1!$B171<>\"\",IF($T$1=データセット1!$B171,データセット1!$D171),\"\")","v":false},{"$f":"IF(データセット1!$B171<>\"\",IF($U$1=データセット1!$B171,データセット1!$D171),\"\")","v":false}]
[null,null,null,null,null,null,null,null,null,null,null,null,{"$f":"IF(データセット1!$B172<>\"\",IF($M$1=データセット1!$B172,データセット1!$D172),\"\")","v":false},{"$f":"IF(データセット1!$B172<>\"\",IF($N$1=データセット1!$B172,データセット1!$D172),\"\")","v":false},{"$f":"IF(データセット1!$B172<>\"\",IF($O$1=データセット1!$B172,データセット1!$D172),\"\")","v":false},{"$f":"IF(データセット1!$B172<>\"\",IF($P$1=データセット1!$B172,データセット1!$D172),\"\")","v":false},{"$f":"IF(データセット1!$B172<>\"\",IF($Q$1=データセット1!$B172,データセット1!$D172),\"\")","v":71},{"$f":"IF(データセット1!$B172<>\"\",IF($R$1=データセット1!$B172,データセット1!$D172),\"\")","v":false},{"$f":"IF(データセット1!$B172<>\"\",IF($S$1=データセット1!$B172,データセット1!$D172),\"\")","v":false},{"$f":"IF(データセット1!$B172<>\"\",IF($T$1=データセット1!$B172,データセット1!$D172),\"\")","v":false},{"$f":"IF(データセット1!$B172<>\"\",IF($U$1=データセット1!$B172,データセット1!$D172),\"\")","v":false}]
[null,null,null,null,null,null,null,null,null,null,null,null,{"$f":"IF(データセット1!$B173<>\"\",IF($M$1=データセット1!$B173,データセット1!$D173),\"\")","v":false},{"$f":"IF(データセット1!$B173<>\"\",IF($N$1=データセット1!$B173,データセット1!$D173),\"\")","v":false},{"$f":"IF(データセット1!$B173<>\"\",IF($O$1=データセット1!$B173,データセット1!$D173),\"\")","v":false},{"$f":"IF(データセット1!$B173<>\"\",IF($P$1=データセット1!$B173,データセット1!$D173),\"\")","v":false},{"$f":"IF(データセット1!$B173<>\"\",IF($Q$1=データセット1!$B173,データセット1!$D173),\"\")","v":false},{"$f":"IF(データセット1!$B173<>\"\",IF($R$1=データセット1!$B173,データセット1!$D173),\"\")","v":40},{"$f":"IF(データセット1!$B173<>\"\",IF($S$1=データセット1!$B173,データセット1!$D173),\"\")","v":false},{"$f":"IF(データセット1!$B173<>\"\",IF($T$1=データセット1!$B173,データセット1!$D173),\"\")","v":false},{"$f":"IF(データセット1!$B173<>\"\",IF($U$1=データセット1!$B173,データセット1!$D173),\"\")","v":false}]
[null,null,null,null,null,null,null,null,null,null,null,null,{"$f":"IF(データセット1!$B174<>\"\",IF($M$1=データセット1!$B174,データセット1!$D174),\"\")","v":false},{"$f":"IF(データセット1!$B174<>\"\",IF($N$1=データセット1!$B174,データセット1!$D174),\"\")","v":false},{"$f":"IF(データセット1!$B174<>\"\",IF($O$1=データセット1!$B174,データセット1!$D174),\"\")","v":false},{"$f":"IF(データセット1!$B174<>\"\",IF($P$1=データセット1!$B174,データセット1!$D174),\"\")","v":false},{"$f":"IF(データセット1!$B174<>\"\",IF($Q$1=データセット1!$B174,データセット1!$D174),\"\")","v":62},{"$f":"IF(データセット1!$B174<>\"\",IF($R$1=データセット1!$B174,データセット1!$D174),\"\")","v":false},{"$f":"IF(データセット1!$B174<>\"\",IF($S$1=データセット1!$B174,データセット1!$D174),\"\")","v":false},{"$f":"IF(データセット1!$B174<>\"\",IF($T$1=データセット1!$B174,データセット1!$D174),\"\")","v":false},{"$f":"IF(データセット1!$B174<>\"\",IF($U$1=データセット1!$B174,データセット1!$D174),\"\")","v":false}]
[null,null,null,null,null,null,null,null,null,null,null,null,{"$f":"IF(データセット1!$B175<>\"\",IF($M$1=データセット1!$B175,データセット1!$D175),\"\")","v":false},{"$f":"IF(データセット1!$B175<>\"\",IF($N$1=データセット1!$B175,データセット1!$D175),\"\")","v":false},{"$f":"IF(データセット1!$B175<>\"\",IF($O$1=データセット1!$B175,データセット1!$D175),\"\")","v":false},{"$f":"IF(データセット1!$B175<>\"\",IF($P$1=データセット1!$B175,データセット1!$D175),\"\")","v":false},{"$f":"IF(データセット1!$B175<>\"\",IF($Q$1=データセット1!$B175,データセット1!$D175),\"\")","v":false},{"$f":"IF(データセット1!$B175<>\"\",IF($R$1=データセット1!$B175,データセット1!$D175),\"\")","v":41},{"$f":"IF(データセット1!$B175<>\"\",IF($S$1=データセット1!$B175,データセット1!$D175),\"\")","v":false},{"$f":"IF(データセット1!$B175<>\"\",IF($T$1=データセット1!$B175,データセット1!$D175),\"\")","v":false},{"$f":"IF(データセット1!$B175<>\"\",IF($U$1=データセット1!$B175,データセット1!$D175),\"\")","v":false}]
[null,null,null,null,null,null,null,null,null,null,null,null,{"$f":"IF(データセット1!$B176<>\"\",IF($M$1=データセット1!$B176,データセット1!$D176),\"\")","v":false},{"$f":"IF(データセット1!$B176<>\"\",IF($N$1=データセット1!$B176,データセット1!$D176),\"\")","v":false},{"$f":"IF(データセット1!$B176<>\"\",IF($O$1=データセット1!$B176,データセット1!$D176),\"\")","v":false},{"$f":"IF(データセット1!$B176<>\"\",IF($P$1=データセット1!$B176,データセット1!$D176),\"\")","v":false},{"$f":"IF(データセット1!$B176<>\"\",IF($Q$1=データセット1!$B176,データセット1!$D176),\"\")","v":61},{"$f":"IF(データセット1!$B176<>\"\",IF($R$1=データセット1!$B176,データセット1!$D176),\"\")","v":false},{"$f":"IF(データセット1!$B176<>\"\",IF($S$1=データセット1!$B176,データセット1!$D176),\"\")","v":false},{"$f":"IF(データセット1!$B176<>\"\",IF($T$1=データセット1!$B176,データセット1!$D176),\"\")","v":false},{"$f":"IF(データセット1!$B176<>\"\",IF($U$1=データセット1!$B176,データセット1!$D176),\"\")","v":false}]
[null,null,null,null,null,null,null,null,null,null,null,null,{"$f":"IF(データセット1!$B177<>\"\",IF($M$1=データセット1!$B177,データセット1!$D177),\"\")","v":false},{"$f":"IF(データセット1!$B177<>\"\",IF($N$1=データセット1!$B177,データセット1!$D177),\"\")","v":false},{"$f":"IF(データセット1!$B177<>\"\",IF($O$1=データセット1!$B177,データセット1!$D177),\"\")","v":false},{"$f":"IF(データセット1!$B177<>\"\",IF($P$1=データセット1!$B177,データセット1!$D177),\"\")","v":false},{"$f":"IF(データセット1!$B177<>\"\",IF($Q$1=データセット1!$B177,データセット1!$D177),\"\")","v":false},{"$f":"IF(データセット1!$B177<>\"\",IF($R$1=データセット1!$B177,データセット1!$D177),\"\")","v":65},{"$f":"IF(データセット1!$B177<>\"\",IF($S$1=データセット1!$B177,データセット1!$D177),\"\")","v":false},{"$f":"IF(データセット1!$B177<>\"\",IF($T$1=データセット1!$B177,データセット1!$D177),\"\")","v":false},{"$f":"IF(データセット1!$B177<>\"\",IF($U$1=データセット1!$B177,データセット1!$D177),\"\")","v":false}]
[null,null,null,null,null,null,null,null,null,null,null,null,{"$f":"IF(データセット1!$B178<>\"\",IF($M$1=データセット1!$B178,データセット1!$D178),\"\")","v":false},{"$f":"IF(データセット1!$B178<>\"\",IF($N$1=データセット1!$B178,データセット1!$D178),\"\")","v":false},{"$f":"IF(データセット1!$B178<>\"\",IF($O$1=データセット1!$B178,データセット1!$D178),\"\")","v":false},{"$f":"IF(データセット1!$B178<>\"\",IF($P$1=データセット1!$B178,データセット1!$D178),\"\")","v":false},{"$f":"IF(データセット1!$B178<>\"\",IF($Q$1=データセット1!$B178,データセット1!$D178),\"\")","v":75},{"$f":"IF(データセット1!$B178<>\"\",IF($R$1=データセット1!$B178,データセット1!$D178),\"\")","v":false},{"$f":"IF(データセット1!$B178<>\"\",IF($S$1=データセット1!$B178,データセット1!$D178),\"\")","v":false},{"$f":"IF(データセット1!$B178<>\"\",IF($T$1=データセット1!$B178,データセット1!$D178),\"\")","v":false},{"$f":"IF(データセット1!$B178<>\"\",IF($U$1=データセット1!$B178,データセット1!$D178),\"\")","v":false}]
[null,null,null,null,null,null,null,null,null,null,null,null,{"$f":"IF(データセット1!$B179<>\"\",IF($M$1=データセット1!$B179,データセット1!$D179),\"\")","v":false},{"$f":"IF(データセット1!$B179<>\"\",IF($N$1=データセット1!$B179,データセット1!$D179),\"\")","v":false},{"$f":"IF(データセット1!$B179<>\"\",IF($O$1=データセット1!$B179,データセット1!$D179),\"\")","v":false},{"$f":"IF(データセット1!$B179<>\"\",IF($P$1=データセット1!$B179,データセット1!$D179),\"\")","v":false},{"$f":"IF(データセット1!$B179<>\"\",IF($Q$1=データセット1!$B179,データセット1!$D179),\"\")","v":false},{"$f":"IF(データセット1!$B179<>\"\",IF($R$1=データセット1!$B179,データセット1!$D179),\"\")","v":50},{"$f":"IF(データセット1!$B179<>\"\",IF($S$1=データセット1!$B179,データセット1!$D179),\"\")","v":false},{"$f":"IF(データセット1!$B179<>\"\",IF($T$1=データセット1!$B179,データセット1!$D179),\"\")","v":false},{"$f":"IF(データセット1!$B179<>\"\",IF($U$1=データセット1!$B179,データセット1!$D179),\"\")","v":false}]
[null,null,null,null,null,null,null,null,null,null,null,null,{"$f":"IF(データセット1!$B180<>\"\",IF($M$1=データセット1!$B180,データセット1!$D180),\"\")","v":false},{"$f":"IF(データセット1!$B180<>\"\",IF($N$1=データセット1!$B180,データセット1!$D180),\"\")","v":false},{"$f":"IF(データセット1!$B180<>\"\",IF($O$1=データセット1!$B180,データセット1!$D180),\"\")","v":false},{"$f":"IF(データセット1!$B180<>\"\",IF($P$1=データセット1!$B180,データセット1!$D180),\"\")","v":false},{"$f":"IF(データセット1!$B180<>\"\",IF($Q$1=データセット1!$B180,データセット1!$D180),\"\")","v":false},{"$f":"IF(データセット1!$B180<>\"\",IF($R$1=データセット1!$B180,データセット1!$D180),\"\")","v":58},{"$f":"IF(データセット1!$B180<>\"\",IF($S$1=データセット1!$B180,データセット1!$D180),\"\")","v":false},{"$f":"IF(データセット1!$B180<>\"\",IF($T$1=データセット1!$B180,データセット1!$D180),\"\")","v":false},{"$f":"IF(データセット1!$B180<>\"\",IF($U$1=データセット1!$B180,データセット1!$D180),\"\")","v":false}]
[null,null,null,null,null,null,null,null,null,null,null,null,{"$f":"IF(データセット1!$B181<>\"\",IF($M$1=データセット1!$B181,データセット1!$D181),\"\")","v":false},{"$f":"IF(データセット1!$B181<>\"\",IF($N$1=データセット1!$B181,データセット1!$D181),\"\")","v":false},{"$f":"IF(データセット1!$B181<>\"\",IF($O$1=データセット1!$B181,データセット1!$D181),\"\")","v":false},{"$f":"IF(データセット1!$B181<>\"\",IF($P$1=データセット1!$B181,データセット1!$D181),\"\")","v":false},{"$f":"IF(データセット1!$B181<>\"\",IF($Q$1=データセット1!$B181,データセット1!$D181),\"\")","v":false},{"$f":"IF(データセット1!$B181<>\"\",IF($R$1=データセット1!$B181,データセット1!$D181),\"\")","v":43},{"$f":"IF(データセット1!$B181<>\"\",IF($S$1=データセット1!$B181,データセット1!$D181),\"\")","v":false},{"$f":"IF(データセット1!$B181<>\"\",IF($T$1=データセット1!$B181,データセット1!$D181),\"\")","v":false},{"$f":"IF(データセット1!$B181<>\"\",IF($U$1=データセット1!$B181,データセット1!$D181),\"\")","v":false}]
[null,null,null,null,null,null,null,null,null,null,null,null,{"$f":"IF(データセット1!$B182<>\"\",IF($M$1=データセット1!$B182,データセット1!$D182),\"\")","v":false},{"$f":"IF(データセット1!$B182<>\"\",IF($N$1=データセット1!$B182,データセット1!$D182),\"\")","v":false},{"$f":"IF(データセット1!$B182<>\"\",IF($O$1=データセット1!$B182,データセット1!$D182),\"\")","v":false},{"$f":"IF(データセット1!$B182<>\"\",IF($P$1=データセット1!$B182,データセット1!$D182),\"\")","v":false},{"$f":"IF(データセット1!$B182<>\"\",IF($Q$1=データセット1!$B182,データセット1!$D182),\"\")","v":false},{"$f":"IF(データセット1!$B182<>\"\",IF($R$1=データセット1!$B182,データセット1!$D182),\"\")","v":52},{"$f":"IF(データセット1!$B182<>\"\",IF($S$1=データセット1!$B182,データセット1!$D182),\"\")","v":false},{"$f":"IF(データセット1!$B182<>\"\",IF($T$1=データセット1!$B182,データセット1!$D182),\"\")","v":false},{"$f":"IF(データセット1!$B182<>\"\",IF($U$1=データセット1!$B182,データセット1!$D182),\"\")","v":false}]
[null,null,null,null,null,null,null,null,null,null,null,null,{"$f":"IF(データセット1!$B183<>\"\",IF($M$1=データセット1!$B183,データセット1!$D183),\"\")","v":false},{"$f":"IF(データセット1!$B183<>\"\",IF($N$1=データセット1!$B183,データセット1!$D183),\"\")","v":false},{"$f":"IF(データセット1!$B183<>\"\",IF($O$1=データセット1!$B183,データセット1!$D183),\"\")","v":false},{"$f":"IF(データセット1!$B183<>\"\",IF($P$1=データセット1!$B183,データセット1!$D183),\"\")","v":false},{"$f":"IF(データセット1!$B183<>\"\",IF($Q$1=データセット1!$B183,データセット1!$D183),\"\")","v":false},{"$f":"IF(データセット1!$B183<>\"\",IF($R$1=データセット1!$B183,データセット1!$D183),\"\")","v":42},{"$f":"IF(データセット1!$B183<>\"\",IF($S$1=データセット1!$B183,データセット1!$D183),\"\")","v":false},{"$f":"IF(データセット1!$B183<>\"\",IF($T$1=データセット1!$B183,データセット1!$D183),\"\")","v":false},{"$f":"IF(データセット1!$B183<>\"\",IF($U$1=データセット1!$B183,データセット1!$D183),\"\")","v":false}]
[null,null,null,null,null,null,null,null,null,null,null,null,{"$f":"IF(データセット1!$B184<>\"\",IF($M$1=データセット1!$B184,データセット1!$D184),\"\")","v":false},{"$f":"IF(データセット1!$B184<>\"\",IF($N$1=データセット1!$B184,データセット1!$D184),\"\")","v":false},{"$f":"IF(データセット1!$B184<>\"\",IF($O$1=データセット1!$B184,データセット1!$D184),\"\")","v":false},{"$f":"IF(データセット1!$B184<>\"\",IF($P$1=データセット1!$B184,データセット1!$D184),\"\")","v":false},{"$f":"IF(データセット1!$B184<>\"\",IF($Q$1=データセット1!$B184,データセット1!$D184),\"\")","v":false},{"$f":"IF(データセット1!$B184<>\"\",IF($R$1=データセット1!$B184,データセット1!$D184),\"\")","v":41},{"$f":"IF(データセット1!$B184<>\"\",IF($S$1=データセット1!$B184,データセット1!$D184),\"\")","v":false},{"$f":"IF(データセット1!$B184<>\"\",IF($T$1=データセット1!$B184,データセット1!$D184),\"\")","v":false},{"$f":"IF(データセット1!$B184<>\"\",IF($U$1=データセット1!$B184,データセット1!$D184),\"\")","v":false}]
[null,null,null,null,null,null,null,null,null,null,null,null,{"$f":"IF(データセット1!$B185<>\"\",IF($M$1=データセット1!$B185,データセット1!$D185),\"\")","v":false},{"$f":"IF(データセット1!$B185<>\"\",IF($N$1=データセット1!$B185,データセット1!$D185),\"\")","v":false},{"$f":"IF(データセット1!$B185<>\"\",IF($O$1=データセット1!$B185,データセット1!$D185),\"\")","v":false},{"$f":"IF(データセット1!$B185<>\"\",IF($P$1=データセット1!$B185,データセット1!$D185),\"\")","v":false},{"$f":"IF(データセット1!$B185<>\"\",IF($Q$1=データセット1!$B185,データセット1!$D185),\"\")","v":49},{"$f":"IF(データセット1!$B185<>\"\",IF($R$1=データセット1!$B185,データセット1!$D185),\"\")","v":false},{"$f":"IF(データセット1!$B185<>\"\",IF($S$1=データセット1!$B185,データセット1!$D185),\"\")","v":false},{"$f":"IF(データセット1!$B185<>\"\",IF($T$1=データセット1!$B185,データセット1!$D185),\"\")","v":false},{"$f":"IF(データセット1!$B185<>\"\",IF($U$1=データセット1!$B185,データセット1!$D185),\"\")","v":false}]
[null,null,null,null,null,null,null,null,null,null,null,null,{"$f":"IF(データセット1!$B186<>\"\",IF($M$1=データセット1!$B186,データセット1!$D186),\"\")","v":false},{"$f":"IF(データセット1!$B186<>\"\",IF($N$1=データセット1!$B186,データセット1!$D186),\"\")","v":false},{"$f":"IF(データセット1!$B186<>\"\",IF($O$1=データセット1!$B186,データセット1!$D186),\"\")","v":false},{"$f":"IF(データセット1!$B186<>\"\",IF($P$1=データセット1!$B186,データセット1!$D186),\"\")","v":false},{"$f":"IF(データセット1!$B186<>\"\",IF($Q$1=データセット1!$B186,データセット1!$D186),\"\")","v":false},{"$f":"IF(データセット1!$B186<>\"\",IF($R$1=データセット1!$B186,データセット1!$D186),\"\")","v":41},{"$f":"IF(データセット1!$B186<>\"\",IF($S$1=データセット1!$B186,データセット1!$D186),\"\")","v":false},{"$f":"IF(データセット1!$B186<>\"\",IF($T$1=データセット1!$B186,データセット1!$D186),\"\")","v":false},{"$f":"IF(データセット1!$B186<>\"\",IF($U$1=データセット1!$B186,データセット1!$D186),\"\")","v":false}]
[null,null,null,null,null,null,null,null,null,null,null,null,{"$f":"IF(データセット1!$B187<>\"\",IF($M$1=データセット1!$B187,データセット1!$D187),\"\")","v":false},{"$f":"IF(データセット1!$B187<>\"\",IF($N$1=データセット1!$B187,データセット1!$D187),\"\")","v":false},{"$f":"IF(データセット1!$B187<>\"\",IF($O$1=データセット1!$B187,データセット1!$D187),\"\")","v":false},{"$f":"IF(データセット1!$B187<>\"\",IF($P$1=データセット1!$B187,データセット1!$D187),\"\")","v":false},{"$f":"IF(データセット1!$B187<>\"\",IF($Q$1=データセット1!$B187,データセット1!$D187),\"\")","v":false},{"$f":"IF(データセット1!$B187<>\"\",IF($R$1=データセット1!$B187,データセット1!$D187),\"\")","v":42},{"$f":"IF(データセット1!$B187<>\"\",IF($S$1=データセット1!$B187,データセット1!$D187),\"\")","v":false},{"$f":"IF(データセット1!$B187<>\"\",IF($T$1=データセット1!$B187,データセット1!$D187),\"\")","v":false},{"$f":"IF(データセット1!$B187<>\"\",IF($U$1=データセット1!$B187,データセット1!$D187),\"\")","v":false}]
[null,null,null,null,null,null,null,null,null,null,null,null,{"$f":"IF(データセット1!$B188<>\"\",IF($M$1=データセット1!$B188,データセット1!$D188),\"\")","v":""},{"$f":"IF(データセット1!$B188<>\"\",IF($N$1=データセット1!$B188,データセット1!$D188),\"\")","v":""},{"$f":"IF(データセット1!$B188<>\"\",IF($O$1=データセット1!$B188,データセット1!$D188),\"\")","v":""},{"$f":"IF(データセット1!$B188<>\"\",IF($P$1=データセット1!$B188,データセット1!$D188),\"\")","v":""},{"$f":"IF(データセット1!$B188<>\"\",IF($Q$1=データセット1!$B188,データセット1!$D188),\"\")","v":""},{"$f":"IF(データセット1!$B188<>\"\",IF($R$1=データセット1!$B188,データセット1!$D188),\"\")","v":""},{"$f":"IF(データセット1!$B188<>\"\",IF($S$1=データセット1!$B188,データセット1!$D188),\"\")","v":""},{"$f":"IF(データセット1!$B188<>\"\",IF($T$1=データセット1!$B188,データセット1!$D188),\"\")","v":""},{"$f":"IF(データセット1!$B188<>\"\",IF($U$1=データセット1!$B188,データセット1!$D188),\"\")","v":""}]
[null,null,null,null,null,null,null,null,null,null,null,null,{"$f":"IF(データセット1!$B189<>\"\",IF($M$1=データセット1!$B189,データセット1!$D189),\"\")","v":""},{"$f":"IF(データセット1!$B189<>\"\",IF($N$1=データセット1!$B189,データセット1!$D189),\"\")","v":""},{"$f":"IF(データセット1!$B189<>\"\",IF($O$1=データセット1!$B189,データセット1!$D189),\"\")","v":""},{"$f":"IF(データセット1!$B189<>\"\",IF($P$1=データセット1!$B189,データセット1!$D189),\"\")","v":""},{"$f":"IF(データセット1!$B189<>\"\",IF($Q$1=データセット1!$B189,データセット1!$D189),\"\")","v":""},{"$f":"IF(データセット1!$B189<>\"\",IF($R$1=データセット1!$B189,データセット1!$D189),\"\")","v":""},{"$f":"IF(データセット1!$B189<>\"\",IF($S$1=データセット1!$B189,データセット1!$D189),\"\")","v":""},{"$f":"IF(データセット1!$B189<>\"\",IF($T$1=データセット1!$B189,データセット1!$D189),\"\")","v":""},{"$f":"IF(データセット1!$B189<>\"\",IF($U$1=データセット1!$B189,データセット1!$D189),\"\")","v":""}]
[null,null,null,null,null,null,null,null,null,null,null,null,{"$f":"IF(データセット1!$B190<>\"\",IF($M$1=データセット1!$B190,データセット1!$D190),\"\")","v":""},{"$f":"IF(データセット1!$B190<>\"\",IF($N$1=データセット1!$B190,データセット1!$D190),\"\")","v":""},{"$f":"IF(データセット1!$B190<>\"\",IF($O$1=データセット1!$B190,データセット1!$D190),\"\")","v":""},{"$f":"IF(データセット1!$B190<>\"\",IF($P$1=データセット1!$B190,データセット1!$D190),\"\")","v":""},{"$f":"IF(データセット1!$B190<>\"\",IF($Q$1=データセット1!$B190,データセット1!$D190),\"\")","v":""},{"$f":"IF(データセット1!$B190<>\"\",IF($R$1=データセット1!$B190,データセット1!$D190),\"\")","v":""},{"$f":"IF(データセット1!$B190<>\"\",IF($S$1=データセット1!$B190,データセット1!$D190),\"\")","v":""},{"$f":"IF(データセット1!$B190<>\"\",IF($T$1=データセット1!$B190,データセット1!$D190),\"\")","v":""},{"$f":"IF(データセット1!$B190<>\"\",IF($U$1=データセット1!$B190,データセット1!$D190),\"\")","v":""}]
[null,null,null,null,null,null,null,null,null,null,null,null,{"$f":"IF(データセット1!$B191<>\"\",IF($M$1=データセット1!$B191,データセット1!$D191),\"\")","v":""},{"$f":"IF(データセット1!$B191<>\"\",IF($N$1=データセット1!$B191,データセット1!$D191),\"\")","v":""},{"$f":"IF(データセット1!$B191<>\"\",IF($O$1=データセット1!$B191,データセット1!$D191),\"\")","v":""},{"$f":"IF(データセット1!$B191<>\"\",IF($P$1=データセット1!$B191,データセット1!$D191),\"\")","v":""},{"$f":"IF(データセット1!$B191<>\"\",IF($Q$1=データセット1!$B191,データセット1!$D191),\"\")","v":""},{"$f":"IF(データセット1!$B191<>\"\",IF($R$1=データセット1!$B191,データセット1!$D191),\"\")","v":""},{"$f":"IF(データセット1!$B191<>\"\",IF($S$1=データセット1!$B191,データセット1!$D191),\"\")","v":""},{"$f":"IF(データセット1!$B191<>\"\",IF($T$1=データセット1!$B191,データセット1!$D191),\"\")","v":""},{"$f":"IF(データセット1!$B191<>\"\",IF($U$1=データセット1!$B191,データセット1!$D191),\"\")","v":""}]
[null,null,null,null,null,null,null,null,null,null,null,null,{"$f":"IF(データセット1!$B192<>\"\",IF($M$1=データセット1!$B192,データセット1!$D192),\"\")","v":""},{"$f":"IF(データセット1!$B192<>\"\",IF($N$1=データセット1!$B192,データセット1!$D192),\"\")","v":""},{"$f":"IF(データセット1!$B192<>\"\",IF($O$1=データセット1!$B192,データセット1!$D192),\"\")","v":""},{"$f":"IF(データセット1!$B192<>\"\",IF($P$1=データセット1!$B192,データセット1!$D192),\"\")","v":""},{"$f":"IF(データセット1!$B192<>\"\",IF($Q$1=データセット1!$B192,データセット1!$D192),\"\")","v":""},{"$f":"IF(データセット1!$B192<>\"\",IF($R$1=データセット1!$B192,データセット1!$D192),\"\")","v":""},{"$f":"IF(データセット1!$B192<>\"\",IF($S$1=データセット1!$B192,データセット1!$D192),\"\")","v":""},{"$f":"IF(データセット1!$B192<>\"\",IF($T$1=データセット1!$B192,データセット1!$D192),\"\")","v":""},{"$f":"IF(データセット1!$B192<>\"\",IF($U$1=データセット1!$B192,データセット1!$D192),\"\")","v":""}]
[null,null,null,null,null,null,null,null,null,null,null,null,{"$f":"IF(データセット1!$B193<>\"\",IF($M$1=データセット1!$B193,データセット1!$D193),\"\")","v":""},{"$f":"IF(データセット1!$B193<>\"\",IF($N$1=データセット1!$B193,データセット1!$D193),\"\")","v":""},{"$f":"IF(データセット1!$B193<>\"\",IF($O$1=データセット1!$B193,データセット1!$D193),\"\")","v":""},{"$f":"IF(データセット1!$B193<>\"\",IF($P$1=データセット1!$B193,データセット1!$D193),\"\")","v":""},{"$f":"IF(データセット1!$B193<>\"\",IF($Q$1=データセット1!$B193,データセット1!$D193),\"\")","v":""},{"$f":"IF(データセット1!$B193<>\"\",IF($R$1=データセット1!$B193,データセット1!$D193),\"\")","v":""},{"$f":"IF(データセット1!$B193<>\"\",IF($S$1=データセット1!$B193,データセット1!$D193),\"\")","v":""},{"$f":"IF(データセット1!$B193<>\"\",IF($T$1=データセット1!$B193,データセット1!$D193),\"\")","v":""},{"$f":"IF(データセット1!$B193<>\"\",IF($U$1=データセット1!$B193,データセット1!$D193),\"\")","v":""}]
[null,null,null,null,null,null,null,null,null,null,null,null,{"$f":"IF(データセット1!$B194<>\"\",IF($M$1=データセット1!$B194,データセット1!$D194),\"\")","v":""},{"$f":"IF(データセット1!$B194<>\"\",IF($N$1=データセット1!$B194,データセット1!$D194),\"\")","v":""},{"$f":"IF(データセット1!$B194<>\"\",IF($O$1=データセット1!$B194,データセット1!$D194),\"\")","v":""},{"$f":"IF(データセット1!$B194<>\"\",IF($P$1=データセット1!$B194,データセット1!$D194),\"\")","v":""},{"$f":"IF(データセット1!$B194<>\"\",IF($Q$1=データセット1!$B194,データセット1!$D194),\"\")","v":""},{"$f":"IF(データセット1!$B194<>\"\",IF($R$1=データセット1!$B194,データセット1!$D194),\"\")","v":""},{"$f":"IF(データセット1!$B194<>\"\",IF($S$1=データセット1!$B194,データセット1!$D194),\"\")","v":""},{"$f":"IF(データセット1!$B194<>\"\",IF($T$1=データセット1!$B194,データセット1!$D194),\"\")","v":""},{"$f":"IF(データセット1!$B194<>\"\",IF($U$1=データセット1!$B194,データセット1!$D194),\"\")","v":""}]
[null,null,null,null,null,null,null,null,null,null,null,null,{"$f":"IF(データセット1!$B195<>\"\",IF($M$1=データセット1!$B195,データセット1!$D195),\"\")","v":""},{"$f":"IF(データセット1!$B195<>\"\",IF($N$1=データセット1!$B195,データセット1!$D195),\"\")","v":""},{"$f":"IF(データセット1!$B195<>\"\",IF($O$1=データセット1!$B195,データセット1!$D195),\"\")","v":""},{"$f":"IF(データセット1!$B195<>\"\",IF($P$1=データセット1!$B195,データセット1!$D195),\"\")","v":""},{"$f":"IF(データセット1!$B195<>\"\",IF($Q$1=データセット1!$B195,データセット1!$D195),\"\")","v":""},{"$f":"IF(データセット1!$B195<>\"\",IF($R$1=データセット1!$B195,データセット1!$D195),\"\")","v":""},{"$f":"IF(データセット1!$B195<>\"\",IF($S$1=データセット1!$B195,データセット1!$D195),\"\")","v":""},{"$f":"IF(データセット1!$B195<>\"\",IF($T$1=データセット1!$B195,データセット1!$D195),\"\")","v":""},{"$f":"IF(データセット1!$B195<>\"\",IF($U$1=データセット1!$B195,データセット1!$D195),\"\")","v":""}]
[null,null,null,null,null,null,null,null,null,null,null,null,{"$f":"IF(データセット1!$B196<>\"\",IF($M$1=データセット1!$B196,データセット1!$D196),\"\")","v":""},{"$f":"IF(データセット1!$B196<>\"\",IF($N$1=データセット1!$B196,データセット1!$D196),\"\")","v":""},{"$f":"IF(データセット1!$B196<>\"\",IF($O$1=データセット1!$B196,データセット1!$D196),\"\")","v":""},{"$f":"IF(データセット1!$B196<>\"\",IF($P$1=データセット1!$B196,データセット1!$D196),\"\")","v":""},{"$f":"IF(データセット1!$B196<>\"\",IF($Q$1=データセット1!$B196,データセット1!$D196),\"\")","v":""},{"$f":"IF(データセット1!$B196<>\"\",IF($R$1=データセット1!$B196,データセット1!$D196),\"\")","v":""},{"$f":"IF(データセット1!$B196<>\"\",IF($S$1=データセット1!$B196,データセット1!$D196),\"\")","v":""},{"$f":"IF(データセット1!$B196<>\"\",IF($T$1=データセット1!$B196,データセット1!$D196),\"\")","v":""},{"$f":"IF(データセット1!$B196<>\"\",IF($U$1=データセット1!$B196,データセット1!$D196),\"\")","v":""}]
[null,null,null,null,null,null,null,null,null,null,null,null,{"$f":"IF(データセット1!$B197<>\"\",IF($M$1=データセット1!$B197,データセット1!$D197),\"\")","v":""},{"$f":"IF(データセット1!$B197<>\"\",IF($N$1=データセット1!$B197,データセット1!$D197),\"\")","v":""},{"$f":"IF(データセット1!$B197<>\"\",IF($O$1=データセット1!$B197,データセット1!$D197),\"\")","v":""},{"$f":"IF(データセット1!$B197<>\"\",IF($P$1=データセット1!$B197,データセット1!$D197),\"\")","v":""},{"$f":"IF(データセット1!$B197<>\"\",IF($Q$1=データセット1!$B197,データセット1!$D197),\"\")","v":""},{"$f":"IF(データセット1!$B197<>\"\",IF($R$1=データセット1!$B197,データセット1!$D197),\"\")","v":""},{"$f":"IF(データセット1!$B197<>\"\",IF($S$1=データセット1!$B197,データセット1!$D197),\"\")","v":""},{"$f":"IF(データセット1!$B197<>\"\",IF($T$1=データセット1!$B197,データセット1!$D197),\"\")","v":""},{"$f":"IF(データセット1!$B197<>\"\",IF($U$1=データセット1!$B197,データセット1!$D197),\"\")","v":""}]
[null,null,null,null,null,null,null,null,null,null,null,null,{"$f":"IF(データセット1!$B198<>\"\",IF($M$1=データセット1!$B198,データセット1!$D198),\"\")","v":""},{"$f":"IF(データセット1!$B198<>\"\",IF($N$1=データセット1!$B198,データセット1!$D198),\"\")","v":""},{"$f":"IF(データセット1!$B198<>\"\",IF($O$1=データセット1!$B198,データセット1!$D198),\"\")","v":""},{"$f":"IF(データセット1!$B198<>\"\",IF($P$1=データセット1!$B198,データセット1!$D198),\"\")","v":""},{"$f":"IF(データセット1!$B198<>\"\",IF($Q$1=データセット1!$B198,データセット1!$D198),\"\")","v":""},{"$f":"IF(データセット1!$B198<>\"\",IF($R$1=データセット1!$B198,データセット1!$D198),\"\")","v":""},{"$f":"IF(データセット1!$B198<>\"\",IF($S$1=データセット1!$B198,データセット1!$D198),\"\")","v":""},{"$f":"IF(データセット1!$B198<>\"\",IF($T$1=データセット1!$B198,データセット1!$D198),\"\")","v":""},{"$f":"IF(データセット1!$B198<>\"\",IF($U$1=データセット1!$B198,データセット1!$D198),\"\")","v":""}]
[null,null,null,null,null,null,null,null,null,null,null,null,{"$f":"IF(データセット1!$B199<>\"\",IF($M$1=データセット1!$B199,データセット1!$D199),\"\")","v":""},{"$f":"IF(データセット1!$B199<>\"\",IF($N$1=データセット1!$B199,データセット1!$D199),\"\")","v":""},{"$f":"IF(データセット1!$B199<>\"\",IF($O$1=データセット1!$B199,データセット1!$D199),\"\")","v":""},{"$f":"IF(データセット1!$B199<>\"\",IF($P$1=データセット1!$B199,データセット1!$D199),\"\")","v":""},{"$f":"IF(データセット1!$B199<>\"\",IF($Q$1=データセット1!$B199,データセット1!$D199),\"\")","v":""},{"$f":"IF(データセット1!$B199<>\"\",IF($R$1=データセット1!$B199,データセット1!$D199),\"\")","v":""},{"$f":"IF(データセット1!$B199<>\"\",IF($S$1=データセット1!$B199,データセット1!$D199),\"\")","v":""},{"$f":"IF(データセット1!$B199<>\"\",IF($T$1=データセット1!$B199,データセット1!$D199),\"\")","v":""},{"$f":"IF(データセット1!$B199<>\"\",IF($U$1=データセット1!$B199,データセット1!$D199),\"\")","v":""}]
[null,null,null,null,null,null,null,null,null,null,null,null,{"$f":"IF(データセット1!$B200<>\"\",IF($M$1=データセット1!$B200,データセット1!$D200),\"\")","v":""},{"$f":"IF(データセット1!$B200<>\"\",IF($N$1=データセット1!$B200,データセット1!$D200),\"\")","v":""},{"$f":"IF(データセット1!$B200<>\"\",IF($O$1=データセット1!$B200,データセット1!$D200),\"\")","v":""},{"$f":"IF(データセット1!$B200<>\"\",IF($P$1=データセット1!$B200,データセット1!$D200),\"\")","v":""},{"$f":"IF(データセット1!$B200<>\"\",IF($Q$1=データセット1!$B200,データセット1!$D200),\"\")","v":""},{"$f":"IF(データセット1!$B200<>\"\",IF($R$1=データセット1!$B200,データセット1!$D200),\"\")","v":""},{"$f":"IF(データセット1!$B200<>\"\",IF($S$1=データセット1!$B200,データセット1!$D200),\"\")","v":""},{"$f":"IF(データセット1!$B200<>\"\",IF($T$1=データセット1!$B200,データセット1!$D200),\"\")","v":""},{"$f":"IF(データセット1!$B200<>\"\",IF($U$1=データセット1!$B200,データセット1!$D200),\"\")","v":""}]
[null,null,null,null,null,null,null,null,null,null,null,null,{"$f":"IF(データセット1!$B201<>\"\",IF($M$1=データセット1!$B201,データセット1!$D201),\"\")","v":""},{"$f":"IF(データセット1!$B201<>\"\",IF($N$1=データセット1!$B201,データセット1!$D201),\"\")","v":""},{"$f":"IF(データセット1!$B201<>\"\",IF($O$1=データセット1!$B201,データセット1!$D201),\"\")","v":""},{"$f":"IF(データセット1!$B201<>\"\",IF($P$1=データセット1!$B201,データセット1!$D201),\"\")","v":""},{"$f":"IF(データセット1!$B201<>\"\",IF($Q$1=データセット1!$B201,データセット1!$D201),\"\")","v":""},{"$f":"IF(データセット1!$B201<>\"\",IF($R$1=データセット1!$B201,データセット1!$D201),\"\")","v":""},{"$f":"IF(データセット1!$B201<>\"\",IF($S$1=データセット1!$B201,データセット1!$D201),\"\")","v":""},{"$f":"IF(データセット1!$B201<>\"\",IF($T$1=データセット1!$B201,データセット1!$D201),\"\")","v":""},{"$f":"IF(データセット1!$B201<>\"\",IF($U$1=データセット1!$B201,データセット1!$D201),\"\")","v":""}]
[null,null,null,null,null,null,null,null,null,null,null,null,{"$f":"IF(データセット1!$B202<>\"\",IF($M$1=データセット1!$B202,データセット1!$D202),\"\")","v":""},{"$f":"IF(データセット1!$B202<>\"\",IF($N$1=データセット1!$B202,データセット1!$D202),\"\")","v":""},{"$f":"IF(データセット1!$B202<>\"\",IF($O$1=データセット1!$B202,データセット1!$D202),\"\")","v":""},{"$f":"IF(データセット1!$B202<>\"\",IF($P$1=データセット1!$B202,データセット1!$D202),\"\")","v":""},{"$f":"IF(データセット1!$B202<>\"\",IF($Q$1=データセット1!$B202,データセット1!$D202),\"\")","v":""},{"$f":"IF(データセット1!$B202<>\"\",IF($R$1=データセット1!$B202,データセット1!$D202),\"\")","v":""},{"$f":"IF(データセット1!$B202<>\"\",IF($S$1=データセット1!$B202,データセット1!$D202),\"\")","v":""},{"$f":"IF(データセット1!$B202<>\"\",IF($T$1=データセット1!$B202,データセット1!$D202),\"\")","v":""},{"$f":"IF(データセット1!$B202<>\"\",IF($U$1=データセット1!$B202,データセット1!$D202),\"\")","v":""}]
[null,null,null,null,null,null,null,null,null,null,null,null,{"$f":"IF(データセット1!$B203<>\"\",IF($M$1=データセット1!$B203,データセット1!$D203),\"\")","v":""},{"$f":"IF(データセット1!$B203<>\"\",IF($N$1=データセット1!$B203,データセット1!$D203),\"\")","v":""},{"$f":"IF(データセット1!$B203<>\"\",IF($O$1=データセット1!$B203,データセット1!$D203),\"\")","v":""},{"$f":"IF(データセット1!$B203<>\"\",IF($P$1=データセット1!$B203,データセット1!$D203),\"\")","v":""},{"$f":"IF(データセット1!$B203<>\"\",IF($Q$1=データセット1!$B203,データセット1!$D203),\"\")","v":""},{"$f":"IF(データセット1!$B203<>\"\",IF($R$1=データセット1!$B203,データセット1!$D203),\"\")","v":""},{"$f":"IF(データセット1!$B203<>\"\",IF($S$1=データセット1!$B203,データセット1!$D203),\"\")","v":""},{"$f":"IF(データセット1!$B203<>\"\",IF($T$1=データセット1!$B203,データセット1!$D203),\"\")","v":""},{"$f":"IF(データセット1!$B203<>\"\",IF($U$1=データセット1!$B203,データセット1!$D203),\"\")","v":""}]
[null,null,null,null,null,null,null,null,null,null,null,null,{"$f":"IF(データセット1!$B204<>\"\",IF($M$1=データセット1!$B204,データセット1!$D204),\"\")","v":""},{"$f":"IF(データセット1!$B204<>\"\",IF($N$1=データセット1!$B204,データセット1!$D204),\"\")","v":""},{"$f":"IF(データセット1!$B204<>\"\",IF($O$1=データセット1!$B204,データセット1!$D204),\"\")","v":""},{"$f":"IF(データセット1!$B204<>\"\",IF($P$1=データセット1!$B204,データセット1!$D204),\"\")","v":""},{"$f":"IF(データセット1!$B204<>\"\",IF($Q$1=データセット1!$B204,データセット1!$D204),\"\")","v":""},{"$f":"IF(データセット1!$B204<>\"\",IF($R$1=データセット1!$B204,データセット1!$D204),\"\")","v":""},{"$f":"IF(データセット1!$B204<>\"\",IF($S$1=データセット1!$B204,データセット1!$D204),\"\")","v":""},{"$f":"IF(データセット1!$B204<>\"\",IF($T$1=データセット1!$B204,データセット1!$D204),\"\")","v":""},{"$f":"IF(データセット1!$B204<>\"\",IF($U$1=データセット1!$B204,データセット1!$D204),\"\")","v":""}]
[null,null,null,null,null,null,null,null,null,null,null,null,{"$f":"IF(データセット1!$B205<>\"\",IF($M$1=データセット1!$B205,データセット1!$D205),\"\")","v":""},{"$f":"IF(データセット1!$B205<>\"\",IF($N$1=データセット1!$B205,データセット1!$D205),\"\")","v":""},{"$f":"IF(データセット1!$B205<>\"\",IF($O$1=データセット1!$B205,データセット1!$D205),\"\")","v":""},{"$f":"IF(データセット1!$B205<>\"\",IF($P$1=データセット1!$B205,データセット1!$D205),\"\")","v":""},{"$f":"IF(データセット1!$B205<>\"\",IF($Q$1=データセット1!$B205,データセット1!$D205),\"\")","v":""},{"$f":"IF(データセット1!$B205<>\"\",IF($R$1=データセット1!$B205,データセット1!$D205),\"\")","v":""},{"$f":"IF(データセット1!$B205<>\"\",IF($S$1=データセット1!$B205,データセット1!$D205),\"\")","v":""},{"$f":"IF(データセット1!$B205<>\"\",IF($T$1=データセット1!$B205,データセット1!$D205),\"\")","v":""},{"$f":"IF(データセット1!$B205<>\"\",IF($U$1=データセット1!$B205,データセット1!$D205),\"\")","v":""}]
[null,null,null,null,null,null,null,null,null,null,null,null,{"$f":"IF(データセット1!$B206<>\"\",IF($M$1=データセット1!$B206,データセット1!$D206),\"\")","v":""},{"$f":"IF(データセット1!$B206<>\"\",IF($N$1=データセット1!$B206,データセット1!$D206),\"\")","v":""},{"$f":"IF(データセット1!$B206<>\"\",IF($O$1=データセット1!$B206,データセット1!$D206),\"\")","v":""},{"$f":"IF(データセット1!$B206<>\"\",IF($P$1=データセット1!$B206,データセット1!$D206),\"\")","v":""},{"$f":"IF(データセット1!$B206<>\"\",IF($Q$1=データセット1!$B206,データセット1!$D206),\"\")","v":""},{"$f":"IF(データセット1!$B206<>\"\",IF($R$1=データセット1!$B206,データセット1!$D206),\"\")","v":""},{"$f":"IF(データセット1!$B206<>\"\",IF($S$1=データセット1!$B206,データセット1!$D206),\"\")","v":""},{"$f":"IF(データセット1!$B206<>\"\",IF($T$1=データセット1!$B206,データセット1!$D206),\"\")","v":""},{"$f":"IF(データセット1!$B206<>\"\",IF($U$1=データセット1!$B206,データセット1!$D206),\"\")","v":""}]
[null,null,null,null,null,null,null,null,null,null,null,null,{"$f":"IF(データセット1!$B207<>\"\",IF($M$1=データセット1!$B207,データセット1!$D207),\"\")","v":""},{"$f":"IF(データセット1!$B207<>\"\",IF($N$1=データセット1!$B207,データセット1!$D207),\"\")","v":""},{"$f":"IF(データセット1!$B207<>\"\",IF($O$1=データセット1!$B207,データセット1!$D207),\"\")","v":""},{"$f":"IF(データセット1!$B207<>\"\",IF($P$1=データセット1!$B207,データセット1!$D207),\"\")","v":""},{"$f":"IF(データセット1!$B207<>\"\",IF($Q$1=データセット1!$B207,データセット1!$D207),\"\")","v":""},{"$f":"IF(データセット1!$B207<>\"\",IF($R$1=データセット1!$B207,データセット1!$D207),\"\")","v":""},{"$f":"IF(データセット1!$B207<>\"\",IF($S$1=データセット1!$B207,データセット1!$D207),\"\")","v":""},{"$f":"IF(データセット1!$B207<>\"\",IF($T$1=データセット1!$B207,データセット1!$D207),\"\")","v":""},{"$f":"IF(データセット1!$B207<>\"\",IF($U$1=データセット1!$B207,データセット1!$D207),\"\")","v":""}]
[null,null,null,null,null,null,null,null,null,null,null,null,{"$f":"IF(データセット1!$B208<>\"\",IF($M$1=データセット1!$B208,データセット1!$D208),\"\")","v":""},{"$f":"IF(データセット1!$B208<>\"\",IF($N$1=データセット1!$B208,データセット1!$D208),\"\")","v":""},{"$f":"IF(データセット1!$B208<>\"\",IF($O$1=データセット1!$B208,データセット1!$D208),\"\")","v":""},{"$f":"IF(データセット1!$B208<>\"\",IF($P$1=データセット1!$B208,データセット1!$D208),\"\")","v":""},{"$f":"IF(データセット1!$B208<>\"\",IF($Q$1=データセット1!$B208,データセット1!$D208),\"\")","v":""},{"$f":"IF(データセット1!$B208<>\"\",IF($R$1=データセット1!$B208,データセット1!$D208),\"\")","v":""},{"$f":"IF(データセット1!$B208<>\"\",IF($S$1=データセット1!$B208,データセット1!$D208),\"\")","v":""},{"$f":"IF(データセット1!$B208<>\"\",IF($T$1=データセット1!$B208,データセット1!$D208),\"\")","v":""},{"$f":"IF(データセット1!$B208<>\"\",IF($U$1=データセット1!$B208,データセット1!$D208),\"\")","v":""}]
[null,null,null,null,null,null,null,null,null,null,null,null,{"$f":"IF(データセット1!$B209<>\"\",IF($M$1=データセット1!$B209,データセット1!$D209),\"\")","v":""},{"$f":"IF(データセット1!$B209<>\"\",IF($N$1=データセット1!$B209,データセット1!$D209),\"\")","v":""},{"$f":"IF(データセット1!$B209<>\"\",IF($O$1=データセット1!$B209,データセット1!$D209),\"\")","v":""},{"$f":"IF(データセット1!$B209<>\"\",IF($P$1=データセット1!$B209,データセット1!$D209),\"\")","v":""},{"$f":"IF(データセット1!$B209<>\"\",IF($Q$1=データセット1!$B209,データセット1!$D209),\"\")","v":""},{"$f":"IF(データセット1!$B209<>\"\",IF($R$1=データセット1!$B209,データセット1!$D209),\"\")","v":""},{"$f":"IF(データセット1!$B209<>\"\",IF($S$1=データセット1!$B209,データセット1!$D209),\"\")","v":""},{"$f":"IF(データセット1!$B209<>\"\",IF($T$1=データセット1!$B209,データセット1!$D209),\"\")","v":""},{"$f":"IF(データセット1!$B209<>\"\",IF($U$1=データセット1!$B209,データセット1!$D209),\"\")","v":""}]
[null,null,null,null,null,null,null,null,null,null,null,null,{"$f":"IF(データセット1!$B210<>\"\",IF($M$1=データセット1!$B210,データセット1!$D210),\"\")","v":""},{"$f":"IF(データセット1!$B210<>\"\",IF($N$1=データセット1!$B210,データセット1!$D210),\"\")","v":""},{"$f":"IF(データセット1!$B210<>\"\",IF($O$1=データセット1!$B210,データセット1!$D210),\"\")","v":""},{"$f":"IF(データセット1!$B210<>\"\",IF($P$1=データセット1!$B210,データセット1!$D210),\"\")","v":""},{"$f":"IF(データセット1!$B210<>\"\",IF($Q$1=データセット1!$B210,データセット1!$D210),\"\")","v":""},{"$f":"IF(データセット1!$B210<>\"\",IF($R$1=データセット1!$B210,データセット1!$D210),\"\")","v":""},{"$f":"IF(データセット1!$B210<>\"\",IF($S$1=データセット1!$B210,データセット1!$D210),\"\")","v":""},{"$f":"IF(データセット1!$B210<>\"\",IF($T$1=データセット1!$B210,データセット1!$D210),\"\")","v":""},{"$f":"IF(データセット1!$B210<>\"\",IF($U$1=データセット1!$B210,データセット1!$D210),\"\")","v":""}]
[null,null,null,null,null,null,null,null,null,null,null,null,{"$f":"IF(データセット1!$B211<>\"\",IF($M$1=データセット1!$B211,データセット1!$D211),\"\")","v":""},{"$f":"IF(データセット1!$B211<>\"\",IF($N$1=データセット1!$B211,データセット1!$D211),\"\")","v":""},{"$f":"IF(データセット1!$B211<>\"\",IF($O$1=データセット1!$B211,データセット1!$D211),\"\")","v":""},{"$f":"IF(データセット1!$B211<>\"\",IF($P$1=データセット1!$B211,データセット1!$D211),\"\")","v":""},{"$f":"IF(データセット1!$B211<>\"\",IF($Q$1=データセット1!$B211,データセット1!$D211),\"\")","v":""},{"$f":"IF(データセット1!$B211<>\"\",IF($R$1=データセット1!$B211,データセット1!$D211),\"\")","v":""},{"$f":"IF(データセット1!$B211<>\"\",IF($S$1=データセット1!$B211,データセット1!$D211),\"\")","v":""},{"$f":"IF(データセット1!$B211<>\"\",IF($T$1=データセット1!$B211,データセット1!$D211),\"\")","v":""},{"$f":"IF(データセット1!$B211<>\"\",IF($U$1=データセット1!$B211,データセット1!$D211),\"\")","v":""}]
[null,null,null,null,null,null,null,null,null,null,null,null,{"$f":"IF(データセット1!$B212<>\"\",IF($M$1=データセット1!$B212,データセット1!$D212),\"\")","v":""},{"$f":"IF(データセット1!$B212<>\"\",IF($N$1=データセット1!$B212,データセット1!$D212),\"\")","v":""},{"$f":"IF(データセット1!$B212<>\"\",IF($O$1=データセット1!$B212,データセット1!$D212),\"\")","v":""},{"$f":"IF(データセット1!$B212<>\"\",IF($P$1=データセット1!$B212,データセット1!$D212),\"\")","v":""},{"$f":"IF(データセット1!$B212<>\"\",IF($Q$1=データセット1!$B212,データセット1!$D212),\"\")","v":""},{"$f":"IF(データセット1!$B212<>\"\",IF($R$1=データセット1!$B212,データセット1!$D212),\"\")","v":""},{"$f":"IF(データセット1!$B212<>\"\",IF($S$1=データセット1!$B212,データセット1!$D212),\"\")","v":""},{"$f":"IF(データセット1!$B212<>\"\",IF($T$1=データセット1!$B212,データセット1!$D212),\"\")","v":""},{"$f":"IF(データセット1!$B212<>\"\",IF($U$1=データセット1!$B212,データセット1!$D212),\"\")","v":""}]
[null,null,null,null,null,null,null,null,null,null,null,null,{"$f":"IF(データセット1!$B213<>\"\",IF($M$1=データセット1!$B213,データセット1!$D213),\"\")","v":""},{"$f":"IF(データセット1!$B213<>\"\",IF($N$1=データセット1!$B213,データセット1!$D213),\"\")","v":""},{"$f":"IF(データセット1!$B213<>\"\",IF($O$1=データセット1!$B213,データセット1!$D213),\"\")","v":""},{"$f":"IF(データセット1!$B213<>\"\",IF($P$1=データセット1!$B213,データセット1!$D213),\"\")","v":""},{"$f":"IF(データセット1!$B213<>\"\",IF($Q$1=データセット1!$B213,データセット1!$D213),\"\")","v":""},{"$f":"IF(データセット1!$B213<>\"\",IF($R$1=データセット1!$B213,データセット1!$D213),\"\")","v":""},{"$f":"IF(データセット1!$B213<>\"\",IF($S$1=データセット1!$B213,データセット1!$D213),\"\")","v":""},{"$f":"IF(データセット1!$B213<>\"\",IF($T$1=データセット1!$B213,データセット1!$D213),\"\")","v":""},{"$f":"IF(データセット1!$B213<>\"\",IF($U$1=データセット1!$B213,データセット1!$D213),\"\")","v":""}]
[null,null,null,null,null,null,null,null,null,null,null,null,{"$f":"IF(データセット1!$B214<>\"\",IF($M$1=データセット1!$B214,データセット1!$D214),\"\")","v":""},{"$f":"IF(データセット1!$B214<>\"\",IF($N$1=データセット1!$B214,データセット1!$D214),\"\")","v":""},{"$f":"IF(データセット1!$B214<>\"\",IF($O$1=データセット1!$B214,データセット1!$D214),\"\")","v":""},{"$f":"IF(データセット1!$B214<>\"\",IF($P$1=データセット1!$B214,データセット1!$D214),\"\")","v":""},{"$f":"IF(データセット1!$B214<>\"\",IF($Q$1=データセット1!$B214,データセット1!$D214),\"\")","v":""},{"$f":"IF(データセット1!$B214<>\"\",IF($R$1=データセット1!$B214,データセット1!$D214),\"\")","v":""},{"$f":"IF(データセット1!$B214<>\"\",IF($S$1=データセット1!$B214,データセット1!$D214),\"\")","v":""},{"$f":"IF(データセット1!$B214<>\"\",IF($T$1=データセット1!$B214,データセット1!$D214),\"\")","v":""},{"$f":"IF(データセット1!$B214<>\"\",IF($U$1=データセット1!$B214,データセット1!$D214),\"\")","v":""}]
[null,null,null,null,null,null,null,null,null,null,null,null,{"$f":"IF(データセット1!$B215<>\"\",IF($M$1=データセット1!$B215,データセット1!$D215),\"\")","v":""},{"$f":"IF(データセット1!$B215<>\"\",IF($N$1=データセット1!$B215,データセット1!$D215),\"\")","v":""},{"$f":"IF(データセット1!$B215<>\"\",IF($O$1=データセット1!$B215,データセット1!$D215),\"\")","v":""},{"$f":"IF(データセット1!$B215<>\"\",IF($P$1=データセット1!$B215,データセット1!$D215),\"\")","v":""},{"$f":"IF(データセット1!$B215<>\"\",IF($Q$1=データセット1!$B215,データセット1!$D215),\"\")","v":""},{"$f":"IF(データセット1!$B215<>\"\",IF($R$1=データセット1!$B215,データセット1!$D215),\"\")","v":""},{"$f":"IF(データセット1!$B215<>\"\",IF($S$1=データセット1!$B215,データセット1!$D215),\"\")","v":""},{"$f":"IF(データセット1!$B215<>\"\",IF($T$1=データセット1!$B215,データセット1!$D215),\"\")","v":""},{"$f":"IF(データセット1!$B215<>\"\",IF($U$1=データセット1!$B215,データセット1!$D215),\"\")","v":""}]
[null,null,null,null,null,null,null,null,null,null,null,null,{"$f":"IF(データセット1!$B216<>\"\",IF($M$1=データセット1!$B216,データセット1!$D216),\"\")","v":""},{"$f":"IF(データセット1!$B216<>\"\",IF($N$1=データセット1!$B216,データセット1!$D216),\"\")","v":""},{"$f":"IF(データセット1!$B216<>\"\",IF($O$1=データセット1!$B216,データセット1!$D216),\"\")","v":""},{"$f":"IF(データセット1!$B216<>\"\",IF($P$1=データセット1!$B216,データセット1!$D216),\"\")","v":""},{"$f":"IF(データセット1!$B216<>\"\",IF($Q$1=データセット1!$B216,データセット1!$D216),\"\")","v":""},{"$f":"IF(データセット1!$B216<>\"\",IF($R$1=データセット1!$B216,データセット1!$D216),\"\")","v":""},{"$f":"IF(データセット1!$B216<>\"\",IF($S$1=データセット1!$B216,データセット1!$D216),\"\")","v":""},{"$f":"IF(データセット1!$B216<>\"\",IF($T$1=データセット1!$B216,データセット1!$D216),\"\")","v":""},{"$f":"IF(データセット1!$B216<>\"\",IF($U$1=データセット1!$B216,データセット1!$D216),\"\")","v":""}]
[null,null,null,null,null,null,null,null,null,null,null,null,{"$f":"IF(データセット1!$B217<>\"\",IF($M$1=データセット1!$B217,データセット1!$D217),\"\")","v":""},{"$f":"IF(データセット1!$B217<>\"\",IF($N$1=データセット1!$B217,データセット1!$D217),\"\")","v":""},{"$f":"IF(データセット1!$B217<>\"\",IF($O$1=データセット1!$B217,データセット1!$D217),\"\")","v":""},{"$f":"IF(データセット1!$B217<>\"\",IF($P$1=データセット1!$B217,データセット1!$D217),\"\")","v":""},{"$f":"IF(データセット1!$B217<>\"\",IF($Q$1=データセット1!$B217,データセット1!$D217),\"\")","v":""},{"$f":"IF(データセット1!$B217<>\"\",IF($R$1=データセット1!$B217,データセット1!$D217),\"\")","v":""},{"$f":"IF(データセット1!$B217<>\"\",IF($S$1=データセット1!$B217,データセット1!$D217),\"\")","v":""},{"$f":"IF(データセット1!$B217<>\"\",IF($T$1=データセット1!$B217,データセット1!$D217),\"\")","v":""},{"$f":"IF(データセット1!$B217<>\"\",IF($U$1=データセット1!$B217,データセット1!$D217),\"\")","v":""}]
[null,null,null,null,null,null,null,null,null,null,null,null,{"$f":"IF(データセット1!$B218<>\"\",IF($M$1=データセット1!$B218,データセット1!$D218),\"\")","v":""},{"$f":"IF(データセット1!$B218<>\"\",IF($N$1=データセット1!$B218,データセット1!$D218),\"\")","v":""},{"$f":"IF(データセット1!$B218<>\"\",IF($O$1=データセット1!$B218,データセット1!$D218),\"\")","v":""},{"$f":"IF(データセット1!$B218<>\"\",IF($P$1=データセット1!$B218,データセット1!$D218),\"\")","v":""},{"$f":"IF(データセット1!$B218<>\"\",IF($Q$1=データセット1!$B218,データセット1!$D218),\"\")","v":""},{"$f":"IF(データセット1!$B218<>\"\",IF($R$1=データセット1!$B218,データセット1!$D218),\"\")","v":""},{"$f":"IF(データセット1!$B218<>\"\",IF($S$1=データセット1!$B218,データセット1!$D218),\"\")","v":""},{"$f":"IF(データセット1!$B218<>\"\",IF($T$1=データセット1!$B218,データセット1!$D218),\"\")","v":""},{"$f":"IF(データセット1!$B218<>\"\",IF($U$1=データセット1!$B218,データセット1!$D218),\"\")","v":""}]
[null,null,null,null,null,null,null,null,null,null,null,null,{"$f":"IF(データセット1!$B219<>\"\",IF($M$1=データセット1!$B219,データセット1!$D219),\"\")","v":""},{"$f":"IF(データセット1!$B219<>\"\",IF($N$1=データセット1!$B219,データセット1!$D219),\"\")","v":""},{"$f":"IF(データセット1!$B219<>\"\",IF($O$1=データセット1!$B219,データセット1!$D219),\"\")","v":""},{"$f":"IF(データセット1!$B219<>\"\",IF($P$1=データセット1!$B219,データセット1!$D219),\"\")","v":""},{"$f":"IF(データセット1!$B219<>\"\",IF($Q$1=データセット1!$B219,データセット1!$D219),\"\")","v":""},{"$f":"IF(データセット1!$B219<>\"\",IF($R$1=データセット1!$B219,データセット1!$D219),\"\")","v":""},{"$f":"IF(データセット1!$B219<>\"\",IF($S$1=データセット1!$B219,データセット1!$D219),\"\")","v":""},{"$f":"IF(データセット1!$B219<>\"\",IF($T$1=データセット1!$B219,データセット1!$D219),\"\")","v":""},{"$f":"IF(データセット1!$B219<>\"\",IF($U$1=データセット1!$B219,データセット1!$D219),\"\")","v":""}]
[null,null,null,null,null,null,null,null,null,null,null,null,{"$f":"IF(データセット1!$B220<>\"\",IF($M$1=データセット1!$B220,データセット1!$D220),\"\")","v":""},{"$f":"IF(データセット1!$B220<>\"\",IF($N$1=データセット1!$B220,データセット1!$D220),\"\")","v":""},{"$f":"IF(データセット1!$B220<>\"\",IF($O$1=データセット1!$B220,データセット1!$D220),\"\")","v":""},{"$f":"IF(データセット1!$B220<>\"\",IF($P$1=データセット1!$B220,データセット1!$D220),\"\")","v":""},{"$f":"IF(データセット1!$B220<>\"\",IF($Q$1=データセット1!$B220,データセット1!$D220),\"\")","v":""},{"$f":"IF(データセット1!$B220<>\"\",IF($R$1=データセット1!$B220,データセット1!$D220),\"\")","v":""},{"$f":"IF(データセット1!$B220<>\"\",IF($S$1=データセット1!$B220,データセット1!$D220),\"\")","v":""},{"$f":"IF(データセット1!$B220<>\"\",IF($T$1=データセット1!$B220,データセット1!$D220),\"\")","v":""},{"$f":"IF(データセット1!$B220<>\"\",IF($U$1=データセット1!$B220,データセット1!$D220),\"\")","v":""}]
[null,null,null,null,null,null,null,null,null,null,null,null,{"$f":"IF(データセット1!$B221<>\"\",IF($M$1=データセット1!$B221,データセット1!$D221),\"\")","v":""},{"$f":"IF(データセット1!$B221<>\"\",IF($N$1=データセット1!$B221,データセット1!$D221),\"\")","v":""},{"$f":"IF(データセット1!$B221<>\"\",IF($O$1=データセット1!$B221,データセット1!$D221),\"\")","v":""},{"$f":"IF(データセット1!$B221<>\"\",IF($P$1=データセット1!$B221,データセット1!$D221),\"\")","v":""},{"$f":"IF(データセット1!$B221<>\"\",IF($Q$1=データセット1!$B221,データセット1!$D221),\"\")","v":""},{"$f":"IF(データセット1!$B221<>\"\",IF($R$1=データセット1!$B221,データセット1!$D221),\"\")","v":""},{"$f":"IF(データセット1!$B221<>\"\",IF($S$1=データセット1!$B221,データセット1!$D221),\"\")","v":""},{"$f":"IF(データセット1!$B221<>\"\",IF($T$1=データセット1!$B221,データセット1!$D221),\"\")","v":""},{"$f":"IF(データセット1!$B221<>\"\",IF($U$1=データセット1!$B221,データセット1!$D221),\"\")","v":""}]
[null,null,null,null,null,null,null,null,null,null,null,null,{"$f":"IF(データセット1!$B222<>\"\",IF($M$1=データセット1!$B222,データセット1!$D222),\"\")","v":""},{"$f":"IF(データセット1!$B222<>\"\",IF($N$1=データセット1!$B222,データセット1!$D222),\"\")","v":""},{"$f":"IF(データセット1!$B222<>\"\",IF($O$1=データセット1!$B222,データセット1!$D222),\"\")","v":""},{"$f":"IF(データセット1!$B222<>\"\",IF($P$1=データセット1!$B222,データセット1!$D222),\"\")","v":""},{"$f":"IF(データセット1!$B222<>\"\",IF($Q$1=データセット1!$B222,データセット1!$D222),\"\")","v":""},{"$f":"IF(データセット1!$B222<>\"\",IF($R$1=データセット1!$B222,データセット1!$D222),\"\")","v":""},{"$f":"IF(データセット1!$B222<>\"\",IF($S$1=データセット1!$B222,データセット1!$D222),\"\")","v":""},{"$f":"IF(データセット1!$B222<>\"\",IF($T$1=データセット1!$B222,データセット1!$D222),\"\")","v":""},{"$f":"IF(データセット1!$B222<>\"\",IF($U$1=データセット1!$B222,データセット1!$D222),\"\")","v":""}]
[null,null,null,null,null,null,null,null,null,null,null,null,{"$f":"IF(データセット1!$B223<>\"\",IF($M$1=データセット1!$B223,データセット1!$D223),\"\")","v":""},{"$f":"IF(データセット1!$B223<>\"\",IF($N$1=データセット1!$B223,データセット1!$D223),\"\")","v":""},{"$f":"IF(データセット1!$B223<>\"\",IF($O$1=データセット1!$B223,データセット1!$D223),\"\")","v":""},{"$f":"IF(データセット1!$B223<>\"\",IF($P$1=データセット1!$B223,データセット1!$D223),\"\")","v":""},{"$f":"IF(データセット1!$B223<>\"\",IF($Q$1=データセット1!$B223,データセット1!$D223),\"\")","v":""},{"$f":"IF(データセット1!$B223<>\"\",IF($R$1=データセット1!$B223,データセット1!$D223),\"\")","v":""},{"$f":"IF(データセット1!$B223<>\"\",IF($S$1=データセット1!$B223,データセット1!$D223),\"\")","v":""},{"$f":"IF(データセット1!$B223<>\"\",IF($T$1=データセット1!$B223,データセット1!$D223),\"\")","v":""},{"$f":"IF(データセット1!$B223<>\"\",IF($U$1=データセット1!$B223,データセット1!$D223),\"\")","v":""}]
[null,null,null,null,null,null,null,null,null,null,null,null,{"$f":"IF(データセット1!$B224<>\"\",IF($M$1=データセット1!$B224,データセット1!$D224),\"\")","v":""},{"$f":"IF(データセット1!$B224<>\"\",IF($N$1=データセット1!$B224,データセット1!$D224),\"\")","v":""},{"$f":"IF(データセット1!$B224<>\"\",IF($O$1=データセット1!$B224,データセット1!$D224),\"\")","v":""},{"$f":"IF(データセット1!$B224<>\"\",IF($P$1=データセット1!$B224,データセット1!$D224),\"\")","v":""},{"$f":"IF(データセット1!$B224<>\"\",IF($Q$1=データセット1!$B224,データセット1!$D224),\"\")","v":""},{"$f":"IF(データセット1!$B224<>\"\",IF($R$1=データセット1!$B224,データセット1!$D224),\"\")","v":""},{"$f":"IF(データセット1!$B224<>\"\",IF($S$1=データセット1!$B224,データセット1!$D224),\"\")","v":""},{"$f":"IF(データセット1!$B224<>\"\",IF($T$1=データセット1!$B224,データセット1!$D224),\"\")","v":""},{"$f":"IF(データセット1!$B224<>\"\",IF($U$1=データセット1!$B224,データセット1!$D224),\"\")","v":""}]
[null,null,null,null,null,null,null,null,null,null,null,null,{"$f":"IF(データセット1!$B225<>\"\",IF($M$1=データセット1!$B225,データセット1!$D225),\"\")","v":""},{"$f":"IF(データセット1!$B225<>\"\",IF($N$1=データセット1!$B225,データセット1!$D225),\"\")","v":""},{"$f":"IF(データセット1!$B225<>\"\",IF($O$1=データセット1!$B225,データセット1!$D225),\"\")","v":""},{"$f":"IF(データセット1!$B225<>\"\",IF($P$1=データセット1!$B225,データセット1!$D225),\"\")","v":""},{"$f":"IF(データセット1!$B225<>\"\",IF($Q$1=データセット1!$B225,データセット1!$D225),\"\")","v":""},{"$f":"IF(データセット1!$B225<>\"\",IF($R$1=データセット1!$B225,データセット1!$D225),\"\")","v":""},{"$f":"IF(データセット1!$B225<>\"\",IF($S$1=データセット1!$B225,データセット1!$D225),\"\")","v":""},{"$f":"IF(データセット1!$B225<>\"\",IF($T$1=データセット1!$B225,データセット1!$D225),\"\")","v":""},{"$f":"IF(データセット1!$B225<>\"\",IF($U$1=データセット1!$B225,データセット1!$D225),\"\")","v":""}]
[null,null,null,null,null,null,null,null,null,null,null,null,{"$f":"IF(データセット1!$B226<>\"\",IF($M$1=データセット1!$B226,データセット1!$D226),\"\")","v":""},{"$f":"IF(データセット1!$B226<>\"\",IF($N$1=データセット1!$B226,データセット1!$D226),\"\")","v":""},{"$f":"IF(データセット1!$B226<>\"\",IF($O$1=データセット1!$B226,データセット1!$D226),\"\")","v":""},{"$f":"IF(データセット1!$B226<>\"\",IF($P$1=データセット1!$B226,データセット1!$D226),\"\")","v":""},{"$f":"IF(データセット1!$B226<>\"\",IF($Q$1=データセット1!$B226,データセット1!$D226),\"\")","v":""},{"$f":"IF(データセット1!$B226<>\"\",IF($R$1=データセット1!$B226,データセット1!$D226),\"\")","v":""},{"$f":"IF(データセット1!$B226<>\"\",IF($S$1=データセット1!$B226,データセット1!$D226),\"\")","v":""},{"$f":"IF(データセット1!$B226<>\"\",IF($T$1=データセット1!$B226,データセット1!$D226),\"\")","v":""},{"$f":"IF(データセット1!$B226<>\"\",IF($U$1=データセット1!$B226,データセット1!$D226),\"\")","v":""}]
[null,null,null,null,null,null,null,null,null,null,null,null,{"$f":"IF(データセット1!$B227<>\"\",IF($M$1=データセット1!$B227,データセット1!$D227),\"\")","v":""},{"$f":"IF(データセット1!$B227<>\"\",IF($N$1=データセット1!$B227,データセット1!$D227),\"\")","v":""},{"$f":"IF(データセット1!$B227<>\"\",IF($O$1=データセット1!$B227,データセット1!$D227),\"\")","v":""},{"$f":"IF(データセット1!$B227<>\"\",IF($P$1=データセット1!$B227,データセット1!$D227),\"\")","v":""},{"$f":"IF(データセット1!$B227<>\"\",IF($Q$1=データセット1!$B227,データセット1!$D227),\"\")","v":""},{"$f":"IF(データセット1!$B227<>\"\",IF($R$1=データセット1!$B227,データセット1!$D227),\"\")","v":""},{"$f":"IF(データセット1!$B227<>\"\",IF($S$1=データセット1!$B227,データセット1!$D227),\"\")","v":""},{"$f":"IF(データセット1!$B227<>\"\",IF($T$1=データセット1!$B227,データセット1!$D227),\"\")","v":""},{"$f":"IF(データセット1!$B227<>\"\",IF($U$1=データセット1!$B227,データセット1!$D227),\"\")","v":""}]
[null,null,null,null,null,null,null,null,null,null,null,null,{"$f":"IF(データセット1!$B228<>\"\",IF($M$1=データセット1!$B228,データセット1!$D228),\"\")","v":""},{"$f":"IF(データセット1!$B228<>\"\",IF($N$1=データセット1!$B228,データセット1!$D228),\"\")","v":""},{"$f":"IF(データセット1!$B228<>\"\",IF($O$1=データセット1!$B228,データセット1!$D228),\"\")","v":""},{"$f":"IF(データセット1!$B228<>\"\",IF($P$1=データセット1!$B228,データセット1!$D228),\"\")","v":""},{"$f":"IF(データセット1!$B228<>\"\",IF($Q$1=データセット1!$B228,データセット1!$D228),\"\")","v":""},{"$f":"IF(データセット1!$B228<>\"\",IF($R$1=データセット1!$B228,データセット1!$D228),\"\")","v":""},{"$f":"IF(データセット1!$B228<>\"\",IF($S$1=データセット1!$B228,データセット1!$D228),\"\")","v":""},{"$f":"IF(データセット1!$B228<>\"\",IF($T$1=データセット1!$B228,データセット1!$D228),\"\")","v":""},{"$f":"IF(データセット1!$B228<>\"\",IF($U$1=データセット1!$B228,データセット1!$D228),\"\")","v":""}]
[null,null,null,null,null,null,null,null,null,null,null,null,{"$f":"IF(データセット1!$B229<>\"\",IF($M$1=データセット1!$B229,データセット1!$D229),\"\")","v":""},{"$f":"IF(データセット1!$B229<>\"\",IF($N$1=データセット1!$B229,データセット1!$D229),\"\")","v":""},{"$f":"IF(データセット1!$B229<>\"\",IF($O$1=データセット1!$B229,データセット1!$D229),\"\")","v":""},{"$f":"IF(データセット1!$B229<>\"\",IF($P$1=データセット1!$B229,データセット1!$D229),\"\")","v":""},{"$f":"IF(データセット1!$B229<>\"\",IF($Q$1=データセット1!$B229,データセット1!$D229),\"\")","v":""},{"$f":"IF(データセット1!$B229<>\"\",IF($R$1=データセット1!$B229,データセット1!$D229),\"\")","v":""},{"$f":"IF(データセット1!$B229<>\"\",IF($S$1=データセット1!$B229,データセット1!$D229),\"\")","v":""},{"$f":"IF(データセット1!$B229<>\"\",IF($T$1=データセット1!$B229,データセット1!$D229),\"\")","v":""},{"$f":"IF(データセット1!$B229<>\"\",IF($U$1=データセット1!$B229,データセット1!$D229),\"\")","v":""}]
[null,null,null,null,null,null,null,null,null,null,null,null,{"$f":"IF(データセット1!$B230<>\"\",IF($M$1=データセット1!$B230,データセット1!$D230),\"\")","v":""},{"$f":"IF(データセット1!$B230<>\"\",IF($N$1=データセット1!$B230,データセット1!$D230),\"\")","v":""},{"$f":"IF(データセット1!$B230<>\"\",IF($O$1=データセット1!$B230,データセット1!$D230),\"\")","v":""},{"$f":"IF(データセット1!$B230<>\"\",IF($P$1=データセット1!$B230,データセット1!$D230),\"\")","v":""},{"$f":"IF(データセット1!$B230<>\"\",IF($Q$1=データセット1!$B230,データセット1!$D230),\"\")","v":""},{"$f":"IF(データセット1!$B230<>\"\",IF($R$1=データセット1!$B230,データセット1!$D230),\"\")","v":""},{"$f":"IF(データセット1!$B230<>\"\",IF($S$1=データセット1!$B230,データセット1!$D230),\"\")","v":""},{"$f":"IF(データセット1!$B230<>\"\",IF($T$1=データセット1!$B230,データセット1!$D230),\"\")","v":""},{"$f":"IF(データセット1!$B230<>\"\",IF($U$1=データセット1!$B230,データセット1!$D230),\"\")","v":""}]
[null,null,null,null,null,null,null,null,null,null,null,null,{"$f":"IF(データセット1!$B231<>\"\",IF($M$1=データセット1!$B231,データセット1!$D231),\"\")","v":""},{"$f":"IF(データセット1!$B231<>\"\",IF($N$1=データセット1!$B231,データセット1!$D231),\"\")","v":""},{"$f":"IF(データセット1!$B231<>\"\",IF($O$1=データセット1!$B231,データセット1!$D231),\"\")","v":""},{"$f":"IF(データセット1!$B231<>\"\",IF($P$1=データセット1!$B231,データセット1!$D231),\"\")","v":""},{"$f":"IF(データセット1!$B231<>\"\",IF($Q$1=データセット1!$B231,データセット1!$D231),\"\")","v":""},{"$f":"IF(データセット1!$B231<>\"\",IF($R$1=データセット1!$B231,データセット1!$D231),\"\")","v":""},{"$f":"IF(データセット1!$B231<>\"\",IF($S$1=データセット1!$B231,データセット1!$D231),\"\")","v":""},{"$f":"IF(データセット1!$B231<>\"\",IF($T$1=データセット1!$B231,データセット1!$D231),\"\")","v":""},{"$f":"IF(データセット1!$B231<>\"\",IF($U$1=データセット1!$B231,データセット1!$D231),\"\")","v":""}]
[null,null,null,null,null,null,null,null,null,null,null,null,{"$f":"IF(データセット1!$B232<>\"\",IF($M$1=データセット1!$B232,データセット1!$D232),\"\")","v":""},{"$f":"IF(データセット1!$B232<>\"\",IF($N$1=データセット1!$B232,データセット1!$D232),\"\")","v":""},{"$f":"IF(データセット1!$B232<>\"\",IF($O$1=データセット1!$B232,データセット1!$D232),\"\")","v":""},{"$f":"IF(データセット1!$B232<>\"\",IF($P$1=データセット1!$B232,データセット1!$D232),\"\")","v":""},{"$f":"IF(データセット1!$B232<>\"\",IF($Q$1=データセット1!$B232,データセット1!$D232),\"\")","v":""},{"$f":"IF(データセット1!$B232<>\"\",IF($R$1=データセット1!$B232,データセット1!$D232),\"\")","v":""},{"$f":"IF(データセット1!$B232<>\"\",IF($S$1=データセット1!$B232,データセット1!$D232),\"\")","v":""},{"$f":"IF(データセット1!$B232<>\"\",IF($T$1=データセット1!$B232,データセット1!$D232),\"\")","v":""},{"$f":"IF(データセット1!$B232<>\"\",IF($U$1=データセット1!$B232,データセット1!$D232),\"\")","v":""}]
[null,null,null,null,null,null,null,null,null,null,null,null,{"$f":"IF(データセット1!$B233<>\"\",IF($M$1=データセット1!$B233,データセット1!$D233),\"\")","v":""},{"$f":"IF(データセット1!$B233<>\"\",IF($N$1=データセット1!$B233,データセット1!$D233),\"\")","v":""},{"$f":"IF(データセット1!$B233<>\"\",IF($O$1=データセット1!$B233,データセット1!$D233),\"\")","v":""},{"$f":"IF(データセット1!$B233<>\"\",IF($P$1=データセット1!$B233,データセット1!$D233),\"\")","v":""},{"$f":"IF(データセット1!$B233<>\"\",IF($Q$1=データセット1!$B233,データセット1!$D233),\"\")","v":""},{"$f":"IF(データセット1!$B233<>\"\",IF($R$1=データセット1!$B233,データセット1!$D233),\"\")","v":""},{"$f":"IF(データセット1!$B233<>\"\",IF($S$1=データセット1!$B233,データセット1!$D233),\"\")","v":""},{"$f":"IF(データセット1!$B233<>\"\",IF($T$1=データセット1!$B233,データセット1!$D233),\"\")","v":""},{"$f":"IF(データセット1!$B233<>\"\",IF($U$1=データセット1!$B233,データセット1!$D233),\"\")","v":""}]
[null,null,null,null,null,null,null,null,null,null,null,null,{"$f":"IF(データセット1!$B234<>\"\",IF($M$1=データセット1!$B234,データセット1!$D234),\"\")","v":""},{"$f":"IF(データセット1!$B234<>\"\",IF($N$1=データセット1!$B234,データセット1!$D234),\"\")","v":""},{"$f":"IF(データセット1!$B234<>\"\",IF($O$1=データセット1!$B234,データセット1!$D234),\"\")","v":""},{"$f":"IF(データセット1!$B234<>\"\",IF($P$1=データセット1!$B234,データセット1!$D234),\"\")","v":""},{"$f":"IF(データセット1!$B234<>\"\",IF($Q$1=データセット1!$B234,データセット1!$D234),\"\")","v":""},{"$f":"IF(データセット1!$B234<>\"\",IF($R$1=データセット1!$B234,データセット1!$D234),\"\")","v":""},{"$f":"IF(データセット1!$B234<>\"\",IF($S$1=データセット1!$B234,データセット1!$D234),\"\")","v":""},{"$f":"IF(データセット1!$B234<>\"\",IF($T$1=データセット1!$B234,データセット1!$D234),\"\")","v":""},{"$f":"IF(データセット1!$B234<>\"\",IF($U$1=データセット1!$B234,データセット1!$D234),\"\")","v":""}]
[null,null,null,null,null,null,null,null,null,null,null,null,{"$f":"IF(データセット1!$B235<>\"\",IF($M$1=データセット1!$B235,データセット1!$D235),\"\")","v":""},{"$f":"IF(データセット1!$B235<>\"\",IF($N$1=データセット1!$B235,データセット1!$D235),\"\")","v":""},{"$f":"IF(データセット1!$B235<>\"\",IF($O$1=データセット1!$B235,データセット1!$D235),\"\")","v":""},{"$f":"IF(データセット1!$B235<>\"\",IF($P$1=データセット1!$B235,データセット1!$D235),\"\")","v":""},{"$f":"IF(データセット1!$B235<>\"\",IF($Q$1=データセット1!$B235,データセット1!$D235),\"\")","v":""},{"$f":"IF(データセット1!$B235<>\"\",IF($R$1=データセット1!$B235,データセット1!$D235),\"\")","v":""},{"$f":"IF(データセット1!$B235<>\"\",IF($S$1=データセット1!$B235,データセット1!$D235),\"\")","v":""},{"$f":"IF(データセット1!$B235<>\"\",IF($T$1=データセット1!$B235,データセット1!$D235),\"\")","v":""},{"$f":"IF(データセット1!$B235<>\"\",IF($U$1=データセット1!$B235,データセット1!$D235),\"\")","v":""}]
[null,null,null,null,null,null,null,null,null,null,null,null,{"$f":"IF(データセット1!$B236<>\"\",IF($M$1=データセット1!$B236,データセット1!$D236),\"\")","v":""},{"$f":"IF(データセット1!$B236<>\"\",IF($N$1=データセット1!$B236,データセット1!$D236),\"\")","v":""},{"$f":"IF(データセット1!$B236<>\"\",IF($O$1=データセット1!$B236,データセット1!$D236),\"\")","v":""},{"$f":"IF(データセット1!$B236<>\"\",IF($P$1=データセット1!$B236,データセット1!$D236),\"\")","v":""},{"$f":"IF(データセット1!$B236<>\"\",IF($Q$1=データセット1!$B236,データセット1!$D236),\"\")","v":""},{"$f":"IF(データセット1!$B236<>\"\",IF($R$1=データセット1!$B236,データセット1!$D236),\"\")","v":""},{"$f":"IF(データセット1!$B236<>\"\",IF($S$1=データセット1!$B236,データセット1!$D236),\"\")","v":""},{"$f":"IF(データセット1!$B236<>\"\",IF($T$1=データセット1!$B236,データセット1!$D236),\"\")","v":""},{"$f":"IF(データセット1!$B236<>\"\",IF($U$1=データセット1!$B236,データセット1!$D236),\"\")","v":""}]
[null,null,null,null,null,null,null,null,null,null,null,null,{"$f":"IF(データセット1!$B237<>\"\",IF($M$1=データセット1!$B237,データセット1!$D237),\"\")","v":""},{"$f":"IF(データセット1!$B237<>\"\",IF($N$1=データセット1!$B237,データセット1!$D237),\"\")","v":""},{"$f":"IF(データセット1!$B237<>\"\",IF($O$1=データセット1!$B237,データセット1!$D237),\"\")","v":""},{"$f":"IF(データセット1!$B237<>\"\",IF($P$1=データセット1!$B237,データセット1!$D237),\"\")","v":""},{"$f":"IF(データセット1!$B237<>\"\",IF($Q$1=データセット1!$B237,データセット1!$D237),\"\")","v":""},{"$f":"IF(データセット1!$B237<>\"\",IF($R$1=データセット1!$B237,データセット1!$D237),\"\")","v":""},{"$f":"IF(データセット1!$B237<>\"\",IF($S$1=データセット1!$B237,データセット1!$D237),\"\")","v":""},{"$f":"IF(データセット1!$B237<>\"\",IF($T$1=データセット1!$B237,データセット1!$D237),\"\")","v":""},{"$f":"IF(データセット1!$B237<>\"\",IF($U$1=データセット1!$B237,データセット1!$D237),\"\")","v":""}]
[null,null,null,null,null,null,null,null,null,null,null,null,{"$f":"IF(データセット1!$B238<>\"\",IF($M$1=データセット1!$B238,データセット1!$D238),\"\")","v":""},{"$f":"IF(データセット1!$B238<>\"\",IF($N$1=データセット1!$B238,データセット1!$D238),\"\")","v":""},{"$f":"IF(データセット1!$B238<>\"\",IF($O$1=データセット1!$B238,データセット1!$D238),\"\")","v":""},{"$f":"IF(データセット1!$B238<>\"\",IF($P$1=データセット1!$B238,データセット1!$D238),\"\")","v":""},{"$f":"IF(データセット1!$B238<>\"\",IF($Q$1=データセット1!$B238,データセット1!$D238),\"\")","v":""},{"$f":"IF(データセット1!$B238<>\"\",IF($R$1=データセット1!$B238,データセット1!$D238),\"\")","v":""},{"$f":"IF(データセット1!$B238<>\"\",IF($S$1=データセット1!$B238,データセット1!$D238),\"\")","v":""},{"$f":"IF(データセット1!$B238<>\"\",IF($T$1=データセット1!$B238,データセット1!$D238),\"\")","v":""},{"$f":"IF(データセット1!$B238<>\"\",IF($U$1=データセット1!$B238,データセット1!$D238),\"\")","v":""}]
[null,null,null,null,null,null,null,null,null,null,null,null,{"$f":"IF(データセット1!$B239<>\"\",IF($M$1=データセット1!$B239,データセット1!$D239),\"\")","v":""},{"$f":"IF(データセット1!$B239<>\"\",IF($N$1=データセット1!$B239,データセット1!$D239),\"\")","v":""},{"$f":"IF(データセット1!$B239<>\"\",IF($O$1=データセット1!$B239,データセット1!$D239),\"\")","v":""},{"$f":"IF(データセット1!$B239<>\"\",IF($P$1=データセット1!$B239,データセット1!$D239),\"\")","v":""},{"$f":"IF(データセット1!$B239<>\"\",IF($Q$1=データセット1!$B239,データセット1!$D239),\"\")","v":""},{"$f":"IF(データセット1!$B239<>\"\",IF($R$1=データセット1!$B239,データセット1!$D239),\"\")","v":""},{"$f":"IF(データセット1!$B239<>\"\",IF($S$1=データセット1!$B239,データセット1!$D239),\"\")","v":""},{"$f":"IF(データセット1!$B239<>\"\",IF($T$1=データセット1!$B239,データセット1!$D239),\"\")","v":""},{"$f":"IF(データセット1!$B239<>\"\",IF($U$1=データセット1!$B239,データセット1!$D239),\"\")","v":""}]
[null,null,null,null,null,null,null,null,null,null,null,null,{"$f":"IF(データセット1!$B240<>\"\",IF($M$1=データセット1!$B240,データセット1!$D240),\"\")","v":""},{"$f":"IF(データセット1!$B240<>\"\",IF($N$1=データセット1!$B240,データセット1!$D240),\"\")","v":""},{"$f":"IF(データセット1!$B240<>\"\",IF($O$1=データセット1!$B240,データセット1!$D240),\"\")","v":""},{"$f":"IF(データセット1!$B240<>\"\",IF($P$1=データセット1!$B240,データセット1!$D240),\"\")","v":""},{"$f":"IF(データセット1!$B240<>\"\",IF($Q$1=データセット1!$B240,データセット1!$D240),\"\")","v":""},{"$f":"IF(データセット1!$B240<>\"\",IF($R$1=データセット1!$B240,データセット1!$D240),\"\")","v":""},{"$f":"IF(データセット1!$B240<>\"\",IF($S$1=データセット1!$B240,データセット1!$D240),\"\")","v":""},{"$f":"IF(データセット1!$B240<>\"\",IF($T$1=データセット1!$B240,データセット1!$D240),\"\")","v":""},{"$f":"IF(データセット1!$B240<>\"\",IF($U$1=データセット1!$B240,データセット1!$D240),\"\")","v":""}]
[null,null,null,null,null,null,null,null,null,null,null,null,{"$f":"IF(データセット1!$B241<>\"\",IF($M$1=データセット1!$B241,データセット1!$D241),\"\")","v":""},{"$f":"IF(データセット1!$B241<>\"\",IF($N$1=データセット1!$B241,データセット1!$D241),\"\")","v":""},{"$f":"IF(データセット1!$B241<>\"\",IF($O$1=データセット1!$B241,データセット1!$D241),\"\")","v":""},{"$f":"IF(データセット1!$B241<>\"\",IF($P$1=データセット1!$B241,データセット1!$D241),\"\")","v":""},{"$f":"IF(データセット1!$B241<>\"\",IF($Q$1=データセット1!$B241,データセット1!$D241),\"\")","v":""},{"$f":"IF(データセット1!$B241<>\"\",IF($R$1=データセット1!$B241,データセット1!$D241),\"\")","v":""},{"$f":"IF(データセット1!$B241<>\"\",IF($S$1=データセット1!$B241,データセット1!$D241),\"\")","v":""},{"$f":"IF(データセット1!$B241<>\"\",IF($T$1=データセット1!$B241,データセット1!$D241),\"\")","v":""},{"$f":"IF(データセット1!$B241<>\"\",IF($U$1=データセット1!$B241,データセット1!$D241),\"\")","v":""}]
[null,null,null,null,null,null,null,null,null,null,null,null,{"$f":"IF(データセット1!$B242<>\"\",IF($M$1=データセット1!$B242,データセット1!$D242),\"\")","v":""},{"$f":"IF(データセット1!$B242<>\"\",IF($N$1=データセット1!$B242,データセット1!$D242),\"\")","v":""},{"$f":"IF(データセット1!$B242<>\"\",IF($O$1=データセット1!$B242,データセット1!$D242),\"\")","v":""},{"$f":"IF(データセット1!$B242<>\"\",IF($P$1=データセット1!$B242,データセット1!$D242),\"\")","v":""},{"$f":"IF(データセット1!$B242<>\"\",IF($Q$1=データセット1!$B242,データセット1!$D242),\"\")","v":""},{"$f":"IF(データセット1!$B242<>\"\",IF($R$1=データセット1!$B242,データセット1!$D242),\"\")","v":""},{"$f":"IF(データセット1!$B242<>\"\",IF($S$1=データセット1!$B242,データセット1!$D242),\"\")","v":""},{"$f":"IF(データセット1!$B242<>\"\",IF($T$1=データセット1!$B242,データセット1!$D242),\"\")","v":""},{"$f":"IF(データセット1!$B242<>\"\",IF($U$1=データセット1!$B242,データセット1!$D242),\"\")","v":""}]
[null,null,null,null,null,null,null,null,null,null,null,null,{"$f":"IF(データセット1!$B243<>\"\",IF($M$1=データセット1!$B243,データセット1!$D243),\"\")","v":""},{"$f":"IF(データセット1!$B243<>\"\",IF($N$1=データセット1!$B243,データセット1!$D243),\"\")","v":""},{"$f":"IF(データセット1!$B243<>\"\",IF($O$1=データセット1!$B243,データセット1!$D243),\"\")","v":""},{"$f":"IF(データセット1!$B243<>\"\",IF($P$1=データセット1!$B243,データセット1!$D243),\"\")","v":""},{"$f":"IF(データセット1!$B243<>\"\",IF($Q$1=データセット1!$B243,データセット1!$D243),\"\")","v":""},{"$f":"IF(データセット1!$B243<>\"\",IF($R$1=データセット1!$B243,データセット1!$D243),\"\")","v":""},{"$f":"IF(データセット1!$B243<>\"\",IF($S$1=データセット1!$B243,データセット1!$D243),\"\")","v":""},{"$f":"IF(データセット1!$B243<>\"\",IF($T$1=データセット1!$B243,データセット1!$D243),\"\")","v":""},{"$f":"IF(データセット1!$B243<>\"\",IF($U$1=データセット1!$B243,データセット1!$D243),\"\")","v":""}]
[null,null,null,null,null,null,null,null,null,null,null,null,{"$f":"IF(データセット1!$B244<>\"\",IF($M$1=データセット1!$B244,データセット1!$D244),\"\")","v":""},{"$f":"IF(データセット1!$B244<>\"\",IF($N$1=データセット1!$B244,データセット1!$D244),\"\")","v":""},{"$f":"IF(データセット1!$B244<>\"\",IF($O$1=データセット1!$B244,データセット1!$D244),\"\")","v":""},{"$f":"IF(データセット1!$B244<>\"\",IF($P$1=データセット1!$B244,データセット1!$D244),\"\")","v":""},{"$f":"IF(データセット1!$B244<>\"\",IF($Q$1=データセット1!$B244,データセット1!$D244),\"\")","v":""},{"$f":"IF(データセット1!$B244<>\"\",IF($R$1=データセット1!$B244,データセット1!$D244),\"\")","v":""},{"$f":"IF(データセット1!$B244<>\"\",IF($S$1=データセット1!$B244,データセット1!$D244),\"\")","v":""},{"$f":"IF(データセット1!$B244<>\"\",IF($T$1=データセット1!$B244,データセット1!$D244),\"\")","v":""},{"$f":"IF(データセット1!$B244<>\"\",IF($U$1=データセット1!$B244,データセット1!$D244),\"\")","v":""}]
[null,null,null,null,null,null,null,null,null,null,null,null,{"$f":"IF(データセット1!$B245<>\"\",IF($M$1=データセット1!$B245,データセット1!$D245),\"\")","v":""},{"$f":"IF(データセット1!$B245<>\"\",IF($N$1=データセット1!$B245,データセット1!$D245),\"\")","v":""},{"$f":"IF(データセット1!$B245<>\"\",IF($O$1=データセット1!$B245,データセット1!$D245),\"\")","v":""},{"$f":"IF(データセット1!$B245<>\"\",IF($P$1=データセット1!$B245,データセット1!$D245),\"\")","v":""},{"$f":"IF(データセット1!$B245<>\"\",IF($Q$1=データセット1!$B245,データセット1!$D245),\"\")","v":""},{"$f":"IF(データセット1!$B245<>\"\",IF($R$1=データセット1!$B245,データセット1!$D245),\"\")","v":""},{"$f":"IF(データセット1!$B245<>\"\",IF($S$1=データセット1!$B245,データセット1!$D245),\"\")","v":""},{"$f":"IF(データセット1!$B245<>\"\",IF($T$1=データセット1!$B245,データセット1!$D245),\"\")","v":""},{"$f":"IF(データセット1!$B245<>\"\",IF($U$1=データセット1!$B245,データセット1!$D245),\"\")","v":""}]
[null,null,null,null,null,null,null,null,null,null,null,null,{"$f":"IF(データセット1!$B246<>\"\",IF($M$1=データセット1!$B246,データセット1!$D246),\"\")","v":""},{"$f":"IF(データセット1!$B246<>\"\",IF($N$1=データセット1!$B246,データセット1!$D246),\"\")","v":""},{"$f":"IF(データセット1!$B246<>\"\",IF($O$1=データセット1!$B246,データセット1!$D246),\"\")","v":""},{"$f":"IF(データセット1!$B246<>\"\",IF($P$1=データセット1!$B246,データセット1!$D246),\"\")","v":""},{"$f":"IF(データセット1!$B246<>\"\",IF($Q$1=データセット1!$B246,データセット1!$D246),\"\")","v":""},{"$f":"IF(データセット1!$B246<>\"\",IF($R$1=データセット1!$B246,データセット1!$D246),\"\")","v":""},{"$f":"IF(データセット1!$B246<>\"\",IF($S$1=データセット1!$B246,データセット1!$D246),\"\")","v":""},{"$f":"IF(データセット1!$B246<>\"\",IF($T$1=データセット1!$B246,データセット1!$D246),\"\")","v":""},{"$f":"IF(データセット1!$B246<>\"\",IF($U$1=データセット1!$B246,データセット1!$D246),\"\")","v":""}]
[null,null,null,null,null,null,null,null,null,null,null,null,{"$f":"IF(データセット1!$B247<>\"\",IF($M$1=データセット1!$B247,データセット1!$D247),\"\")","v":""},{"$f":"IF(データセット1!$B247<>\"\",IF($N$1=データセット1!$B247,データセット1!$D247),\"\")","v":""},{"$f":"IF(データセット1!$B247<>\"\",IF($O$1=データセット1!$B247,データセット1!$D247),\"\")","v":""},{"$f":"IF(データセット1!$B247<>\"\",IF($P$1=データセット1!$B247,データセット1!$D247),\"\")","v":""},{"$f":"IF(データセット1!$B247<>\"\",IF($Q$1=データセット1!$B247,データセット1!$D247),\"\")","v":""},{"$f":"IF(データセット1!$B247<>\"\",IF($R$1=データセット1!$B247,データセット1!$D247),\"\")","v":""},{"$f":"IF(データセット1!$B247<>\"\",IF($S$1=データセット1!$B247,データセット1!$D247),\"\")","v":""},{"$f":"IF(データセット1!$B247<>\"\",IF($T$1=データセット1!$B247,データセット1!$D247),\"\")","v":""},{"$f":"IF(データセット1!$B247<>\"\",IF($U$1=データセット1!$B247,データセット1!$D247),\"\")","v":""}]
[null,null,null,null,null,null,null,null,null,null,null,null,{"$f":"IF(データセット1!$B248<>\"\",IF($M$1=データセット1!$B248,データセット1!$D248),\"\")","v":""},{"$f":"IF(データセット1!$B248<>\"\",IF($N$1=データセット1!$B248,データセット1!$D248),\"\")","v":""},{"$f":"IF(データセット1!$B248<>\"\",IF($O$1=データセット1!$B248,データセット1!$D248),\"\")","v":""},{"$f":"IF(データセット1!$B248<>\"\",IF($P$1=データセット1!$B248,データセット1!$D248),\"\")","v":""},{"$f":"IF(データセット1!$B248<>\"\",IF($Q$1=データセット1!$B248,データセット1!$D248),\"\")","v":""},{"$f":"IF(データセット1!$B248<>\"\",IF($R$1=データセット1!$B248,データセット1!$D248),\"\")","v":""},{"$f":"IF(データセット1!$B248<>\"\",IF($S$1=データセット1!$B248,データセット1!$D248),\"\")","v":""},{"$f":"IF(データセット1!$B248<>\"\",IF($T$1=データセット1!$B248,データセット1!$D248),\"\")","v":""},{"$f":"IF(データセット1!$B248<>\"\",IF($U$1=データセット1!$B248,データセット1!$D248),\"\")","v":""}]
[null,null,null,null,null,null,null,null,null,null,null,null,{"$f":"IF(データセット1!$B249<>\"\",IF($M$1=データセット1!$B249,データセット1!$D249),\"\")","v":""},{"$f":"IF(データセット1!$B249<>\"\",IF($N$1=データセット1!$B249,データセット1!$D249),\"\")","v":""},{"$f":"IF(データセット1!$B249<>\"\",IF($O$1=データセット1!$B249,データセット1!$D249),\"\")","v":""},{"$f":"IF(データセット1!$B249<>\"\",IF($P$1=データセット1!$B249,データセット1!$D249),\"\")","v":""},{"$f":"IF(データセット1!$B249<>\"\",IF($Q$1=データセット1!$B249,データセット1!$D249),\"\")","v":""},{"$f":"IF(データセット1!$B249<>\"\",IF($R$1=データセット1!$B249,データセット1!$D249),\"\")","v":""},{"$f":"IF(データセット1!$B249<>\"\",IF($S$1=データセット1!$B249,データセット1!$D249),\"\")","v":""},{"$f":"IF(データセット1!$B249<>\"\",IF($T$1=データセット1!$B249,データセット1!$D249),\"\")","v":""},{"$f":"IF(データセット1!$B249<>\"\",IF($U$1=データセット1!$B249,データセット1!$D249),\"\")","v":""}]
[null,null,null,null,null,null,null,null,null,null,null,null,{"$f":"IF(データセット1!$B250<>\"\",IF($M$1=データセット1!$B250,データセット1!$D250),\"\")","v":""},{"$f":"IF(データセット1!$B250<>\"\",IF($N$1=データセット1!$B250,データセット1!$D250),\"\")","v":""},{"$f":"IF(データセット1!$B250<>\"\",IF($O$1=データセット1!$B250,データセット1!$D250),\"\")","v":""},{"$f":"IF(データセット1!$B250<>\"\",IF($P$1=データセット1!$B250,データセット1!$D250),\"\")","v":""},{"$f":"IF(データセット1!$B250<>\"\",IF($Q$1=データセット1!$B250,データセット1!$D250),\"\")","v":""},{"$f":"IF(データセット1!$B250<>\"\",IF($R$1=データセット1!$B250,データセット1!$D250),\"\")","v":""},{"$f":"IF(データセット1!$B250<>\"\",IF($S$1=データセット1!$B250,データセット1!$D250),\"\")","v":""},{"$f":"IF(データセット1!$B250<>\"\",IF($T$1=データセット1!$B250,データセット1!$D250),\"\")","v":""},{"$f":"IF(データセット1!$B250<>\"\",IF($U$1=データセット1!$B250,データセット1!$D250),\"\")","v":""}]
[null,null,null,null,null,null,null,null,null,null,null,null,{"$f":"IF(データセット1!$B251<>\"\",IF($M$1=データセット1!$B251,データセット1!$D251),\"\")","v":""},{"$f":"IF(データセット1!$B251<>\"\",IF($N$1=データセット1!$B251,データセット1!$D251),\"\")","v":""},{"$f":"IF(データセット1!$B251<>\"\",IF($O$1=データセット1!$B251,データセット1!$D251),\"\")","v":""},{"$f":"IF(データセット1!$B251<>\"\",IF($P$1=データセット1!$B251,データセット1!$D251),\"\")","v":""},{"$f":"IF(データセット1!$B251<>\"\",IF($Q$1=データセット1!$B251,データセット1!$D251),\"\")","v":""},{"$f":"IF(データセット1!$B251<>\"\",IF($R$1=データセット1!$B251,データセット1!$D251),\"\")","v":""},{"$f":"IF(データセット1!$B251<>\"\",IF($S$1=データセット1!$B251,データセット1!$D251),\"\")","v":""},{"$f":"IF(データセット1!$B251<>\"\",IF($T$1=データセット1!$B251,データセット1!$D251),\"\")","v":""},{"$f":"IF(データセット1!$B251<>\"\",IF($U$1=データセット1!$B251,データセット1!$D251),\"\")","v":""}]
[null,null,null,null,null,null,null,null,null,null,null,null,{"$f":"IF(データセット1!$B252<>\"\",IF($M$1=データセット1!$B252,データセット1!$D252),\"\")","v":""},{"$f":"IF(データセット1!$B252<>\"\",IF($N$1=データセット1!$B252,データセット1!$D252),\"\")","v":""},{"$f":"IF(データセット1!$B252<>\"\",IF($O$1=データセット1!$B252,データセット1!$D252),\"\")","v":""},{"$f":"IF(データセット1!$B252<>\"\",IF($P$1=データセット1!$B252,データセット1!$D252),\"\")","v":""},{"$f":"IF(データセット1!$B252<>\"\",IF($Q$1=データセット1!$B252,データセット1!$D252),\"\")","v":""},{"$f":"IF(データセット1!$B252<>\"\",IF($R$1=データセット1!$B252,データセット1!$D252),\"\")","v":""},{"$f":"IF(データセット1!$B252<>\"\",IF($S$1=データセット1!$B252,データセット1!$D252),\"\")","v":""},{"$f":"IF(データセット1!$B252<>\"\",IF($T$1=データセット1!$B252,データセット1!$D252),\"\")","v":""},{"$f":"IF(データセット1!$B252<>\"\",IF($U$1=データセット1!$B252,データセット1!$D252),\"\")","v":""}]
[null,null,null,null,null,null,null,null,null,null,null,null,{"$f":"IF(データセット1!$B253<>\"\",IF($M$1=データセット1!$B253,データセット1!$D253),\"\")","v":""},{"$f":"IF(データセット1!$B253<>\"\",IF($N$1=データセット1!$B253,データセット1!$D253),\"\")","v":""},{"$f":"IF(データセット1!$B253<>\"\",IF($O$1=データセット1!$B253,データセット1!$D253),\"\")","v":""},{"$f":"IF(データセット1!$B253<>\"\",IF($P$1=データセット1!$B253,データセット1!$D253),\"\")","v":""},{"$f":"IF(データセット1!$B253<>\"\",IF($Q$1=データセット1!$B253,データセット1!$D253),\"\")","v":""},{"$f":"IF(データセット1!$B253<>\"\",IF($R$1=データセット1!$B253,データセット1!$D253),\"\")","v":""},{"$f":"IF(データセット1!$B253<>\"\",IF($S$1=データセット1!$B253,データセット1!$D253),\"\")","v":""},{"$f":"IF(データセット1!$B253<>\"\",IF($T$1=データセット1!$B253,データセット1!$D253),\"\")","v":""},{"$f":"IF(データセット1!$B253<>\"\",IF($U$1=データセット1!$B253,データセット1!$D253),\"\")","v":""}]
[null,null,null,null,null,null,null,null,null,null,null,null,{"$f":"IF(データセット1!$B254<>\"\",IF($M$1=データセット1!$B254,データセット1!$D254),\"\")","v":""},{"$f":"IF(データセット1!$B254<>\"\",IF($N$1=データセット1!$B254,データセット1!$D254),\"\")","v":""},{"$f":"IF(データセット1!$B254<>\"\",IF($O$1=データセット1!$B254,データセット1!$D254),\"\")","v":""},{"$f":"IF(データセット1!$B254<>\"\",IF($P$1=データセット1!$B254,データセット1!$D254),\"\")","v":""},{"$f":"IF(データセット1!$B254<>\"\",IF($Q$1=データセット1!$B254,データセット1!$D254),\"\")","v":""},{"$f":"IF(データセット1!$B254<>\"\",IF($R$1=データセット1!$B254,データセット1!$D254),\"\")","v":""},{"$f":"IF(データセット1!$B254<>\"\",IF($S$1=データセット1!$B254,データセット1!$D254),\"\")","v":""},{"$f":"IF(データセット1!$B254<>\"\",IF($T$1=データセット1!$B254,データセット1!$D254),\"\")","v":""},{"$f":"IF(データセット1!$B254<>\"\",IF($U$1=データセット1!$B254,データセット1!$D254),\"\")","v":""}]
[null,null,null,null,null,null,null,null,null,null,null,null,{"$f":"IF(データセット1!$B255<>\"\",IF($M$1=データセット1!$B255,データセット1!$D255),\"\")","v":""},{"$f":"IF(データセット1!$B255<>\"\",IF($N$1=データセット1!$B255,データセット1!$D255),\"\")","v":""},{"$f":"IF(データセット1!$B255<>\"\",IF($O$1=データセット1!$B255,データセット1!$D255),\"\")","v":""},{"$f":"IF(データセット1!$B255<>\"\",IF($P$1=データセット1!$B255,データセット1!$D255),\"\")","v":""},{"$f":"IF(データセット1!$B255<>\"\",IF($Q$1=データセット1!$B255,データセット1!$D255),\"\")","v":""},{"$f":"IF(データセット1!$B255<>\"\",IF($R$1=データセット1!$B255,データセット1!$D255),\"\")","v":""},{"$f":"IF(データセット1!$B255<>\"\",IF($S$1=データセット1!$B255,データセット1!$D255),\"\")","v":""},{"$f":"IF(データセット1!$B255<>\"\",IF($T$1=データセット1!$B255,データセット1!$D255),\"\")","v":""},{"$f":"IF(データセット1!$B255<>\"\",IF($U$1=データセット1!$B255,データセット1!$D255),\"\")","v":""}]
[null,null,null,null,null,null,null,null,null,null,null,null,{"$f":"IF(データセット1!$B256<>\"\",IF($M$1=データセット1!$B256,データセット1!$D256),\"\")","v":""},{"$f":"IF(データセット1!$B256<>\"\",IF($N$1=データセット1!$B256,データセット1!$D256),\"\")","v":""},{"$f":"IF(データセット1!$B256<>\"\",IF($O$1=データセット1!$B256,データセット1!$D256),\"\")","v":""},{"$f":"IF(データセット1!$B256<>\"\",IF($P$1=データセット1!$B256,データセット1!$D256),\"\")","v":""},{"$f":"IF(データセット1!$B256<>\"\",IF($Q$1=データセット1!$B256,データセット1!$D256),\"\")","v":""},{"$f":"IF(データセット1!$B256<>\"\",IF($R$1=データセット1!$B256,データセット1!$D256),\"\")","v":""},{"$f":"IF(データセット1!$B256<>\"\",IF($S$1=データセット1!$B256,データセット1!$D256),\"\")","v":""},{"$f":"IF(データセット1!$B256<>\"\",IF($T$1=データセット1!$B256,データセット1!$D256),\"\")","v":""},{"$f":"IF(データセット1!$B256<>\"\",IF($U$1=データセット1!$B256,データセット1!$D256),\"\")","v":""}]
[null,null,null,null,null,null,null,null,null,null,null,null,{"$f":"IF(データセット1!$B257<>\"\",IF($M$1=データセット1!$B257,データセット1!$D257),\"\")","v":""},{"$f":"IF(データセット1!$B257<>\"\",IF($N$1=データセット1!$B257,データセット1!$D257),\"\")","v":""},{"$f":"IF(データセット1!$B257<>\"\",IF($O$1=データセット1!$B257,データセット1!$D257),\"\")","v":""},{"$f":"IF(データセット1!$B257<>\"\",IF($P$1=データセット1!$B257,データセット1!$D257),\"\")","v":""},{"$f":"IF(データセット1!$B257<>\"\",IF($Q$1=データセット1!$B257,データセット1!$D257),\"\")","v":""},{"$f":"IF(データセット1!$B257<>\"\",IF($R$1=データセット1!$B257,データセット1!$D257),\"\")","v":""},{"$f":"IF(データセット1!$B257<>\"\",IF($S$1=データセット1!$B257,データセット1!$D257),\"\")","v":""},{"$f":"IF(データセット1!$B257<>\"\",IF($T$1=データセット1!$B257,データセット1!$D257),\"\")","v":""},{"$f":"IF(データセット1!$B257<>\"\",IF($U$1=データセット1!$B257,データセット1!$D257),\"\")","v":""}]
[null,null,null,null,null,null,null,null,null,null,null,null,{"$f":"IF(データセット1!$B258<>\"\",IF($M$1=データセット1!$B258,データセット1!$D258),\"\")","v":""},{"$f":"IF(データセット1!$B258<>\"\",IF($N$1=データセット1!$B258,データセット1!$D258),\"\")","v":""},{"$f":"IF(データセット1!$B258<>\"\",IF($O$1=データセット1!$B258,データセット1!$D258),\"\")","v":""},{"$f":"IF(データセット1!$B258<>\"\",IF($P$1=データセット1!$B258,データセット1!$D258),\"\")","v":""},{"$f":"IF(データセット1!$B258<>\"\",IF($Q$1=データセット1!$B258,データセット1!$D258),\"\")","v":""},{"$f":"IF(データセット1!$B258<>\"\",IF($R$1=データセット1!$B258,データセット1!$D258),\"\")","v":""},{"$f":"IF(データセット1!$B258<>\"\",IF($S$1=データセット1!$B258,データセット1!$D258),\"\")","v":""},{"$f":"IF(データセット1!$B258<>\"\",IF($T$1=データセット1!$B258,データセット1!$D258),\"\")","v":""},{"$f":"IF(データセット1!$B258<>\"\",IF($U$1=データセット1!$B258,データセット1!$D258),\"\")","v":""}]
[null,null,null,null,null,null,null,null,null,null,null,null,{"$f":"IF(データセット1!$B259<>\"\",IF($M$1=データセット1!$B259,データセット1!$D259),\"\")","v":""},{"$f":"IF(データセット1!$B259<>\"\",IF($N$1=データセット1!$B259,データセット1!$D259),\"\")","v":""},{"$f":"IF(データセット1!$B259<>\"\",IF($O$1=データセット1!$B259,データセット1!$D259),\"\")","v":""},{"$f":"IF(データセット1!$B259<>\"\",IF($P$1=データセット1!$B259,データセット1!$D259),\"\")","v":""},{"$f":"IF(データセット1!$B259<>\"\",IF($Q$1=データセット1!$B259,データセット1!$D259),\"\")","v":""},{"$f":"IF(データセット1!$B259<>\"\",IF($R$1=データセット1!$B259,データセット1!$D259),\"\")","v":""},{"$f":"IF(データセット1!$B259<>\"\",IF($S$1=データセット1!$B259,データセット1!$D259),\"\")","v":""},{"$f":"IF(データセット1!$B259<>\"\",IF($T$1=データセット1!$B259,データセット1!$D259),\"\")","v":""},{"$f":"IF(データセット1!$B259<>\"\",IF($U$1=データセット1!$B259,データセット1!$D259),\"\")","v":""}]
[null,null,null,null,null,null,null,null,null,null,null,null,{"$f":"IF(データセット1!$B260<>\"\",IF($M$1=データセット1!$B260,データセット1!$D260),\"\")","v":""},{"$f":"IF(データセット1!$B260<>\"\",IF($N$1=データセット1!$B260,データセット1!$D260),\"\")","v":""},{"$f":"IF(データセット1!$B260<>\"\",IF($O$1=データセット1!$B260,データセット1!$D260),\"\")","v":""},{"$f":"IF(データセット1!$B260<>\"\",IF($P$1=データセット1!$B260,データセット1!$D260),\"\")","v":""},{"$f":"IF(データセット1!$B260<>\"\",IF($Q$1=データセット1!$B260,データセット1!$D260),\"\")","v":""},{"$f":"IF(データセット1!$B260<>\"\",IF($R$1=データセット1!$B260,データセット1!$D260),\"\")","v":""},{"$f":"IF(データセット1!$B260<>\"\",IF($S$1=データセット1!$B260,データセット1!$D260),\"\")","v":""},{"$f":"IF(データセット1!$B260<>\"\",IF($T$1=データセット1!$B260,データセット1!$D260),\"\")","v":""},{"$f":"IF(データセット1!$B260<>\"\",IF($U$1=データセット1!$B260,データセット1!$D260),\"\")","v":""}]
[null,null,null,null,null,null,null,null,null,null,null,null,{"$f":"IF(データセット1!$B261<>\"\",IF($M$1=データセット1!$B261,データセット1!$D261),\"\")","v":""},{"$f":"IF(データセット1!$B261<>\"\",IF($N$1=データセット1!$B261,データセット1!$D261),\"\")","v":""},{"$f":"IF(データセット1!$B261<>\"\",IF($O$1=データセット1!$B261,データセット1!$D261),\"\")","v":""},{"$f":"IF(データセット1!$B261<>\"\",IF($P$1=データセット1!$B261,データセット1!$D261),\"\")","v":""},{"$f":"IF(データセット1!$B261<>\"\",IF($Q$1=データセット1!$B261,データセット1!$D261),\"\")","v":""},{"$f":"IF(データセット1!$B261<>\"\",IF($R$1=データセット1!$B261,データセット1!$D261),\"\")","v":""},{"$f":"IF(データセット1!$B261<>\"\",IF($S$1=データセット1!$B261,データセット1!$D261),\"\")","v":""},{"$f":"IF(データセット1!$B261<>\"\",IF($T$1=データセット1!$B261,データセット1!$D261),\"\")","v":""},{"$f":"IF(データセット1!$B261<>\"\",IF($U$1=データセット1!$B261,データセット1!$D261),\"\")","v":""}]
[null,null,null,null,null,null,null,null,null,null,null,null,{"$f":"IF(データセット1!$B262<>\"\",IF($M$1=データセット1!$B262,データセット1!$D262),\"\")","v":""},{"$f":"IF(データセット1!$B262<>\"\",IF($N$1=データセット1!$B262,データセット1!$D262),\"\")","v":""},{"$f":"IF(データセット1!$B262<>\"\",IF($O$1=データセット1!$B262,データセット1!$D262),\"\")","v":""},{"$f":"IF(データセット1!$B262<>\"\",IF($P$1=データセット1!$B262,データセット1!$D262),\"\")","v":""},{"$f":"IF(データセット1!$B262<>\"\",IF($Q$1=データセット1!$B262,データセット1!$D262),\"\")","v":""},{"$f":"IF(データセット1!$B262<>\"\",IF($R$1=データセット1!$B262,データセット1!$D262),\"\")","v":""},{"$f":"IF(データセット1!$B262<>\"\",IF($S$1=データセット1!$B262,データセット1!$D262),\"\")","v":""},{"$f":"IF(データセット1!$B262<>\"\",IF($T$1=データセット1!$B262,データセット1!$D262),\"\")","v":""},{"$f":"IF(データセット1!$B262<>\"\",IF($U$1=データセット1!$B262,データセット1!$D262),\"\")","v":""}]
[null,null,null,null,null,null,null,null,null,null,null,null,{"$f":"IF(データセット1!$B263<>\"\",IF($M$1=データセット1!$B263,データセット1!$D263),\"\")","v":""},{"$f":"IF(データセット1!$B263<>\"\",IF($N$1=データセット1!$B263,データセット1!$D263),\"\")","v":""},{"$f":"IF(データセット1!$B263<>\"\",IF($O$1=データセット1!$B263,データセット1!$D263),\"\")","v":""},{"$f":"IF(データセット1!$B263<>\"\",IF($P$1=データセット1!$B263,データセット1!$D263),\"\")","v":""},{"$f":"IF(データセット1!$B263<>\"\",IF($Q$1=データセット1!$B263,データセット1!$D263),\"\")","v":""},{"$f":"IF(データセット1!$B263<>\"\",IF($R$1=データセット1!$B263,データセット1!$D263),\"\")","v":""},{"$f":"IF(データセット1!$B263<>\"\",IF($S$1=データセット1!$B263,データセット1!$D263),\"\")","v":""},{"$f":"IF(データセット1!$B263<>\"\",IF($T$1=データセット1!$B263,データセット1!$D263),\"\")","v":""},{"$f":"IF(データセット1!$B263<>\"\",IF($U$1=データセット1!$B263,データセット1!$D263),\"\")","v":""}]
[null,null,null,null,null,null,null,null,null,null,null,null,{"$f":"IF(データセット1!$B264<>\"\",IF($M$1=データセット1!$B264,データセット1!$D264),\"\")","v":""},{"$f":"IF(データセット1!$B264<>\"\",IF($N$1=データセット1!$B264,データセット1!$D264),\"\")","v":""},{"$f":"IF(データセット1!$B264<>\"\",IF($O$1=データセット1!$B264,データセット1!$D264),\"\")","v":""},{"$f":"IF(データセット1!$B264<>\"\",IF($P$1=データセット1!$B264,データセット1!$D264),\"\")","v":""},{"$f":"IF(データセット1!$B264<>\"\",IF($Q$1=データセット1!$B264,データセット1!$D264),\"\")","v":""},{"$f":"IF(データセット1!$B264<>\"\",IF($R$1=データセット1!$B264,データセット1!$D264),\"\")","v":""},{"$f":"IF(データセット1!$B264<>\"\",IF($S$1=データセット1!$B264,データセット1!$D264),\"\")","v":""},{"$f":"IF(データセット1!$B264<>\"\",IF($T$1=データセット1!$B264,データセット1!$D264),\"\")","v":""},{"$f":"IF(データセット1!$B264<>\"\",IF($U$1=データセット1!$B264,データセット1!$D264),\"\")","v":""}]
[null,null,null,null,null,null,null,null,null,null,null,null,{"$f":"IF(データセット1!$B265<>\"\",IF($M$1=データセット1!$B265,データセット1!$D265),\"\")","v":""},{"$f":"IF(データセット1!$B265<>\"\",IF($N$1=データセット1!$B265,データセット1!$D265),\"\")","v":""},{"$f":"IF(データセット1!$B265<>\"\",IF($O$1=データセット1!$B265,データセット1!$D265),\"\")","v":""},{"$f":"IF(データセット1!$B265<>\"\",IF($P$1=データセット1!$B265,データセット1!$D265),\"\")","v":""},{"$f":"IF(データセット1!$B265<>\"\",IF($Q$1=データセット1!$B265,データセット1!$D265),\"\")","v":""},{"$f":"IF(データセット1!$B265<>\"\",IF($R$1=データセット1!$B265,データセット1!$D265),\"\")","v":""},{"$f":"IF(データセット1!$B265<>\"\",IF($S$1=データセット1!$B265,データセット1!$D265),\"\")","v":""},{"$f":"IF(データセット1!$B265<>\"\",IF($T$1=データセット1!$B265,データセット1!$D265),\"\")","v":""},{"$f":"IF(データセット1!$B265<>\"\",IF($U$1=データセット1!$B265,データセット1!$D265),\"\")","v":""}]
[null,null,null,null,null,null,null,null,null,null,null,null,{"$f":"IF(データセット1!$B266<>\"\",IF($M$1=データセット1!$B266,データセット1!$D266),\"\")","v":""},{"$f":"IF(データセット1!$B266<>\"\",IF($N$1=データセット1!$B266,データセット1!$D266),\"\")","v":""},{"$f":"IF(データセット1!$B266<>\"\",IF($O$1=データセット1!$B266,データセット1!$D266),\"\")","v":""},{"$f":"IF(データセット1!$B266<>\"\",IF($P$1=データセット1!$B266,データセット1!$D266),\"\")","v":""},{"$f":"IF(データセット1!$B266<>\"\",IF($Q$1=データセット1!$B266,データセット1!$D266),\"\")","v":""},{"$f":"IF(データセット1!$B266<>\"\",IF($R$1=データセット1!$B266,データセット1!$D266),\"\")","v":""},{"$f":"IF(データセット1!$B266<>\"\",IF($S$1=データセット1!$B266,データセット1!$D266),\"\")","v":""},{"$f":"IF(データセット1!$B266<>\"\",IF($T$1=データセット1!$B266,データセット1!$D266),\"\")","v":""},{"$f":"IF(データセット1!$B266<>\"\",IF($U$1=データセット1!$B266,データセット1!$D266),\"\")","v":""}]
[null,null,null,null,null,null,null,null,null,null,null,null,{"$f":"IF(データセット1!$B267<>\"\",IF($M$1=データセット1!$B267,データセット1!$D267),\"\")","v":""},{"$f":"IF(データセット1!$B267<>\"\",IF($N$1=データセット1!$B267,データセット1!$D267),\"\")","v":""},{"$f":"IF(データセット1!$B267<>\"\",IF($O$1=データセット1!$B267,データセット1!$D267),\"\")","v":""},{"$f":"IF(データセット1!$B267<>\"\",IF($P$1=データセット1!$B267,データセット1!$D267),\"\")","v":""},{"$f":"IF(データセット1!$B267<>\"\",IF($Q$1=データセット1!$B267,データセット1!$D267),\"\")","v":""},{"$f":"IF(データセット1!$B267<>\"\",IF($R$1=データセット1!$B267,データセット1!$D267),\"\")","v":""},{"$f":"IF(データセット1!$B267<>\"\",IF($S$1=データセット1!$B267,データセット1!$D267),\"\")","v":""},{"$f":"IF(データセット1!$B267<>\"\",IF($T$1=データセット1!$B267,データセット1!$D267),\"\")","v":""},{"$f":"IF(データセット1!$B267<>\"\",IF($U$1=データセット1!$B267,データセット1!$D267),\"\")","v":""}]
[null,null,null,null,null,null,null,null,null,null,null,null,{"$f":"IF(データセット1!$B268<>\"\",IF($M$1=データセット1!$B268,データセット1!$D268),\"\")","v":""},{"$f":"IF(データセット1!$B268<>\"\",IF($N$1=データセット1!$B268,データセット1!$D268),\"\")","v":""},{"$f":"IF(データセット1!$B268<>\"\",IF($O$1=データセット1!$B268,データセット1!$D268),\"\")","v":""},{"$f":"IF(データセット1!$B268<>\"\",IF($P$1=データセット1!$B268,データセット1!$D268),\"\")","v":""},{"$f":"IF(データセット1!$B268<>\"\",IF($Q$1=データセット1!$B268,データセット1!$D268),\"\")","v":""},{"$f":"IF(データセット1!$B268<>\"\",IF($R$1=データセット1!$B268,データセット1!$D268),\"\")","v":""},{"$f":"IF(データセット1!$B268<>\"\",IF($S$1=データセット1!$B268,データセット1!$D268),\"\")","v":""},{"$f":"IF(データセット1!$B268<>\"\",IF($T$1=データセット1!$B268,データセット1!$D268),\"\")","v":""},{"$f":"IF(データセット1!$B268<>\"\",IF($U$1=データセット1!$B268,データセット1!$D268),\"\")","v":""}]
[null,null,null,null,null,null,null,null,null,null,null,null,{"$f":"IF(データセット1!$B269<>\"\",IF($M$1=データセット1!$B269,データセット1!$D269),\"\")","v":""},{"$f":"IF(データセット1!$B269<>\"\",IF($N$1=データセット1!$B269,データセット1!$D269),\"\")","v":""},{"$f":"IF(データセット1!$B269<>\"\",IF($O$1=データセット1!$B269,データセット1!$D269),\"\")","v":""},{"$f":"IF(データセット1!$B269<>\"\",IF($P$1=データセット1!$B269,データセット1!$D269),\"\")","v":""},{"$f":"IF(データセット1!$B269<>\"\",IF($Q$1=データセット1!$B269,データセット1!$D269),\"\")","v":""},{"$f":"IF(データセット1!$B269<>\"\",IF($R$1=データセット1!$B269,データセット1!$D269),\"\")","v":""},{"$f":"IF(データセット1!$B269<>\"\",IF($S$1=データセット1!$B269,データセット1!$D269),\"\")","v":""},{"$f":"IF(データセット1!$B269<>\"\",IF($T$1=データセット1!$B269,データセット1!$D269),\"\")","v":""},{"$f":"IF(データセット1!$B269<>\"\",IF($U$1=データセット1!$B269,データセット1!$D269),\"\")","v":""}]
[null,null,null,null,null,null,null,null,null,null,null,null,{"$f":"IF(データセット1!$B270<>\"\",IF($M$1=データセット1!$B270,データセット1!$D270),\"\")","v":""},{"$f":"IF(データセット1!$B270<>\"\",IF($N$1=データセット1!$B270,データセット1!$D270),\"\")","v":""},{"$f":"IF(データセット1!$B270<>\"\",IF($O$1=データセット1!$B270,データセット1!$D270),\"\")","v":""},{"$f":"IF(データセット1!$B270<>\"\",IF($P$1=データセット1!$B270,データセット1!$D270),\"\")","v":""},{"$f":"IF(データセット1!$B270<>\"\",IF($Q$1=データセット1!$B270,データセット1!$D270),\"\")","v":""},{"$f":"IF(データセット1!$B270<>\"\",IF($R$1=データセット1!$B270,データセット1!$D270),\"\")","v":""},{"$f":"IF(データセット1!$B270<>\"\",IF($S$1=データセット1!$B270,データセット1!$D270),\"\")","v":""},{"$f":"IF(データセット1!$B270<>\"\",IF($T$1=データセット1!$B270,データセット1!$D270),\"\")","v":""},{"$f":"IF(データセット1!$B270<>\"\",IF($U$1=データセット1!$B270,データセット1!$D270),\"\")","v":""}]
[null,null,null,null,null,null,null,null,null,null,null,null,{"$f":"IF(データセット1!$B271<>\"\",IF($M$1=データセット1!$B271,データセット1!$D271),\"\")","v":""},{"$f":"IF(データセット1!$B271<>\"\",IF($N$1=データセット1!$B271,データセット1!$D271),\"\")","v":""},{"$f":"IF(データセット1!$B271<>\"\",IF($O$1=データセット1!$B271,データセット1!$D271),\"\")","v":""},{"$f":"IF(データセット1!$B271<>\"\",IF($P$1=データセット1!$B271,データセット1!$D271),\"\")","v":""},{"$f":"IF(データセット1!$B271<>\"\",IF($Q$1=データセット1!$B271,データセット1!$D271),\"\")","v":""},{"$f":"IF(データセット1!$B271<>\"\",IF($R$1=データセット1!$B271,データセット1!$D271),\"\")","v":""},{"$f":"IF(データセット1!$B271<>\"\",IF($S$1=データセット1!$B271,データセット1!$D271),\"\")","v":""},{"$f":"IF(データセット1!$B271<>\"\",IF($T$1=データセット1!$B271,データセット1!$D271),\"\")","v":""},{"$f":"IF(データセット1!$B271<>\"\",IF($U$1=データセット1!$B271,データセット1!$D271),\"\")","v":""}]
[null,null,null,null,null,null,null,null,null,null,null,null,{"$f":"IF(データセット1!$B272<>\"\",IF($M$1=データセット1!$B272,データセット1!$D272),\"\")","v":""},{"$f":"IF(データセット1!$B272<>\"\",IF($N$1=データセット1!$B272,データセット1!$D272),\"\")","v":""},{"$f":"IF(データセット1!$B272<>\"\",IF($O$1=データセット1!$B272,データセット1!$D272),\"\")","v":""},{"$f":"IF(データセット1!$B272<>\"\",IF($P$1=データセット1!$B272,データセット1!$D272),\"\")","v":""},{"$f":"IF(データセット1!$B272<>\"\",IF($Q$1=データセット1!$B272,データセット1!$D272),\"\")","v":""},{"$f":"IF(データセット1!$B272<>\"\",IF($R$1=データセット1!$B272,データセット1!$D272),\"\")","v":""},{"$f":"IF(データセット1!$B272<>\"\",IF($S$1=データセット1!$B272,データセット1!$D272),\"\")","v":""},{"$f":"IF(データセット1!$B272<>\"\",IF($T$1=データセット1!$B272,データセット1!$D272),\"\")","v":""},{"$f":"IF(データセット1!$B272<>\"\",IF($U$1=データセット1!$B272,データセット1!$D272),\"\")","v":""}]
[null,null,null,null,null,null,null,null,null,null,null,null,{"$f":"IF(データセット1!$B273<>\"\",IF($M$1=データセット1!$B273,データセット1!$D273),\"\")","v":""},{"$f":"IF(データセット1!$B273<>\"\",IF($N$1=データセット1!$B273,データセット1!$D273),\"\")","v":""},{"$f":"IF(データセット1!$B273<>\"\",IF($O$1=データセット1!$B273,データセット1!$D273),\"\")","v":""},{"$f":"IF(データセット1!$B273<>\"\",IF($P$1=データセット1!$B273,データセット1!$D273),\"\")","v":""},{"$f":"IF(データセット1!$B273<>\"\",IF($Q$1=データセット1!$B273,データセット1!$D273),\"\")","v":""},{"$f":"IF(データセット1!$B273<>\"\",IF($R$1=データセット1!$B273,データセット1!$D273),\"\")","v":""},{"$f":"IF(データセット1!$B273<>\"\",IF($S$1=データセット1!$B273,データセット1!$D273),\"\")","v":""},{"$f":"IF(データセット1!$B273<>\"\",IF($T$1=データセット1!$B273,データセット1!$D273),\"\")","v":""},{"$f":"IF(データセット1!$B273<>\"\",IF($U$1=データセット1!$B273,データセット1!$D273),\"\")","v":""}]
[null,null,null,null,null,null,null,null,null,null,null,null,{"$f":"IF(データセット1!$B274<>\"\",IF($M$1=データセット1!$B274,データセット1!$D274),\"\")","v":""},{"$f":"IF(データセット1!$B274<>\"\",IF($N$1=データセット1!$B274,データセット1!$D274),\"\")","v":""},{"$f":"IF(データセット1!$B274<>\"\",IF($O$1=データセット1!$B274,データセット1!$D274),\"\")","v":""},{"$f":"IF(データセット1!$B274<>\"\",IF($P$1=データセット1!$B274,データセット1!$D274),\"\")","v":""},{"$f":"IF(データセット1!$B274<>\"\",IF($Q$1=データセット1!$B274,データセット1!$D274),\"\")","v":""},{"$f":"IF(データセット1!$B274<>\"\",IF($R$1=データセット1!$B274,データセット1!$D274),\"\")","v":""},{"$f":"IF(データセット1!$B274<>\"\",IF($S$1=データセット1!$B274,データセット1!$D274),\"\")","v":""},{"$f":"IF(データセット1!$B274<>\"\",IF($T$1=データセット1!$B274,データセット1!$D274),\"\")","v":""},{"$f":"IF(データセット1!$B274<>\"\",IF($U$1=データセット1!$B274,データセット1!$D274),\"\")","v":""}]
[null,null,null,null,null,null,null,null,null,null,null,null,{"$f":"IF(データセット1!$B275<>\"\",IF($M$1=データセット1!$B275,データセット1!$D275),\"\")","v":""},{"$f":"IF(データセット1!$B275<>\"\",IF($N$1=データセット1!$B275,データセット1!$D275),\"\")","v":""},{"$f":"IF(データセット1!$B275<>\"\",IF($O$1=データセット1!$B275,データセット1!$D275),\"\")","v":""},{"$f":"IF(データセット1!$B275<>\"\",IF($P$1=データセット1!$B275,データセット1!$D275),\"\")","v":""},{"$f":"IF(データセット1!$B275<>\"\",IF($Q$1=データセット1!$B275,データセット1!$D275),\"\")","v":""},{"$f":"IF(データセット1!$B275<>\"\",IF($R$1=データセット1!$B275,データセット1!$D275),\"\")","v":""},{"$f":"IF(データセット1!$B275<>\"\",IF($S$1=データセット1!$B275,データセット1!$D275),\"\")","v":""},{"$f":"IF(データセット1!$B275<>\"\",IF($T$1=データセット1!$B275,データセット1!$D275),\"\")","v":""},{"$f":"IF(データセット1!$B275<>\"\",IF($U$1=データセット1!$B275,データセット1!$D275),\"\")","v":""}]
[null,null,null,null,null,null,null,null,null,null,null,null,{"$f":"IF(データセット1!$B276<>\"\",IF($M$1=データセット1!$B276,データセット1!$D276),\"\")","v":""},{"$f":"IF(データセット1!$B276<>\"\",IF($N$1=データセット1!$B276,データセット1!$D276),\"\")","v":""},{"$f":"IF(データセット1!$B276<>\"\",IF($O$1=データセット1!$B276,データセット1!$D276),\"\")","v":""},{"$f":"IF(データセット1!$B276<>\"\",IF($P$1=データセット1!$B276,データセット1!$D276),\"\")","v":""},{"$f":"IF(データセット1!$B276<>\"\",IF($Q$1=データセット1!$B276,データセット1!$D276),\"\")","v":""},{"$f":"IF(データセット1!$B276<>\"\",IF($R$1=データセット1!$B276,データセット1!$D276),\"\")","v":""},{"$f":"IF(データセット1!$B276<>\"\",IF($S$1=データセット1!$B276,データセット1!$D276),\"\")","v":""},{"$f":"IF(データセット1!$B276<>\"\",IF($T$1=データセット1!$B276,データセット1!$D276),\"\")","v":""},{"$f":"IF(データセット1!$B276<>\"\",IF($U$1=データセット1!$B276,データセット1!$D276),\"\")","v":""}]
[null,null,null,null,null,null,null,null,null,null,null,null,{"$f":"IF(データセット1!$B277<>\"\",IF($M$1=データセット1!$B277,データセット1!$D277),\"\")","v":""},{"$f":"IF(データセット1!$B277<>\"\",IF($N$1=データセット1!$B277,データセット1!$D277),\"\")","v":""},{"$f":"IF(データセット1!$B277<>\"\",IF($O$1=データセット1!$B277,データセット1!$D277),\"\")","v":""},{"$f":"IF(データセット1!$B277<>\"\",IF($P$1=データセット1!$B277,データセット1!$D277),\"\")","v":""},{"$f":"IF(データセット1!$B277<>\"\",IF($Q$1=データセット1!$B277,データセット1!$D277),\"\")","v":""},{"$f":"IF(データセット1!$B277<>\"\",IF($R$1=データセット1!$B277,データセット1!$D277),\"\")","v":""},{"$f":"IF(データセット1!$B277<>\"\",IF($S$1=データセット1!$B277,データセット1!$D277),\"\")","v":""},{"$f":"IF(データセット1!$B277<>\"\",IF($T$1=データセット1!$B277,データセット1!$D277),\"\")","v":""},{"$f":"IF(データセット1!$B277<>\"\",IF($U$1=データセット1!$B277,データセット1!$D277),\"\")","v":""}]
[null,null,null,null,null,null,null,null,null,null,null,null,{"$f":"IF(データセット1!$B278<>\"\",IF($M$1=データセット1!$B278,データセット1!$D278),\"\")","v":""},{"$f":"IF(データセット1!$B278<>\"\",IF($N$1=データセット1!$B278,データセット1!$D278),\"\")","v":""},{"$f":"IF(データセット1!$B278<>\"\",IF($O$1=データセット1!$B278,データセット1!$D278),\"\")","v":""},{"$f":"IF(データセット1!$B278<>\"\",IF($P$1=データセット1!$B278,データセット1!$D278),\"\")","v":""},{"$f":"IF(データセット1!$B278<>\"\",IF($Q$1=データセット1!$B278,データセット1!$D278),\"\")","v":""},{"$f":"IF(データセット1!$B278<>\"\",IF($R$1=データセット1!$B278,データセット1!$D278),\"\")","v":""},{"$f":"IF(データセット1!$B278<>\"\",IF($S$1=データセット1!$B278,データセット1!$D278),\"\")","v":""},{"$f":"IF(データセット1!$B278<>\"\",IF($T$1=データセット1!$B278,データセット1!$D278),\"\")","v":""},{"$f":"IF(データセット1!$B278<>\"\",IF($U$1=データセット1!$B278,データセット1!$D278),\"\")","v":""}]
[null,null,null,null,null,null,null,null,null,null,null,null,{"$f":"IF(データセット1!$B279<>\"\",IF($M$1=データセット1!$B279,データセット1!$D279),\"\")","v":""},{"$f":"IF(データセット1!$B279<>\"\",IF($N$1=データセット1!$B279,データセット1!$D279),\"\")","v":""},{"$f":"IF(データセット1!$B279<>\"\",IF($O$1=データセット1!$B279,データセット1!$D279),\"\")","v":""},{"$f":"IF(データセット1!$B279<>\"\",IF($P$1=データセット1!$B279,データセット1!$D279),\"\")","v":""},{"$f":"IF(データセット1!$B279<>\"\",IF($Q$1=データセット1!$B279,データセット1!$D279),\"\")","v":""},{"$f":"IF(データセット1!$B279<>\"\",IF($R$1=データセット1!$B279,データセット1!$D279),\"\")","v":""},{"$f":"IF(データセット1!$B279<>\"\",IF($S$1=データセット1!$B279,データセット1!$D279),\"\")","v":""},{"$f":"IF(データセット1!$B279<>\"\",IF($T$1=データセット1!$B279,データセット1!$D279),\"\")","v":""},{"$f":"IF(データセット1!$B279<>\"\",IF($U$1=データセット1!$B279,データセット1!$D279),\"\")","v":""}]
[null,null,null,null,null,null,null,null,null,null,null,null,{"$f":"IF(データセット1!$B280<>\"\",IF($M$1=データセット1!$B280,データセット1!$D280),\"\")","v":""},{"$f":"IF(データセット1!$B280<>\"\",IF($N$1=データセット1!$B280,データセット1!$D280),\"\")","v":""},{"$f":"IF(データセット1!$B280<>\"\",IF($O$1=データセット1!$B280,データセット1!$D280),\"\")","v":""},{"$f":"IF(データセット1!$B280<>\"\",IF($P$1=データセット1!$B280,データセット1!$D280),\"\")","v":""},{"$f":"IF(データセット1!$B280<>\"\",IF($Q$1=データセット1!$B280,データセット1!$D280),\"\")","v":""},{"$f":"IF(データセット1!$B280<>\"\",IF($R$1=データセット1!$B280,データセット1!$D280),\"\")","v":""},{"$f":"IF(データセット1!$B280<>\"\",IF($S$1=データセット1!$B280,データセット1!$D280),\"\")","v":""},{"$f":"IF(データセット1!$B280<>\"\",IF($T$1=データセット1!$B280,データセット1!$D280),\"\")","v":""},{"$f":"IF(データセット1!$B280<>\"\",IF($U$1=データセット1!$B280,データセット1!$D280),\"\")","v":""}]
[null,null,null,null,null,null,null,null,null,null,null,null,{"$f":"IF(データセット1!$B281<>\"\",IF($M$1=データセット1!$B281,データセット1!$D281),\"\")","v":""},{"$f":"IF(データセット1!$B281<>\"\",IF($N$1=データセット1!$B281,データセット1!$D281),\"\")","v":""},{"$f":"IF(データセット1!$B281<>\"\",IF($O$1=データセット1!$B281,データセット1!$D281),\"\")","v":""},{"$f":"IF(データセット1!$B281<>\"\",IF($P$1=データセット1!$B281,データセット1!$D281),\"\")","v":""},{"$f":"IF(データセット1!$B281<>\"\",IF($Q$1=データセット1!$B281,データセット1!$D281),\"\")","v":""},{"$f":"IF(データセット1!$B281<>\"\",IF($R$1=データセット1!$B281,データセット1!$D281),\"\")","v":""},{"$f":"IF(データセット1!$B281<>\"\",IF($S$1=データセット1!$B281,データセット1!$D281),\"\")","v":""},{"$f":"IF(データセット1!$B281<>\"\",IF($T$1=データセット1!$B281,データセット1!$D281),\"\")","v":""},{"$f":"IF(データセット1!$B281<>\"\",IF($U$1=データセット1!$B281,データセット1!$D281),\"\")","v":""}]
[null,null,null,null,null,null,null,null,null,null,null,null,{"$f":"IF(データセット1!$B282<>\"\",IF($M$1=データセット1!$B282,データセット1!$D282),\"\")","v":""},{"$f":"IF(データセット1!$B282<>\"\",IF($N$1=データセット1!$B282,データセット1!$D282),\"\")","v":""},{"$f":"IF(データセット1!$B282<>\"\",IF($O$1=データセット1!$B282,データセット1!$D282),\"\")","v":""},{"$f":"IF(データセット1!$B282<>\"\",IF($P$1=データセット1!$B282,データセット1!$D282),\"\")","v":""},{"$f":"IF(データセット1!$B282<>\"\",IF($Q$1=データセット1!$B282,データセット1!$D282),\"\")","v":""},{"$f":"IF(データセット1!$B282<>\"\",IF($R$1=データセット1!$B282,データセット1!$D282),\"\")","v":""},{"$f":"IF(データセット1!$B282<>\"\",IF($S$1=データセット1!$B282,データセット1!$D282),\"\")","v":""},{"$f":"IF(データセット1!$B282<>\"\",IF($T$1=データセット1!$B282,データセット1!$D282),\"\")","v":""},{"$f":"IF(データセット1!$B282<>\"\",IF($U$1=データセット1!$B282,データセット1!$D282),\"\")","v":""}]
[null,null,null,null,null,null,null,null,null,null,null,null,{"$f":"IF(データセット1!$B283<>\"\",IF($M$1=データセット1!$B283,データセット1!$D283),\"\")","v":""},{"$f":"IF(データセット1!$B283<>\"\",IF($N$1=データセット1!$B283,データセット1!$D283),\"\")","v":""},{"$f":"IF(データセット1!$B283<>\"\",IF($O$1=データセット1!$B283,データセット1!$D283),\"\")","v":""},{"$f":"IF(データセット1!$B283<>\"\",IF($P$1=データセット1!$B283,データセット1!$D283),\"\")","v":""},{"$f":"IF(データセット1!$B283<>\"\",IF($Q$1=データセット1!$B283,データセット1!$D283),\"\")","v":""},{"$f":"IF(データセット1!$B283<>\"\",IF($R$1=データセット1!$B283,データセット1!$D283),\"\")","v":""},{"$f":"IF(データセット1!$B283<>\"\",IF($S$1=データセット1!$B283,データセット1!$D283),\"\")","v":""},{"$f":"IF(データセット1!$B283<>\"\",IF($T$1=データセット1!$B283,データセット1!$D283),\"\")","v":""},{"$f":"IF(データセット1!$B283<>\"\",IF($U$1=データセット1!$B283,データセット1!$D283),\"\")","v":""}]
[null,null,null,null,null,null,null,null,null,null,null,null,{"$f":"IF(データセット1!$B284<>\"\",IF($M$1=データセット1!$B284,データセット1!$D284),\"\")","v":""},{"$f":"IF(データセット1!$B284<>\"\",IF($N$1=データセット1!$B284,データセット1!$D284),\"\")","v":""},{"$f":"IF(データセット1!$B284<>\"\",IF($O$1=データセット1!$B284,データセット1!$D284),\"\")","v":""},{"$f":"IF(データセット1!$B284<>\"\",IF($P$1=データセット1!$B284,データセット1!$D284),\"\")","v":""},{"$f":"IF(データセット1!$B284<>\"\",IF($Q$1=データセット1!$B284,データセット1!$D284),\"\")","v":""},{"$f":"IF(データセット1!$B284<>\"\",IF($R$1=データセット1!$B284,データセット1!$D284),\"\")","v":""},{"$f":"IF(データセット1!$B284<>\"\",IF($S$1=データセット1!$B284,データセット1!$D284),\"\")","v":""},{"$f":"IF(データセット1!$B284<>\"\",IF($T$1=データセット1!$B284,データセット1!$D284),\"\")","v":""},{"$f":"IF(データセット1!$B284<>\"\",IF($U$1=データセット1!$B284,データセット1!$D284),\"\")","v":""}]
[null,null,null,null,null,null,null,null,null,null,null,null,{"$f":"IF(データセット1!$B285<>\"\",IF($M$1=データセット1!$B285,データセット1!$D285),\"\")","v":""},{"$f":"IF(データセット1!$B285<>\"\",IF($N$1=データセット1!$B285,データセット1!$D285),\"\")","v":""},{"$f":"IF(データセット1!$B285<>\"\",IF($O$1=データセット1!$B285,データセット1!$D285),\"\")","v":""},{"$f":"IF(データセット1!$B285<>\"\",IF($P$1=データセット1!$B285,データセット1!$D285),\"\")","v":""},{"$f":"IF(データセット1!$B285<>\"\",IF($Q$1=データセット1!$B285,データセット1!$D285),\"\")","v":""},{"$f":"IF(データセット1!$B285<>\"\",IF($R$1=データセット1!$B285,データセット1!$D285),\"\")","v":""},{"$f":"IF(データセット1!$B285<>\"\",IF($S$1=データセット1!$B285,データセット1!$D285),\"\")","v":""},{"$f":"IF(データセット1!$B285<>\"\",IF($T$1=データセット1!$B285,データセット1!$D285),\"\")","v":""},{"$f":"IF(データセット1!$B285<>\"\",IF($U$1=データセット1!$B285,データセット1!$D285),\"\")","v":""}]
[null,null,null,null,null,null,null,null,null,null,null,null,{"$f":"IF(データセット1!$B286<>\"\",IF($M$1=データセット1!$B286,データセット1!$D286),\"\")","v":""},{"$f":"IF(データセット1!$B286<>\"\",IF($N$1=データセット1!$B286,データセット1!$D286),\"\")","v":""},{"$f":"IF(データセット1!$B286<>\"\",IF($O$1=データセット1!$B286,データセット1!$D286),\"\")","v":""},{"$f":"IF(データセット1!$B286<>\"\",IF($P$1=データセット1!$B286,データセット1!$D286),\"\")","v":""},{"$f":"IF(データセット1!$B286<>\"\",IF($Q$1=データセット1!$B286,データセット1!$D286),\"\")","v":""},{"$f":"IF(データセット1!$B286<>\"\",IF($R$1=データセット1!$B286,データセット1!$D286),\"\")","v":""},{"$f":"IF(データセット1!$B286<>\"\",IF($S$1=データセット1!$B286,データセット1!$D286),\"\")","v":""},{"$f":"IF(データセット1!$B286<>\"\",IF($T$1=データセット1!$B286,データセット1!$D286),\"\")","v":""},{"$f":"IF(データセット1!$B286<>\"\",IF($U$1=データセット1!$B286,データセット1!$D286),\"\")","v":""}]
[null,null,null,null,null,null,null,null,null,null,null,null,{"$f":"IF(データセット1!$B287<>\"\",IF($M$1=データセット1!$B287,データセット1!$D287),\"\")","v":""},{"$f":"IF(データセット1!$B287<>\"\",IF($N$1=データセット1!$B287,データセット1!$D287),\"\")","v":""},{"$f":"IF(データセット1!$B287<>\"\",IF($O$1=データセット1!$B287,データセット1!$D287),\"\")","v":""},{"$f":"IF(データセット1!$B287<>\"\",IF($P$1=データセット1!$B287,データセット1!$D287),\"\")","v":""},{"$f":"IF(データセット1!$B287<>\"\",IF($Q$1=データセット1!$B287,データセット1!$D287),\"\")","v":""},{"$f":"IF(データセット1!$B287<>\"\",IF($R$1=データセット1!$B287,データセット1!$D287),\"\")","v":""},{"$f":"IF(データセット1!$B287<>\"\",IF($S$1=データセット1!$B287,データセット1!$D287),\"\")","v":""},{"$f":"IF(データセット1!$B287<>\"\",IF($T$1=データセット1!$B287,データセット1!$D287),\"\")","v":""},{"$f":"IF(データセット1!$B287<>\"\",IF($U$1=データセット1!$B287,データセット1!$D287),\"\")","v":""}]
[null,null,null,null,null,null,null,null,null,null,null,null,{"$f":"IF(データセット1!$B288<>\"\",IF($M$1=データセット1!$B288,データセット1!$D288),\"\")","v":""},{"$f":"IF(データセット1!$B288<>\"\",IF($N$1=データセット1!$B288,データセット1!$D288),\"\")","v":""},{"$f":"IF(データセット1!$B288<>\"\",IF($O$1=データセット1!$B288,データセット1!$D288),\"\")","v":""},{"$f":"IF(データセット1!$B288<>\"\",IF($P$1=データセット1!$B288,データセット1!$D288),\"\")","v":""},{"$f":"IF(データセット1!$B288<>\"\",IF($Q$1=データセット1!$B288,データセット1!$D288),\"\")","v":""},{"$f":"IF(データセット1!$B288<>\"\",IF($R$1=データセット1!$B288,データセット1!$D288),\"\")","v":""},{"$f":"IF(データセット1!$B288<>\"\",IF($S$1=データセット1!$B288,データセット1!$D288),\"\")","v":""},{"$f":"IF(データセット1!$B288<>\"\",IF($T$1=データセット1!$B288,データセット1!$D288),\"\")","v":""},{"$f":"IF(データセット1!$B288<>\"\",IF($U$1=データセット1!$B288,データセット1!$D288),\"\")","v":""}]
[null,null,null,null,null,null,null,null,null,null,null,null,{"$f":"IF(データセット1!$B289<>\"\",IF($M$1=データセット1!$B289,データセット1!$D289),\"\")","v":""},{"$f":"IF(データセット1!$B289<>\"\",IF($N$1=データセット1!$B289,データセット1!$D289),\"\")","v":""},{"$f":"IF(データセット1!$B289<>\"\",IF($O$1=データセット1!$B289,データセット1!$D289),\"\")","v":""},{"$f":"IF(データセット1!$B289<>\"\",IF($P$1=データセット1!$B289,データセット1!$D289),\"\")","v":""},{"$f":"IF(データセット1!$B289<>\"\",IF($Q$1=データセット1!$B289,データセット1!$D289),\"\")","v":""},{"$f":"IF(データセット1!$B289<>\"\",IF($R$1=データセット1!$B289,データセット1!$D289),\"\")","v":""},{"$f":"IF(データセット1!$B289<>\"\",IF($S$1=データセット1!$B289,データセット1!$D289),\"\")","v":""},{"$f":"IF(データセット1!$B289<>\"\",IF($T$1=データセット1!$B289,データセット1!$D289),\"\")","v":""},{"$f":"IF(データセット1!$B289<>\"\",IF($U$1=データセット1!$B289,データセット1!$D289),\"\")","v":""}]
[null,null,null,null,null,null,null,null,null,null,null,null,{"$f":"IF(データセット1!$B290<>\"\",IF($M$1=データセット1!$B290,データセット1!$D290),\"\")","v":""},{"$f":"IF(データセット1!$B290<>\"\",IF($N$1=データセット1!$B290,データセット1!$D290),\"\")","v":""},{"$f":"IF(データセット1!$B290<>\"\",IF($O$1=データセット1!$B290,データセット1!$D290),\"\")","v":""},{"$f":"IF(データセット1!$B290<>\"\",IF($P$1=データセット1!$B290,データセット1!$D290),\"\")","v":""},{"$f":"IF(データセット1!$B290<>\"\",IF($Q$1=データセット1!$B290,データセット1!$D290),\"\")","v":""},{"$f":"IF(データセット1!$B290<>\"\",IF($R$1=データセット1!$B290,データセット1!$D290),\"\")","v":""},{"$f":"IF(データセット1!$B290<>\"\",IF($S$1=データセット1!$B290,データセット1!$D290),\"\")","v":""},{"$f":"IF(データセット1!$B290<>\"\",IF($T$1=データセット1!$B290,データセット1!$D290),\"\")","v":""},{"$f":"IF(データセット1!$B290<>\"\",IF($U$1=データセット1!$B290,データセット1!$D290),\"\")","v":""}]
[null,null,null,null,null,null,null,null,null,null,null,null,{"$f":"IF(データセット1!$B291<>\"\",IF($M$1=データセット1!$B291,データセット1!$D291),\"\")","v":""},{"$f":"IF(データセット1!$B291<>\"\",IF($N$1=データセット1!$B291,データセット1!$D291),\"\")","v":""},{"$f":"IF(データセット1!$B291<>\"\",IF($O$1=データセット1!$B291,データセット1!$D291),\"\")","v":""},{"$f":"IF(データセット1!$B291<>\"\",IF($P$1=データセット1!$B291,データセット1!$D291),\"\")","v":""},{"$f":"IF(データセット1!$B291<>\"\",IF($Q$1=データセット1!$B291,データセット1!$D291),\"\")","v":""},{"$f":"IF(データセット1!$B291<>\"\",IF($R$1=データセット1!$B291,データセット1!$D291),\"\")","v":""},{"$f":"IF(データセット1!$B291<>\"\",IF($S$1=データセット1!$B291,データセット1!$D291),\"\")","v":""},{"$f":"IF(データセット1!$B291<>\"\",IF($T$1=データセット1!$B291,データセット1!$D291),\"\")","v":""},{"$f":"IF(データセット1!$B291<>\"\",IF($U$1=データセット1!$B291,データセット1!$D291),\"\")","v":""}]
[null,null,null,null,null,null,null,null,null,null,null,null,{"$f":"IF(データセット1!$B292<>\"\",IF($M$1=データセット1!$B292,データセット1!$D292),\"\")","v":""},{"$f":"IF(データセット1!$B292<>\"\",IF($N$1=データセット1!$B292,データセット1!$D292),\"\")","v":""},{"$f":"IF(データセット1!$B292<>\"\",IF($O$1=データセット1!$B292,データセット1!$D292),\"\")","v":""},{"$f":"IF(データセット1!$B292<>\"\",IF($P$1=データセット1!$B292,データセット1!$D292),\"\")","v":""},{"$f":"IF(データセット1!$B292<>\"\",IF($Q$1=データセット1!$B292,データセット1!$D292),\"\")","v":""},{"$f":"IF(データセット1!$B292<>\"\",IF($R$1=データセット1!$B292,データセット1!$D292),\"\")","v":""},{"$f":"IF(データセット1!$B292<>\"\",IF($S$1=データセット1!$B292,データセット1!$D292),\"\")","v":""},{"$f":"IF(データセット1!$B292<>\"\",IF($T$1=データセット1!$B292,データセット1!$D292),\"\")","v":""},{"$f":"IF(データセット1!$B292<>\"\",IF($U$1=データセット1!$B292,データセット1!$D292),\"\")","v":""}]
[null,null,null,null,null,null,null,null,null,null,null,null,{"$f":"IF(データセット1!$B293<>\"\",IF($M$1=データセット1!$B293,データセット1!$D293),\"\")","v":""},{"$f":"IF(データセット1!$B293<>\"\",IF($N$1=データセット1!$B293,データセット1!$D293),\"\")","v":""},{"$f":"IF(データセット1!$B293<>\"\",IF($O$1=データセット1!$B293,データセット1!$D293),\"\")","v":""},{"$f":"IF(データセット1!$B293<>\"\",IF($P$1=データセット1!$B293,データセット1!$D293),\"\")","v":""},{"$f":"IF(データセット1!$B293<>\"\",IF($Q$1=データセット1!$B293,データセット1!$D293),\"\")","v":""},{"$f":"IF(データセット1!$B293<>\"\",IF($R$1=データセット1!$B293,データセット1!$D293),\"\")","v":""},{"$f":"IF(データセット1!$B293<>\"\",IF($S$1=データセット1!$B293,データセット1!$D293),\"\")","v":""},{"$f":"IF(データセット1!$B293<>\"\",IF($T$1=データセット1!$B293,データセット1!$D293),\"\")","v":""},{"$f":"IF(データセット1!$B293<>\"\",IF($U$1=データセット1!$B293,データセット1!$D293),\"\")","v":""}]
[null,null,null,null,null,null,null,null,null,null,null,null,{"$f":"IF(データセット1!$B294<>\"\",IF($M$1=データセット1!$B294,データセット1!$D294),\"\")","v":""},{"$f":"IF(データセット1!$B294<>\"\",IF($N$1=データセット1!$B294,データセット1!$D294),\"\")","v":""},{"$f":"IF(データセット1!$B294<>\"\",IF($O$1=データセット1!$B294,データセット1!$D294),\"\")","v":""},{"$f":"IF(データセット1!$B294<>\"\",IF($P$1=データセット1!$B294,データセット1!$D294),\"\")","v":""},{"$f":"IF(データセット1!$B294<>\"\",IF($Q$1=データセット1!$B294,データセット1!$D294),\"\")","v":""},{"$f":"IF(データセット1!$B294<>\"\",IF($R$1=データセット1!$B294,データセット1!$D294),\"\")","v":""},{"$f":"IF(データセット1!$B294<>\"\",IF($S$1=データセット1!$B294,データセット1!$D294),\"\")","v":""},{"$f":"IF(データセット1!$B294<>\"\",IF($T$1=データセット1!$B294,データセット1!$D294),\"\")","v":""},{"$f":"IF(データセット1!$B294<>\"\",IF($U$1=データセット1!$B294,データセット1!$D294),\"\")","v":""}]
[null,null,null,null,null,null,null,null,null,null,null,null,{"$f":"IF(データセット1!$B295<>\"\",IF($M$1=データセット1!$B295,データセット1!$D295),\"\")","v":""},{"$f":"IF(データセット1!$B295<>\"\",IF($N$1=データセット1!$B295,データセット1!$D295),\"\")","v":""},{"$f":"IF(データセット1!$B295<>\"\",IF($O$1=データセット1!$B295,データセット1!$D295),\"\")","v":""},{"$f":"IF(データセット1!$B295<>\"\",IF($P$1=データセット1!$B295,データセット1!$D295),\"\")","v":""},{"$f":"IF(データセット1!$B295<>\"\",IF($Q$1=データセット1!$B295,データセット1!$D295),\"\")","v":""},{"$f":"IF(データセット1!$B295<>\"\",IF($R$1=データセット1!$B295,データセット1!$D295),\"\")","v":""},{"$f":"IF(データセット1!$B295<>\"\",IF($S$1=データセット1!$B295,データセット1!$D295),\"\")","v":""},{"$f":"IF(データセット1!$B295<>\"\",IF($T$1=データセット1!$B295,データセット1!$D295),\"\")","v":""},{"$f":"IF(データセット1!$B295<>\"\",IF($U$1=データセット1!$B295,データセット1!$D295),\"\")","v":""}]
[null,null,null,null,null,null,null,null,null,null,null,null,{"$f":"IF(データセット1!$B296<>\"\",IF($M$1=データセット1!$B296,データセット1!$D296),\"\")","v":""},{"$f":"IF(データセット1!$B296<>\"\",IF($N$1=データセット1!$B296,データセット1!$D296),\"\")","v":""},{"$f":"IF(データセット1!$B296<>\"\",IF($O$1=データセット1!$B296,データセット1!$D296),\"\")","v":""},{"$f":"IF(データセット1!$B296<>\"\",IF($P$1=データセット1!$B296,データセット1!$D296),\"\")","v":""},{"$f":"IF(データセット1!$B296<>\"\",IF($Q$1=データセット1!$B296,データセット1!$D296),\"\")","v":""},{"$f":"IF(データセット1!$B296<>\"\",IF($R$1=データセット1!$B296,データセット1!$D296),\"\")","v":""},{"$f":"IF(データセット1!$B296<>\"\",IF($S$1=データセット1!$B296,データセット1!$D296),\"\")","v":""},{"$f":"IF(データセット1!$B296<>\"\",IF($T$1=データセット1!$B296,データセット1!$D296),\"\")","v":""},{"$f":"IF(データセット1!$B296<>\"\",IF($U$1=データセット1!$B296,データセット1!$D296),\"\")","v":""}]
[null,null,null,null,null,null,null,null,null,null,null,null,{"$f":"IF(データセット1!$B297<>\"\",IF($M$1=データセット1!$B297,データセット1!$D297),\"\")","v":""},{"$f":"IF(データセット1!$B297<>\"\",IF($N$1=データセット1!$B297,データセット1!$D297),\"\")","v":""},{"$f":"IF(データセット1!$B297<>\"\",IF($O$1=データセット1!$B297,データセット1!$D297),\"\")","v":""},{"$f":"IF(データセット1!$B297<>\"\",IF($P$1=データセット1!$B297,データセット1!$D297),\"\")","v":""},{"$f":"IF(データセット1!$B297<>\"\",IF($Q$1=データセット1!$B297,データセット1!$D297),\"\")","v":""},{"$f":"IF(データセット1!$B297<>\"\",IF($R$1=データセット1!$B297,データセット1!$D297),\"\")","v":""},{"$f":"IF(データセット1!$B297<>\"\",IF($S$1=データセット1!$B297,データセット1!$D297),\"\")","v":""},{"$f":"IF(データセット1!$B297<>\"\",IF($T$1=データセット1!$B297,データセット1!$D297),\"\")","v":""},{"$f":"IF(データセット1!$B297<>\"\",IF($U$1=データセット1!$B297,データセット1!$D297),\"\")","v":""}]
[null,null,null,null,null,null,null,null,null,null,null,null,{"$f":"IF(データセット1!$B298<>\"\",IF($M$1=データセット1!$B298,データセット1!$D298),\"\")","v":""},{"$f":"IF(データセット1!$B298<>\"\",IF($N$1=データセット1!$B298,データセット1!$D298),\"\")","v":""},{"$f":"IF(データセット1!$B298<>\"\",IF($O$1=データセット1!$B298,データセット1!$D298),\"\")","v":""},{"$f":"IF(データセット1!$B298<>\"\",IF($P$1=データセット1!$B298,データセット1!$D298),\"\")","v":""},{"$f":"IF(データセット1!$B298<>\"\",IF($Q$1=データセット1!$B298,データセット1!$D298),\"\")","v":""},{"$f":"IF(データセット1!$B298<>\"\",IF($R$1=データセット1!$B298,データセット1!$D298),\"\")","v":""},{"$f":"IF(データセット1!$B298<>\"\",IF($S$1=データセット1!$B298,データセット1!$D298),\"\")","v":""},{"$f":"IF(データセット1!$B298<>\"\",IF($T$1=データセット1!$B298,データセット1!$D298),\"\")","v":""},{"$f":"IF(データセット1!$B298<>\"\",IF($U$1=データセット1!$B298,データセット1!$D298),\"\")","v":""}]
[null,null,null,null,null,null,null,null,null,null,null,null,{"$f":"IF(データセット1!$B299<>\"\",IF($M$1=データセット1!$B299,データセット1!$D299),\"\")","v":""},{"$f":"IF(データセット1!$B299<>\"\",IF($N$1=データセット1!$B299,データセット1!$D299),\"\")","v":""},{"$f":"IF(データセット1!$B299<>\"\",IF($O$1=データセット1!$B299,データセット1!$D299),\"\")","v":""},{"$f":"IF(データセット1!$B299<>\"\",IF($P$1=データセット1!$B299,データセット1!$D299),\"\")","v":""},{"$f":"IF(データセット1!$B299<>\"\",IF($Q$1=データセット1!$B299,データセット1!$D299),\"\")","v":""},{"$f":"IF(データセット1!$B299<>\"\",IF($R$1=データセット1!$B299,データセット1!$D299),\"\")","v":""},{"$f":"IF(データセット1!$B299<>\"\",IF($S$1=データセット1!$B299,データセット1!$D299),\"\")","v":""},{"$f":"IF(データセット1!$B299<>\"\",IF($T$1=データセット1!$B299,データセット1!$D299),\"\")","v":""},{"$f":"IF(データセット1!$B299<>\"\",IF($U$1=データセット1!$B299,データセット1!$D299),\"\")","v":""}]
[null,null,null,null,null,null,null,null,null,null,null,null,{"$f":"IF(データセット1!$B300<>\"\",IF($M$1=データセット1!$B300,データセット1!$D300),\"\")","v":""},{"$f":"IF(データセット1!$B300<>\"\",IF($N$1=データセット1!$B300,データセット1!$D300),\"\")","v":""},{"$f":"IF(データセット1!$B300<>\"\",IF($O$1=データセット1!$B300,データセット1!$D300),\"\")","v":""},{"$f":"IF(データセット1!$B300<>\"\",IF($P$1=データセット1!$B300,データセット1!$D300),\"\")","v":""},{"$f":"IF(データセット1!$B300<>\"\",IF($Q$1=データセット1!$B300,データセット1!$D300),\"\")","v":""},{"$f":"IF(データセット1!$B300<>\"\",IF($R$1=データセット1!$B300,データセット1!$D300),\"\")","v":""},{"$f":"IF(データセット1!$B300<>\"\",IF($S$1=データセット1!$B300,データセット1!$D300),\"\")","v":""},{"$f":"IF(データセット1!$B300<>\"\",IF($T$1=データセット1!$B300,データセット1!$D300),\"\")","v":""},{"$f":"IF(データセット1!$B300<>\"\",IF($U$1=データセット1!$B300,データセット1!$D300),\"\")","v":""}]
[null,null,null,null,null,null,null,null,null,null,null,null,{"$f":"IF(データセット1!$B301<>\"\",IF($M$1=データセット1!$B301,データセット1!$D301),\"\")","v":""},{"$f":"IF(データセット1!$B301<>\"\",IF($N$1=データセット1!$B301,データセット1!$D301),\"\")","v":""},{"$f":"IF(データセット1!$B301<>\"\",IF($O$1=データセット1!$B301,データセット1!$D301),\"\")","v":""},{"$f":"IF(データセット1!$B301<>\"\",IF($P$1=データセット1!$B301,データセット1!$D301),\"\")","v":""},{"$f":"IF(データセット1!$B301<>\"\",IF($Q$1=データセット1!$B301,データセット1!$D301),\"\")","v":""},{"$f":"IF(データセット1!$B301<>\"\",IF($R$1=データセット1!$B301,データセット1!$D301),\"\")","v":""},{"$f":"IF(データセット1!$B301<>\"\",IF($S$1=データセット1!$B301,データセット1!$D301),\"\")","v":""},{"$f":"IF(データセット1!$B301<>\"\",IF($T$1=データセット1!$B301,データセット1!$D301),\"\")","v":""},{"$f":"IF(データセット1!$B301<>\"\",IF($U$1=データセット1!$B301,データセット1!$D301),\"\")","v":""}]
[null,null,null,null,null,null,null,null,null,null,null,null,{"$f":"IF(データセット1!$B302<>\"\",IF($M$1=データセット1!$B302,データセット1!$D302),\"\")","v":""},{"$f":"IF(データセット1!$B302<>\"\",IF($N$1=データセット1!$B302,データセット1!$D302),\"\")","v":""},{"$f":"IF(データセット1!$B302<>\"\",IF($O$1=データセット1!$B302,データセット1!$D302),\"\")","v":""},{"$f":"IF(データセット1!$B302<>\"\",IF($P$1=データセット1!$B302,データセット1!$D302),\"\")","v":""},{"$f":"IF(データセット1!$B302<>\"\",IF($Q$1=データセット1!$B302,データセット1!$D302),\"\")","v":""},{"$f":"IF(データセット1!$B302<>\"\",IF($R$1=データセット1!$B302,データセット1!$D302),\"\")","v":""},{"$f":"IF(データセット1!$B302<>\"\",IF($S$1=データセット1!$B302,データセット1!$D302),\"\")","v":""},{"$f":"IF(データセット1!$B302<>\"\",IF($T$1=データセット1!$B302,データセット1!$D302),\"\")","v":""},{"$f":"IF(データセット1!$B302<>\"\",IF($U$1=データセット1!$B302,データセット1!$D302),\"\")","v":""}]
[null,null,null,null,null,null,null,null,null,null,null,null,{"$f":"IF(データセット1!$B303<>\"\",IF($M$1=データセット1!$B303,データセット1!$D303),\"\")","v":""},{"$f":"IF(データセット1!$B303<>\"\",IF($N$1=データセット1!$B303,データセット1!$D303),\"\")","v":""},{"$f":"IF(データセット1!$B303<>\"\",IF($O$1=データセット1!$B303,データセット1!$D303),\"\")","v":""},{"$f":"IF(データセット1!$B303<>\"\",IF($P$1=データセット1!$B303,データセット1!$D303),\"\")","v":""},{"$f":"IF(データセット1!$B303<>\"\",IF($Q$1=データセット1!$B303,データセット1!$D303),\"\")","v":""},{"$f":"IF(データセット1!$B303<>\"\",IF($R$1=データセット1!$B303,データセット1!$D303),\"\")","v":""},{"$f":"IF(データセット1!$B303<>\"\",IF($S$1=データセット1!$B303,データセット1!$D303),\"\")","v":""},{"$f":"IF(データセット1!$B303<>\"\",IF($T$1=データセット1!$B303,データセット1!$D303),\"\")","v":""},{"$f":"IF(データセット1!$B303<>\"\",IF($U$1=データセット1!$B303,データセット1!$D303),\"\")","v":""}]
[null,null,null,null,null,null,null,null,null,null,null,null,{"$f":"IF(データセット1!$B304<>\"\",IF($M$1=データセット1!$B304,データセット1!$D304),\"\")","v":""},{"$f":"IF(データセット1!$B304<>\"\",IF($N$1=データセット1!$B304,データセット1!$D304),\"\")","v":""},{"$f":"IF(データセット1!$B304<>\"\",IF($O$1=データセット1!$B304,データセット1!$D304),\"\")","v":""},{"$f":"IF(データセット1!$B304<>\"\",IF($P$1=データセット1!$B304,データセット1!$D304),\"\")","v":""},{"$f":"IF(データセット1!$B304<>\"\",IF($Q$1=データセット1!$B304,データセット1!$D304),\"\")","v":""},{"$f":"IF(データセット1!$B304<>\"\",IF($R$1=データセット1!$B304,データセット1!$D304),\"\")","v":""},{"$f":"IF(データセット1!$B304<>\"\",IF($S$1=データセット1!$B304,データセット1!$D304),\"\")","v":""},{"$f":"IF(データセット1!$B304<>\"\",IF($T$1=データセット1!$B304,データセット1!$D304),\"\")","v":""},{"$f":"IF(データセット1!$B304<>\"\",IF($U$1=データセット1!$B304,データセット1!$D304),\"\")","v":""}]
[null,null,null,null,null,null,null,null,null,null,null,null,{"$f":"IF(データセット1!$B305<>\"\",IF($M$1=データセット1!$B305,データセット1!$D305),\"\")","v":""},{"$f":"IF(データセット1!$B305<>\"\",IF($N$1=データセット1!$B305,データセット1!$D305),\"\")","v":""},{"$f":"IF(データセット1!$B305<>\"\",IF($O$1=データセット1!$B305,データセット1!$D305),\"\")","v":""},{"$f":"IF(データセット1!$B305<>\"\",IF($P$1=データセット1!$B305,データセット1!$D305),\"\")","v":""},{"$f":"IF(データセット1!$B305<>\"\",IF($Q$1=データセット1!$B305,データセット1!$D305),\"\")","v":""},{"$f":"IF(データセット1!$B305<>\"\",IF($R$1=データセット1!$B305,データセット1!$D305),\"\")","v":""},{"$f":"IF(データセット1!$B305<>\"\",IF($S$1=データセット1!$B305,データセット1!$D305),\"\")","v":""},{"$f":"IF(データセット1!$B305<>\"\",IF($T$1=データセット1!$B305,データセット1!$D305),\"\")","v":""},{"$f":"IF(データセット1!$B305<>\"\",IF($U$1=データセット1!$B305,データセット1!$D305),\"\")","v":""}]
[null,null,null,null,null,null,null,null,null,null,null,null,{"$f":"IF(データセット1!$B306<>\"\",IF($M$1=データセット1!$B306,データセット1!$D306),\"\")","v":""},{"$f":"IF(データセット1!$B306<>\"\",IF($N$1=データセット1!$B306,データセット1!$D306),\"\")","v":""},{"$f":"IF(データセット1!$B306<>\"\",IF($O$1=データセット1!$B306,データセット1!$D306),\"\")","v":""},{"$f":"IF(データセット1!$B306<>\"\",IF($P$1=データセット1!$B306,データセット1!$D306),\"\")","v":""},{"$f":"IF(データセット1!$B306<>\"\",IF($Q$1=データセット1!$B306,データセット1!$D306),\"\")","v":""},{"$f":"IF(データセット1!$B306<>\"\",IF($R$1=データセット1!$B306,データセット1!$D306),\"\")","v":""},{"$f":"IF(データセット1!$B306<>\"\",IF($S$1=データセット1!$B306,データセット1!$D306),\"\")","v":""},{"$f":"IF(データセット1!$B306<>\"\",IF($T$1=データセット1!$B306,データセット1!$D306),\"\")","v":""},{"$f":"IF(データセット1!$B306<>\"\",IF($U$1=データセット1!$B306,データセット1!$D306),\"\")","v":""}]
[null,null,null,null,null,null,null,null,null,null,null,null,{"$f":"IF(データセット1!$B307<>\"\",IF($M$1=データセット1!$B307,データセット1!$D307),\"\")","v":""},{"$f":"IF(データセット1!$B307<>\"\",IF($N$1=データセット1!$B307,データセット1!$D307),\"\")","v":""},{"$f":"IF(データセット1!$B307<>\"\",IF($O$1=データセット1!$B307,データセット1!$D307),\"\")","v":""},{"$f":"IF(データセット1!$B307<>\"\",IF($P$1=データセット1!$B307,データセット1!$D307),\"\")","v":""},{"$f":"IF(データセット1!$B307<>\"\",IF($Q$1=データセット1!$B307,データセット1!$D307),\"\")","v":""},{"$f":"IF(データセット1!$B307<>\"\",IF($R$1=データセット1!$B307,データセット1!$D307),\"\")","v":""},{"$f":"IF(データセット1!$B307<>\"\",IF($S$1=データセット1!$B307,データセット1!$D307),\"\")","v":""},{"$f":"IF(データセット1!$B307<>\"\",IF($T$1=データセット1!$B307,データセット1!$D307),\"\")","v":""},{"$f":"IF(データセット1!$B307<>\"\",IF($U$1=データセット1!$B307,データセット1!$D307),\"\")","v":""}]
[null,null,null,null,null,null,null,null,null,null,null,null,{"$f":"IF(データセット1!$B308<>\"\",IF($M$1=データセット1!$B308,データセット1!$D308),\"\")","v":""},{"$f":"IF(データセット1!$B308<>\"\",IF($N$1=データセット1!$B308,データセット1!$D308),\"\")","v":""},{"$f":"IF(データセット1!$B308<>\"\",IF($O$1=データセット1!$B308,データセット1!$D308),\"\")","v":""},{"$f":"IF(データセット1!$B308<>\"\",IF($P$1=データセット1!$B308,データセット1!$D308),\"\")","v":""},{"$f":"IF(データセット1!$B308<>\"\",IF($Q$1=データセット1!$B308,データセット1!$D308),\"\")","v":""},{"$f":"IF(データセット1!$B308<>\"\",IF($R$1=データセット1!$B308,データセット1!$D308),\"\")","v":""},{"$f":"IF(データセット1!$B308<>\"\",IF($S$1=データセット1!$B308,データセット1!$D308),\"\")","v":""},{"$f":"IF(データセット1!$B308<>\"\",IF($T$1=データセット1!$B308,データセット1!$D308),\"\")","v":""},{"$f":"IF(データセット1!$B308<>\"\",IF($U$1=データセット1!$B308,データセット1!$D308),\"\")","v":""}]
[null,null,null,null,null,null,null,null,null,null,null,null,{"$f":"IF(データセット1!$B309<>\"\",IF($M$1=データセット1!$B309,データセット1!$D309),\"\")","v":""},{"$f":"IF(データセット1!$B309<>\"\",IF($N$1=データセット1!$B309,データセット1!$D309),\"\")","v":""},{"$f":"IF(データセット1!$B309<>\"\",IF($O$1=データセット1!$B309,データセット1!$D309),\"\")","v":""},{"$f":"IF(データセット1!$B309<>\"\",IF($P$1=データセット1!$B309,データセット1!$D309),\"\")","v":""},{"$f":"IF(データセット1!$B309<>\"\",IF($Q$1=データセット1!$B309,データセット1!$D309),\"\")","v":""},{"$f":"IF(データセット1!$B309<>\"\",IF($R$1=データセット1!$B309,データセット1!$D309),\"\")","v":""},{"$f":"IF(データセット1!$B309<>\"\",IF($S$1=データセット1!$B309,データセット1!$D309),\"\")","v":""},{"$f":"IF(データセット1!$B309<>\"\",IF($T$1=データセット1!$B309,データセット1!$D309),\"\")","v":""},{"$f":"IF(データセット1!$B309<>\"\",IF($U$1=データセット1!$B309,データセット1!$D309),\"\")","v":""}]
[null,null,null,null,null,null,null,null,null,null,null,null,{"$f":"IF(データセット1!$B310<>\"\",IF($M$1=データセット1!$B310,データセット1!$D310),\"\")","v":""},{"$f":"IF(データセット1!$B310<>\"\",IF($N$1=データセット1!$B310,データセット1!$D310),\"\")","v":""},{"$f":"IF(データセット1!$B310<>\"\",IF($O$1=データセット1!$B310,データセット1!$D310),\"\")","v":""},{"$f":"IF(データセット1!$B310<>\"\",IF($P$1=データセット1!$B310,データセット1!$D310),\"\")","v":""},{"$f":"IF(データセット1!$B310<>\"\",IF($Q$1=データセット1!$B310,データセット1!$D310),\"\")","v":""},{"$f":"IF(データセット1!$B310<>\"\",IF($R$1=データセット1!$B310,データセット1!$D310),\"\")","v":""},{"$f":"IF(データセット1!$B310<>\"\",IF($S$1=データセット1!$B310,データセット1!$D310),\"\")","v":""},{"$f":"IF(データセット1!$B310<>\"\",IF($T$1=データセット1!$B310,データセット1!$D310),\"\")","v":""},{"$f":"IF(データセット1!$B310<>\"\",IF($U$1=データセット1!$B310,データセット1!$D310),\"\")","v":""}]
[null,null,null,null,null,null,null,null,null,null,null,null,{"$f":"IF(データセット1!$B311<>\"\",IF($M$1=データセット1!$B311,データセット1!$D311),\"\")","v":""},{"$f":"IF(データセット1!$B311<>\"\",IF($N$1=データセット1!$B311,データセット1!$D311),\"\")","v":""},{"$f":"IF(データセット1!$B311<>\"\",IF($O$1=データセット1!$B311,データセット1!$D311),\"\")","v":""},{"$f":"IF(データセット1!$B311<>\"\",IF($P$1=データセット1!$B311,データセット1!$D311),\"\")","v":""},{"$f":"IF(データセット1!$B311<>\"\",IF($Q$1=データセット1!$B311,データセット1!$D311),\"\")","v":""},{"$f":"IF(データセット1!$B311<>\"\",IF($R$1=データセット1!$B311,データセット1!$D311),\"\")","v":""},{"$f":"IF(データセット1!$B311<>\"\",IF($S$1=データセット1!$B311,データセット1!$D311),\"\")","v":""},{"$f":"IF(データセット1!$B311<>\"\",IF($T$1=データセット1!$B311,データセット1!$D311),\"\")","v":""},{"$f":"IF(データセット1!$B311<>\"\",IF($U$1=データセット1!$B311,データセット1!$D311),\"\")","v":""}]
[null,null,null,null,null,null,null,null,null,null,null,null,{"$f":"IF(データセット1!$B312<>\"\",IF($M$1=データセット1!$B312,データセット1!$D312),\"\")","v":""},{"$f":"IF(データセット1!$B312<>\"\",IF($N$1=データセット1!$B312,データセット1!$D312),\"\")","v":""},{"$f":"IF(データセット1!$B312<>\"\",IF($O$1=データセット1!$B312,データセット1!$D312),\"\")","v":""},{"$f":"IF(データセット1!$B312<>\"\",IF($P$1=データセット1!$B312,データセット1!$D312),\"\")","v":""},{"$f":"IF(データセット1!$B312<>\"\",IF($Q$1=データセット1!$B312,データセット1!$D312),\"\")","v":""},{"$f":"IF(データセット1!$B312<>\"\",IF($R$1=データセット1!$B312,データセット1!$D312),\"\")","v":""},{"$f":"IF(データセット1!$B312<>\"\",IF($S$1=データセット1!$B312,データセット1!$D312),\"\")","v":""},{"$f":"IF(データセット1!$B312<>\"\",IF($T$1=データセット1!$B312,データセット1!$D312),\"\")","v":""},{"$f":"IF(データセット1!$B312<>\"\",IF($U$1=データセット1!$B312,データセット1!$D312),\"\")","v":""}]
[null,null,null,null,null,null,null,null,null,null,null,null,{"$f":"IF(データセット1!$B313<>\"\",IF($M$1=データセット1!$B313,データセット1!$D313),\"\")","v":""},{"$f":"IF(データセット1!$B313<>\"\",IF($N$1=データセット1!$B313,データセット1!$D313),\"\")","v":""},{"$f":"IF(データセット1!$B313<>\"\",IF($O$1=データセット1!$B313,データセット1!$D313),\"\")","v":""},{"$f":"IF(データセット1!$B313<>\"\",IF($P$1=データセット1!$B313,データセット1!$D313),\"\")","v":""},{"$f":"IF(データセット1!$B313<>\"\",IF($Q$1=データセット1!$B313,データセット1!$D313),\"\")","v":""},{"$f":"IF(データセット1!$B313<>\"\",IF($R$1=データセット1!$B313,データセット1!$D313),\"\")","v":""},{"$f":"IF(データセット1!$B313<>\"\",IF($S$1=データセット1!$B313,データセット1!$D313),\"\")","v":""},{"$f":"IF(データセット1!$B313<>\"\",IF($T$1=データセット1!$B313,データセット1!$D313),\"\")","v":""},{"$f":"IF(データセット1!$B313<>\"\",IF($U$1=データセット1!$B313,データセット1!$D313),\"\")","v":""}]
[null,null,null,null,null,null,null,null,null,null,null,null,{"$f":"IF(データセット1!$B314<>\"\",IF($M$1=データセット1!$B314,データセット1!$D314),\"\")","v":""},{"$f":"IF(データセット1!$B314<>\"\",IF($N$1=データセット1!$B314,データセット1!$D314),\"\")","v":""},{"$f":"IF(データセット1!$B314<>\"\",IF($O$1=データセット1!$B314,データセット1!$D314),\"\")","v":""},{"$f":"IF(データセット1!$B314<>\"\",IF($P$1=データセット1!$B314,データセット1!$D314),\"\")","v":""},{"$f":"IF(データセット1!$B314<>\"\",IF($Q$1=データセット1!$B314,データセット1!$D314),\"\")","v":""},{"$f":"IF(データセット1!$B314<>\"\",IF($R$1=データセット1!$B314,データセット1!$D314),\"\")","v":""},{"$f":"IF(データセット1!$B314<>\"\",IF($S$1=データセット1!$B314,データセット1!$D314),\"\")","v":""},{"$f":"IF(データセット1!$B314<>\"\",IF($T$1=データセット1!$B314,データセット1!$D314),\"\")","v":""},{"$f":"IF(データセット1!$B314<>\"\",IF($U$1=データセット1!$B314,データセット1!$D314),\"\")","v":""}]
[null,null,null,null,null,null,null,null,null,null,null,null,{"$f":"IF(データセット1!$B315<>\"\",IF($M$1=データセット1!$B315,データセット1!$D315),\"\")","v":""},{"$f":"IF(データセット1!$B315<>\"\",IF($N$1=データセット1!$B315,データセット1!$D315),\"\")","v":""},{"$f":"IF(データセット1!$B315<>\"\",IF($O$1=データセット1!$B315,データセット1!$D315),\"\")","v":""},{"$f":"IF(データセット1!$B315<>\"\",IF($P$1=データセット1!$B315,データセット1!$D315),\"\")","v":""},{"$f":"IF(データセット1!$B315<>\"\",IF($Q$1=データセット1!$B315,データセット1!$D315),\"\")","v":""},{"$f":"IF(データセット1!$B315<>\"\",IF($R$1=データセット1!$B315,データセット1!$D315),\"\")","v":""},{"$f":"IF(データセット1!$B315<>\"\",IF($S$1=データセット1!$B315,データセット1!$D315),\"\")","v":""},{"$f":"IF(データセット1!$B315<>\"\",IF($T$1=データセット1!$B315,データセット1!$D315),\"\")","v":""},{"$f":"IF(データセット1!$B315<>\"\",IF($U$1=データセット1!$B315,データセット1!$D315),\"\")","v":""}]
[null,null,null,null,null,null,null,null,null,null,null,null,{"$f":"IF(データセット1!$B316<>\"\",IF($M$1=データセット1!$B316,データセット1!$D316),\"\")","v":""},{"$f":"IF(データセット1!$B316<>\"\",IF($N$1=データセット1!$B316,データセット1!$D316),\"\")","v":""},{"$f":"IF(データセット1!$B316<>\"\",IF($O$1=データセット1!$B316,データセット1!$D316),\"\")","v":""},{"$f":"IF(データセット1!$B316<>\"\",IF($P$1=データセット1!$B316,データセット1!$D316),\"\")","v":""},{"$f":"IF(データセット1!$B316<>\"\",IF($Q$1=データセット1!$B316,データセット1!$D316),\"\")","v":""},{"$f":"IF(データセット1!$B316<>\"\",IF($R$1=データセット1!$B316,データセット1!$D316),\"\")","v":""},{"$f":"IF(データセット1!$B316<>\"\",IF($S$1=データセット1!$B316,データセット1!$D316),\"\")","v":""},{"$f":"IF(データセット1!$B316<>\"\",IF($T$1=データセット1!$B316,データセット1!$D316),\"\")","v":""},{"$f":"IF(データセット1!$B316<>\"\",IF($U$1=データセット1!$B316,データセット1!$D316),\"\")","v":""}]
[null,null,null,null,null,null,null,null,null,null,null,null,{"$f":"IF(データセット1!$B317<>\"\",IF($M$1=データセット1!$B317,データセット1!$D317),\"\")","v":""},{"$f":"IF(データセット1!$B317<>\"\",IF($N$1=データセット1!$B317,データセット1!$D317),\"\")","v":""},{"$f":"IF(データセット1!$B317<>\"\",IF($O$1=データセット1!$B317,データセット1!$D317),\"\")","v":""},{"$f":"IF(データセット1!$B317<>\"\",IF($P$1=データセット1!$B317,データセット1!$D317),\"\")","v":""},{"$f":"IF(データセット1!$B317<>\"\",IF($Q$1=データセット1!$B317,データセット1!$D317),\"\")","v":""},{"$f":"IF(データセット1!$B317<>\"\",IF($R$1=データセット1!$B317,データセット1!$D317),\"\")","v":""},{"$f":"IF(データセット1!$B317<>\"\",IF($S$1=データセット1!$B317,データセット1!$D317),\"\")","v":""},{"$f":"IF(データセット1!$B317<>\"\",IF($T$1=データセット1!$B317,データセット1!$D317),\"\")","v":""},{"$f":"IF(データセット1!$B317<>\"\",IF($U$1=データセット1!$B317,データセット1!$D317),\"\")","v":""}]
[null,null,null,null,null,null,null,null,null,null,null,null,{"$f":"IF(データセット1!$B318<>\"\",IF($M$1=データセット1!$B318,データセット1!$D318),\"\")","v":""},{"$f":"IF(データセット1!$B318<>\"\",IF($N$1=データセット1!$B318,データセット1!$D318),\"\")","v":""},{"$f":"IF(データセット1!$B318<>\"\",IF($O$1=データセット1!$B318,データセット1!$D318),\"\")","v":""},{"$f":"IF(データセット1!$B318<>\"\",IF($P$1=データセット1!$B318,データセット1!$D318),\"\")","v":""},{"$f":"IF(データセット1!$B318<>\"\",IF($Q$1=データセット1!$B318,データセット1!$D318),\"\")","v":""},{"$f":"IF(データセット1!$B318<>\"\",IF($R$1=データセット1!$B318,データセット1!$D318),\"\")","v":""},{"$f":"IF(データセット1!$B318<>\"\",IF($S$1=データセット1!$B318,データセット1!$D318),\"\")","v":""},{"$f":"IF(データセット1!$B318<>\"\",IF($T$1=データセット1!$B318,データセット1!$D318),\"\")","v":""},{"$f":"IF(データセット1!$B318<>\"\",IF($U$1=データセット1!$B318,データセット1!$D318),\"\")","v":""}]
[null,null,null,null,null,null,null,null,null,null,null,null,{"$f":"IF(データセット1!$B319<>\"\",IF($M$1=データセット1!$B319,データセット1!$D319),\"\")","v":""},{"$f":"IF(データセット1!$B319<>\"\",IF($N$1=データセット1!$B319,データセット1!$D319),\"\")","v":""},{"$f":"IF(データセット1!$B319<>\"\",IF($O$1=データセット1!$B319,データセット1!$D319),\"\")","v":""},{"$f":"IF(データセット1!$B319<>\"\",IF($P$1=データセット1!$B319,データセット1!$D319),\"\")","v":""},{"$f":"IF(データセット1!$B319<>\"\",IF($Q$1=データセット1!$B319,データセット1!$D319),\"\")","v":""},{"$f":"IF(データセット1!$B319<>\"\",IF($R$1=データセット1!$B319,データセット1!$D319),\"\")","v":""},{"$f":"IF(データセット1!$B319<>\"\",IF($S$1=データセット1!$B319,データセット1!$D319),\"\")","v":""},{"$f":"IF(データセット1!$B319<>\"\",IF($T$1=データセット1!$B319,データセット1!$D319),\"\")","v":""},{"$f":"IF(データセット1!$B319<>\"\",IF($U$1=データセット1!$B319,データセット1!$D319),\"\")","v":""}]
[null,null,null,null,null,null,null,null,null,null,null,null,{"$f":"IF(データセット1!$B320<>\"\",IF($M$1=データセット1!$B320,データセット1!$D320),\"\")","v":""},{"$f":"IF(データセット1!$B320<>\"\",IF($N$1=データセット1!$B320,データセット1!$D320),\"\")","v":""},{"$f":"IF(データセット1!$B320<>\"\",IF($O$1=データセット1!$B320,データセット1!$D320),\"\")","v":""},{"$f":"IF(データセット1!$B320<>\"\",IF($P$1=データセット1!$B320,データセット1!$D320),\"\")","v":""},{"$f":"IF(データセット1!$B320<>\"\",IF($Q$1=データセット1!$B320,データセット1!$D320),\"\")","v":""},{"$f":"IF(データセット1!$B320<>\"\",IF($R$1=データセット1!$B320,データセット1!$D320),\"\")","v":""},{"$f":"IF(データセット1!$B320<>\"\",IF($S$1=データセット1!$B320,データセット1!$D320),\"\")","v":""},{"$f":"IF(データセット1!$B320<>\"\",IF($T$1=データセット1!$B320,データセット1!$D320),\"\")","v":""},{"$f":"IF(データセット1!$B320<>\"\",IF($U$1=データセット1!$B320,データセット1!$D320),\"\")","v":""}]
[null,null,null,null,null,null,null,null,null,null,null,null,{"$f":"IF(データセット1!$B321<>\"\",IF($M$1=データセット1!$B321,データセット1!$D321),\"\")","v":""},{"$f":"IF(データセット1!$B321<>\"\",IF($N$1=データセット1!$B321,データセット1!$D321),\"\")","v":""},{"$f":"IF(データセット1!$B321<>\"\",IF($O$1=データセット1!$B321,データセット1!$D321),\"\")","v":""},{"$f":"IF(データセット1!$B321<>\"\",IF($P$1=データセット1!$B321,データセット1!$D321),\"\")","v":""},{"$f":"IF(データセット1!$B321<>\"\",IF($Q$1=データセット1!$B321,データセット1!$D321),\"\")","v":""},{"$f":"IF(データセット1!$B321<>\"\",IF($R$1=データセット1!$B321,データセット1!$D321),\"\")","v":""},{"$f":"IF(データセット1!$B321<>\"\",IF($S$1=データセット1!$B321,データセット1!$D321),\"\")","v":""},{"$f":"IF(データセット1!$B321<>\"\",IF($T$1=データセット1!$B321,データセット1!$D321),\"\")","v":""},{"$f":"IF(データセット1!$B321<>\"\",IF($U$1=データセット1!$B321,データセット1!$D321),\"\")","v":""}]
[null,null,null,null,null,null,null,null,null,null,null,null,{"$f":"IF(データセット1!$B322<>\"\",IF($M$1=データセット1!$B322,データセット1!$D322),\"\")","v":""},{"$f":"IF(データセット1!$B322<>\"\",IF($N$1=データセット1!$B322,データセット1!$D322),\"\")","v":""},{"$f":"IF(データセット1!$B322<>\"\",IF($O$1=データセット1!$B322,データセット1!$D322),\"\")","v":""},{"$f":"IF(データセット1!$B322<>\"\",IF($P$1=データセット1!$B322,データセット1!$D322),\"\")","v":""},{"$f":"IF(データセット1!$B322<>\"\",IF($Q$1=データセット1!$B322,データセット1!$D322),\"\")","v":""},{"$f":"IF(データセット1!$B322<>\"\",IF($R$1=データセット1!$B322,データセット1!$D322),\"\")","v":""},{"$f":"IF(データセット1!$B322<>\"\",IF($S$1=データセット1!$B322,データセット1!$D322),\"\")","v":""},{"$f":"IF(データセット1!$B322<>\"\",IF($T$1=データセット1!$B322,データセット1!$D322),\"\")","v":""},{"$f":"IF(データセット1!$B322<>\"\",IF($U$1=データセット1!$B322,データセット1!$D322),\"\")","v":""}]
[null,null,null,null,null,null,null,null,null,null,null,null,{"$f":"IF(データセット1!$B323<>\"\",IF($M$1=データセット1!$B323,データセット1!$D323),\"\")","v":""},{"$f":"IF(データセット1!$B323<>\"\",IF($N$1=データセット1!$B323,データセット1!$D323),\"\")","v":""},{"$f":"IF(データセット1!$B323<>\"\",IF($O$1=データセット1!$B323,データセット1!$D323),\"\")","v":""},{"$f":"IF(データセット1!$B323<>\"\",IF($P$1=データセット1!$B323,データセット1!$D323),\"\")","v":""},{"$f":"IF(データセット1!$B323<>\"\",IF($Q$1=データセット1!$B323,データセット1!$D323),\"\")","v":""},{"$f":"IF(データセット1!$B323<>\"\",IF($R$1=データセット1!$B323,データセット1!$D323),\"\")","v":""},{"$f":"IF(データセット1!$B323<>\"\",IF($S$1=データセット1!$B323,データセット1!$D323),\"\")","v":""},{"$f":"IF(データセット1!$B323<>\"\",IF($T$1=データセット1!$B323,データセット1!$D323),\"\")","v":""},{"$f":"IF(データセット1!$B323<>\"\",IF($U$1=データセット1!$B323,データセット1!$D323),\"\")","v":""}]
[null,null,null,null,null,null,null,null,null,null,null,null,{"$f":"IF(データセット1!$B324<>\"\",IF($M$1=データセット1!$B324,データセット1!$D324),\"\")","v":""},{"$f":"IF(データセット1!$B324<>\"\",IF($N$1=データセット1!$B324,データセット1!$D324),\"\")","v":""},{"$f":"IF(データセット1!$B324<>\"\",IF($O$1=データセット1!$B324,データセット1!$D324),\"\")","v":""},{"$f":"IF(データセット1!$B324<>\"\",IF($P$1=データセット1!$B324,データセット1!$D324),\"\")","v":""},{"$f":"IF(データセット1!$B324<>\"\",IF($Q$1=データセット1!$B324,データセット1!$D324),\"\")","v":""},{"$f":"IF(データセット1!$B324<>\"\",IF($R$1=データセット1!$B324,データセット1!$D324),\"\")","v":""},{"$f":"IF(データセット1!$B324<>\"\",IF($S$1=データセット1!$B324,データセット1!$D324),\"\")","v":""},{"$f":"IF(データセット1!$B324<>\"\",IF($T$1=データセット1!$B324,データセット1!$D324),\"\")","v":""},{"$f":"IF(データセット1!$B324<>\"\",IF($U$1=データセット1!$B324,データセット1!$D324),\"\")","v":""}]
[null,null,null,null,null,null,null,null,null,null,null,null,{"$f":"IF(データセット1!$B325<>\"\",IF($M$1=データセット1!$B325,データセット1!$D325),\"\")","v":""},{"$f":"IF(データセット1!$B325<>\"\",IF($N$1=データセット1!$B325,データセット1!$D325),\"\")","v":""},{"$f":"IF(データセット1!$B325<>\"\",IF($O$1=データセット1!$B325,データセット1!$D325),\"\")","v":""},{"$f":"IF(データセット1!$B325<>\"\",IF($P$1=データセット1!$B325,データセット1!$D325),\"\")","v":""},{"$f":"IF(データセット1!$B325<>\"\",IF($Q$1=データセット1!$B325,データセット1!$D325),\"\")","v":""},{"$f":"IF(データセット1!$B325<>\"\",IF($R$1=データセット1!$B325,データセット1!$D325),\"\")","v":""},{"$f":"IF(データセット1!$B325<>\"\",IF($S$1=データセット1!$B325,データセット1!$D325),\"\")","v":""},{"$f":"IF(データセット1!$B325<>\"\",IF($T$1=データセット1!$B325,データセット1!$D325),\"\")","v":""},{"$f":"IF(データセット1!$B325<>\"\",IF($U$1=データセット1!$B325,データセット1!$D325),\"\")","v":""}]
[null,null,null,null,null,null,null,null,null,null,null,null,{"$f":"IF(データセット1!$B326<>\"\",IF($M$1=データセット1!$B326,データセット1!$D326),\"\")","v":""},{"$f":"IF(データセット1!$B326<>\"\",IF($N$1=データセット1!$B326,データセット1!$D326),\"\")","v":""},{"$f":"IF(データセット1!$B326<>\"\",IF($O$1=データセット1!$B326,データセット1!$D326),\"\")","v":""},{"$f":"IF(データセット1!$B326<>\"\",IF($P$1=データセット1!$B326,データセット1!$D326),\"\")","v":""},{"$f":"IF(データセット1!$B326<>\"\",IF($Q$1=データセット1!$B326,データセット1!$D326),\"\")","v":""},{"$f":"IF(データセット1!$B326<>\"\",IF($R$1=データセット1!$B326,データセット1!$D326),\"\")","v":""},{"$f":"IF(データセット1!$B326<>\"\",IF($S$1=データセット1!$B326,データセット1!$D326),\"\")","v":""},{"$f":"IF(データセット1!$B326<>\"\",IF($T$1=データセット1!$B326,データセット1!$D326),\"\")","v":""},{"$f":"IF(データセット1!$B326<>\"\",IF($U$1=データセット1!$B326,データセット1!$D326),\"\")","v":""}]
[null,null,null,null,null,null,null,null,null,null,null,null,{"$f":"IF(データセット1!$B327<>\"\",IF($M$1=データセット1!$B327,データセット1!$D327),\"\")","v":""},{"$f":"IF(データセット1!$B327<>\"\",IF($N$1=データセット1!$B327,データセット1!$D327),\"\")","v":""},{"$f":"IF(データセット1!$B327<>\"\",IF($O$1=データセット1!$B327,データセット1!$D327),\"\")","v":""},{"$f":"IF(データセット1!$B327<>\"\",IF($P$1=データセット1!$B327,データセット1!$D327),\"\")","v":""},{"$f":"IF(データセット1!$B327<>\"\",IF($Q$1=データセット1!$B327,データセット1!$D327),\"\")","v":""},{"$f":"IF(データセット1!$B327<>\"\",IF($R$1=データセット1!$B327,データセット1!$D327),\"\")","v":""},{"$f":"IF(データセット1!$B327<>\"\",IF($S$1=データセット1!$B327,データセット1!$D327),\"\")","v":""},{"$f":"IF(データセット1!$B327<>\"\",IF($T$1=データセット1!$B327,データセット1!$D327),\"\")","v":""},{"$f":"IF(データセット1!$B327<>\"\",IF($U$1=データセット1!$B327,データセット1!$D327),\"\")","v":""}]
[null,null,null,null,null,null,null,null,null,null,null,null,{"$f":"IF(データセット1!$B328<>\"\",IF($M$1=データセット1!$B328,データセット1!$D328),\"\")","v":""},{"$f":"IF(データセット1!$B328<>\"\",IF($N$1=データセット1!$B328,データセット1!$D328),\"\")","v":""},{"$f":"IF(データセット1!$B328<>\"\",IF($O$1=データセット1!$B328,データセット1!$D328),\"\")","v":""},{"$f":"IF(データセット1!$B328<>\"\",IF($P$1=データセット1!$B328,データセット1!$D328),\"\")","v":""},{"$f":"IF(データセット1!$B328<>\"\",IF($Q$1=データセット1!$B328,データセット1!$D328),\"\")","v":""},{"$f":"IF(データセット1!$B328<>\"\",IF($R$1=データセット1!$B328,データセット1!$D328),\"\")","v":""},{"$f":"IF(データセット1!$B328<>\"\",IF($S$1=データセット1!$B328,データセット1!$D328),\"\")","v":""},{"$f":"IF(データセット1!$B328<>\"\",IF($T$1=データセット1!$B328,データセット1!$D328),\"\")","v":""},{"$f":"IF(データセット1!$B328<>\"\",IF($U$1=データセット1!$B328,データセット1!$D328),\"\")","v":""}]
[null,null,null,null,null,null,null,null,null,null,null,null,{"$f":"IF(データセット1!$B329<>\"\",IF($M$1=データセット1!$B329,データセット1!$D329),\"\")","v":""},{"$f":"IF(データセット1!$B329<>\"\",IF($N$1=データセット1!$B329,データセット1!$D329),\"\")","v":""},{"$f":"IF(データセット1!$B329<>\"\",IF($O$1=データセット1!$B329,データセット1!$D329),\"\")","v":""},{"$f":"IF(データセット1!$B329<>\"\",IF($P$1=データセット1!$B329,データセット1!$D329),\"\")","v":""},{"$f":"IF(データセット1!$B329<>\"\",IF($Q$1=データセット1!$B329,データセット1!$D329),\"\")","v":""},{"$f":"IF(データセット1!$B329<>\"\",IF($R$1=データセット1!$B329,データセット1!$D329),\"\")","v":""},{"$f":"IF(データセット1!$B329<>\"\",IF($S$1=データセット1!$B329,データセット1!$D329),\"\")","v":""},{"$f":"IF(データセット1!$B329<>\"\",IF($T$1=データセット1!$B329,データセット1!$D329),\"\")","v":""},{"$f":"IF(データセット1!$B329<>\"\",IF($U$1=データセット1!$B329,データセット1!$D329),\"\")","v":""}]
[null,null,null,null,null,null,null,null,null,null,null,null,{"$f":"IF(データセット1!$B330<>\"\",IF($M$1=データセット1!$B330,データセット1!$D330),\"\")","v":""},{"$f":"IF(データセット1!$B330<>\"\",IF($N$1=データセット1!$B330,データセット1!$D330),\"\")","v":""},{"$f":"IF(データセット1!$B330<>\"\",IF($O$1=データセット1!$B330,データセット1!$D330),\"\")","v":""},{"$f":"IF(データセット1!$B330<>\"\",IF($P$1=データセット1!$B330,データセット1!$D330),\"\")","v":""},{"$f":"IF(データセット1!$B330<>\"\",IF($Q$1=データセット1!$B330,データセット1!$D330),\"\")","v":""},{"$f":"IF(データセット1!$B330<>\"\",IF($R$1=データセット1!$B330,データセット1!$D330),\"\")","v":""},{"$f":"IF(データセット1!$B330<>\"\",IF($S$1=データセット1!$B330,データセット1!$D330),\"\")","v":""},{"$f":"IF(データセット1!$B330<>\"\",IF($T$1=データセット1!$B330,データセット1!$D330),\"\")","v":""},{"$f":"IF(データセット1!$B330<>\"\",IF($U$1=データセット1!$B330,データセット1!$D330),\"\")","v":""}]
[null,null,null,null,null,null,null,null,null,null,null,null,{"$f":"IF(データセット1!$B331<>\"\",IF($M$1=データセット1!$B331,データセット1!$D331),\"\")","v":""},{"$f":"IF(データセット1!$B331<>\"\",IF($N$1=データセット1!$B331,データセット1!$D331),\"\")","v":""},{"$f":"IF(データセット1!$B331<>\"\",IF($O$1=データセット1!$B331,データセット1!$D331),\"\")","v":""},{"$f":"IF(データセット1!$B331<>\"\",IF($P$1=データセット1!$B331,データセット1!$D331),\"\")","v":""},{"$f":"IF(データセット1!$B331<>\"\",IF($Q$1=データセット1!$B331,データセット1!$D331),\"\")","v":""},{"$f":"IF(データセット1!$B331<>\"\",IF($R$1=データセット1!$B331,データセット1!$D331),\"\")","v":""},{"$f":"IF(データセット1!$B331<>\"\",IF($S$1=データセット1!$B331,データセット1!$D331),\"\")","v":""},{"$f":"IF(データセット1!$B331<>\"\",IF($T$1=データセット1!$B331,データセット1!$D331),\"\")","v":""},{"$f":"IF(データセット1!$B331<>\"\",IF($U$1=データセット1!$B331,データセット1!$D331),\"\")","v":""}]
[null,null,null,null,null,null,null,null,null,null,null,null,{"$f":"IF(データセット1!$B332<>\"\",IF($M$1=データセット1!$B332,データセット1!$D332),\"\")","v":""},{"$f":"IF(データセット1!$B332<>\"\",IF($N$1=データセット1!$B332,データセット1!$D332),\"\")","v":""},{"$f":"IF(データセット1!$B332<>\"\",IF($O$1=データセット1!$B332,データセット1!$D332),\"\")","v":""},{"$f":"IF(データセット1!$B332<>\"\",IF($P$1=データセット1!$B332,データセット1!$D332),\"\")","v":""},{"$f":"IF(データセット1!$B332<>\"\",IF($Q$1=データセット1!$B332,データセット1!$D332),\"\")","v":""},{"$f":"IF(データセット1!$B332<>\"\",IF($R$1=データセット1!$B332,データセット1!$D332),\"\")","v":""},{"$f":"IF(データセット1!$B332<>\"\",IF($S$1=データセット1!$B332,データセット1!$D332),\"\")","v":""},{"$f":"IF(データセット1!$B332<>\"\",IF($T$1=データセット1!$B332,データセット1!$D332),\"\")","v":""},{"$f":"IF(データセット1!$B332<>\"\",IF($U$1=データセット1!$B332,データセット1!$D332),\"\")","v":""}]
[null,null,null,null,null,null,null,null,null,null,null,null,{"$f":"IF(データセット1!$B333<>\"\",IF($M$1=データセット1!$B333,データセット1!$D333),\"\")","v":""},{"$f":"IF(データセット1!$B333<>\"\",IF($N$1=データセット1!$B333,データセット1!$D333),\"\")","v":""},{"$f":"IF(データセット1!$B333<>\"\",IF($O$1=データセット1!$B333,データセット1!$D333),\"\")","v":""},{"$f":"IF(データセット1!$B333<>\"\",IF($P$1=データセット1!$B333,データセット1!$D333),\"\")","v":""},{"$f":"IF(データセット1!$B333<>\"\",IF($Q$1=データセット1!$B333,データセット1!$D333),\"\")","v":""},{"$f":"IF(データセット1!$B333<>\"\",IF($R$1=データセット1!$B333,データセット1!$D333),\"\")","v":""},{"$f":"IF(データセット1!$B333<>\"\",IF($S$1=データセット1!$B333,データセット1!$D333),\"\")","v":""},{"$f":"IF(データセット1!$B333<>\"\",IF($T$1=データセット1!$B333,データセット1!$D333),\"\")","v":""},{"$f":"IF(データセット1!$B333<>\"\",IF($U$1=データセット1!$B333,データセット1!$D333),\"\")","v":""}]
[null,null,null,null,null,null,null,null,null,null,null,null,{"$f":"IF(データセット1!$B334<>\"\",IF($M$1=データセット1!$B334,データセット1!$D334),\"\")","v":""},{"$f":"IF(データセット1!$B334<>\"\",IF($N$1=データセット1!$B334,データセット1!$D334),\"\")","v":""},{"$f":"IF(データセット1!$B334<>\"\",IF($O$1=データセット1!$B334,データセット1!$D334),\"\")","v":""},{"$f":"IF(データセット1!$B334<>\"\",IF($P$1=データセット1!$B334,データセット1!$D334),\"\")","v":""},{"$f":"IF(データセット1!$B334<>\"\",IF($Q$1=データセット1!$B334,データセット1!$D334),\"\")","v":""},{"$f":"IF(データセット1!$B334<>\"\",IF($R$1=データセット1!$B334,データセット1!$D334),\"\")","v":""},{"$f":"IF(データセット1!$B334<>\"\",IF($S$1=データセット1!$B334,データセット1!$D334),\"\")","v":""},{"$f":"IF(データセット1!$B334<>\"\",IF($T$1=データセット1!$B334,データセット1!$D334),\"\")","v":""},{"$f":"IF(データセット1!$B334<>\"\",IF($U$1=データセット1!$B334,データセット1!$D334),\"\")","v":""}]
[null,null,null,null,null,null,null,null,null,null,null,null,{"$f":"IF(データセット1!$B335<>\"\",IF($M$1=データセット1!$B335,データセット1!$D335),\"\")","v":""},{"$f":"IF(データセット1!$B335<>\"\",IF($N$1=データセット1!$B335,データセット1!$D335),\"\")","v":""},{"$f":"IF(データセット1!$B335<>\"\",IF($O$1=データセット1!$B335,データセット1!$D335),\"\")","v":""},{"$f":"IF(データセット1!$B335<>\"\",IF($P$1=データセット1!$B335,データセット1!$D335),\"\")","v":""},{"$f":"IF(データセット1!$B335<>\"\",IF($Q$1=データセット1!$B335,データセット1!$D335),\"\")","v":""},{"$f":"IF(データセット1!$B335<>\"\",IF($R$1=データセット1!$B335,データセット1!$D335),\"\")","v":""},{"$f":"IF(データセット1!$B335<>\"\",IF($S$1=データセット1!$B335,データセット1!$D335),\"\")","v":""},{"$f":"IF(データセット1!$B335<>\"\",IF($T$1=データセット1!$B335,データセット1!$D335),\"\")","v":""},{"$f":"IF(データセット1!$B335<>\"\",IF($U$1=データセット1!$B335,データセット1!$D335),\"\")","v":""}]
[null,null,null,null,null,null,null,null,null,null,null,null,{"$f":"IF(データセット1!$B336<>\"\",IF($M$1=データセット1!$B336,データセット1!$D336),\"\")","v":""},{"$f":"IF(データセット1!$B336<>\"\",IF($N$1=データセット1!$B336,データセット1!$D336),\"\")","v":""},{"$f":"IF(データセット1!$B336<>\"\",IF($O$1=データセット1!$B336,データセット1!$D336),\"\")","v":""},{"$f":"IF(データセット1!$B336<>\"\",IF($P$1=データセット1!$B336,データセット1!$D336),\"\")","v":""},{"$f":"IF(データセット1!$B336<>\"\",IF($Q$1=データセット1!$B336,データセット1!$D336),\"\")","v":""},{"$f":"IF(データセット1!$B336<>\"\",IF($R$1=データセット1!$B336,データセット1!$D336),\"\")","v":""},{"$f":"IF(データセット1!$B336<>\"\",IF($S$1=データセット1!$B336,データセット1!$D336),\"\")","v":""},{"$f":"IF(データセット1!$B336<>\"\",IF($T$1=データセット1!$B336,データセット1!$D336),\"\")","v":""},{"$f":"IF(データセット1!$B336<>\"\",IF($U$1=データセット1!$B336,データセット1!$D336),\"\")","v":""}]
[null,null,null,null,null,null,null,null,null,null,null,null,{"$f":"IF(データセット1!$B337<>\"\",IF($M$1=データセット1!$B337,データセット1!$D337),\"\")","v":""},{"$f":"IF(データセット1!$B337<>\"\",IF($N$1=データセット1!$B337,データセット1!$D337),\"\")","v":""},{"$f":"IF(データセット1!$B337<>\"\",IF($O$1=データセット1!$B337,データセット1!$D337),\"\")","v":""},{"$f":"IF(データセット1!$B337<>\"\",IF($P$1=データセット1!$B337,データセット1!$D337),\"\")","v":""},{"$f":"IF(データセット1!$B337<>\"\",IF($Q$1=データセット1!$B337,データセット1!$D337),\"\")","v":""},{"$f":"IF(データセット1!$B337<>\"\",IF($R$1=データセット1!$B337,データセット1!$D337),\"\")","v":""},{"$f":"IF(データセット1!$B337<>\"\",IF($S$1=データセット1!$B337,データセット1!$D337),\"\")","v":""},{"$f":"IF(データセット1!$B337<>\"\",IF($T$1=データセット1!$B337,データセット1!$D337),\"\")","v":""},{"$f":"IF(データセット1!$B337<>\"\",IF($U$1=データセット1!$B337,データセット1!$D337),\"\")","v":""}]
[null,null,null,null,null,null,null,null,null,null,null,null,{"$f":"IF(データセット1!$B338<>\"\",IF($M$1=データセット1!$B338,データセット1!$D338),\"\")","v":""},{"$f":"IF(データセット1!$B338<>\"\",IF($N$1=データセット1!$B338,データセット1!$D338),\"\")","v":""},{"$f":"IF(データセット1!$B338<>\"\",IF($O$1=データセット1!$B338,データセット1!$D338),\"\")","v":""},{"$f":"IF(データセット1!$B338<>\"\",IF($P$1=データセット1!$B338,データセット1!$D338),\"\")","v":""},{"$f":"IF(データセット1!$B338<>\"\",IF($Q$1=データセット1!$B338,データセット1!$D338),\"\")","v":""},{"$f":"IF(データセット1!$B338<>\"\",IF($R$1=データセット1!$B338,データセット1!$D338),\"\")","v":""},{"$f":"IF(データセット1!$B338<>\"\",IF($S$1=データセット1!$B338,データセット1!$D338),\"\")","v":""},{"$f":"IF(データセット1!$B338<>\"\",IF($T$1=データセット1!$B338,データセット1!$D338),\"\")","v":""},{"$f":"IF(データセット1!$B338<>\"\",IF($U$1=データセット1!$B338,データセット1!$D338),\"\")","v":""}]
[null,null,null,null,null,null,null,null,null,null,null,null,{"$f":"IF(データセット1!$B339<>\"\",IF($M$1=データセット1!$B339,データセット1!$D339),\"\")","v":""},{"$f":"IF(データセット1!$B339<>\"\",IF($N$1=データセット1!$B339,データセット1!$D339),\"\")","v":""},{"$f":"IF(データセット1!$B339<>\"\",IF($O$1=データセット1!$B339,データセット1!$D339),\"\")","v":""},{"$f":"IF(データセット1!$B339<>\"\",IF($P$1=データセット1!$B339,データセット1!$D339),\"\")","v":""},{"$f":"IF(データセット1!$B339<>\"\",IF($Q$1=データセット1!$B339,データセット1!$D339),\"\")","v":""},{"$f":"IF(データセット1!$B339<>\"\",IF($R$1=データセット1!$B339,データセット1!$D339),\"\")","v":""},{"$f":"IF(データセット1!$B339<>\"\",IF($S$1=データセット1!$B339,データセット1!$D339),\"\")","v":""},{"$f":"IF(データセット1!$B339<>\"\",IF($T$1=データセット1!$B339,データセット1!$D339),\"\")","v":""},{"$f":"IF(データセット1!$B339<>\"\",IF($U$1=データセット1!$B339,データセット1!$D339),\"\")","v":""}]
[null,null,null,null,null,null,null,null,null,null,null,null,{"$f":"IF(データセット1!$B340<>\"\",IF($M$1=データセット1!$B340,データセット1!$D340),\"\")","v":""},{"$f":"IF(データセット1!$B340<>\"\",IF($N$1=データセット1!$B340,データセット1!$D340),\"\")","v":""},{"$f":"IF(データセット1!$B340<>\"\",IF($O$1=データセット1!$B340,データセット1!$D340),\"\")","v":""},{"$f":"IF(データセット1!$B340<>\"\",IF($P$1=データセット1!$B340,データセット1!$D340),\"\")","v":""},{"$f":"IF(データセット1!$B340<>\"\",IF($Q$1=データセット1!$B340,データセット1!$D340),\"\")","v":""},{"$f":"IF(データセット1!$B340<>\"\",IF($R$1=データセット1!$B340,データセット1!$D340),\"\")","v":""},{"$f":"IF(データセット1!$B340<>\"\",IF($S$1=データセット1!$B340,データセット1!$D340),\"\")","v":""},{"$f":"IF(データセット1!$B340<>\"\",IF($T$1=データセット1!$B340,データセット1!$D340),\"\")","v":""},{"$f":"IF(データセット1!$B340<>\"\",IF($U$1=データセット1!$B340,データセット1!$D340),\"\")","v":""}]
[null,null,null,null,null,null,null,null,null,null,null,null,{"$f":"IF(データセット1!$B341<>\"\",IF($M$1=データセット1!$B341,データセット1!$D341),\"\")","v":""},{"$f":"IF(データセット1!$B341<>\"\",IF($N$1=データセット1!$B341,データセット1!$D341),\"\")","v":""},{"$f":"IF(データセット1!$B341<>\"\",IF($O$1=データセット1!$B341,データセット1!$D341),\"\")","v":""},{"$f":"IF(データセット1!$B341<>\"\",IF($P$1=データセット1!$B341,データセット1!$D341),\"\")","v":""},{"$f":"IF(データセット1!$B341<>\"\",IF($Q$1=データセット1!$B341,データセット1!$D341),\"\")","v":""},{"$f":"IF(データセット1!$B341<>\"\",IF($R$1=データセット1!$B341,データセット1!$D341),\"\")","v":""},{"$f":"IF(データセット1!$B341<>\"\",IF($S$1=データセット1!$B341,データセット1!$D341),\"\")","v":""},{"$f":"IF(データセット1!$B341<>\"\",IF($T$1=データセット1!$B341,データセット1!$D341),\"\")","v":""},{"$f":"IF(データセット1!$B341<>\"\",IF($U$1=データセット1!$B341,データセット1!$D341),\"\")","v":""}]
[null,null,null,null,null,null,null,null,null,null,null,null,{"$f":"IF(データセット1!$B342<>\"\",IF($M$1=データセット1!$B342,データセット1!$D342),\"\")","v":""},{"$f":"IF(データセット1!$B342<>\"\",IF($N$1=データセット1!$B342,データセット1!$D342),\"\")","v":""},{"$f":"IF(データセット1!$B342<>\"\",IF($O$1=データセット1!$B342,データセット1!$D342),\"\")","v":""},{"$f":"IF(データセット1!$B342<>\"\",IF($P$1=データセット1!$B342,データセット1!$D342),\"\")","v":""},{"$f":"IF(データセット1!$B342<>\"\",IF($Q$1=データセット1!$B342,データセット1!$D342),\"\")","v":""},{"$f":"IF(データセット1!$B342<>\"\",IF($R$1=データセット1!$B342,データセット1!$D342),\"\")","v":""},{"$f":"IF(データセット1!$B342<>\"\",IF($S$1=データセット1!$B342,データセット1!$D342),\"\")","v":""},{"$f":"IF(データセット1!$B342<>\"\",IF($T$1=データセット1!$B342,データセット1!$D342),\"\")","v":""},{"$f":"IF(データセット1!$B342<>\"\",IF($U$1=データセット1!$B342,データセット1!$D342),\"\")","v":""}]
[null,null,null,null,null,null,null,null,null,null,null,null,{"$f":"IF(データセット1!$B343<>\"\",IF($M$1=データセット1!$B343,データセット1!$D343),\"\")","v":""},{"$f":"IF(データセット1!$B343<>\"\",IF($N$1=データセット1!$B343,データセット1!$D343),\"\")","v":""},{"$f":"IF(データセット1!$B343<>\"\",IF($O$1=データセット1!$B343,データセット1!$D343),\"\")","v":""},{"$f":"IF(データセット1!$B343<>\"\",IF($P$1=データセット1!$B343,データセット1!$D343),\"\")","v":""},{"$f":"IF(データセット1!$B343<>\"\",IF($Q$1=データセット1!$B343,データセット1!$D343),\"\")","v":""},{"$f":"IF(データセット1!$B343<>\"\",IF($R$1=データセット1!$B343,データセット1!$D343),\"\")","v":""},{"$f":"IF(データセット1!$B343<>\"\",IF($S$1=データセット1!$B343,データセット1!$D343),\"\")","v":""},{"$f":"IF(データセット1!$B343<>\"\",IF($T$1=データセット1!$B343,データセット1!$D343),\"\")","v":""},{"$f":"IF(データセット1!$B343<>\"\",IF($U$1=データセット1!$B343,データセット1!$D343),\"\")","v":""}]
[null,null,null,null,null,null,null,null,null,null,null,null,{"$f":"IF(データセット1!$B344<>\"\",IF($M$1=データセット1!$B344,データセット1!$D344),\"\")","v":""},{"$f":"IF(データセット1!$B344<>\"\",IF($N$1=データセット1!$B344,データセット1!$D344),\"\")","v":""},{"$f":"IF(データセット1!$B344<>\"\",IF($O$1=データセット1!$B344,データセット1!$D344),\"\")","v":""},{"$f":"IF(データセット1!$B344<>\"\",IF($P$1=データセット1!$B344,データセット1!$D344),\"\")","v":""},{"$f":"IF(データセット1!$B344<>\"\",IF($Q$1=データセット1!$B344,データセット1!$D344),\"\")","v":""},{"$f":"IF(データセット1!$B344<>\"\",IF($R$1=データセット1!$B344,データセット1!$D344),\"\")","v":""},{"$f":"IF(データセット1!$B344<>\"\",IF($S$1=データセット1!$B344,データセット1!$D344),\"\")","v":""},{"$f":"IF(データセット1!$B344<>\"\",IF($T$1=データセット1!$B344,データセット1!$D344),\"\")","v":""},{"$f":"IF(データセット1!$B344<>\"\",IF($U$1=データセット1!$B344,データセット1!$D344),\"\")","v":""}]
[null,null,null,null,null,null,null,null,null,null,null,null,{"$f":"IF(データセット1!$B345<>\"\",IF($M$1=データセット1!$B345,データセット1!$D345),\"\")","v":""},{"$f":"IF(データセット1!$B345<>\"\",IF($N$1=データセット1!$B345,データセット1!$D345),\"\")","v":""},{"$f":"IF(データセット1!$B345<>\"\",IF($O$1=データセット1!$B345,データセット1!$D345),\"\")","v":""},{"$f":"IF(データセット1!$B345<>\"\",IF($P$1=データセット1!$B345,データセット1!$D345),\"\")","v":""},{"$f":"IF(データセット1!$B345<>\"\",IF($Q$1=データセット1!$B345,データセット1!$D345),\"\")","v":""},{"$f":"IF(データセット1!$B345<>\"\",IF($R$1=データセット1!$B345,データセット1!$D345),\"\")","v":""},{"$f":"IF(データセット1!$B345<>\"\",IF($S$1=データセット1!$B345,データセット1!$D345),\"\")","v":""},{"$f":"IF(データセット1!$B345<>\"\",IF($T$1=データセット1!$B345,データセット1!$D345),\"\")","v":""},{"$f":"IF(データセット1!$B345<>\"\",IF($U$1=データセット1!$B345,データセット1!$D345),\"\")","v":""}]
[null,null,null,null,null,null,null,null,null,null,null,null,{"$f":"IF(データセット1!$B346<>\"\",IF($M$1=データセット1!$B346,データセット1!$D346),\"\")","v":""},{"$f":"IF(データセット1!$B346<>\"\",IF($N$1=データセット1!$B346,データセット1!$D346),\"\")","v":""},{"$f":"IF(データセット1!$B346<>\"\",IF($O$1=データセット1!$B346,データセット1!$D346),\"\")","v":""},{"$f":"IF(データセット1!$B346<>\"\",IF($P$1=データセット1!$B346,データセット1!$D346),\"\")","v":""},{"$f":"IF(データセット1!$B346<>\"\",IF($Q$1=データセット1!$B346,データセット1!$D346),\"\")","v":""},{"$f":"IF(データセット1!$B346<>\"\",IF($R$1=データセット1!$B346,データセット1!$D346),\"\")","v":""},{"$f":"IF(データセット1!$B346<>\"\",IF($S$1=データセット1!$B346,データセット1!$D346),\"\")","v":""},{"$f":"IF(データセット1!$B346<>\"\",IF($T$1=データセット1!$B346,データセット1!$D346),\"\")","v":""},{"$f":"IF(データセット1!$B346<>\"\",IF($U$1=データセット1!$B346,データセット1!$D346),\"\")","v":""}]
[null,null,null,null,null,null,null,null,null,null,null,null,{"$f":"IF(データセット1!$B347<>\"\",IF($M$1=データセット1!$B347,データセット1!$D347),\"\")","v":""},{"$f":"IF(データセット1!$B347<>\"\",IF($N$1=データセット1!$B347,データセット1!$D347),\"\")","v":""},{"$f":"IF(データセット1!$B347<>\"\",IF($O$1=データセット1!$B347,データセット1!$D347),\"\")","v":""},{"$f":"IF(データセット1!$B347<>\"\",IF($P$1=データセット1!$B347,データセット1!$D347),\"\")","v":""},{"$f":"IF(データセット1!$B347<>\"\",IF($Q$1=データセット1!$B347,データセット1!$D347),\"\")","v":""},{"$f":"IF(データセット1!$B347<>\"\",IF($R$1=データセット1!$B347,データセット1!$D347),\"\")","v":""},{"$f":"IF(データセット1!$B347<>\"\",IF($S$1=データセット1!$B347,データセット1!$D347),\"\")","v":""},{"$f":"IF(データセット1!$B347<>\"\",IF($T$1=データセット1!$B347,データセット1!$D347),\"\")","v":""},{"$f":"IF(データセット1!$B347<>\"\",IF($U$1=データセット1!$B347,データセット1!$D347),\"\")","v":""}]
[null,null,null,null,null,null,null,null,null,null,null,null,{"$f":"IF(データセット1!$B348<>\"\",IF($M$1=データセット1!$B348,データセット1!$D348),\"\")","v":""},{"$f":"IF(データセット1!$B348<>\"\",IF($N$1=データセット1!$B348,データセット1!$D348),\"\")","v":""},{"$f":"IF(データセット1!$B348<>\"\",IF($O$1=データセット1!$B348,データセット1!$D348),\"\")","v":""},{"$f":"IF(データセット1!$B348<>\"\",IF($P$1=データセット1!$B348,データセット1!$D348),\"\")","v":""},{"$f":"IF(データセット1!$B348<>\"\",IF($Q$1=データセット1!$B348,データセット1!$D348),\"\")","v":""},{"$f":"IF(データセット1!$B348<>\"\",IF($R$1=データセット1!$B348,データセット1!$D348),\"\")","v":""},{"$f":"IF(データセット1!$B348<>\"\",IF($S$1=データセット1!$B348,データセット1!$D348),\"\")","v":""},{"$f":"IF(データセット1!$B348<>\"\",IF($T$1=データセット1!$B348,データセット1!$D348),\"\")","v":""},{"$f":"IF(データセット1!$B348<>\"\",IF($U$1=データセット1!$B348,データセット1!$D348),\"\")","v":""}]
[null,null,null,null,null,null,null,null,null,null,null,null,{"$f":"IF(データセット1!$B349<>\"\",IF($M$1=データセット1!$B349,データセット1!$D349),\"\")","v":""},{"$f":"IF(データセット1!$B349<>\"\",IF($N$1=データセット1!$B349,データセット1!$D349),\"\")","v":""},{"$f":"IF(データセット1!$B349<>\"\",IF($O$1=データセット1!$B349,データセット1!$D349),\"\")","v":""},{"$f":"IF(データセット1!$B349<>\"\",IF($P$1=データセット1!$B349,データセット1!$D349),\"\")","v":""},{"$f":"IF(データセット1!$B349<>\"\",IF($Q$1=データセット1!$B349,データセット1!$D349),\"\")","v":""},{"$f":"IF(データセット1!$B349<>\"\",IF($R$1=データセット1!$B349,データセット1!$D349),\"\")","v":""},{"$f":"IF(データセット1!$B349<>\"\",IF($S$1=データセット1!$B349,データセット1!$D349),\"\")","v":""},{"$f":"IF(データセット1!$B349<>\"\",IF($T$1=データセット1!$B349,データセット1!$D349),\"\")","v":""},{"$f":"IF(データセット1!$B349<>\"\",IF($U$1=データセット1!$B349,データセット1!$D349),\"\")","v":""}]
[null,null,null,null,null,null,null,null,null,null,null,null,{"$f":"IF(データセット1!$B350<>\"\",IF($M$1=データセット1!$B350,データセット1!$D350),\"\")","v":""},{"$f":"IF(データセット1!$B350<>\"\",IF($N$1=データセット1!$B350,データセット1!$D350),\"\")","v":""},{"$f":"IF(データセット1!$B350<>\"\",IF($O$1=データセット1!$B350,データセット1!$D350),\"\")","v":""},{"$f":"IF(データセット1!$B350<>\"\",IF($P$1=データセット1!$B350,データセット1!$D350),\"\")","v":""},{"$f":"IF(データセット1!$B350<>\"\",IF($Q$1=データセット1!$B350,データセット1!$D350),\"\")","v":""},{"$f":"IF(データセット1!$B350<>\"\",IF($R$1=データセット1!$B350,データセット1!$D350),\"\")","v":""},{"$f":"IF(データセット1!$B350<>\"\",IF($S$1=データセット1!$B350,データセット1!$D350),\"\")","v":""},{"$f":"IF(データセット1!$B350<>\"\",IF($T$1=データセット1!$B350,データセット1!$D350),\"\")","v":""},{"$f":"IF(データセット1!$B350<>\"\",IF($U$1=データセット1!$B350,データセット1!$D350),\"\")","v":""}]
[null,null,null,null,null,null,null,null,null,null,null,null,{"$f":"IF(データセット1!$B351<>\"\",IF($M$1=データセット1!$B351,データセット1!$D351),\"\")","v":""},{"$f":"IF(データセット1!$B351<>\"\",IF($N$1=データセット1!$B351,データセット1!$D351),\"\")","v":""},{"$f":"IF(データセット1!$B351<>\"\",IF($O$1=データセット1!$B351,データセット1!$D351),\"\")","v":""},{"$f":"IF(データセット1!$B351<>\"\",IF($P$1=データセット1!$B351,データセット1!$D351),\"\")","v":""},{"$f":"IF(データセット1!$B351<>\"\",IF($Q$1=データセット1!$B351,データセット1!$D351),\"\")","v":""},{"$f":"IF(データセット1!$B351<>\"\",IF($R$1=データセット1!$B351,データセット1!$D351),\"\")","v":""},{"$f":"IF(データセット1!$B351<>\"\",IF($S$1=データセット1!$B351,データセット1!$D351),\"\")","v":""},{"$f":"IF(データセット1!$B351<>\"\",IF($T$1=データセット1!$B351,データセット1!$D351),\"\")","v":""},{"$f":"IF(データセット1!$B351<>\"\",IF($U$1=データセット1!$B351,データセット1!$D351),\"\")","v":""}]
[null,null,null,null,null,null,null,null,null,null,null,null,{"$f":"IF(データセット1!$B352<>\"\",IF($M$1=データセット1!$B352,データセット1!$D352),\"\")","v":""},{"$f":"IF(データセット1!$B352<>\"\",IF($N$1=データセット1!$B352,データセット1!$D352),\"\")","v":""},{"$f":"IF(データセット1!$B352<>\"\",IF($O$1=データセット1!$B352,データセット1!$D352),\"\")","v":""},{"$f":"IF(データセット1!$B352<>\"\",IF($P$1=データセット1!$B352,データセット1!$D352),\"\")","v":""},{"$f":"IF(データセット1!$B352<>\"\",IF($Q$1=データセット1!$B352,データセット1!$D352),\"\")","v":""},{"$f":"IF(データセット1!$B352<>\"\",IF($R$1=データセット1!$B352,データセット1!$D352),\"\")","v":""},{"$f":"IF(データセット1!$B352<>\"\",IF($S$1=データセット1!$B352,データセット1!$D352),\"\")","v":""},{"$f":"IF(データセット1!$B352<>\"\",IF($T$1=データセット1!$B352,データセット1!$D352),\"\")","v":""},{"$f":"IF(データセット1!$B352<>\"\",IF($U$1=データセット1!$B352,データセット1!$D352),\"\")","v":""}]
[null,null,null,null,null,null,null,null,null,null,null,null,{"$f":"IF(データセット1!$B353<>\"\",IF($M$1=データセット1!$B353,データセット1!$D353),\"\")","v":""},{"$f":"IF(データセット1!$B353<>\"\",IF($N$1=データセット1!$B353,データセット1!$D353),\"\")","v":""},{"$f":"IF(データセット1!$B353<>\"\",IF($O$1=データセット1!$B353,データセット1!$D353),\"\")","v":""},{"$f":"IF(データセット1!$B353<>\"\",IF($P$1=データセット1!$B353,データセット1!$D353),\"\")","v":""},{"$f":"IF(データセット1!$B353<>\"\",IF($Q$1=データセット1!$B353,データセット1!$D353),\"\")","v":""},{"$f":"IF(データセット1!$B353<>\"\",IF($R$1=データセット1!$B353,データセット1!$D353),\"\")","v":""},{"$f":"IF(データセット1!$B353<>\"\",IF($S$1=データセット1!$B353,データセット1!$D353),\"\")","v":""},{"$f":"IF(データセット1!$B353<>\"\",IF($T$1=データセット1!$B353,データセット1!$D353),\"\")","v":""},{"$f":"IF(データセット1!$B353<>\"\",IF($U$1=データセット1!$B353,データセット1!$D353),\"\")","v":""}]
[null,null,null,null,null,null,null,null,null,null,null,null,{"$f":"IF(データセット1!$B354<>\"\",IF($M$1=データセット1!$B354,データセット1!$D354),\"\")","v":""},{"$f":"IF(データセット1!$B354<>\"\",IF($N$1=データセット1!$B354,データセット1!$D354),\"\")","v":""},{"$f":"IF(データセット1!$B354<>\"\",IF($O$1=データセット1!$B354,データセット1!$D354),\"\")","v":""},{"$f":"IF(データセット1!$B354<>\"\",IF($P$1=データセット1!$B354,データセット1!$D354),\"\")","v":""},{"$f":"IF(データセット1!$B354<>\"\",IF($Q$1=データセット1!$B354,データセット1!$D354),\"\")","v":""},{"$f":"IF(データセット1!$B354<>\"\",IF($R$1=データセット1!$B354,データセット1!$D354),\"\")","v":""},{"$f":"IF(データセット1!$B354<>\"\",IF($S$1=データセット1!$B354,データセット1!$D354),\"\")","v":""},{"$f":"IF(データセット1!$B354<>\"\",IF($T$1=データセット1!$B354,データセット1!$D354),\"\")","v":""},{"$f":"IF(データセット1!$B354<>\"\",IF($U$1=データセット1!$B354,データセット1!$D354),\"\")","v":""}]
[null,null,null,null,null,null,null,null,null,null,null,null,{"$f":"IF(データセット1!$B355<>\"\",IF($M$1=データセット1!$B355,データセット1!$D355),\"\")","v":""},{"$f":"IF(データセット1!$B355<>\"\",IF($N$1=データセット1!$B355,データセット1!$D355),\"\")","v":""},{"$f":"IF(データセット1!$B355<>\"\",IF($O$1=データセット1!$B355,データセット1!$D355),\"\")","v":""},{"$f":"IF(データセット1!$B355<>\"\",IF($P$1=データセット1!$B355,データセット1!$D355),\"\")","v":""},{"$f":"IF(データセット1!$B355<>\"\",IF($Q$1=データセット1!$B355,データセット1!$D355),\"\")","v":""},{"$f":"IF(データセット1!$B355<>\"\",IF($R$1=データセット1!$B355,データセット1!$D355),\"\")","v":""},{"$f":"IF(データセット1!$B355<>\"\",IF($S$1=データセット1!$B355,データセット1!$D355),\"\")","v":""},{"$f":"IF(データセット1!$B355<>\"\",IF($T$1=データセット1!$B355,データセット1!$D355),\"\")","v":""},{"$f":"IF(データセット1!$B355<>\"\",IF($U$1=データセット1!$B355,データセット1!$D355),\"\")","v":""}]
[null,null,null,null,null,null,null,null,null,null,null,null,{"$f":"IF(データセット1!$B356<>\"\",IF($M$1=データセット1!$B356,データセット1!$D356),\"\")","v":""},{"$f":"IF(データセット1!$B356<>\"\",IF($N$1=データセット1!$B356,データセット1!$D356),\"\")","v":""},{"$f":"IF(データセット1!$B356<>\"\",IF($O$1=データセット1!$B356,データセット1!$D356),\"\")","v":""},{"$f":"IF(データセット1!$B356<>\"\",IF($P$1=データセット1!$B356,データセット1!$D356),\"\")","v":""},{"$f":"IF(データセット1!$B356<>\"\",IF($Q$1=データセット1!$B356,データセット1!$D356),\"\")","v":""},{"$f":"IF(データセット1!$B356<>\"\",IF($R$1=データセット1!$B356,データセット1!$D356),\"\")","v":""},{"$f":"IF(データセット1!$B356<>\"\",IF($S$1=データセット1!$B356,データセット1!$D356),\"\")","v":""},{"$f":"IF(データセット1!$B356<>\"\",IF($T$1=データセット1!$B356,データセット1!$D356),\"\")","v":""},{"$f":"IF(データセット1!$B356<>\"\",IF($U$1=データセット1!$B356,データセット1!$D356),\"\")","v":""}]
[null,null,null,null,null,null,null,null,null,null,null,null,{"$f":"IF(データセット1!$B357<>\"\",IF($M$1=データセット1!$B357,データセット1!$D357),\"\")","v":""},{"$f":"IF(データセット1!$B357<>\"\",IF($N$1=データセット1!$B357,データセット1!$D357),\"\")","v":""},{"$f":"IF(データセット1!$B357<>\"\",IF($O$1=データセット1!$B357,データセット1!$D357),\"\")","v":""},{"$f":"IF(データセット1!$B357<>\"\",IF($P$1=データセット1!$B357,データセット1!$D357),\"\")","v":""},{"$f":"IF(データセット1!$B357<>\"\",IF($Q$1=データセット1!$B357,データセット1!$D357),\"\")","v":""},{"$f":"IF(データセット1!$B357<>\"\",IF($R$1=データセット1!$B357,データセット1!$D357),\"\")","v":""},{"$f":"IF(データセット1!$B357<>\"\",IF($S$1=データセット1!$B357,データセット1!$D357),\"\")","v":""},{"$f":"IF(データセット1!$B357<>\"\",IF($T$1=データセット1!$B357,データセット1!$D357),\"\")","v":""},{"$f":"IF(データセット1!$B357<>\"\",IF($U$1=データセット1!$B357,データセット1!$D357),\"\")","v":""}]
[null,null,null,null,null,null,null,null,null,null,null,null,{"$f":"IF(データセット1!$B358<>\"\",IF($M$1=データセット1!$B358,データセット1!$D358),\"\")","v":""},{"$f":"IF(データセット1!$B358<>\"\",IF($N$1=データセット1!$B358,データセット1!$D358),\"\")","v":""},{"$f":"IF(データセット1!$B358<>\"\",IF($O$1=データセット1!$B358,データセット1!$D358),\"\")","v":""},{"$f":"IF(データセット1!$B358<>\"\",IF($P$1=データセット1!$B358,データセット1!$D358),\"\")","v":""},{"$f":"IF(データセット1!$B358<>\"\",IF($Q$1=データセット1!$B358,データセット1!$D358),\"\")","v":""},{"$f":"IF(データセット1!$B358<>\"\",IF($R$1=データセット1!$B358,データセット1!$D358),\"\")","v":""},{"$f":"IF(データセット1!$B358<>\"\",IF($S$1=データセット1!$B358,データセット1!$D358),\"\")","v":""},{"$f":"IF(データセット1!$B358<>\"\",IF($T$1=データセット1!$B358,データセット1!$D358),\"\")","v":""},{"$f":"IF(データセット1!$B358<>\"\",IF($U$1=データセット1!$B358,データセット1!$D358),\"\")","v":""}]
[null,null,null,null,null,null,null,null,null,null,null,null,{"$f":"IF(データセット1!$B359<>\"\",IF($M$1=データセット1!$B359,データセット1!$D359),\"\")","v":""},{"$f":"IF(データセット1!$B359<>\"\",IF($N$1=データセット1!$B359,データセット1!$D359),\"\")","v":""},{"$f":"IF(データセット1!$B359<>\"\",IF($O$1=データセット1!$B359,データセット1!$D359),\"\")","v":""},{"$f":"IF(データセット1!$B359<>\"\",IF($P$1=データセット1!$B359,データセット1!$D359),\"\")","v":""},{"$f":"IF(データセット1!$B359<>\"\",IF($Q$1=データセット1!$B359,データセット1!$D359),\"\")","v":""},{"$f":"IF(データセット1!$B359<>\"\",IF($R$1=データセット1!$B359,データセット1!$D359),\"\")","v":""},{"$f":"IF(データセット1!$B359<>\"\",IF($S$1=データセット1!$B359,データセット1!$D359),\"\")","v":""},{"$f":"IF(データセット1!$B359<>\"\",IF($T$1=データセット1!$B359,データセット1!$D359),\"\")","v":""},{"$f":"IF(データセット1!$B359<>\"\",IF($U$1=データセット1!$B359,データセット1!$D359),\"\")","v":""}]
[null,null,null,null,null,null,null,null,null,null,null,null,{"$f":"IF(データセット1!$B360<>\"\",IF($M$1=データセット1!$B360,データセット1!$D360),\"\")","v":""},{"$f":"IF(データセット1!$B360<>\"\",IF($N$1=データセット1!$B360,データセット1!$D360),\"\")","v":""},{"$f":"IF(データセット1!$B360<>\"\",IF($O$1=データセット1!$B360,データセット1!$D360),\"\")","v":""},{"$f":"IF(データセット1!$B360<>\"\",IF($P$1=データセット1!$B360,データセット1!$D360),\"\")","v":""},{"$f":"IF(データセット1!$B360<>\"\",IF($Q$1=データセット1!$B360,データセット1!$D360),\"\")","v":""},{"$f":"IF(データセット1!$B360<>\"\",IF($R$1=データセット1!$B360,データセット1!$D360),\"\")","v":""},{"$f":"IF(データセット1!$B360<>\"\",IF($S$1=データセット1!$B360,データセット1!$D360),\"\")","v":""},{"$f":"IF(データセット1!$B360<>\"\",IF($T$1=データセット1!$B360,データセット1!$D360),\"\")","v":""},{"$f":"IF(データセット1!$B360<>\"\",IF($U$1=データセット1!$B360,データセット1!$D360),\"\")","v":""}]
[null,null,null,null,null,null,null,null,null,null,null,null,{"$f":"IF(データセット1!$B361<>\"\",IF($M$1=データセット1!$B361,データセット1!$D361),\"\")","v":""},{"$f":"IF(データセット1!$B361<>\"\",IF($N$1=データセット1!$B361,データセット1!$D361),\"\")","v":""},{"$f":"IF(データセット1!$B361<>\"\",IF($O$1=データセット1!$B361,データセット1!$D361),\"\")","v":""},{"$f":"IF(データセット1!$B361<>\"\",IF($P$1=データセット1!$B361,データセット1!$D361),\"\")","v":""},{"$f":"IF(データセット1!$B361<>\"\",IF($Q$1=データセット1!$B361,データセット1!$D361),\"\")","v":""},{"$f":"IF(データセット1!$B361<>\"\",IF($R$1=データセット1!$B361,データセット1!$D361),\"\")","v":""},{"$f":"IF(データセット1!$B361<>\"\",IF($S$1=データセット1!$B361,データセット1!$D361),\"\")","v":""},{"$f":"IF(データセット1!$B361<>\"\",IF($T$1=データセット1!$B361,データセット1!$D361),\"\")","v":""},{"$f":"IF(データセット1!$B361<>\"\",IF($U$1=データセット1!$B361,データセット1!$D361),\"\")","v":""}]
[null,null,null,null,null,null,null,null,null,null,null,null,{"$f":"IF(データセット1!$B362<>\"\",IF($M$1=データセット1!$B362,データセット1!$D362),\"\")","v":""},{"$f":"IF(データセット1!$B362<>\"\",IF($N$1=データセット1!$B362,データセット1!$D362),\"\")","v":""},{"$f":"IF(データセット1!$B362<>\"\",IF($O$1=データセット1!$B362,データセット1!$D362),\"\")","v":""},{"$f":"IF(データセット1!$B362<>\"\",IF($P$1=データセット1!$B362,データセット1!$D362),\"\")","v":""},{"$f":"IF(データセット1!$B362<>\"\",IF($Q$1=データセット1!$B362,データセット1!$D362),\"\")","v":""},{"$f":"IF(データセット1!$B362<>\"\",IF($R$1=データセット1!$B362,データセット1!$D362),\"\")","v":""},{"$f":"IF(データセット1!$B362<>\"\",IF($S$1=データセット1!$B362,データセット1!$D362),\"\")","v":""},{"$f":"IF(データセット1!$B362<>\"\",IF($T$1=データセット1!$B362,データセット1!$D362),\"\")","v":""},{"$f":"IF(データセット1!$B362<>\"\",IF($U$1=データセット1!$B362,データセット1!$D362),\"\")","v":""}]
[null,null,null,null,null,null,null,null,null,null,null,null,{"$f":"IF(データセット1!$B363<>\"\",IF($M$1=データセット1!$B363,データセット1!$D363),\"\")","v":""},{"$f":"IF(データセット1!$B363<>\"\",IF($N$1=データセット1!$B363,データセット1!$D363),\"\")","v":""},{"$f":"IF(データセット1!$B363<>\"\",IF($O$1=データセット1!$B363,データセット1!$D363),\"\")","v":""},{"$f":"IF(データセット1!$B363<>\"\",IF($P$1=データセット1!$B363,データセット1!$D363),\"\")","v":""},{"$f":"IF(データセット1!$B363<>\"\",IF($Q$1=データセット1!$B363,データセット1!$D363),\"\")","v":""},{"$f":"IF(データセット1!$B363<>\"\",IF($R$1=データセット1!$B363,データセット1!$D363),\"\")","v":""},{"$f":"IF(データセット1!$B363<>\"\",IF($S$1=データセット1!$B363,データセット1!$D363),\"\")","v":""},{"$f":"IF(データセット1!$B363<>\"\",IF($T$1=データセット1!$B363,データセット1!$D363),\"\")","v":""},{"$f":"IF(データセット1!$B363<>\"\",IF($U$1=データセット1!$B363,データセット1!$D363),\"\")","v":""}]
[null,null,null,null,null,null,null,null,null,null,null,null,{"$f":"IF(データセット1!$B364<>\"\",IF($M$1=データセット1!$B364,データセット1!$D364),\"\")","v":""},{"$f":"IF(データセット1!$B364<>\"\",IF($N$1=データセット1!$B364,データセット1!$D364),\"\")","v":""},{"$f":"IF(データセット1!$B364<>\"\",IF($O$1=データセット1!$B364,データセット1!$D364),\"\")","v":""},{"$f":"IF(データセット1!$B364<>\"\",IF($P$1=データセット1!$B364,データセット1!$D364),\"\")","v":""},{"$f":"IF(データセット1!$B364<>\"\",IF($Q$1=データセット1!$B364,データセット1!$D364),\"\")","v":""},{"$f":"IF(データセット1!$B364<>\"\",IF($R$1=データセット1!$B364,データセット1!$D364),\"\")","v":""},{"$f":"IF(データセット1!$B364<>\"\",IF($S$1=データセット1!$B364,データセット1!$D364),\"\")","v":""},{"$f":"IF(データセット1!$B364<>\"\",IF($T$1=データセット1!$B364,データセット1!$D364),\"\")","v":""},{"$f":"IF(データセット1!$B364<>\"\",IF($U$1=データセット1!$B364,データセット1!$D364),\"\")","v":""}]
[null,null,null,null,null,null,null,null,null,null,null,null,{"$f":"IF(データセット1!$B365<>\"\",IF($M$1=データセット1!$B365,データセット1!$D365),\"\")","v":""},{"$f":"IF(データセット1!$B365<>\"\",IF($N$1=データセット1!$B365,データセット1!$D365),\"\")","v":""},{"$f":"IF(データセット1!$B365<>\"\",IF($O$1=データセット1!$B365,データセット1!$D365),\"\")","v":""},{"$f":"IF(データセット1!$B365<>\"\",IF($P$1=データセット1!$B365,データセット1!$D365),\"\")","v":""},{"$f":"IF(データセット1!$B365<>\"\",IF($Q$1=データセット1!$B365,データセット1!$D365),\"\")","v":""},{"$f":"IF(データセット1!$B365<>\"\",IF($R$1=データセット1!$B365,データセット1!$D365),\"\")","v":""},{"$f":"IF(データセット1!$B365<>\"\",IF($S$1=データセット1!$B365,データセット1!$D365),\"\")","v":""},{"$f":"IF(データセット1!$B365<>\"\",IF($T$1=データセット1!$B365,データセット1!$D365),\"\")","v":""},{"$f":"IF(データセット1!$B365<>\"\",IF($U$1=データセット1!$B365,データセット1!$D365),\"\")","v":""}]
[null,null,null,null,null,null,null,null,null,null,null,null,{"$f":"IF(データセット1!$B366<>\"\",IF($M$1=データセット1!$B366,データセット1!$D366),\"\")","v":""},{"$f":"IF(データセット1!$B366<>\"\",IF($N$1=データセット1!$B366,データセット1!$D366),\"\")","v":""},{"$f":"IF(データセット1!$B366<>\"\",IF($O$1=データセット1!$B366,データセット1!$D366),\"\")","v":""},{"$f":"IF(データセット1!$B366<>\"\",IF($P$1=データセット1!$B366,データセット1!$D366),\"\")","v":""},{"$f":"IF(データセット1!$B366<>\"\",IF($Q$1=データセット1!$B366,データセット1!$D366),\"\")","v":""},{"$f":"IF(データセット1!$B366<>\"\",IF($R$1=データセット1!$B366,データセット1!$D366),\"\")","v":""},{"$f":"IF(データセット1!$B366<>\"\",IF($S$1=データセット1!$B366,データセット1!$D366),\"\")","v":""},{"$f":"IF(データセット1!$B366<>\"\",IF($T$1=データセット1!$B366,データセット1!$D366),\"\")","v":""},{"$f":"IF(データセット1!$B366<>\"\",IF($U$1=データセット1!$B366,データセット1!$D366),\"\")","v":""}]
[null,null,null,null,null,null,null,null,null,null,null,null,{"$f":"IF(データセット1!$B367<>\"\",IF($M$1=データセット1!$B367,データセット1!$D367),\"\")","v":""},{"$f":"IF(データセット1!$B367<>\"\",IF($N$1=データセット1!$B367,データセット1!$D367),\"\")","v":""},{"$f":"IF(データセット1!$B367<>\"\",IF($O$1=データセット1!$B367,データセット1!$D367),\"\")","v":""},{"$f":"IF(データセット1!$B367<>\"\",IF($P$1=データセット1!$B367,データセット1!$D367),\"\")","v":""},{"$f":"IF(データセット1!$B367<>\"\",IF($Q$1=データセット1!$B367,データセット1!$D367),\"\")","v":""},{"$f":"IF(データセット1!$B367<>\"\",IF($R$1=データセット1!$B367,データセット1!$D367),\"\")","v":""},{"$f":"IF(データセット1!$B367<>\"\",IF($S$1=データセット1!$B367,データセット1!$D367),\"\")","v":""},{"$f":"IF(データセット1!$B367<>\"\",IF($T$1=データセット1!$B367,データセット1!$D367),\"\")","v":""},{"$f":"IF(データセット1!$B367<>\"\",IF($U$1=データセット1!$B367,データセット1!$D367),\"\")","v":""}]
[null,null,null,null,null,null,null,null,null,null,null,null,{"$f":"IF(データセット1!$B368<>\"\",IF($M$1=データセット1!$B368,データセット1!$D368),\"\")","v":""},{"$f":"IF(データセット1!$B368<>\"\",IF($N$1=データセット1!$B368,データセット1!$D368),\"\")","v":""},{"$f":"IF(データセット1!$B368<>\"\",IF($O$1=データセット1!$B368,データセット1!$D368),\"\")","v":""},{"$f":"IF(データセット1!$B368<>\"\",IF($P$1=データセット1!$B368,データセット1!$D368),\"\")","v":""},{"$f":"IF(データセット1!$B368<>\"\",IF($Q$1=データセット1!$B368,データセット1!$D368),\"\")","v":""},{"$f":"IF(データセット1!$B368<>\"\",IF($R$1=データセット1!$B368,データセット1!$D368),\"\")","v":""},{"$f":"IF(データセット1!$B368<>\"\",IF($S$1=データセット1!$B368,データセット1!$D368),\"\")","v":""},{"$f":"IF(データセット1!$B368<>\"\",IF($T$1=データセット1!$B368,データセット1!$D368),\"\")","v":""},{"$f":"IF(データセット1!$B368<>\"\",IF($U$1=データセット1!$B368,データセット1!$D368),\"\")","v":""}]
[null,null,null,null,null,null,null,null,null,null,null,null,{"$f":"IF(データセット1!$B369<>\"\",IF($M$1=データセット1!$B369,データセット1!$D369),\"\")","v":""},{"$f":"IF(データセット1!$B369<>\"\",IF($N$1=データセット1!$B369,データセット1!$D369),\"\")","v":""},{"$f":"IF(データセット1!$B369<>\"\",IF($O$1=データセット1!$B369,データセット1!$D369),\"\")","v":""},{"$f":"IF(データセット1!$B369<>\"\",IF($P$1=データセット1!$B369,データセット1!$D369),\"\")","v":""},{"$f":"IF(データセット1!$B369<>\"\",IF($Q$1=データセット1!$B369,データセット1!$D369),\"\")","v":""},{"$f":"IF(データセット1!$B369<>\"\",IF($R$1=データセット1!$B369,データセット1!$D369),\"\")","v":""},{"$f":"IF(データセット1!$B369<>\"\",IF($S$1=データセット1!$B369,データセット1!$D369),\"\")","v":""},{"$f":"IF(データセット1!$B369<>\"\",IF($T$1=データセット1!$B369,データセット1!$D369),\"\")","v":""},{"$f":"IF(データセット1!$B369<>\"\",IF($U$1=データセット1!$B369,データセット1!$D369),\"\")","v":""}]
[null,null,null,null,null,null,null,null,null,null,null,null,{"$f":"IF(データセット1!$B370<>\"\",IF($M$1=データセット1!$B370,データセット1!$D370),\"\")","v":""},{"$f":"IF(データセット1!$B370<>\"\",IF($N$1=データセット1!$B370,データセット1!$D370),\"\")","v":""},{"$f":"IF(データセット1!$B370<>\"\",IF($O$1=データセット1!$B370,データセット1!$D370),\"\")","v":""},{"$f":"IF(データセット1!$B370<>\"\",IF($P$1=データセット1!$B370,データセット1!$D370),\"\")","v":""},{"$f":"IF(データセット1!$B370<>\"\",IF($Q$1=データセット1!$B370,データセット1!$D370),\"\")","v":""},{"$f":"IF(データセット1!$B370<>\"\",IF($R$1=データセット1!$B370,データセット1!$D370),\"\")","v":""},{"$f":"IF(データセット1!$B370<>\"\",IF($S$1=データセット1!$B370,データセット1!$D370),\"\")","v":""},{"$f":"IF(データセット1!$B370<>\"\",IF($T$1=データセット1!$B370,データセット1!$D370),\"\")","v":""},{"$f":"IF(データセット1!$B370<>\"\",IF($U$1=データセット1!$B370,データセット1!$D370),\"\")","v":""}]
[null,null,null,null,null,null,null,null,null,null,null,null,{"$f":"IF(データセット1!$B371<>\"\",IF($M$1=データセット1!$B371,データセット1!$D371),\"\")","v":""},{"$f":"IF(データセット1!$B371<>\"\",IF($N$1=データセット1!$B371,データセット1!$D371),\"\")","v":""},{"$f":"IF(データセット1!$B371<>\"\",IF($O$1=データセット1!$B371,データセット1!$D371),\"\")","v":""},{"$f":"IF(データセット1!$B371<>\"\",IF($P$1=データセット1!$B371,データセット1!$D371),\"\")","v":""},{"$f":"IF(データセット1!$B371<>\"\",IF($Q$1=データセット1!$B371,データセット1!$D371),\"\")","v":""},{"$f":"IF(データセット1!$B371<>\"\",IF($R$1=データセット1!$B371,データセット1!$D371),\"\")","v":""},{"$f":"IF(データセット1!$B371<>\"\",IF($S$1=データセット1!$B371,データセット1!$D371),\"\")","v":""},{"$f":"IF(データセット1!$B371<>\"\",IF($T$1=データセット1!$B371,データセット1!$D371),\"\")","v":""},{"$f":"IF(データセット1!$B371<>\"\",IF($U$1=データセット1!$B371,データセット1!$D371),\"\")","v":""}]
[null,null,null,null,null,null,null,null,null,null,null,null,{"$f":"IF(データセット1!$B372<>\"\",IF($M$1=データセット1!$B372,データセット1!$D372),\"\")","v":""},{"$f":"IF(データセット1!$B372<>\"\",IF($N$1=データセット1!$B372,データセット1!$D372),\"\")","v":""},{"$f":"IF(データセット1!$B372<>\"\",IF($O$1=データセット1!$B372,データセット1!$D372),\"\")","v":""},{"$f":"IF(データセット1!$B372<>\"\",IF($P$1=データセット1!$B372,データセット1!$D372),\"\")","v":""},{"$f":"IF(データセット1!$B372<>\"\",IF($Q$1=データセット1!$B372,データセット1!$D372),\"\")","v":""},{"$f":"IF(データセット1!$B372<>\"\",IF($R$1=データセット1!$B372,データセット1!$D372),\"\")","v":""},{"$f":"IF(データセット1!$B372<>\"\",IF($S$1=データセット1!$B372,データセット1!$D372),\"\")","v":""},{"$f":"IF(データセット1!$B372<>\"\",IF($T$1=データセット1!$B372,データセット1!$D372),\"\")","v":""},{"$f":"IF(データセット1!$B372<>\"\",IF($U$1=データセット1!$B372,データセット1!$D372),\"\")","v":""}]
[null,null,null,null,null,null,null,null,null,null,null,null,{"$f":"IF(データセット1!$B373<>\"\",IF($M$1=データセット1!$B373,データセット1!$D373),\"\")","v":""},{"$f":"IF(データセット1!$B373<>\"\",IF($N$1=データセット1!$B373,データセット1!$D373),\"\")","v":""},{"$f":"IF(データセット1!$B373<>\"\",IF($O$1=データセット1!$B373,データセット1!$D373),\"\")","v":""},{"$f":"IF(データセット1!$B373<>\"\",IF($P$1=データセット1!$B373,データセット1!$D373),\"\")","v":""},{"$f":"IF(データセット1!$B373<>\"\",IF($Q$1=データセット1!$B373,データセット1!$D373),\"\")","v":""},{"$f":"IF(データセット1!$B373<>\"\",IF($R$1=データセット1!$B373,データセット1!$D373),\"\")","v":""},{"$f":"IF(データセット1!$B373<>\"\",IF($S$1=データセット1!$B373,データセット1!$D373),\"\")","v":""},{"$f":"IF(データセット1!$B373<>\"\",IF($T$1=データセット1!$B373,データセット1!$D373),\"\")","v":""},{"$f":"IF(データセット1!$B373<>\"\",IF($U$1=データセット1!$B373,データセット1!$D373),\"\")","v":""}]
[null,null,null,null,null,null,null,null,null,null,null,null,{"$f":"IF(データセット1!$B374<>\"\",IF($M$1=データセット1!$B374,データセット1!$D374),\"\")","v":""},{"$f":"IF(データセット1!$B374<>\"\",IF($N$1=データセット1!$B374,データセット1!$D374),\"\")","v":""},{"$f":"IF(データセット1!$B374<>\"\",IF($O$1=データセット1!$B374,データセット1!$D374),\"\")","v":""},{"$f":"IF(データセット1!$B374<>\"\",IF($P$1=データセット1!$B374,データセット1!$D374),\"\")","v":""},{"$f":"IF(データセット1!$B374<>\"\",IF($Q$1=データセット1!$B374,データセット1!$D374),\"\")","v":""},{"$f":"IF(データセット1!$B374<>\"\",IF($R$1=データセット1!$B374,データセット1!$D374),\"\")","v":""},{"$f":"IF(データセット1!$B374<>\"\",IF($S$1=データセット1!$B374,データセット1!$D374),\"\")","v":""},{"$f":"IF(データセット1!$B374<>\"\",IF($T$1=データセット1!$B374,データセット1!$D374),\"\")","v":""},{"$f":"IF(データセット1!$B374<>\"\",IF($U$1=データセット1!$B374,データセット1!$D374),\"\")","v":""}]
[null,null,null,null,null,null,null,null,null,null,null,null,{"$f":"IF(データセット1!$B375<>\"\",IF($M$1=データセット1!$B375,データセット1!$D375),\"\")","v":""},{"$f":"IF(データセット1!$B375<>\"\",IF($N$1=データセット1!$B375,データセット1!$D375),\"\")","v":""},{"$f":"IF(データセット1!$B375<>\"\",IF($O$1=データセット1!$B375,データセット1!$D375),\"\")","v":""},{"$f":"IF(データセット1!$B375<>\"\",IF($P$1=データセット1!$B375,データセット1!$D375),\"\")","v":""},{"$f":"IF(データセット1!$B375<>\"\",IF($Q$1=データセット1!$B375,データセット1!$D375),\"\")","v":""},{"$f":"IF(データセット1!$B375<>\"\",IF($R$1=データセット1!$B375,データセット1!$D375),\"\")","v":""},{"$f":"IF(データセット1!$B375<>\"\",IF($S$1=データセット1!$B375,データセット1!$D375),\"\")","v":""},{"$f":"IF(データセット1!$B375<>\"\",IF($T$1=データセット1!$B375,データセット1!$D375),\"\")","v":""},{"$f":"IF(データセット1!$B375<>\"\",IF($U$1=データセット1!$B375,データセット1!$D375),\"\")","v":""}]
[null,null,null,null,null,null,null,null,null,null,null,null,{"$f":"IF(データセット1!$B376<>\"\",IF($M$1=データセット1!$B376,データセット1!$D376),\"\")","v":""},{"$f":"IF(データセット1!$B376<>\"\",IF($N$1=データセット1!$B376,データセット1!$D376),\"\")","v":""},{"$f":"IF(データセット1!$B376<>\"\",IF($O$1=データセット1!$B376,データセット1!$D376),\"\")","v":""},{"$f":"IF(データセット1!$B376<>\"\",IF($P$1=データセット1!$B376,データセット1!$D376),\"\")","v":""},{"$f":"IF(データセット1!$B376<>\"\",IF($Q$1=データセット1!$B376,データセット1!$D376),\"\")","v":""},{"$f":"IF(データセット1!$B376<>\"\",IF($R$1=データセット1!$B376,データセット1!$D376),\"\")","v":""},{"$f":"IF(データセット1!$B376<>\"\",IF($S$1=データセット1!$B376,データセット1!$D376),\"\")","v":""},{"$f":"IF(データセット1!$B376<>\"\",IF($T$1=データセット1!$B376,データセット1!$D376),\"\")","v":""},{"$f":"IF(データセット1!$B376<>\"\",IF($U$1=データセット1!$B376,データセット1!$D376),\"\")","v":""}]
[null,null,null,null,null,null,null,null,null,null,null,null,{"$f":"IF(データセット1!$B377<>\"\",IF($M$1=データセット1!$B377,データセット1!$D377),\"\")","v":""},{"$f":"IF(データセット1!$B377<>\"\",IF($N$1=データセット1!$B377,データセット1!$D377),\"\")","v":""},{"$f":"IF(データセット1!$B377<>\"\",IF($O$1=データセット1!$B377,データセット1!$D377),\"\")","v":""},{"$f":"IF(データセット1!$B377<>\"\",IF($P$1=データセット1!$B377,データセット1!$D377),\"\")","v":""},{"$f":"IF(データセット1!$B377<>\"\",IF($Q$1=データセット1!$B377,データセット1!$D377),\"\")","v":""},{"$f":"IF(データセット1!$B377<>\"\",IF($R$1=データセット1!$B377,データセット1!$D377),\"\")","v":""},{"$f":"IF(データセット1!$B377<>\"\",IF($S$1=データセット1!$B377,データセット1!$D377),\"\")","v":""},{"$f":"IF(データセット1!$B377<>\"\",IF($T$1=データセット1!$B377,データセット1!$D377),\"\")","v":""},{"$f":"IF(データセット1!$B377<>\"\",IF($U$1=データセット1!$B377,データセット1!$D377),\"\")","v":""}]
[null,null,null,null,null,null,null,null,null,null,null,null,{"$f":"IF(データセット1!$B378<>\"\",IF($M$1=データセット1!$B378,データセット1!$D378),\"\")","v":""},{"$f":"IF(データセット1!$B378<>\"\",IF($N$1=データセット1!$B378,データセット1!$D378),\"\")","v":""},{"$f":"IF(データセット1!$B378<>\"\",IF($O$1=データセット1!$B378,データセット1!$D378),\"\")","v":""},{"$f":"IF(データセット1!$B378<>\"\",IF($P$1=データセット1!$B378,データセット1!$D378),\"\")","v":""},{"$f":"IF(データセット1!$B378<>\"\",IF($Q$1=データセット1!$B378,データセット1!$D378),\"\")","v":""},{"$f":"IF(データセット1!$B378<>\"\",IF($R$1=データセット1!$B378,データセット1!$D378),\"\")","v":""},{"$f":"IF(データセット1!$B378<>\"\",IF($S$1=データセット1!$B378,データセット1!$D378),\"\")","v":""},{"$f":"IF(データセット1!$B378<>\"\",IF($T$1=データセット1!$B378,データセット1!$D378),\"\")","v":""},{"$f":"IF(データセット1!$B378<>\"\",IF($U$1=データセット1!$B378,データセット1!$D378),\"\")","v":""}]
[null,null,null,null,null,null,null,null,null,null,null,null,{"$f":"IF(データセット1!$B379<>\"\",IF($M$1=データセット1!$B379,データセット1!$D379),\"\")","v":""},{"$f":"IF(データセット1!$B379<>\"\",IF($N$1=データセット1!$B379,データセット1!$D379),\"\")","v":""},{"$f":"IF(データセット1!$B379<>\"\",IF($O$1=データセット1!$B379,データセット1!$D379),\"\")","v":""},{"$f":"IF(データセット1!$B379<>\"\",IF($P$1=データセット1!$B379,データセット1!$D379),\"\")","v":""},{"$f":"IF(データセット1!$B379<>\"\",IF($Q$1=データセット1!$B379,データセット1!$D379),\"\")","v":""},{"$f":"IF(データセット1!$B379<>\"\",IF($R$1=データセット1!$B379,データセット1!$D379),\"\")","v":""},{"$f":"IF(データセット1!$B379<>\"\",IF($S$1=データセット1!$B379,データセット1!$D379),\"\")","v":""},{"$f":"IF(データセット1!$B379<>\"\",IF($T$1=データセット1!$B379,データセット1!$D379),\"\")","v":""},{"$f":"IF(データセット1!$B379<>\"\",IF($U$1=データセット1!$B379,データセット1!$D379),\"\")","v":""}]
[null,null,null,null,null,null,null,null,null,null,null,null,{"$f":"IF(データセット1!$B380<>\"\",IF($M$1=データセット1!$B380,データセット1!$D380),\"\")","v":""},{"$f":"IF(データセット1!$B380<>\"\",IF($N$1=データセット1!$B380,データセット1!$D380),\"\")","v":""},{"$f":"IF(データセット1!$B380<>\"\",IF($O$1=データセット1!$B380,データセット1!$D380),\"\")","v":""},{"$f":"IF(データセット1!$B380<>\"\",IF($P$1=データセット1!$B380,データセット1!$D380),\"\")","v":""},{"$f":"IF(データセット1!$B380<>\"\",IF($Q$1=データセット1!$B380,データセット1!$D380),\"\")","v":""},{"$f":"IF(データセット1!$B380<>\"\",IF($R$1=データセット1!$B380,データセット1!$D380),\"\")","v":""},{"$f":"IF(データセット1!$B380<>\"\",IF($S$1=データセット1!$B380,データセット1!$D380),\"\")","v":""},{"$f":"IF(データセット1!$B380<>\"\",IF($T$1=データセット1!$B380,データセット1!$D380),\"\")","v":""},{"$f":"IF(データセット1!$B380<>\"\",IF($U$1=データセット1!$B380,データセット1!$D380),\"\")","v":""}]
[null,null,null,null,null,null,null,null,null,null,null,null,{"$f":"IF(データセット1!$B381<>\"\",IF($M$1=データセット1!$B381,データセット1!$D381),\"\")","v":""},{"$f":"IF(データセット1!$B381<>\"\",IF($N$1=データセット1!$B381,データセット1!$D381),\"\")","v":""},{"$f":"IF(データセット1!$B381<>\"\",IF($O$1=データセット1!$B381,データセット1!$D381),\"\")","v":""},{"$f":"IF(データセット1!$B381<>\"\",IF($P$1=データセット1!$B381,データセット1!$D381),\"\")","v":""},{"$f":"IF(データセット1!$B381<>\"\",IF($Q$1=データセット1!$B381,データセット1!$D381),\"\")","v":""},{"$f":"IF(データセット1!$B381<>\"\",IF($R$1=データセット1!$B381,データセット1!$D381),\"\")","v":""},{"$f":"IF(データセット1!$B381<>\"\",IF($S$1=データセット1!$B381,データセット1!$D381),\"\")","v":""},{"$f":"IF(データセット1!$B381<>\"\",IF($T$1=データセット1!$B381,データセット1!$D381),\"\")","v":""},{"$f":"IF(データセット1!$B381<>\"\",IF($U$1=データセット1!$B381,データセット1!$D381),\"\")","v":""}]
[null,null,null,null,null,null,null,null,null,null,null,null,{"$f":"IF(データセット1!$B382<>\"\",IF($M$1=データセット1!$B382,データセット1!$D382),\"\")","v":""},{"$f":"IF(データセット1!$B382<>\"\",IF($N$1=データセット1!$B382,データセット1!$D382),\"\")","v":""},{"$f":"IF(データセット1!$B382<>\"\",IF($O$1=データセット1!$B382,データセット1!$D382),\"\")","v":""},{"$f":"IF(データセット1!$B382<>\"\",IF($P$1=データセット1!$B382,データセット1!$D382),\"\")","v":""},{"$f":"IF(データセット1!$B382<>\"\",IF($Q$1=データセット1!$B382,データセット1!$D382),\"\")","v":""},{"$f":"IF(データセット1!$B382<>\"\",IF($R$1=データセット1!$B382,データセット1!$D382),\"\")","v":""},{"$f":"IF(データセット1!$B382<>\"\",IF($S$1=データセット1!$B382,データセット1!$D382),\"\")","v":""},{"$f":"IF(データセット1!$B382<>\"\",IF($T$1=データセット1!$B382,データセット1!$D382),\"\")","v":""},{"$f":"IF(データセット1!$B382<>\"\",IF($U$1=データセット1!$B382,データセット1!$D382),\"\")","v":""}]
[null,null,null,null,null,null,null,null,null,null,null,null,{"$f":"IF(データセット1!$B383<>\"\",IF($M$1=データセット1!$B383,データセット1!$D383),\"\")","v":""},{"$f":"IF(データセット1!$B383<>\"\",IF($N$1=データセット1!$B383,データセット1!$D383),\"\")","v":""},{"$f":"IF(データセット1!$B383<>\"\",IF($O$1=データセット1!$B383,データセット1!$D383),\"\")","v":""},{"$f":"IF(データセット1!$B383<>\"\",IF($P$1=データセット1!$B383,データセット1!$D383),\"\")","v":""},{"$f":"IF(データセット1!$B383<>\"\",IF($Q$1=データセット1!$B383,データセット1!$D383),\"\")","v":""},{"$f":"IF(データセット1!$B383<>\"\",IF($R$1=データセット1!$B383,データセット1!$D383),\"\")","v":""},{"$f":"IF(データセット1!$B383<>\"\",IF($S$1=データセット1!$B383,データセット1!$D383),\"\")","v":""},{"$f":"IF(データセット1!$B383<>\"\",IF($T$1=データセット1!$B383,データセット1!$D383),\"\")","v":""},{"$f":"IF(データセット1!$B383<>\"\",IF($U$1=データセット1!$B383,データセット1!$D383),\"\")","v":""}]
[null,null,null,null,null,null,null,null,null,null,null,null,{"$f":"IF(データセット1!$B384<>\"\",IF($M$1=データセット1!$B384,データセット1!$D384),\"\")","v":""},{"$f":"IF(データセット1!$B384<>\"\",IF($N$1=データセット1!$B384,データセット1!$D384),\"\")","v":""},{"$f":"IF(データセット1!$B384<>\"\",IF($O$1=データセット1!$B384,データセット1!$D384),\"\")","v":""},{"$f":"IF(データセット1!$B384<>\"\",IF($P$1=データセット1!$B384,データセット1!$D384),\"\")","v":""},{"$f":"IF(データセット1!$B384<>\"\",IF($Q$1=データセット1!$B384,データセット1!$D384),\"\")","v":""},{"$f":"IF(データセット1!$B384<>\"\",IF($R$1=データセット1!$B384,データセット1!$D384),\"\")","v":""},{"$f":"IF(データセット1!$B384<>\"\",IF($S$1=データセット1!$B384,データセット1!$D384),\"\")","v":""},{"$f":"IF(データセット1!$B384<>\"\",IF($T$1=データセット1!$B384,データセット1!$D384),\"\")","v":""},{"$f":"IF(データセット1!$B384<>\"\",IF($U$1=データセット1!$B384,データセット1!$D384),\"\")","v":""}]
[null,null,null,null,null,null,null,null,null,null,null,null,{"$f":"IF(データセット1!$B385<>\"\",IF($M$1=データセット1!$B385,データセット1!$D385),\"\")","v":""},{"$f":"IF(データセット1!$B385<>\"\",IF($N$1=データセット1!$B385,データセット1!$D385),\"\")","v":""},{"$f":"IF(データセット1!$B385<>\"\",IF($O$1=データセット1!$B385,データセット1!$D385),\"\")","v":""},{"$f":"IF(データセット1!$B385<>\"\",IF($P$1=データセット1!$B385,データセット1!$D385),\"\")","v":""},{"$f":"IF(データセット1!$B385<>\"\",IF($Q$1=データセット1!$B385,データセット1!$D385),\"\")","v":""},{"$f":"IF(データセット1!$B385<>\"\",IF($R$1=データセット1!$B385,データセット1!$D385),\"\")","v":""},{"$f":"IF(データセット1!$B385<>\"\",IF($S$1=データセット1!$B385,データセット1!$D385),\"\")","v":""},{"$f":"IF(データセット1!$B385<>\"\",IF($T$1=データセット1!$B385,データセット1!$D385),\"\")","v":""},{"$f":"IF(データセット1!$B385<>\"\",IF($U$1=データセット1!$B385,データセット1!$D385),\"\")","v":""}]
[null,null,null,null,null,null,null,null,null,null,null,null,{"$f":"IF(データセット1!$B386<>\"\",IF($M$1=データセット1!$B386,データセット1!$D386),\"\")","v":""},{"$f":"IF(データセット1!$B386<>\"\",IF($N$1=データセット1!$B386,データセット1!$D386),\"\")","v":""},{"$f":"IF(データセット1!$B386<>\"\",IF($O$1=データセット1!$B386,データセット1!$D386),\"\")","v":""},{"$f":"IF(データセット1!$B386<>\"\",IF($P$1=データセット1!$B386,データセット1!$D386),\"\")","v":""},{"$f":"IF(データセット1!$B386<>\"\",IF($Q$1=データセット1!$B386,データセット1!$D386),\"\")","v":""},{"$f":"IF(データセット1!$B386<>\"\",IF($R$1=データセット1!$B386,データセット1!$D386),\"\")","v":""},{"$f":"IF(データセット1!$B386<>\"\",IF($S$1=データセット1!$B386,データセット1!$D386),\"\")","v":""},{"$f":"IF(データセット1!$B386<>\"\",IF($T$1=データセット1!$B386,データセット1!$D386),\"\")","v":""},{"$f":"IF(データセット1!$B386<>\"\",IF($U$1=データセット1!$B386,データセット1!$D386),\"\")","v":""}]
[null,null,null,null,null,null,null,null,null,null,null,null,{"$f":"IF(データセット1!$B387<>\"\",IF($M$1=データセット1!$B387,データセット1!$D387),\"\")","v":""},{"$f":"IF(データセット1!$B387<>\"\",IF($N$1=データセット1!$B387,データセット1!$D387),\"\")","v":""},{"$f":"IF(データセット1!$B387<>\"\",IF($O$1=データセット1!$B387,データセット1!$D387),\"\")","v":""},{"$f":"IF(データセット1!$B387<>\"\",IF($P$1=データセット1!$B387,データセット1!$D387),\"\")","v":""},{"$f":"IF(データセット1!$B387<>\"\",IF($Q$1=データセット1!$B387,データセット1!$D387),\"\")","v":""},{"$f":"IF(データセット1!$B387<>\"\",IF($R$1=データセット1!$B387,データセット1!$D387),\"\")","v":""},{"$f":"IF(データセット1!$B387<>\"\",IF($S$1=データセット1!$B387,データセット1!$D387),\"\")","v":""},{"$f":"IF(データセット1!$B387<>\"\",IF($T$1=データセット1!$B387,データセット1!$D387),\"\")","v":""},{"$f":"IF(データセット1!$B387<>\"\",IF($U$1=データセット1!$B387,データセット1!$D387),\"\")","v":""}]
[null,null,null,null,null,null,null,null,null,null,null,null,{"$f":"IF(データセット1!$B388<>\"\",IF($M$1=データセット1!$B388,データセット1!$D388),\"\")","v":""},{"$f":"IF(データセット1!$B388<>\"\",IF($N$1=データセット1!$B388,データセット1!$D388),\"\")","v":""},{"$f":"IF(データセット1!$B388<>\"\",IF($O$1=データセット1!$B388,データセット1!$D388),\"\")","v":""},{"$f":"IF(データセット1!$B388<>\"\",IF($P$1=データセット1!$B388,データセット1!$D388),\"\")","v":""},{"$f":"IF(データセット1!$B388<>\"\",IF($Q$1=データセット1!$B388,データセット1!$D388),\"\")","v":""},{"$f":"IF(データセット1!$B388<>\"\",IF($R$1=データセット1!$B388,データセット1!$D388),\"\")","v":""},{"$f":"IF(データセット1!$B388<>\"\",IF($S$1=データセット1!$B388,データセット1!$D388),\"\")","v":""},{"$f":"IF(データセット1!$B388<>\"\",IF($T$1=データセット1!$B388,データセット1!$D388),\"\")","v":""},{"$f":"IF(データセット1!$B388<>\"\",IF($U$1=データセット1!$B388,データセット1!$D388),\"\")","v":""}]
[null,null,null,null,null,null,null,null,null,null,null,null,{"$f":"IF(データセット1!$B389<>\"\",IF($M$1=データセット1!$B389,データセット1!$D389),\"\")","v":""},{"$f":"IF(データセット1!$B389<>\"\",IF($N$1=データセット1!$B389,データセット1!$D389),\"\")","v":""},{"$f":"IF(データセット1!$B389<>\"\",IF($O$1=データセット1!$B389,データセット1!$D389),\"\")","v":""},{"$f":"IF(データセット1!$B389<>\"\",IF($P$1=データセット1!$B389,データセット1!$D389),\"\")","v":""},{"$f":"IF(データセット1!$B389<>\"\",IF($Q$1=データセット1!$B389,データセット1!$D389),\"\")","v":""},{"$f":"IF(データセット1!$B389<>\"\",IF($R$1=データセット1!$B389,データセット1!$D389),\"\")","v":""},{"$f":"IF(データセット1!$B389<>\"\",IF($S$1=データセット1!$B389,データセット1!$D389),\"\")","v":""},{"$f":"IF(データセット1!$B389<>\"\",IF($T$1=データセット1!$B389,データセット1!$D389),\"\")","v":""},{"$f":"IF(データセット1!$B389<>\"\",IF($U$1=データセット1!$B389,データセット1!$D389),\"\")","v":""}]
[null,null,null,null,null,null,null,null,null,null,null,null,{"$f":"IF(データセット1!$B390<>\"\",IF($M$1=データセット1!$B390,データセット1!$D390),\"\")","v":""},{"$f":"IF(データセット1!$B390<>\"\",IF($N$1=データセット1!$B390,データセット1!$D390),\"\")","v":""},{"$f":"IF(データセット1!$B390<>\"\",IF($O$1=データセット1!$B390,データセット1!$D390),\"\")","v":""},{"$f":"IF(データセット1!$B390<>\"\",IF($P$1=データセット1!$B390,データセット1!$D390),\"\")","v":""},{"$f":"IF(データセット1!$B390<>\"\",IF($Q$1=データセット1!$B390,データセット1!$D390),\"\")","v":""},{"$f":"IF(データセット1!$B390<>\"\",IF($R$1=データセット1!$B390,データセット1!$D390),\"\")","v":""},{"$f":"IF(データセット1!$B390<>\"\",IF($S$1=データセット1!$B390,データセット1!$D390),\"\")","v":""},{"$f":"IF(データセット1!$B390<>\"\",IF($T$1=データセット1!$B390,データセット1!$D390),\"\")","v":""},{"$f":"IF(データセット1!$B390<>\"\",IF($U$1=データセット1!$B390,データセット1!$D390),\"\")","v":""}]
[null,null,null,null,null,null,null,null,null,null,null,null,{"$f":"IF(データセット1!$B391<>\"\",IF($M$1=データセット1!$B391,データセット1!$D391),\"\")","v":""},{"$f":"IF(データセット1!$B391<>\"\",IF($N$1=データセット1!$B391,データセット1!$D391),\"\")","v":""},{"$f":"IF(データセット1!$B391<>\"\",IF($O$1=データセット1!$B391,データセット1!$D391),\"\")","v":""},{"$f":"IF(データセット1!$B391<>\"\",IF($P$1=データセット1!$B391,データセット1!$D391),\"\")","v":""},{"$f":"IF(データセット1!$B391<>\"\",IF($Q$1=データセット1!$B391,データセット1!$D391),\"\")","v":""},{"$f":"IF(データセット1!$B391<>\"\",IF($R$1=データセット1!$B391,データセット1!$D391),\"\")","v":""},{"$f":"IF(データセット1!$B391<>\"\",IF($S$1=データセット1!$B391,データセット1!$D391),\"\")","v":""},{"$f":"IF(データセット1!$B391<>\"\",IF($T$1=データセット1!$B391,データセット1!$D391),\"\")","v":""},{"$f":"IF(データセット1!$B391<>\"\",IF($U$1=データセット1!$B391,データセット1!$D391),\"\")","v":""}]
[null,null,null,null,null,null,null,null,null,null,null,null,{"$f":"IF(データセット1!$B392<>\"\",IF($M$1=データセット1!$B392,データセット1!$D392),\"\")","v":""},{"$f":"IF(データセット1!$B392<>\"\",IF($N$1=データセット1!$B392,データセット1!$D392),\"\")","v":""},{"$f":"IF(データセット1!$B392<>\"\",IF($O$1=データセット1!$B392,データセット1!$D392),\"\")","v":""},{"$f":"IF(データセット1!$B392<>\"\",IF($P$1=データセット1!$B392,データセット1!$D392),\"\")","v":""},{"$f":"IF(データセット1!$B392<>\"\",IF($Q$1=データセット1!$B392,データセット1!$D392),\"\")","v":""},{"$f":"IF(データセット1!$B392<>\"\",IF($R$1=データセット1!$B392,データセット1!$D392),\"\")","v":""},{"$f":"IF(データセット1!$B392<>\"\",IF($S$1=データセット1!$B392,データセット1!$D392),\"\")","v":""},{"$f":"IF(データセット1!$B392<>\"\",IF($T$1=データセット1!$B392,データセット1!$D392),\"\")","v":""},{"$f":"IF(データセット1!$B392<>\"\",IF($U$1=データセット1!$B392,データセット1!$D392),\"\")","v":""}]
[null,null,null,null,null,null,null,null,null,null,null,null,{"$f":"IF(データセット1!$B393<>\"\",IF($M$1=データセット1!$B393,データセット1!$D393),\"\")","v":""},{"$f":"IF(データセット1!$B393<>\"\",IF($N$1=データセット1!$B393,データセット1!$D393),\"\")","v":""},{"$f":"IF(データセット1!$B393<>\"\",IF($O$1=データセット1!$B393,データセット1!$D393),\"\")","v":""},{"$f":"IF(データセット1!$B393<>\"\",IF($P$1=データセット1!$B393,データセット1!$D393),\"\")","v":""},{"$f":"IF(データセット1!$B393<>\"\",IF($Q$1=データセット1!$B393,データセット1!$D393),\"\")","v":""},{"$f":"IF(データセット1!$B393<>\"\",IF($R$1=データセット1!$B393,データセット1!$D393),\"\")","v":""},{"$f":"IF(データセット1!$B393<>\"\",IF($S$1=データセット1!$B393,データセット1!$D393),\"\")","v":""},{"$f":"IF(データセット1!$B393<>\"\",IF($T$1=データセット1!$B393,データセット1!$D393),\"\")","v":""},{"$f":"IF(データセット1!$B393<>\"\",IF($U$1=データセット1!$B393,データセット1!$D393),\"\")","v":""}]
[null,null,null,null,null,null,null,null,null,null,null,null,{"$f":"IF(データセット1!$B394<>\"\",IF($M$1=データセット1!$B394,データセット1!$D394),\"\")","v":""},{"$f":"IF(データセット1!$B394<>\"\",IF($N$1=データセット1!$B394,データセット1!$D394),\"\")","v":""},{"$f":"IF(データセット1!$B394<>\"\",IF($O$1=データセット1!$B394,データセット1!$D394),\"\")","v":""},{"$f":"IF(データセット1!$B394<>\"\",IF($P$1=データセット1!$B394,データセット1!$D394),\"\")","v":""},{"$f":"IF(データセット1!$B394<>\"\",IF($Q$1=データセット1!$B394,データセット1!$D394),\"\")","v":""},{"$f":"IF(データセット1!$B394<>\"\",IF($R$1=データセット1!$B394,データセット1!$D394),\"\")","v":""},{"$f":"IF(データセット1!$B394<>\"\",IF($S$1=データセット1!$B394,データセット1!$D394),\"\")","v":""},{"$f":"IF(データセット1!$B394<>\"\",IF($T$1=データセット1!$B394,データセット1!$D394),\"\")","v":""},{"$f":"IF(データセット1!$B394<>\"\",IF($U$1=データセット1!$B394,データセット1!$D394),\"\")","v":""}]
[null,null,null,null,null,null,null,null,null,null,null,null,{"$f":"IF(データセット1!$B395<>\"\",IF($M$1=データセット1!$B395,データセット1!$D395),\"\")","v":""},{"$f":"IF(データセット1!$B395<>\"\",IF($N$1=データセット1!$B395,データセット1!$D395),\"\")","v":""},{"$f":"IF(データセット1!$B395<>\"\",IF($O$1=データセット1!$B395,データセット1!$D395),\"\")","v":""},{"$f":"IF(データセット1!$B395<>\"\",IF($P$1=データセット1!$B395,データセット1!$D395),\"\")","v":""},{"$f":"IF(データセット1!$B395<>\"\",IF($Q$1=データセット1!$B395,データセット1!$D395),\"\")","v":""},{"$f":"IF(データセット1!$B395<>\"\",IF($R$1=データセット1!$B395,データセット1!$D395),\"\")","v":""},{"$f":"IF(データセット1!$B395<>\"\",IF($S$1=データセット1!$B395,データセット1!$D395),\"\")","v":""},{"$f":"IF(データセット1!$B395<>\"\",IF($T$1=データセット1!$B395,データセット1!$D395),\"\")","v":""},{"$f":"IF(データセット1!$B395<>\"\",IF($U$1=データセット1!$B395,データセット1!$D395),\"\")","v":""}]
[null,null,null,null,null,null,null,null,null,null,null,null,{"$f":"IF(データセット1!$B396<>\"\",IF($M$1=データセット1!$B396,データセット1!$D396),\"\")","v":""},{"$f":"IF(データセット1!$B396<>\"\",IF($N$1=データセット1!$B396,データセット1!$D396),\"\")","v":""},{"$f":"IF(データセット1!$B396<>\"\",IF($O$1=データセット1!$B396,データセット1!$D396),\"\")","v":""},{"$f":"IF(データセット1!$B396<>\"\",IF($P$1=データセット1!$B396,データセット1!$D396),\"\")","v":""},{"$f":"IF(データセット1!$B396<>\"\",IF($Q$1=データセット1!$B396,データセット1!$D396),\"\")","v":""},{"$f":"IF(データセット1!$B396<>\"\",IF($R$1=データセット1!$B396,データセット1!$D396),\"\")","v":""},{"$f":"IF(データセット1!$B396<>\"\",IF($S$1=データセット1!$B396,データセット1!$D396),\"\")","v":""},{"$f":"IF(データセット1!$B396<>\"\",IF($T$1=データセット1!$B396,データセット1!$D396),\"\")","v":""},{"$f":"IF(データセット1!$B396<>\"\",IF($U$1=データセット1!$B396,データセット1!$D396),\"\")","v":""}]
[null,null,null,null,null,null,null,null,null,null,null,null,{"$f":"IF(データセット1!$B397<>\"\",IF($M$1=データセット1!$B397,データセット1!$D397),\"\")","v":""},{"$f":"IF(データセット1!$B397<>\"\",IF($N$1=データセット1!$B397,データセット1!$D397),\"\")","v":""},{"$f":"IF(データセット1!$B397<>\"\",IF($O$1=データセット1!$B397,データセット1!$D397),\"\")","v":""},{"$f":"IF(データセット1!$B397<>\"\",IF($P$1=データセット1!$B397,データセット1!$D397),\"\")","v":""},{"$f":"IF(データセット1!$B397<>\"\",IF($Q$1=データセット1!$B397,データセット1!$D397),\"\")","v":""},{"$f":"IF(データセット1!$B397<>\"\",IF($R$1=データセット1!$B397,データセット1!$D397),\"\")","v":""},{"$f":"IF(データセット1!$B397<>\"\",IF($S$1=データセット1!$B397,データセット1!$D397),\"\")","v":""},{"$f":"IF(データセット1!$B397<>\"\",IF($T$1=データセット1!$B397,データセット1!$D397),\"\")","v":""},{"$f":"IF(データセット1!$B397<>\"\",IF($U$1=データセット1!$B397,データセット1!$D397),\"\")","v":""}]
[null,null,null,null,null,null,null,null,null,null,null,null,{"$f":"IF(データセット1!$B398<>\"\",IF($M$1=データセット1!$B398,データセット1!$D398),\"\")","v":""},{"$f":"IF(データセット1!$B398<>\"\",IF($N$1=データセット1!$B398,データセット1!$D398),\"\")","v":""},{"$f":"IF(データセット1!$B398<>\"\",IF($O$1=データセット1!$B398,データセット1!$D398),\"\")","v":""},{"$f":"IF(データセット1!$B398<>\"\",IF($P$1=データセット1!$B398,データセット1!$D398),\"\")","v":""},{"$f":"IF(データセット1!$B398<>\"\",IF($Q$1=データセット1!$B398,データセット1!$D398),\"\")","v":""},{"$f":"IF(データセット1!$B398<>\"\",IF($R$1=データセット1!$B398,データセット1!$D398),\"\")","v":""},{"$f":"IF(データセット1!$B398<>\"\",IF($S$1=データセット1!$B398,データセット1!$D398),\"\")","v":""},{"$f":"IF(データセット1!$B398<>\"\",IF($T$1=データセット1!$B398,データセット1!$D398),\"\")","v":""},{"$f":"IF(データセット1!$B398<>\"\",IF($U$1=データセット1!$B398,データセット1!$D398),\"\")","v":""}]
[null,null,null,null,null,null,null,null,null,null,null,null,{"$f":"IF(データセット1!$B399<>\"\",IF($M$1=データセット1!$B399,データセット1!$D399),\"\")","v":""},{"$f":"IF(データセット1!$B399<>\"\",IF($N$1=データセット1!$B399,データセット1!$D399),\"\")","v":""},{"$f":"IF(データセット1!$B399<>\"\",IF($O$1=データセット1!$B399,データセット1!$D399),\"\")","v":""},{"$f":"IF(データセット1!$B399<>\"\",IF($P$1=データセット1!$B399,データセット1!$D399),\"\")","v":""},{"$f":"IF(データセット1!$B399<>\"\",IF($Q$1=データセット1!$B399,データセット1!$D399),\"\")","v":""},{"$f":"IF(データセット1!$B399<>\"\",IF($R$1=データセット1!$B399,データセット1!$D399),\"\")","v":""},{"$f":"IF(データセット1!$B399<>\"\",IF($S$1=データセット1!$B399,データセット1!$D399),\"\")","v":""},{"$f":"IF(データセット1!$B399<>\"\",IF($T$1=データセット1!$B399,データセット1!$D399),\"\")","v":""},{"$f":"IF(データセット1!$B399<>\"\",IF($U$1=データセット1!$B399,データセット1!$D399),\"\")","v":""}]
[null,null,null,null,null,null,null,null,null,null,null,null,{"$f":"IF(データセット1!$B400<>\"\",IF($M$1=データセット1!$B400,データセット1!$D400),\"\")","v":""},{"$f":"IF(データセット1!$B400<>\"\",IF($N$1=データセット1!$B400,データセット1!$D400),\"\")","v":""},{"$f":"IF(データセット1!$B400<>\"\",IF($O$1=データセット1!$B400,データセット1!$D400),\"\")","v":""},{"$f":"IF(データセット1!$B400<>\"\",IF($P$1=データセット1!$B400,データセット1!$D400),\"\")","v":""},{"$f":"IF(データセット1!$B400<>\"\",IF($Q$1=データセット1!$B400,データセット1!$D400),\"\")","v":""},{"$f":"IF(データセット1!$B400<>\"\",IF($R$1=データセット1!$B400,データセット1!$D400),\"\")","v":""},{"$f":"IF(データセット1!$B400<>\"\",IF($S$1=データセット1!$B400,データセット1!$D400),\"\")","v":""},{"$f":"IF(データセット1!$B400<>\"\",IF($T$1=データセット1!$B400,データセット1!$D400),\"\")","v":""},{"$f":"IF(データセット1!$B400<>\"\",IF($U$1=データセット1!$B400,データセット1!$D400),\"\")","v":""}]
[null,null,null,null,null,null,null,null,null,null,null,null,{"$f":"IF(データセット1!$B401<>\"\",IF($M$1=データセット1!$B401,データセット1!$D401),\"\")","v":""},{"$f":"IF(データセット1!$B401<>\"\",IF($N$1=データセット1!$B401,データセット1!$D401),\"\")","v":""},{"$f":"IF(データセット1!$B401<>\"\",IF($O$1=データセット1!$B401,データセット1!$D401),\"\")","v":""},{"$f":"IF(データセット1!$B401<>\"\",IF($P$1=データセット1!$B401,データセット1!$D401),\"\")","v":""},{"$f":"IF(データセット1!$B401<>\"\",IF($Q$1=データセット1!$B401,データセット1!$D401),\"\")","v":""},{"$f":"IF(データセット1!$B401<>\"\",IF($R$1=データセット1!$B401,データセット1!$D401),\"\")","v":""},{"$f":"IF(データセット1!$B401<>\"\",IF($S$1=データセット1!$B401,データセット1!$D401),\"\")","v":""},{"$f":"IF(データセット1!$B401<>\"\",IF($T$1=データセット1!$B401,データセット1!$D401),\"\")","v":""},{"$f":"IF(データセット1!$B401<>\"\",IF($U$1=データセット1!$B401,データセット1!$D401),\"\")","v":""}]
[null,null,null,null,null,null,null,null,null,null,null,null,{"$f":"IF(データセット1!$B402<>\"\",IF($M$1=データセット1!$B402,データセット1!$D402),\"\")","v":""},{"$f":"IF(データセット1!$B402<>\"\",IF($N$1=データセット1!$B402,データセット1!$D402),\"\")","v":""},{"$f":"IF(データセット1!$B402<>\"\",IF($O$1=データセット1!$B402,データセット1!$D402),\"\")","v":""},{"$f":"IF(データセット1!$B402<>\"\",IF($P$1=データセット1!$B402,データセット1!$D402),\"\")","v":""},{"$f":"IF(データセット1!$B402<>\"\",IF($Q$1=データセット1!$B402,データセット1!$D402),\"\")","v":""},{"$f":"IF(データセット1!$B402<>\"\",IF($R$1=データセット1!$B402,データセット1!$D402),\"\")","v":""},{"$f":"IF(データセット1!$B402<>\"\",IF($S$1=データセット1!$B402,データセット1!$D402),\"\")","v":""},{"$f":"IF(データセット1!$B402<>\"\",IF($T$1=データセット1!$B402,データセット1!$D402),\"\")","v":""},{"$f":"IF(データセット1!$B402<>\"\",IF($U$1=データセット1!$B402,データセット1!$D402),\"\")","v":""}]
[null,null,null,null,null,null,null,null,null,null,null,null,{"$f":"IF(データセット1!$B403<>\"\",IF($M$1=データセット1!$B403,データセット1!$D403),\"\")","v":""},{"$f":"IF(データセット1!$B403<>\"\",IF($N$1=データセット1!$B403,データセット1!$D403),\"\")","v":""},{"$f":"IF(データセット1!$B403<>\"\",IF($O$1=データセット1!$B403,データセット1!$D403),\"\")","v":""},{"$f":"IF(データセット1!$B403<>\"\",IF($P$1=データセット1!$B403,データセット1!$D403),\"\")","v":""},{"$f":"IF(データセット1!$B403<>\"\",IF($Q$1=データセット1!$B403,データセット1!$D403),\"\")","v":""},{"$f":"IF(データセット1!$B403<>\"\",IF($R$1=データセット1!$B403,データセット1!$D403),\"\")","v":""},{"$f":"IF(データセット1!$B403<>\"\",IF($S$1=データセット1!$B403,データセット1!$D403),\"\")","v":""},{"$f":"IF(データセット1!$B403<>\"\",IF($T$1=データセット1!$B403,データセット1!$D403),\"\")","v":""},{"$f":"IF(データセット1!$B403<>\"\",IF($U$1=データセット1!$B403,データセット1!$D403),\"\")","v":""}]
[null,null,null,null,null,null,null,null,null,null,null,null,{"$f":"IF(データセット1!$B404<>\"\",IF($M$1=データセット1!$B404,データセット1!$D404),\"\")","v":""},{"$f":"IF(データセット1!$B404<>\"\",IF($N$1=データセット1!$B404,データセット1!$D404),\"\")","v":""},{"$f":"IF(データセット1!$B404<>\"\",IF($O$1=データセット1!$B404,データセット1!$D404),\"\")","v":""},{"$f":"IF(データセット1!$B404<>\"\",IF($P$1=データセット1!$B404,データセット1!$D404),\"\")","v":""},{"$f":"IF(データセット1!$B404<>\"\",IF($Q$1=データセット1!$B404,データセット1!$D404),\"\")","v":""},{"$f":"IF(データセット1!$B404<>\"\",IF($R$1=データセット1!$B404,データセット1!$D404),\"\")","v":""},{"$f":"IF(データセット1!$B404<>\"\",IF($S$1=データセット1!$B404,データセット1!$D404),\"\")","v":""},{"$f":"IF(データセット1!$B404<>\"\",IF($T$1=データセット1!$B404,データセット1!$D404),\"\")","v":""},{"$f":"IF(データセット1!$B404<>\"\",IF($U$1=データセット1!$B404,データセット1!$D404),\"\")","v":""}]
[null,null,null,null,null,null,null,null,null,null,null,null,{"$f":"IF(データセット1!$B405<>\"\",IF($M$1=データセット1!$B405,データセット1!$D405),\"\")","v":""},{"$f":"IF(データセット1!$B405<>\"\",IF($N$1=データセット1!$B405,データセット1!$D405),\"\")","v":""},{"$f":"IF(データセット1!$B405<>\"\",IF($O$1=データセット1!$B405,データセット1!$D405),\"\")","v":""},{"$f":"IF(データセット1!$B405<>\"\",IF($P$1=データセット1!$B405,データセット1!$D405),\"\")","v":""},{"$f":"IF(データセット1!$B405<>\"\",IF($Q$1=データセット1!$B405,データセット1!$D405),\"\")","v":""},{"$f":"IF(データセット1!$B405<>\"\",IF($R$1=データセット1!$B405,データセット1!$D405),\"\")","v":""},{"$f":"IF(データセット1!$B405<>\"\",IF($S$1=データセット1!$B405,データセット1!$D405),\"\")","v":""},{"$f":"IF(データセット1!$B405<>\"\",IF($T$1=データセット1!$B405,データセット1!$D405),\"\")","v":""},{"$f":"IF(データセット1!$B405<>\"\",IF($U$1=データセット1!$B405,データセット1!$D405),\"\")","v":""}]
[null,null,null,null,null,null,null,null,null,null,null,null,{"$f":"IF(データセット1!$B406<>\"\",IF($M$1=データセット1!$B406,データセット1!$D406),\"\")","v":""},{"$f":"IF(データセット1!$B406<>\"\",IF($N$1=データセット1!$B406,データセット1!$D406),\"\")","v":""},{"$f":"IF(データセット1!$B406<>\"\",IF($O$1=データセット1!$B406,データセット1!$D406),\"\")","v":""},{"$f":"IF(データセット1!$B406<>\"\",IF($P$1=データセット1!$B406,データセット1!$D406),\"\")","v":""},{"$f":"IF(データセット1!$B406<>\"\",IF($Q$1=データセット1!$B406,データセット1!$D406),\"\")","v":""},{"$f":"IF(データセット1!$B406<>\"\",IF($R$1=データセット1!$B406,データセット1!$D406),\"\")","v":""},{"$f":"IF(データセット1!$B406<>\"\",IF($S$1=データセット1!$B406,データセット1!$D406),\"\")","v":""},{"$f":"IF(データセット1!$B406<>\"\",IF($T$1=データセット1!$B406,データセット1!$D406),\"\")","v":""},{"$f":"IF(データセット1!$B406<>\"\",IF($U$1=データセット1!$B406,データセット1!$D406),\"\")","v":""}]
[null,null,null,null,null,null,null,null,null,null,null,null,{"$f":"IF(データセット1!$B407<>\"\",IF($M$1=データセット1!$B407,データセット1!$D407),\"\")","v":""},{"$f":"IF(データセット1!$B407<>\"\",IF($N$1=データセット1!$B407,データセット1!$D407),\"\")","v":""},{"$f":"IF(データセット1!$B407<>\"\",IF($O$1=データセット1!$B407,データセット1!$D407),\"\")","v":""},{"$f":"IF(データセット1!$B407<>\"\",IF($P$1=データセット1!$B407,データセット1!$D407),\"\")","v":""},{"$f":"IF(データセット1!$B407<>\"\",IF($Q$1=データセット1!$B407,データセット1!$D407),\"\")","v":""},{"$f":"IF(データセット1!$B407<>\"\",IF($R$1=データセット1!$B407,データセット1!$D407),\"\")","v":""},{"$f":"IF(データセット1!$B407<>\"\",IF($S$1=データセット1!$B407,データセット1!$D407),\"\")","v":""},{"$f":"IF(データセット1!$B407<>\"\",IF($T$1=データセット1!$B407,データセット1!$D407),\"\")","v":""},{"$f":"IF(データセット1!$B407<>\"\",IF($U$1=データセット1!$B407,データセット1!$D407),\"\")","v":""}]
[null,null,null,null,null,null,null,null,null,null,null,null,{"$f":"IF(データセット1!$B408<>\"\",IF($M$1=データセット1!$B408,データセット1!$D408),\"\")","v":""},{"$f":"IF(データセット1!$B408<>\"\",IF($N$1=データセット1!$B408,データセット1!$D408),\"\")","v":""},{"$f":"IF(データセット1!$B408<>\"\",IF($O$1=データセット1!$B408,データセット1!$D408),\"\")","v":""},{"$f":"IF(データセット1!$B408<>\"\",IF($P$1=データセット1!$B408,データセット1!$D408),\"\")","v":""},{"$f":"IF(データセット1!$B408<>\"\",IF($Q$1=データセット1!$B408,データセット1!$D408),\"\")","v":""},{"$f":"IF(データセット1!$B408<>\"\",IF($R$1=データセット1!$B408,データセット1!$D408),\"\")","v":""},{"$f":"IF(データセット1!$B408<>\"\",IF($S$1=データセット1!$B408,データセット1!$D408),\"\")","v":""},{"$f":"IF(データセット1!$B408<>\"\",IF($T$1=データセット1!$B408,データセット1!$D408),\"\")","v":""},{"$f":"IF(データセット1!$B408<>\"\",IF($U$1=データセット1!$B408,データセット1!$D408),\"\")","v":""}]
[null,null,null,null,null,null,null,null,null,null,null,null,{"$f":"IF(データセット1!$B409<>\"\",IF($M$1=データセット1!$B409,データセット1!$D409),\"\")","v":""},{"$f":"IF(データセット1!$B409<>\"\",IF($N$1=データセット1!$B409,データセット1!$D409),\"\")","v":""},{"$f":"IF(データセット1!$B409<>\"\",IF($O$1=データセット1!$B409,データセット1!$D409),\"\")","v":""},{"$f":"IF(データセット1!$B409<>\"\",IF($P$1=データセット1!$B409,データセット1!$D409),\"\")","v":""},{"$f":"IF(データセット1!$B409<>\"\",IF($Q$1=データセット1!$B409,データセット1!$D409),\"\")","v":""},{"$f":"IF(データセット1!$B409<>\"\",IF($R$1=データセット1!$B409,データセット1!$D409),\"\")","v":""},{"$f":"IF(データセット1!$B409<>\"\",IF($S$1=データセット1!$B409,データセット1!$D409),\"\")","v":""},{"$f":"IF(データセット1!$B409<>\"\",IF($T$1=データセット1!$B409,データセット1!$D409),\"\")","v":""},{"$f":"IF(データセット1!$B409<>\"\",IF($U$1=データセット1!$B409,データセット1!$D409),\"\")","v":""}]
[null,null,null,null,null,null,null,null,null,null,null,null,{"$f":"IF(データセット1!$B410<>\"\",IF($M$1=データセット1!$B410,データセット1!$D410),\"\")","v":""},{"$f":"IF(データセット1!$B410<>\"\",IF($N$1=データセット1!$B410,データセット1!$D410),\"\")","v":""},{"$f":"IF(データセット1!$B410<>\"\",IF($O$1=データセット1!$B410,データセット1!$D410),\"\")","v":""},{"$f":"IF(データセット1!$B410<>\"\",IF($P$1=データセット1!$B410,データセット1!$D410),\"\")","v":""},{"$f":"IF(データセット1!$B410<>\"\",IF($Q$1=データセット1!$B410,データセット1!$D410),\"\")","v":""},{"$f":"IF(データセット1!$B410<>\"\",IF($R$1=データセット1!$B410,データセット1!$D410),\"\")","v":""},{"$f":"IF(データセット1!$B410<>\"\",IF($S$1=データセット1!$B410,データセット1!$D410),\"\")","v":""},{"$f":"IF(データセット1!$B410<>\"\",IF($T$1=データセット1!$B410,データセット1!$D410),\"\")","v":""},{"$f":"IF(データセット1!$B410<>\"\",IF($U$1=データセット1!$B410,データセット1!$D410),\"\")","v":""}]
[null,null,null,null,null,null,null,null,null,null,null,null,{"$f":"IF(データセット1!$B411<>\"\",IF($M$1=データセット1!$B411,データセット1!$D411),\"\")","v":""},{"$f":"IF(データセット1!$B411<>\"\",IF($N$1=データセット1!$B411,データセット1!$D411),\"\")","v":""},{"$f":"IF(データセット1!$B411<>\"\",IF($O$1=データセット1!$B411,データセット1!$D411),\"\")","v":""},{"$f":"IF(データセット1!$B411<>\"\",IF($P$1=データセット1!$B411,データセット1!$D411),\"\")","v":""},{"$f":"IF(データセット1!$B411<>\"\",IF($Q$1=データセット1!$B411,データセット1!$D411),\"\")","v":""},{"$f":"IF(データセット1!$B411<>\"\",IF($R$1=データセット1!$B411,データセット1!$D411),\"\")","v":""},{"$f":"IF(データセット1!$B411<>\"\",IF($S$1=データセット1!$B411,データセット1!$D411),\"\")","v":""},{"$f":"IF(データセット1!$B411<>\"\",IF($T$1=データセット1!$B411,データセット1!$D411),\"\")","v":""},{"$f":"IF(データセット1!$B411<>\"\",IF($U$1=データセット1!$B411,データセット1!$D411),\"\")","v":""}]
[null,null,null,null,null,null,null,null,null,null,null,null,{"$f":"IF(データセット1!$B412<>\"\",IF($M$1=データセット1!$B412,データセット1!$D412),\"\")","v":""},{"$f":"IF(データセット1!$B412<>\"\",IF($N$1=データセット1!$B412,データセット1!$D412),\"\")","v":""},{"$f":"IF(データセット1!$B412<>\"\",IF($O$1=データセット1!$B412,データセット1!$D412),\"\")","v":""},{"$f":"IF(データセット1!$B412<>\"\",IF($P$1=データセット1!$B412,データセット1!$D412),\"\")","v":""},{"$f":"IF(データセット1!$B412<>\"\",IF($Q$1=データセット1!$B412,データセット1!$D412),\"\")","v":""},{"$f":"IF(データセット1!$B412<>\"\",IF($R$1=データセット1!$B412,データセット1!$D412),\"\")","v":""},{"$f":"IF(データセット1!$B412<>\"\",IF($S$1=データセット1!$B412,データセット1!$D412),\"\")","v":""},{"$f":"IF(データセット1!$B412<>\"\",IF($T$1=データセット1!$B412,データセット1!$D412),\"\")","v":""},{"$f":"IF(データセット1!$B412<>\"\",IF($U$1=データセット1!$B412,データセット1!$D412),\"\")","v":""}]
[null,null,null,null,null,null,null,null,null,null,null,null,{"$f":"IF(データセット1!$B413<>\"\",IF($M$1=データセット1!$B413,データセット1!$D413),\"\")","v":""},{"$f":"IF(データセット1!$B413<>\"\",IF($N$1=データセット1!$B413,データセット1!$D413),\"\")","v":""},{"$f":"IF(データセット1!$B413<>\"\",IF($O$1=データセット1!$B413,データセット1!$D413),\"\")","v":""},{"$f":"IF(データセット1!$B413<>\"\",IF($P$1=データセット1!$B413,データセット1!$D413),\"\")","v":""},{"$f":"IF(データセット1!$B413<>\"\",IF($Q$1=データセット1!$B413,データセット1!$D413),\"\")","v":""},{"$f":"IF(データセット1!$B413<>\"\",IF($R$1=データセット1!$B413,データセット1!$D413),\"\")","v":""},{"$f":"IF(データセット1!$B413<>\"\",IF($S$1=データセット1!$B413,データセット1!$D413),\"\")","v":""},{"$f":"IF(データセット1!$B413<>\"\",IF($T$1=データセット1!$B413,データセット1!$D413),\"\")","v":""},{"$f":"IF(データセット1!$B413<>\"\",IF($U$1=データセット1!$B413,データセット1!$D413),\"\")","v":""}]
[null,null,null,null,null,null,null,null,null,null,null,null,{"$f":"IF(データセット1!$B414<>\"\",IF($M$1=データセット1!$B414,データセット1!$D414),\"\")","v":""},{"$f":"IF(データセット1!$B414<>\"\",IF($N$1=データセット1!$B414,データセット1!$D414),\"\")","v":""},{"$f":"IF(データセット1!$B414<>\"\",IF($O$1=データセット1!$B414,データセット1!$D414),\"\")","v":""},{"$f":"IF(データセット1!$B414<>\"\",IF($P$1=データセット1!$B414,データセット1!$D414),\"\")","v":""},{"$f":"IF(データセット1!$B414<>\"\",IF($Q$1=データセット1!$B414,データセット1!$D414),\"\")","v":""},{"$f":"IF(データセット1!$B414<>\"\",IF($R$1=データセット1!$B414,データセット1!$D414),\"\")","v":""},{"$f":"IF(データセット1!$B414<>\"\",IF($S$1=データセット1!$B414,データセット1!$D414),\"\")","v":""},{"$f":"IF(データセット1!$B414<>\"\",IF($T$1=データセット1!$B414,データセット1!$D414),\"\")","v":""},{"$f":"IF(データセット1!$B414<>\"\",IF($U$1=データセット1!$B414,データセット1!$D414),\"\")","v":""}]
[null,null,null,null,null,null,null,null,null,null,null,null,{"$f":"IF(データセット1!$B415<>\"\",IF($M$1=データセット1!$B415,データセット1!$D415),\"\")","v":""},{"$f":"IF(データセット1!$B415<>\"\",IF($N$1=データセット1!$B415,データセット1!$D415),\"\")","v":""},{"$f":"IF(データセット1!$B415<>\"\",IF($O$1=データセット1!$B415,データセット1!$D415),\"\")","v":""},{"$f":"IF(データセット1!$B415<>\"\",IF($P$1=データセット1!$B415,データセット1!$D415),\"\")","v":""},{"$f":"IF(データセット1!$B415<>\"\",IF($Q$1=データセット1!$B415,データセット1!$D415),\"\")","v":""},{"$f":"IF(データセット1!$B415<>\"\",IF($R$1=データセット1!$B415,データセット1!$D415),\"\")","v":""},{"$f":"IF(データセット1!$B415<>\"\",IF($S$1=データセット1!$B415,データセット1!$D415),\"\")","v":""},{"$f":"IF(データセット1!$B415<>\"\",IF($T$1=データセット1!$B415,データセット1!$D415),\"\")","v":""},{"$f":"IF(データセット1!$B415<>\"\",IF($U$1=データセット1!$B415,データセット1!$D415),\"\")","v":""}]
[null,null,null,null,null,null,null,null,null,null,null,null,{"$f":"IF(データセット1!$B416<>\"\",IF($M$1=データセット1!$B416,データセット1!$D416),\"\")","v":""},{"$f":"IF(データセット1!$B416<>\"\",IF($N$1=データセット1!$B416,データセット1!$D416),\"\")","v":""},{"$f":"IF(データセット1!$B416<>\"\",IF($O$1=データセット1!$B416,データセット1!$D416),\"\")","v":""},{"$f":"IF(データセット1!$B416<>\"\",IF($P$1=データセット1!$B416,データセット1!$D416),\"\")","v":""},{"$f":"IF(データセット1!$B416<>\"\",IF($Q$1=データセット1!$B416,データセット1!$D416),\"\")","v":""},{"$f":"IF(データセット1!$B416<>\"\",IF($R$1=データセット1!$B416,データセット1!$D416),\"\")","v":""},{"$f":"IF(データセット1!$B416<>\"\",IF($S$1=データセット1!$B416,データセット1!$D416),\"\")","v":""},{"$f":"IF(データセット1!$B416<>\"\",IF($T$1=データセット1!$B416,データセット1!$D416),\"\")","v":""},{"$f":"IF(データセット1!$B416<>\"\",IF($U$1=データセット1!$B416,データセット1!$D416),\"\")","v":""}]
[null,null,null,null,null,null,null,null,null,null,null,null,{"$f":"IF(データセット1!$B417<>\"\",IF($M$1=データセット1!$B417,データセット1!$D417),\"\")","v":""},{"$f":"IF(データセット1!$B417<>\"\",IF($N$1=データセット1!$B417,データセット1!$D417),\"\")","v":""},{"$f":"IF(データセット1!$B417<>\"\",IF($O$1=データセット1!$B417,データセット1!$D417),\"\")","v":""},{"$f":"IF(データセット1!$B417<>\"\",IF($P$1=データセット1!$B417,データセット1!$D417),\"\")","v":""},{"$f":"IF(データセット1!$B417<>\"\",IF($Q$1=データセット1!$B417,データセット1!$D417),\"\")","v":""},{"$f":"IF(データセット1!$B417<>\"\",IF($R$1=データセット1!$B417,データセット1!$D417),\"\")","v":""},{"$f":"IF(データセット1!$B417<>\"\",IF($S$1=データセット1!$B417,データセット1!$D417),\"\")","v":""},{"$f":"IF(データセット1!$B417<>\"\",IF($T$1=データセット1!$B417,データセット1!$D417),\"\")","v":""},{"$f":"IF(データセット1!$B417<>\"\",IF($U$1=データセット1!$B417,データセット1!$D417),\"\")","v":""}]
[null,null,null,null,null,null,null,null,null,null,null,null,{"$f":"IF(データセット1!$B418<>\"\",IF($M$1=データセット1!$B418,データセット1!$D418),\"\")","v":""},{"$f":"IF(データセット1!$B418<>\"\",IF($N$1=データセット1!$B418,データセット1!$D418),\"\")","v":""},{"$f":"IF(データセット1!$B418<>\"\",IF($O$1=データセット1!$B418,データセット1!$D418),\"\")","v":""},{"$f":"IF(データセット1!$B418<>\"\",IF($P$1=データセット1!$B418,データセット1!$D418),\"\")","v":""},{"$f":"IF(データセット1!$B418<>\"\",IF($Q$1=データセット1!$B418,データセット1!$D418),\"\")","v":""},{"$f":"IF(データセット1!$B418<>\"\",IF($R$1=データセット1!$B418,データセット1!$D418),\"\")","v":""},{"$f":"IF(データセット1!$B418<>\"\",IF($S$1=データセット1!$B418,データセット1!$D418),\"\")","v":""},{"$f":"IF(データセット1!$B418<>\"\",IF($T$1=データセット1!$B418,データセット1!$D418),\"\")","v":""},{"$f":"IF(データセット1!$B418<>\"\",IF($U$1=データセット1!$B418,データセット1!$D418),\"\")","v":""}]
[null,null,null,null,null,null,null,null,null,null,null,null,{"$f":"IF(データセット1!$B419<>\"\",IF($M$1=データセット1!$B419,データセット1!$D419),\"\")","v":""},{"$f":"IF(データセット1!$B419<>\"\",IF($N$1=データセット1!$B419,データセット1!$D419),\"\")","v":""},{"$f":"IF(データセット1!$B419<>\"\",IF($O$1=データセット1!$B419,データセット1!$D419),\"\")","v":""},{"$f":"IF(データセット1!$B419<>\"\",IF($P$1=データセット1!$B419,データセット1!$D419),\"\")","v":""},{"$f":"IF(データセット1!$B419<>\"\",IF($Q$1=データセット1!$B419,データセット1!$D419),\"\")","v":""},{"$f":"IF(データセット1!$B419<>\"\",IF($R$1=データセット1!$B419,データセット1!$D419),\"\")","v":""},{"$f":"IF(データセット1!$B419<>\"\",IF($S$1=データセット1!$B419,データセット1!$D419),\"\")","v":""},{"$f":"IF(データセット1!$B419<>\"\",IF($T$1=データセット1!$B419,データセット1!$D419),\"\")","v":""},{"$f":"IF(データセット1!$B419<>\"\",IF($U$1=データセット1!$B419,データセット1!$D419),\"\")","v":""}]
[null,null,null,null,null,null,null,null,null,null,null,null,{"$f":"IF(データセット1!$B420<>\"\",IF($M$1=データセット1!$B420,データセット1!$D420),\"\")","v":""},{"$f":"IF(データセット1!$B420<>\"\",IF($N$1=データセット1!$B420,データセット1!$D420),\"\")","v":""},{"$f":"IF(データセット1!$B420<>\"\",IF($O$1=データセット1!$B420,データセット1!$D420),\"\")","v":""},{"$f":"IF(データセット1!$B420<>\"\",IF($P$1=データセット1!$B420,データセット1!$D420),\"\")","v":""},{"$f":"IF(データセット1!$B420<>\"\",IF($Q$1=データセット1!$B420,データセット1!$D420),\"\")","v":""},{"$f":"IF(データセット1!$B420<>\"\",IF($R$1=データセット1!$B420,データセット1!$D420),\"\")","v":""},{"$f":"IF(データセット1!$B420<>\"\",IF($S$1=データセット1!$B420,データセット1!$D420),\"\")","v":""},{"$f":"IF(データセット1!$B420<>\"\",IF($T$1=データセット1!$B420,データセット1!$D420),\"\")","v":""},{"$f":"IF(データセット1!$B420<>\"\",IF($U$1=データセット1!$B420,データセット1!$D420),\"\")","v":""}]
[null,null,null,null,null,null,null,null,null,null,null,null,{"$f":"IF(データセット1!$B421<>\"\",IF($M$1=データセット1!$B421,データセット1!$D421),\"\")","v":""},{"$f":"IF(データセット1!$B421<>\"\",IF($N$1=データセット1!$B421,データセット1!$D421),\"\")","v":""},{"$f":"IF(データセット1!$B421<>\"\",IF($O$1=データセット1!$B421,データセット1!$D421),\"\")","v":""},{"$f":"IF(データセット1!$B421<>\"\",IF($P$1=データセット1!$B421,データセット1!$D421),\"\")","v":""},{"$f":"IF(データセット1!$B421<>\"\",IF($Q$1=データセット1!$B421,データセット1!$D421),\"\")","v":""},{"$f":"IF(データセット1!$B421<>\"\",IF($R$1=データセット1!$B421,データセット1!$D421),\"\")","v":""},{"$f":"IF(データセット1!$B421<>\"\",IF($S$1=データセット1!$B421,データセット1!$D421),\"\")","v":""},{"$f":"IF(データセット1!$B421<>\"\",IF($T$1=データセット1!$B421,データセット1!$D421),\"\")","v":""},{"$f":"IF(データセット1!$B421<>\"\",IF($U$1=データセット1!$B421,データセット1!$D421),\"\")","v":""}]
[null,null,null,null,null,null,null,null,null,null,null,null,{"$f":"IF(データセット1!$B422<>\"\",IF($M$1=データセット1!$B422,データセット1!$D422),\"\")","v":""},{"$f":"IF(データセット1!$B422<>\"\",IF($N$1=データセット1!$B422,データセット1!$D422),\"\")","v":""},{"$f":"IF(データセット1!$B422<>\"\",IF($O$1=データセット1!$B422,データセット1!$D422),\"\")","v":""},{"$f":"IF(データセット1!$B422<>\"\",IF($P$1=データセット1!$B422,データセット1!$D422),\"\")","v":""},{"$f":"IF(データセット1!$B422<>\"\",IF($Q$1=データセット1!$B422,データセット1!$D422),\"\")","v":""},{"$f":"IF(データセット1!$B422<>\"\",IF($R$1=データセット1!$B422,データセット1!$D422),\"\")","v":""},{"$f":"IF(データセット1!$B422<>\"\",IF($S$1=データセット1!$B422,データセット1!$D422),\"\")","v":""},{"$f":"IF(データセット1!$B422<>\"\",IF($T$1=データセット1!$B422,データセット1!$D422),\"\")","v":""},{"$f":"IF(データセット1!$B422<>\"\",IF($U$1=データセット1!$B422,データセット1!$D422),\"\")","v":""}]
[null,null,null,null,null,null,null,null,null,null,null,null,{"$f":"IF(データセット1!$B423<>\"\",IF($M$1=データセット1!$B423,データセット1!$D423),\"\")","v":""},{"$f":"IF(データセット1!$B423<>\"\",IF($N$1=データセット1!$B423,データセット1!$D423),\"\")","v":""},{"$f":"IF(データセット1!$B423<>\"\",IF($O$1=データセット1!$B423,データセット1!$D423),\"\")","v":""},{"$f":"IF(データセット1!$B423<>\"\",IF($P$1=データセット1!$B423,データセット1!$D423),\"\")","v":""},{"$f":"IF(データセット1!$B423<>\"\",IF($Q$1=データセット1!$B423,データセット1!$D423),\"\")","v":""},{"$f":"IF(データセット1!$B423<>\"\",IF($R$1=データセット1!$B423,データセット1!$D423),\"\")","v":""},{"$f":"IF(データセット1!$B423<>\"\",IF($S$1=データセット1!$B423,データセット1!$D423),\"\")","v":""},{"$f":"IF(データセット1!$B423<>\"\",IF($T$1=データセット1!$B423,データセット1!$D423),\"\")","v":""},{"$f":"IF(データセット1!$B423<>\"\",IF($U$1=データセット1!$B423,データセット1!$D423),\"\")","v":""}]
[null,null,null,null,null,null,null,null,null,null,null,null,{"$f":"IF(データセット1!$B424<>\"\",IF($M$1=データセット1!$B424,データセット1!$D424),\"\")","v":""},{"$f":"IF(データセット1!$B424<>\"\",IF($N$1=データセット1!$B424,データセット1!$D424),\"\")","v":""},{"$f":"IF(データセット1!$B424<>\"\",IF($O$1=データセット1!$B424,データセット1!$D424),\"\")","v":""},{"$f":"IF(データセット1!$B424<>\"\",IF($P$1=データセット1!$B424,データセット1!$D424),\"\")","v":""},{"$f":"IF(データセット1!$B424<>\"\",IF($Q$1=データセット1!$B424,データセット1!$D424),\"\")","v":""},{"$f":"IF(データセット1!$B424<>\"\",IF($R$1=データセット1!$B424,データセット1!$D424),\"\")","v":""},{"$f":"IF(データセット1!$B424<>\"\",IF($S$1=データセット1!$B424,データセット1!$D424),\"\")","v":""},{"$f":"IF(データセット1!$B424<>\"\",IF($T$1=データセット1!$B424,データセット1!$D424),\"\")","v":""},{"$f":"IF(データセット1!$B424<>\"\",IF($U$1=データセット1!$B424,データセット1!$D424),\"\")","v":""}]
[null,null,null,null,null,null,null,null,null,null,null,null,{"$f":"IF(データセット1!$B425<>\"\",IF($M$1=データセット1!$B425,データセット1!$D425),\"\")","v":""},{"$f":"IF(データセット1!$B425<>\"\",IF($N$1=データセット1!$B425,データセット1!$D425),\"\")","v":""},{"$f":"IF(データセット1!$B425<>\"\",IF($O$1=データセット1!$B425,データセット1!$D425),\"\")","v":""},{"$f":"IF(データセット1!$B425<>\"\",IF($P$1=データセット1!$B425,データセット1!$D425),\"\")","v":""},{"$f":"IF(データセット1!$B425<>\"\",IF($Q$1=データセット1!$B425,データセット1!$D425),\"\")","v":""},{"$f":"IF(データセット1!$B425<>\"\",IF($R$1=データセット1!$B425,データセット1!$D425),\"\")","v":""},{"$f":"IF(データセット1!$B425<>\"\",IF($S$1=データセット1!$B425,データセット1!$D425),\"\")","v":""},{"$f":"IF(データセット1!$B425<>\"\",IF($T$1=データセット1!$B425,データセット1!$D425),\"\")","v":""},{"$f":"IF(データセット1!$B425<>\"\",IF($U$1=データセット1!$B425,データセット1!$D425),\"\")","v":""}]
[null,null,null,null,null,null,null,null,null,null,null,null,{"$f":"IF(データセット1!$B426<>\"\",IF($M$1=データセット1!$B426,データセット1!$D426),\"\")","v":""},{"$f":"IF(データセット1!$B426<>\"\",IF($N$1=データセット1!$B426,データセット1!$D426),\"\")","v":""},{"$f":"IF(データセット1!$B426<>\"\",IF($O$1=データセット1!$B426,データセット1!$D426),\"\")","v":""},{"$f":"IF(データセット1!$B426<>\"\",IF($P$1=データセット1!$B426,データセット1!$D426),\"\")","v":""},{"$f":"IF(データセット1!$B426<>\"\",IF($Q$1=データセット1!$B426,データセット1!$D426),\"\")","v":""},{"$f":"IF(データセット1!$B426<>\"\",IF($R$1=データセット1!$B426,データセット1!$D426),\"\")","v":""},{"$f":"IF(データセット1!$B426<>\"\",IF($S$1=データセット1!$B426,データセット1!$D426),\"\")","v":""},{"$f":"IF(データセット1!$B426<>\"\",IF($T$1=データセット1!$B426,データセット1!$D426),\"\")","v":""},{"$f":"IF(データセット1!$B426<>\"\",IF($U$1=データセット1!$B426,データセット1!$D426),\"\")","v":""}]
[null,null,null,null,null,null,null,null,null,null,null,null,{"$f":"IF(データセット1!$B427<>\"\",IF($M$1=データセット1!$B427,データセット1!$D427),\"\")","v":""},{"$f":"IF(データセット1!$B427<>\"\",IF($N$1=データセット1!$B427,データセット1!$D427),\"\")","v":""},{"$f":"IF(データセット1!$B427<>\"\",IF($O$1=データセット1!$B427,データセット1!$D427),\"\")","v":""},{"$f":"IF(データセット1!$B427<>\"\",IF($P$1=データセット1!$B427,データセット1!$D427),\"\")","v":""},{"$f":"IF(データセット1!$B427<>\"\",IF($Q$1=データセット1!$B427,データセット1!$D427),\"\")","v":""},{"$f":"IF(データセット1!$B427<>\"\",IF($R$1=データセット1!$B427,データセット1!$D427),\"\")","v":""},{"$f":"IF(データセット1!$B427<>\"\",IF($S$1=データセット1!$B427,データセット1!$D427),\"\")","v":""},{"$f":"IF(データセット1!$B427<>\"\",IF($T$1=データセット1!$B427,データセット1!$D427),\"\")","v":""},{"$f":"IF(データセット1!$B427<>\"\",IF($U$1=データセット1!$B427,データセット1!$D427),\"\")","v":""}]
[null,null,null,null,null,null,null,null,null,null,null,null,{"$f":"IF(データセット1!$B428<>\"\",IF($M$1=データセット1!$B428,データセット1!$D428),\"\")","v":""},{"$f":"IF(データセット1!$B428<>\"\",IF($N$1=データセット1!$B428,データセット1!$D428),\"\")","v":""},{"$f":"IF(データセット1!$B428<>\"\",IF($O$1=データセット1!$B428,データセット1!$D428),\"\")","v":""},{"$f":"IF(データセット1!$B428<>\"\",IF($P$1=データセット1!$B428,データセット1!$D428),\"\")","v":""},{"$f":"IF(データセット1!$B428<>\"\",IF($Q$1=データセット1!$B428,データセット1!$D428),\"\")","v":""},{"$f":"IF(データセット1!$B428<>\"\",IF($R$1=データセット1!$B428,データセット1!$D428),\"\")","v":""},{"$f":"IF(データセット1!$B428<>\"\",IF($S$1=データセット1!$B428,データセット1!$D428),\"\")","v":""},{"$f":"IF(データセット1!$B428<>\"\",IF($T$1=データセット1!$B428,データセット1!$D428),\"\")","v":""},{"$f":"IF(データセット1!$B428<>\"\",IF($U$1=データセット1!$B428,データセット1!$D428),\"\")","v":""}]
[null,null,null,null,null,null,null,null,null,null,null,null,{"$f":"IF(データセット1!$B429<>\"\",IF($M$1=データセット1!$B429,データセット1!$D429),\"\")","v":""},{"$f":"IF(データセット1!$B429<>\"\",IF($N$1=データセット1!$B429,データセット1!$D429),\"\")","v":""},{"$f":"IF(データセット1!$B429<>\"\",IF($O$1=データセット1!$B429,データセット1!$D429),\"\")","v":""},{"$f":"IF(データセット1!$B429<>\"\",IF($P$1=データセット1!$B429,データセット1!$D429),\"\")","v":""},{"$f":"IF(データセット1!$B429<>\"\",IF($Q$1=データセット1!$B429,データセット1!$D429),\"\")","v":""},{"$f":"IF(データセット1!$B429<>\"\",IF($R$1=データセット1!$B429,データセット1!$D429),\"\")","v":""},{"$f":"IF(データセット1!$B429<>\"\",IF($S$1=データセット1!$B429,データセット1!$D429),\"\")","v":""},{"$f":"IF(データセット1!$B429<>\"\",IF($T$1=データセット1!$B429,データセット1!$D429),\"\")","v":""},{"$f":"IF(データセット1!$B429<>\"\",IF($U$1=データセット1!$B429,データセット1!$D429),\"\")","v":""}]
[null,null,null,null,null,null,null,null,null,null,null,null,{"$f":"IF(データセット1!$B430<>\"\",IF($M$1=データセット1!$B430,データセット1!$D430),\"\")","v":""},{"$f":"IF(データセット1!$B430<>\"\",IF($N$1=データセット1!$B430,データセット1!$D430),\"\")","v":""},{"$f":"IF(データセット1!$B430<>\"\",IF($O$1=データセット1!$B430,データセット1!$D430),\"\")","v":""},{"$f":"IF(データセット1!$B430<>\"\",IF($P$1=データセット1!$B430,データセット1!$D430),\"\")","v":""},{"$f":"IF(データセット1!$B430<>\"\",IF($Q$1=データセット1!$B430,データセット1!$D430),\"\")","v":""},{"$f":"IF(データセット1!$B430<>\"\",IF($R$1=データセット1!$B430,データセット1!$D430),\"\")","v":""},{"$f":"IF(データセット1!$B430<>\"\",IF($S$1=データセット1!$B430,データセット1!$D430),\"\")","v":""},{"$f":"IF(データセット1!$B430<>\"\",IF($T$1=データセット1!$B430,データセット1!$D430),\"\")","v":""},{"$f":"IF(データセット1!$B430<>\"\",IF($U$1=データセット1!$B430,データセット1!$D430),\"\")","v":""}]
[null,null,null,null,null,null,null,null,null,null,null,null,{"$f":"IF(データセット1!$B431<>\"\",IF($M$1=データセット1!$B431,データセット1!$D431),\"\")","v":""},{"$f":"IF(データセット1!$B431<>\"\",IF($N$1=データセット1!$B431,データセット1!$D431),\"\")","v":""},{"$f":"IF(データセット1!$B431<>\"\",IF($O$1=データセット1!$B431,データセット1!$D431),\"\")","v":""},{"$f":"IF(データセット1!$B431<>\"\",IF($P$1=データセット1!$B431,データセット1!$D431),\"\")","v":""},{"$f":"IF(データセット1!$B431<>\"\",IF($Q$1=データセット1!$B431,データセット1!$D431),\"\")","v":""},{"$f":"IF(データセット1!$B431<>\"\",IF($R$1=データセット1!$B431,データセット1!$D431),\"\")","v":""},{"$f":"IF(データセット1!$B431<>\"\",IF($S$1=データセット1!$B431,データセット1!$D431),\"\")","v":""},{"$f":"IF(データセット1!$B431<>\"\",IF($T$1=データセット1!$B431,データセット1!$D431),\"\")","v":""},{"$f":"IF(データセット1!$B431<>\"\",IF($U$1=データセット1!$B431,データセット1!$D431),\"\")","v":""}]
[null,null,null,null,null,null,null,null,null,null,null,null,{"$f":"IF(データセット1!$B432<>\"\",IF($M$1=データセット1!$B432,データセット1!$D432),\"\")","v":""},{"$f":"IF(データセット1!$B432<>\"\",IF($N$1=データセット1!$B432,データセット1!$D432),\"\")","v":""},{"$f":"IF(データセット1!$B432<>\"\",IF($O$1=データセット1!$B432,データセット1!$D432),\"\")","v":""},{"$f":"IF(データセット1!$B432<>\"\",IF($P$1=データセット1!$B432,データセット1!$D432),\"\")","v":""},{"$f":"IF(データセット1!$B432<>\"\",IF($Q$1=データセット1!$B432,データセット1!$D432),\"\")","v":""},{"$f":"IF(データセット1!$B432<>\"\",IF($R$1=データセット1!$B432,データセット1!$D432),\"\")","v":""},{"$f":"IF(データセット1!$B432<>\"\",IF($S$1=データセット1!$B432,データセット1!$D432),\"\")","v":""},{"$f":"IF(データセット1!$B432<>\"\",IF($T$1=データセット1!$B432,データセット1!$D432),\"\")","v":""},{"$f":"IF(データセット1!$B432<>\"\",IF($U$1=データセット1!$B432,データセット1!$D432),\"\")","v":""}]
[null,null,null,null,null,null,null,null,null,null,null,null,{"$f":"IF(データセット1!$B433<>\"\",IF($M$1=データセット1!$B433,データセット1!$D433),\"\")","v":""},{"$f":"IF(データセット1!$B433<>\"\",IF($N$1=データセット1!$B433,データセット1!$D433),\"\")","v":""},{"$f":"IF(データセット1!$B433<>\"\",IF($O$1=データセット1!$B433,データセット1!$D433),\"\")","v":""},{"$f":"IF(データセット1!$B433<>\"\",IF($P$1=データセット1!$B433,データセット1!$D433),\"\")","v":""},{"$f":"IF(データセット1!$B433<>\"\",IF($Q$1=データセット1!$B433,データセット1!$D433),\"\")","v":""},{"$f":"IF(データセット1!$B433<>\"\",IF($R$1=データセット1!$B433,データセット1!$D433),\"\")","v":""},{"$f":"IF(データセット1!$B433<>\"\",IF($S$1=データセット1!$B433,データセット1!$D433),\"\")","v":""},{"$f":"IF(データセット1!$B433<>\"\",IF($T$1=データセット1!$B433,データセット1!$D433),\"\")","v":""},{"$f":"IF(データセット1!$B433<>\"\",IF($U$1=データセット1!$B433,データセット1!$D433),\"\")","v":""}]
[null,null,null,null,null,null,null,null,null,null,null,null,{"$f":"IF(データセット1!$B434<>\"\",IF($M$1=データセット1!$B434,データセット1!$D434),\"\")","v":""},{"$f":"IF(データセット1!$B434<>\"\",IF($N$1=データセット1!$B434,データセット1!$D434),\"\")","v":""},{"$f":"IF(データセット1!$B434<>\"\",IF($O$1=データセット1!$B434,データセット1!$D434),\"\")","v":""},{"$f":"IF(データセット1!$B434<>\"\",IF($P$1=データセット1!$B434,データセット1!$D434),\"\")","v":""},{"$f":"IF(データセット1!$B434<>\"\",IF($Q$1=データセット1!$B434,データセット1!$D434),\"\")","v":""},{"$f":"IF(データセット1!$B434<>\"\",IF($R$1=データセット1!$B434,データセット1!$D434),\"\")","v":""},{"$f":"IF(データセット1!$B434<>\"\",IF($S$1=データセット1!$B434,データセット1!$D434),\"\")","v":""},{"$f":"IF(データセット1!$B434<>\"\",IF($T$1=データセット1!$B434,データセット1!$D434),\"\")","v":""},{"$f":"IF(データセット1!$B434<>\"\",IF($U$1=データセット1!$B434,データセット1!$D434),\"\")","v":""}]
[null,null,null,null,null,null,null,null,null,null,null,null,{"$f":"IF(データセット1!$B435<>\"\",IF($M$1=データセット1!$B435,データセット1!$D435),\"\")","v":""},{"$f":"IF(データセット1!$B435<>\"\",IF($N$1=データセット1!$B435,データセット1!$D435),\"\")","v":""},{"$f":"IF(データセット1!$B435<>\"\",IF($O$1=データセット1!$B435,データセット1!$D435),\"\")","v":""},{"$f":"IF(データセット1!$B435<>\"\",IF($P$1=データセット1!$B435,データセット1!$D435),\"\")","v":""},{"$f":"IF(データセット1!$B435<>\"\",IF($Q$1=データセット1!$B435,データセット1!$D435),\"\")","v":""},{"$f":"IF(データセット1!$B435<>\"\",IF($R$1=データセット1!$B435,データセット1!$D435),\"\")","v":""},{"$f":"IF(データセット1!$B435<>\"\",IF($S$1=データセット1!$B435,データセット1!$D435),\"\")","v":""},{"$f":"IF(データセット1!$B435<>\"\",IF($T$1=データセット1!$B435,データセット1!$D435),\"\")","v":""},{"$f":"IF(データセット1!$B435<>\"\",IF($U$1=データセット1!$B435,データセット1!$D435),\"\")","v":""}]
[null,null,null,null,null,null,null,null,null,null,null,null,{"$f":"IF(データセット1!$B436<>\"\",IF($M$1=データセット1!$B436,データセット1!$D436),\"\")","v":""},{"$f":"IF(データセット1!$B436<>\"\",IF($N$1=データセット1!$B436,データセット1!$D436),\"\")","v":""},{"$f":"IF(データセット1!$B436<>\"\",IF($O$1=データセット1!$B436,データセット1!$D436),\"\")","v":""},{"$f":"IF(データセット1!$B436<>\"\",IF($P$1=データセット1!$B436,データセット1!$D436),\"\")","v":""},{"$f":"IF(データセット1!$B436<>\"\",IF($Q$1=データセット1!$B436,データセット1!$D436),\"\")","v":""},{"$f":"IF(データセット1!$B436<>\"\",IF($R$1=データセット1!$B436,データセット1!$D436),\"\")","v":""},{"$f":"IF(データセット1!$B436<>\"\",IF($S$1=データセット1!$B436,データセット1!$D436),\"\")","v":""},{"$f":"IF(データセット1!$B436<>\"\",IF($T$1=データセット1!$B436,データセット1!$D436),\"\")","v":""},{"$f":"IF(データセット1!$B436<>\"\",IF($U$1=データセット1!$B436,データセット1!$D436),\"\")","v":""}]
[null,null,null,null,null,null,null,null,null,null,null,null,{"$f":"IF(データセット1!$B437<>\"\",IF($M$1=データセット1!$B437,データセット1!$D437),\"\")","v":""},{"$f":"IF(データセット1!$B437<>\"\",IF($N$1=データセット1!$B437,データセット1!$D437),\"\")","v":""},{"$f":"IF(データセット1!$B437<>\"\",IF($O$1=データセット1!$B437,データセット1!$D437),\"\")","v":""},{"$f":"IF(データセット1!$B437<>\"\",IF($P$1=データセット1!$B437,データセット1!$D437),\"\")","v":""},{"$f":"IF(データセット1!$B437<>\"\",IF($Q$1=データセット1!$B437,データセット1!$D437),\"\")","v":""},{"$f":"IF(データセット1!$B437<>\"\",IF($R$1=データセット1!$B437,データセット1!$D437),\"\")","v":""},{"$f":"IF(データセット1!$B437<>\"\",IF($S$1=データセット1!$B437,データセット1!$D437),\"\")","v":""},{"$f":"IF(データセット1!$B437<>\"\",IF($T$1=データセット1!$B437,データセット1!$D437),\"\")","v":""},{"$f":"IF(データセット1!$B437<>\"\",IF($U$1=データセット1!$B437,データセット1!$D437),\"\")","v":""}]
[null,null,null,null,null,null,null,null,null,null,null,null,{"$f":"IF(データセット1!$B438<>\"\",IF($M$1=データセット1!$B438,データセット1!$D438),\"\")","v":""},{"$f":"IF(データセット1!$B438<>\"\",IF($N$1=データセット1!$B438,データセット1!$D438),\"\")","v":""},{"$f":"IF(データセット1!$B438<>\"\",IF($O$1=データセット1!$B438,データセット1!$D438),\"\")","v":""},{"$f":"IF(データセット1!$B438<>\"\",IF($P$1=データセット1!$B438,データセット1!$D438),\"\")","v":""},{"$f":"IF(データセット1!$B438<>\"\",IF($Q$1=データセット1!$B438,データセット1!$D438),\"\")","v":""},{"$f":"IF(データセット1!$B438<>\"\",IF($R$1=データセット1!$B438,データセット1!$D438),\"\")","v":""},{"$f":"IF(データセット1!$B438<>\"\",IF($S$1=データセット1!$B438,データセット1!$D438),\"\")","v":""},{"$f":"IF(データセット1!$B438<>\"\",IF($T$1=データセット1!$B438,データセット1!$D438),\"\")","v":""},{"$f":"IF(データセット1!$B438<>\"\",IF($U$1=データセット1!$B438,データセット1!$D438),\"\")","v":""}]
[null,null,null,null,null,null,null,null,null,null,null,null,{"$f":"IF(データセット1!$B439<>\"\",IF($M$1=データセット1!$B439,データセット1!$D439),\"\")","v":""},{"$f":"IF(データセット1!$B439<>\"\",IF($N$1=データセット1!$B439,データセット1!$D439),\"\")","v":""},{"$f":"IF(データセット1!$B439<>\"\",IF($O$1=データセット1!$B439,データセット1!$D439),\"\")","v":""},{"$f":"IF(データセット1!$B439<>\"\",IF($P$1=データセット1!$B439,データセット1!$D439),\"\")","v":""},{"$f":"IF(データセット1!$B439<>\"\",IF($Q$1=データセット1!$B439,データセット1!$D439),\"\")","v":""},{"$f":"IF(データセット1!$B439<>\"\",IF($R$1=データセット1!$B439,データセット1!$D439),\"\")","v":""},{"$f":"IF(データセット1!$B439<>\"\",IF($S$1=データセット1!$B439,データセット1!$D439),\"\")","v":""},{"$f":"IF(データセット1!$B439<>\"\",IF($T$1=データセット1!$B439,データセット1!$D439),\"\")","v":""},{"$f":"IF(データセット1!$B439<>\"\",IF($U$1=データセット1!$B439,データセット1!$D439),\"\")","v":""}]
[null,null,null,null,null,null,null,null,null,null,null,null,{"$f":"IF(データセット1!$B440<>\"\",IF($M$1=データセット1!$B440,データセット1!$D440),\"\")","v":""},{"$f":"IF(データセット1!$B440<>\"\",IF($N$1=データセット1!$B440,データセット1!$D440),\"\")","v":""},{"$f":"IF(データセット1!$B440<>\"\",IF($O$1=データセット1!$B440,データセット1!$D440),\"\")","v":""},{"$f":"IF(データセット1!$B440<>\"\",IF($P$1=データセット1!$B440,データセット1!$D440),\"\")","v":""},{"$f":"IF(データセット1!$B440<>\"\",IF($Q$1=データセット1!$B440,データセット1!$D440),\"\")","v":""},{"$f":"IF(データセット1!$B440<>\"\",IF($R$1=データセット1!$B440,データセット1!$D440),\"\")","v":""},{"$f":"IF(データセット1!$B440<>\"\",IF($S$1=データセット1!$B440,データセット1!$D440),\"\")","v":""},{"$f":"IF(データセット1!$B440<>\"\",IF($T$1=データセット1!$B440,データセット1!$D440),\"\")","v":""},{"$f":"IF(データセット1!$B440<>\"\",IF($U$1=データセット1!$B440,データセット1!$D440),\"\")","v":""}]
[null,null,null,null,null,null,null,null,null,null,null,null,{"$f":"IF(データセット1!$B441<>\"\",IF($M$1=データセット1!$B441,データセット1!$D441),\"\")","v":""},{"$f":"IF(データセット1!$B441<>\"\",IF($N$1=データセット1!$B441,データセット1!$D441),\"\")","v":""},{"$f":"IF(データセット1!$B441<>\"\",IF($O$1=データセット1!$B441,データセット1!$D441),\"\")","v":""},{"$f":"IF(データセット1!$B441<>\"\",IF($P$1=データセット1!$B441,データセット1!$D441),\"\")","v":""},{"$f":"IF(データセット1!$B441<>\"\",IF($Q$1=データセット1!$B441,データセット1!$D441),\"\")","v":""},{"$f":"IF(データセット1!$B441<>\"\",IF($R$1=データセット1!$B441,データセット1!$D441),\"\")","v":""},{"$f":"IF(データセット1!$B441<>\"\",IF($S$1=データセット1!$B441,データセット1!$D441),\"\")","v":""},{"$f":"IF(データセット1!$B441<>\"\",IF($T$1=データセット1!$B441,データセット1!$D441),\"\")","v":""},{"$f":"IF(データセット1!$B441<>\"\",IF($U$1=データセット1!$B441,データセット1!$D441),\"\")","v":""}]
[null,null,null,null,null,null,null,null,null,null,null,null,{"$f":"IF(データセット1!$B442<>\"\",IF($M$1=データセット1!$B442,データセット1!$D442),\"\")","v":""},{"$f":"IF(データセット1!$B442<>\"\",IF($N$1=データセット1!$B442,データセット1!$D442),\"\")","v":""},{"$f":"IF(データセット1!$B442<>\"\",IF($O$1=データセット1!$B442,データセット1!$D442),\"\")","v":""},{"$f":"IF(データセット1!$B442<>\"\",IF($P$1=データセット1!$B442,データセット1!$D442),\"\")","v":""},{"$f":"IF(データセット1!$B442<>\"\",IF($Q$1=データセット1!$B442,データセット1!$D442),\"\")","v":""},{"$f":"IF(データセット1!$B442<>\"\",IF($R$1=データセット1!$B442,データセット1!$D442),\"\")","v":""},{"$f":"IF(データセット1!$B442<>\"\",IF($S$1=データセット1!$B442,データセット1!$D442),\"\")","v":""},{"$f":"IF(データセット1!$B442<>\"\",IF($T$1=データセット1!$B442,データセット1!$D442),\"\")","v":""},{"$f":"IF(データセット1!$B442<>\"\",IF($U$1=データセット1!$B442,データセット1!$D442),\"\")","v":""}]
[null,null,null,null,null,null,null,null,null,null,null,null,{"$f":"IF(データセット1!$B443<>\"\",IF($M$1=データセット1!$B443,データセット1!$D443),\"\")","v":""},{"$f":"IF(データセット1!$B443<>\"\",IF($N$1=データセット1!$B443,データセット1!$D443),\"\")","v":""},{"$f":"IF(データセット1!$B443<>\"\",IF($O$1=データセット1!$B443,データセット1!$D443),\"\")","v":""},{"$f":"IF(データセット1!$B443<>\"\",IF($P$1=データセット1!$B443,データセット1!$D443),\"\")","v":""},{"$f":"IF(データセット1!$B443<>\"\",IF($Q$1=データセット1!$B443,データセット1!$D443),\"\")","v":""},{"$f":"IF(データセット1!$B443<>\"\",IF($R$1=データセット1!$B443,データセット1!$D443),\"\")","v":""},{"$f":"IF(データセット1!$B443<>\"\",IF($S$1=データセット1!$B443,データセット1!$D443),\"\")","v":""},{"$f":"IF(データセット1!$B443<>\"\",IF($T$1=データセット1!$B443,データセット1!$D443),\"\")","v":""},{"$f":"IF(データセット1!$B443<>\"\",IF($U$1=データセット1!$B443,データセット1!$D443),\"\")","v":""}]
[null,null,null,null,null,null,null,null,null,null,null,null,{"$f":"IF(データセット1!$B444<>\"\",IF($M$1=データセット1!$B444,データセット1!$D444),\"\")","v":""},{"$f":"IF(データセット1!$B444<>\"\",IF($N$1=データセット1!$B444,データセット1!$D444),\"\")","v":""},{"$f":"IF(データセット1!$B444<>\"\",IF($O$1=データセット1!$B444,データセット1!$D444),\"\")","v":""},{"$f":"IF(データセット1!$B444<>\"\",IF($P$1=データセット1!$B444,データセット1!$D444),\"\")","v":""},{"$f":"IF(データセット1!$B444<>\"\",IF($Q$1=データセット1!$B444,データセット1!$D444),\"\")","v":""},{"$f":"IF(データセット1!$B444<>\"\",IF($R$1=データセット1!$B444,データセット1!$D444),\"\")","v":""},{"$f":"IF(データセット1!$B444<>\"\",IF($S$1=データセット1!$B444,データセット1!$D444),\"\")","v":""},{"$f":"IF(データセット1!$B444<>\"\",IF($T$1=データセット1!$B444,データセット1!$D444),\"\")","v":""},{"$f":"IF(データセット1!$B444<>\"\",IF($U$1=データセット1!$B444,データセット1!$D444),\"\")","v":""}]
[null,null,null,null,null,null,null,null,null,null,null,null,{"$f":"IF(データセット1!$B445<>\"\",IF($M$1=データセット1!$B445,データセット1!$D445),\"\")","v":""},{"$f":"IF(データセット1!$B445<>\"\",IF($N$1=データセット1!$B445,データセット1!$D445),\"\")","v":""},{"$f":"IF(データセット1!$B445<>\"\",IF($O$1=データセット1!$B445,データセット1!$D445),\"\")","v":""},{"$f":"IF(データセット1!$B445<>\"\",IF($P$1=データセット1!$B445,データセット1!$D445),\"\")","v":""},{"$f":"IF(データセット1!$B445<>\"\",IF($Q$1=データセット1!$B445,データセット1!$D445),\"\")","v":""},{"$f":"IF(データセット1!$B445<>\"\",IF($R$1=データセット1!$B445,データセット1!$D445),\"\")","v":""},{"$f":"IF(データセット1!$B445<>\"\",IF($S$1=データセット1!$B445,データセット1!$D445),\"\")","v":""},{"$f":"IF(データセット1!$B445<>\"\",IF($T$1=データセット1!$B445,データセット1!$D445),\"\")","v":""},{"$f":"IF(データセット1!$B445<>\"\",IF($U$1=データセット1!$B445,データセット1!$D445),\"\")","v":""}]
[null,null,null,null,null,null,null,null,null,null,null,null,{"$f":"IF(データセット1!$B446<>\"\",IF($M$1=データセット1!$B446,データセット1!$D446),\"\")","v":""},{"$f":"IF(データセット1!$B446<>\"\",IF($N$1=データセット1!$B446,データセット1!$D446),\"\")","v":""},{"$f":"IF(データセット1!$B446<>\"\",IF($O$1=データセット1!$B446,データセット1!$D446),\"\")","v":""},{"$f":"IF(データセット1!$B446<>\"\",IF($P$1=データセット1!$B446,データセット1!$D446),\"\")","v":""},{"$f":"IF(データセット1!$B446<>\"\",IF($Q$1=データセット1!$B446,データセット1!$D446),\"\")","v":""},{"$f":"IF(データセット1!$B446<>\"\",IF($R$1=データセット1!$B446,データセット1!$D446),\"\")","v":""},{"$f":"IF(データセット1!$B446<>\"\",IF($S$1=データセット1!$B446,データセット1!$D446),\"\")","v":""},{"$f":"IF(データセット1!$B446<>\"\",IF($T$1=データセット1!$B446,データセット1!$D446),\"\")","v":""},{"$f":"IF(データセット1!$B446<>\"\",IF($U$1=データセット1!$B446,データセット1!$D446),\"\")","v":""}]
[null,null,null,null,null,null,null,null,null,null,null,null,{"$f":"IF(データセット1!$B447<>\"\",IF($M$1=データセット1!$B447,データセット1!$D447),\"\")","v":""},{"$f":"IF(データセット1!$B447<>\"\",IF($N$1=データセット1!$B447,データセット1!$D447),\"\")","v":""},{"$f":"IF(データセット1!$B447<>\"\",IF($O$1=データセット1!$B447,データセット1!$D447),\"\")","v":""},{"$f":"IF(データセット1!$B447<>\"\",IF($P$1=データセット1!$B447,データセット1!$D447),\"\")","v":""},{"$f":"IF(データセット1!$B447<>\"\",IF($Q$1=データセット1!$B447,データセット1!$D447),\"\")","v":""},{"$f":"IF(データセット1!$B447<>\"\",IF($R$1=データセット1!$B447,データセット1!$D447),\"\")","v":""},{"$f":"IF(データセット1!$B447<>\"\",IF($S$1=データセット1!$B447,データセット1!$D447),\"\")","v":""},{"$f":"IF(データセット1!$B447<>\"\",IF($T$1=データセット1!$B447,データセット1!$D447),\"\")","v":""},{"$f":"IF(データセット1!$B447<>\"\",IF($U$1=データセット1!$B447,データセット1!$D447),\"\")","v":""}]
[null,null,null,null,null,null,null,null,null,null,null,null,{"$f":"IF(データセット1!$B448<>\"\",IF($M$1=データセット1!$B448,データセット1!$D448),\"\")","v":""},{"$f":"IF(データセット1!$B448<>\"\",IF($N$1=データセット1!$B448,データセット1!$D448),\"\")","v":""},{"$f":"IF(データセット1!$B448<>\"\",IF($O$1=データセット1!$B448,データセット1!$D448),\"\")","v":""},{"$f":"IF(データセット1!$B448<>\"\",IF($P$1=データセット1!$B448,データセット1!$D448),\"\")","v":""},{"$f":"IF(データセット1!$B448<>\"\",IF($Q$1=データセット1!$B448,データセット1!$D448),\"\")","v":""},{"$f":"IF(データセット1!$B448<>\"\",IF($R$1=データセット1!$B448,データセット1!$D448),\"\")","v":""},{"$f":"IF(データセット1!$B448<>\"\",IF($S$1=データセット1!$B448,データセット1!$D448),\"\")","v":""},{"$f":"IF(データセット1!$B448<>\"\",IF($T$1=データセット1!$B448,データセット1!$D448),\"\")","v":""},{"$f":"IF(データセット1!$B448<>\"\",IF($U$1=データセット1!$B448,データセット1!$D448),\"\")","v":""}]
[null,null,null,null,null,null,null,null,null,null,null,null,{"$f":"IF(データセット1!$B449<>\"\",IF($M$1=データセット1!$B449,データセット1!$D449),\"\")","v":""},{"$f":"IF(データセット1!$B449<>\"\",IF($N$1=データセット1!$B449,データセット1!$D449),\"\")","v":""},{"$f":"IF(データセット1!$B449<>\"\",IF($O$1=データセット1!$B449,データセット1!$D449),\"\")","v":""},{"$f":"IF(データセット1!$B449<>\"\",IF($P$1=データセット1!$B449,データセット1!$D449),\"\")","v":""},{"$f":"IF(データセット1!$B449<>\"\",IF($Q$1=データセット1!$B449,データセット1!$D449),\"\")","v":""},{"$f":"IF(データセット1!$B449<>\"\",IF($R$1=データセット1!$B449,データセット1!$D449),\"\")","v":""},{"$f":"IF(データセット1!$B449<>\"\",IF($S$1=データセット1!$B449,データセット1!$D449),\"\")","v":""},{"$f":"IF(データセット1!$B449<>\"\",IF($T$1=データセット1!$B449,データセット1!$D449),\"\")","v":""},{"$f":"IF(データセット1!$B449<>\"\",IF($U$1=データセット1!$B449,データセット1!$D449),\"\")","v":""}]
[null,null,null,null,null,null,null,null,null,null,null,null,{"$f":"IF(データセット1!$B450<>\"\",IF($M$1=データセット1!$B450,データセット1!$D450),\"\")","v":""},{"$f":"IF(データセット1!$B450<>\"\",IF($N$1=データセット1!$B450,データセット1!$D450),\"\")","v":""},{"$f":"IF(データセット1!$B450<>\"\",IF($O$1=データセット1!$B450,データセット1!$D450),\"\")","v":""},{"$f":"IF(データセット1!$B450<>\"\",IF($P$1=データセット1!$B450,データセット1!$D450),\"\")","v":""},{"$f":"IF(データセット1!$B450<>\"\",IF($Q$1=データセット1!$B450,データセット1!$D450),\"\")","v":""},{"$f":"IF(データセット1!$B450<>\"\",IF($R$1=データセット1!$B450,データセット1!$D450),\"\")","v":""},{"$f":"IF(データセット1!$B450<>\"\",IF($S$1=データセット1!$B450,データセット1!$D450),\"\")","v":""},{"$f":"IF(データセット1!$B450<>\"\",IF($T$1=データセット1!$B450,データセット1!$D450),\"\")","v":""},{"$f":"IF(データセット1!$B450<>\"\",IF($U$1=データセット1!$B450,データセット1!$D450),\"\")","v":""}]
[null,null,null,null,null,null,null,null,null,null,null,null,{"$f":"IF(データセット1!$B451<>\"\",IF($M$1=データセット1!$B451,データセット1!$D451),\"\")","v":""},{"$f":"IF(データセット1!$B451<>\"\",IF($N$1=データセット1!$B451,データセット1!$D451),\"\")","v":""},{"$f":"IF(データセット1!$B451<>\"\",IF($O$1=データセット1!$B451,データセット1!$D451),\"\")","v":""},{"$f":"IF(データセット1!$B451<>\"\",IF($P$1=データセット1!$B451,データセット1!$D451),\"\")","v":""},{"$f":"IF(データセット1!$B451<>\"\",IF($Q$1=データセット1!$B451,データセット1!$D451),\"\")","v":""},{"$f":"IF(データセット1!$B451<>\"\",IF($R$1=データセット1!$B451,データセット1!$D451),\"\")","v":""},{"$f":"IF(データセット1!$B451<>\"\",IF($S$1=データセット1!$B451,データセット1!$D451),\"\")","v":""},{"$f":"IF(データセット1!$B451<>\"\",IF($T$1=データセット1!$B451,データセット1!$D451),\"\")","v":""},{"$f":"IF(データセット1!$B451<>\"\",IF($U$1=データセット1!$B451,データセット1!$D451),\"\")","v":""}]
[null,null,null,null,null,null,null,null,null,null,null,null,{"$f":"IF(データセット1!$B452<>\"\",IF($M$1=データセット1!$B452,データセット1!$D452),\"\")","v":""},{"$f":"IF(データセット1!$B452<>\"\",IF($N$1=データセット1!$B452,データセット1!$D452),\"\")","v":""},{"$f":"IF(データセット1!$B452<>\"\",IF($O$1=データセット1!$B452,データセット1!$D452),\"\")","v":""},{"$f":"IF(データセット1!$B452<>\"\",IF($P$1=データセット1!$B452,データセット1!$D452),\"\")","v":""},{"$f":"IF(データセット1!$B452<>\"\",IF($Q$1=データセット1!$B452,データセット1!$D452),\"\")","v":""},{"$f":"IF(データセット1!$B452<>\"\",IF($R$1=データセット1!$B452,データセット1!$D452),\"\")","v":""},{"$f":"IF(データセット1!$B452<>\"\",IF($S$1=データセット1!$B452,データセット1!$D452),\"\")","v":""},{"$f":"IF(データセット1!$B452<>\"\",IF($T$1=データセット1!$B452,データセット1!$D452),\"\")","v":""},{"$f":"IF(データセット1!$B452<>\"\",IF($U$1=データセット1!$B452,データセット1!$D452),\"\")","v":""}]
[null,null,null,null,null,null,null,null,null,null,null,null,{"$f":"IF(データセット1!$B453<>\"\",IF($M$1=データセット1!$B453,データセット1!$D453),\"\")","v":""},{"$f":"IF(データセット1!$B453<>\"\",IF($N$1=データセット1!$B453,データセット1!$D453),\"\")","v":""},{"$f":"IF(データセット1!$B453<>\"\",IF($O$1=データセット1!$B453,データセット1!$D453),\"\")","v":""},{"$f":"IF(データセット1!$B453<>\"\",IF($P$1=データセット1!$B453,データセット1!$D453),\"\")","v":""},{"$f":"IF(データセット1!$B453<>\"\",IF($Q$1=データセット1!$B453,データセット1!$D453),\"\")","v":""},{"$f":"IF(データセット1!$B453<>\"\",IF($R$1=データセット1!$B453,データセット1!$D453),\"\")","v":""},{"$f":"IF(データセット1!$B453<>\"\",IF($S$1=データセット1!$B453,データセット1!$D453),\"\")","v":""},{"$f":"IF(データセット1!$B453<>\"\",IF($T$1=データセット1!$B453,データセット1!$D453),\"\")","v":""},{"$f":"IF(データセット1!$B453<>\"\",IF($U$1=データセット1!$B453,データセット1!$D453),\"\")","v":""}]
[null,null,null,null,null,null,null,null,null,null,null,null,{"$f":"IF(データセット1!$B454<>\"\",IF($M$1=データセット1!$B454,データセット1!$D454),\"\")","v":""},{"$f":"IF(データセット1!$B454<>\"\",IF($N$1=データセット1!$B454,データセット1!$D454),\"\")","v":""},{"$f":"IF(データセット1!$B454<>\"\",IF($O$1=データセット1!$B454,データセット1!$D454),\"\")","v":""},{"$f":"IF(データセット1!$B454<>\"\",IF($P$1=データセット1!$B454,データセット1!$D454),\"\")","v":""},{"$f":"IF(データセット1!$B454<>\"\",IF($Q$1=データセット1!$B454,データセット1!$D454),\"\")","v":""},{"$f":"IF(データセット1!$B454<>\"\",IF($R$1=データセット1!$B454,データセット1!$D454),\"\")","v":""},{"$f":"IF(データセット1!$B454<>\"\",IF($S$1=データセット1!$B454,データセット1!$D454),\"\")","v":""},{"$f":"IF(データセット1!$B454<>\"\",IF($T$1=データセット1!$B454,データセット1!$D454),\"\")","v":""},{"$f":"IF(データセット1!$B454<>\"\",IF($U$1=データセット1!$B454,データセット1!$D454),\"\")","v":""}]
[null,null,null,null,null,null,null,null,null,null,null,null,{"$f":"IF(データセット1!$B455<>\"\",IF($M$1=データセット1!$B455,データセット1!$D455),\"\")","v":""},{"$f":"IF(データセット1!$B455<>\"\",IF($N$1=データセット1!$B455,データセット1!$D455),\"\")","v":""},{"$f":"IF(データセット1!$B455<>\"\",IF($O$1=データセット1!$B455,データセット1!$D455),\"\")","v":""},{"$f":"IF(データセット1!$B455<>\"\",IF($P$1=データセット1!$B455,データセット1!$D455),\"\")","v":""},{"$f":"IF(データセット1!$B455<>\"\",IF($Q$1=データセット1!$B455,データセット1!$D455),\"\")","v":""},{"$f":"IF(データセット1!$B455<>\"\",IF($R$1=データセット1!$B455,データセット1!$D455),\"\")","v":""},{"$f":"IF(データセット1!$B455<>\"\",IF($S$1=データセット1!$B455,データセット1!$D455),\"\")","v":""},{"$f":"IF(データセット1!$B455<>\"\",IF($T$1=データセット1!$B455,データセット1!$D455),\"\")","v":""},{"$f":"IF(データセット1!$B455<>\"\",IF($U$1=データセット1!$B455,データセット1!$D455),\"\")","v":""}]
[null,null,null,null,null,null,null,null,null,null,null,null,{"$f":"IF(データセット1!$B456<>\"\",IF($M$1=データセット1!$B456,データセット1!$D456),\"\")","v":""},{"$f":"IF(データセット1!$B456<>\"\",IF($N$1=データセット1!$B456,データセット1!$D456),\"\")","v":""},{"$f":"IF(データセット1!$B456<>\"\",IF($O$1=データセット1!$B456,データセット1!$D456),\"\")","v":""},{"$f":"IF(データセット1!$B456<>\"\",IF($P$1=データセット1!$B456,データセット1!$D456),\"\")","v":""},{"$f":"IF(データセット1!$B456<>\"\",IF($Q$1=データセット1!$B456,データセット1!$D456),\"\")","v":""},{"$f":"IF(データセット1!$B456<>\"\",IF($R$1=データセット1!$B456,データセット1!$D456),\"\")","v":""},{"$f":"IF(データセット1!$B456<>\"\",IF($S$1=データセット1!$B456,データセット1!$D456),\"\")","v":""},{"$f":"IF(データセット1!$B456<>\"\",IF($T$1=データセット1!$B456,データセット1!$D456),\"\")","v":""},{"$f":"IF(データセット1!$B456<>\"\",IF($U$1=データセット1!$B456,データセット1!$D456),\"\")","v":""}]
[null,null,null,null,null,null,null,null,null,null,null,null,{"$f":"IF(データセット1!$B457<>\"\",IF($M$1=データセット1!$B457,データセット1!$D457),\"\")","v":""},{"$f":"IF(データセット1!$B457<>\"\",IF($N$1=データセット1!$B457,データセット1!$D457),\"\")","v":""},{"$f":"IF(データセット1!$B457<>\"\",IF($O$1=データセット1!$B457,データセット1!$D457),\"\")","v":""},{"$f":"IF(データセット1!$B457<>\"\",IF($P$1=データセット1!$B457,データセット1!$D457),\"\")","v":""},{"$f":"IF(データセット1!$B457<>\"\",IF($Q$1=データセット1!$B457,データセット1!$D457),\"\")","v":""},{"$f":"IF(データセット1!$B457<>\"\",IF($R$1=データセット1!$B457,データセット1!$D457),\"\")","v":""},{"$f":"IF(データセット1!$B457<>\"\",IF($S$1=データセット1!$B457,データセット1!$D457),\"\")","v":""},{"$f":"IF(データセット1!$B457<>\"\",IF($T$1=データセット1!$B457,データセット1!$D457),\"\")","v":""},{"$f":"IF(データセット1!$B457<>\"\",IF($U$1=データセット1!$B457,データセット1!$D457),\"\")","v":""}]
[null,null,null,null,null,null,null,null,null,null,null,null,{"$f":"IF(データセット1!$B458<>\"\",IF($M$1=データセット1!$B458,データセット1!$D458),\"\")","v":""},{"$f":"IF(データセット1!$B458<>\"\",IF($N$1=データセット1!$B458,データセット1!$D458),\"\")","v":""},{"$f":"IF(データセット1!$B458<>\"\",IF($O$1=データセット1!$B458,データセット1!$D458),\"\")","v":""},{"$f":"IF(データセット1!$B458<>\"\",IF($P$1=データセット1!$B458,データセット1!$D458),\"\")","v":""},{"$f":"IF(データセット1!$B458<>\"\",IF($Q$1=データセット1!$B458,データセット1!$D458),\"\")","v":""},{"$f":"IF(データセット1!$B458<>\"\",IF($R$1=データセット1!$B458,データセット1!$D458),\"\")","v":""},{"$f":"IF(データセット1!$B458<>\"\",IF($S$1=データセット1!$B458,データセット1!$D458),\"\")","v":""},{"$f":"IF(データセット1!$B458<>\"\",IF($T$1=データセット1!$B458,データセット1!$D458),\"\")","v":""},{"$f":"IF(データセット1!$B458<>\"\",IF($U$1=データセット1!$B458,データセット1!$D458),\"\")","v":""}]
[null,null,null,null,null,null,null,null,null,null,null,null,{"$f":"IF(データセット1!$B459<>\"\",IF($M$1=データセット1!$B459,データセット1!$D459),\"\")","v":""},{"$f":"IF(データセット1!$B459<>\"\",IF($N$1=データセット1!$B459,データセット1!$D459),\"\")","v":""},{"$f":"IF(データセット1!$B459<>\"\",IF($O$1=データセット1!$B459,データセット1!$D459),\"\")","v":""},{"$f":"IF(データセット1!$B459<>\"\",IF($P$1=データセット1!$B459,データセット1!$D459),\"\")","v":""},{"$f":"IF(データセット1!$B459<>\"\",IF($Q$1=データセット1!$B459,データセット1!$D459),\"\")","v":""},{"$f":"IF(データセット1!$B459<>\"\",IF($R$1=データセット1!$B459,データセット1!$D459),\"\")","v":""},{"$f":"IF(データセット1!$B459<>\"\",IF($S$1=データセット1!$B459,データセット1!$D459),\"\")","v":""},{"$f":"IF(データセット1!$B459<>\"\",IF($T$1=データセット1!$B459,データセット1!$D459),\"\")","v":""},{"$f":"IF(データセット1!$B459<>\"\",IF($U$1=データセット1!$B459,データセット1!$D459),\"\")","v":""}]
[null,null,null,null,null,null,null,null,null,null,null,null,{"$f":"IF(データセット1!$B460<>\"\",IF($M$1=データセット1!$B460,データセット1!$D460),\"\")","v":""},{"$f":"IF(データセット1!$B460<>\"\",IF($N$1=データセット1!$B460,データセット1!$D460),\"\")","v":""},{"$f":"IF(データセット1!$B460<>\"\",IF($O$1=データセット1!$B460,データセット1!$D460),\"\")","v":""},{"$f":"IF(データセット1!$B460<>\"\",IF($P$1=データセット1!$B460,データセット1!$D460),\"\")","v":""},{"$f":"IF(データセット1!$B460<>\"\",IF($Q$1=データセット1!$B460,データセット1!$D460),\"\")","v":""},{"$f":"IF(データセット1!$B460<>\"\",IF($R$1=データセット1!$B460,データセット1!$D460),\"\")","v":""},{"$f":"IF(データセット1!$B460<>\"\",IF($S$1=データセット1!$B460,データセット1!$D460),\"\")","v":""},{"$f":"IF(データセット1!$B460<>\"\",IF($T$1=データセット1!$B460,データセット1!$D460),\"\")","v":""},{"$f":"IF(データセット1!$B460<>\"\",IF($U$1=データセット1!$B460,データセット1!$D460),\"\")","v":""}]
[null,null,null,null,null,null,null,null,null,null,null,null,{"$f":"IF(データセット1!$B461<>\"\",IF($M$1=データセット1!$B461,データセット1!$D461),\"\")","v":""},{"$f":"IF(データセット1!$B461<>\"\",IF($N$1=データセット1!$B461,データセット1!$D461),\"\")","v":""},{"$f":"IF(データセット1!$B461<>\"\",IF($O$1=データセット1!$B461,データセット1!$D461),\"\")","v":""},{"$f":"IF(データセット1!$B461<>\"\",IF($P$1=データセット1!$B461,データセット1!$D461),\"\")","v":""},{"$f":"IF(データセット1!$B461<>\"\",IF($Q$1=データセット1!$B461,データセット1!$D461),\"\")","v":""},{"$f":"IF(データセット1!$B461<>\"\",IF($R$1=データセット1!$B461,データセット1!$D461),\"\")","v":""},{"$f":"IF(データセット1!$B461<>\"\",IF($S$1=データセット1!$B461,データセット1!$D461),\"\")","v":""},{"$f":"IF(データセット1!$B461<>\"\",IF($T$1=データセット1!$B461,データセット1!$D461),\"\")","v":""},{"$f":"IF(データセット1!$B461<>\"\",IF($U$1=データセット1!$B461,データセット1!$D461),\"\")","v":""}]
[null,null,null,null,null,null,null,null,null,null,null,null,{"$f":"IF(データセット1!$B462<>\"\",IF($M$1=データセット1!$B462,データセット1!$D462),\"\")","v":""},{"$f":"IF(データセット1!$B462<>\"\",IF($N$1=データセット1!$B462,データセット1!$D462),\"\")","v":""},{"$f":"IF(データセット1!$B462<>\"\",IF($O$1=データセット1!$B462,データセット1!$D462),\"\")","v":""},{"$f":"IF(データセット1!$B462<>\"\",IF($P$1=データセット1!$B462,データセット1!$D462),\"\")","v":""},{"$f":"IF(データセット1!$B462<>\"\",IF($Q$1=データセット1!$B462,データセット1!$D462),\"\")","v":""},{"$f":"IF(データセット1!$B462<>\"\",IF($R$1=データセット1!$B462,データセット1!$D462),\"\")","v":""},{"$f":"IF(データセット1!$B462<>\"\",IF($S$1=データセット1!$B462,データセット1!$D462),\"\")","v":""},{"$f":"IF(データセット1!$B462<>\"\",IF($T$1=データセット1!$B462,データセット1!$D462),\"\")","v":""},{"$f":"IF(データセット1!$B462<>\"\",IF($U$1=データセット1!$B462,データセット1!$D462),\"\")","v":""}]
[null,null,null,null,null,null,null,null,null,null,null,null,{"$f":"IF(データセット1!$B463<>\"\",IF($M$1=データセット1!$B463,データセット1!$D463),\"\")","v":""},{"$f":"IF(データセット1!$B463<>\"\",IF($N$1=データセット1!$B463,データセット1!$D463),\"\")","v":""},{"$f":"IF(データセット1!$B463<>\"\",IF($O$1=データセット1!$B463,データセット1!$D463),\"\")","v":""},{"$f":"IF(データセット1!$B463<>\"\",IF($P$1=データセット1!$B463,データセット1!$D463),\"\")","v":""},{"$f":"IF(データセット1!$B463<>\"\",IF($Q$1=データセット1!$B463,データセット1!$D463),\"\")","v":""},{"$f":"IF(データセット1!$B463<>\"\",IF($R$1=データセット1!$B463,データセット1!$D463),\"\")","v":""},{"$f":"IF(データセット1!$B463<>\"\",IF($S$1=データセット1!$B463,データセット1!$D463),\"\")","v":""},{"$f":"IF(データセット1!$B463<>\"\",IF($T$1=データセット1!$B463,データセット1!$D463),\"\")","v":""},{"$f":"IF(データセット1!$B463<>\"\",IF($U$1=データセット1!$B463,データセット1!$D463),\"\")","v":""}]
[null,null,null,null,null,null,null,null,null,null,null,null,{"$f":"IF(データセット1!$B464<>\"\",IF($M$1=データセット1!$B464,データセット1!$D464),\"\")","v":""},{"$f":"IF(データセット1!$B464<>\"\",IF($N$1=データセット1!$B464,データセット1!$D464),\"\")","v":""},{"$f":"IF(データセット1!$B464<>\"\",IF($O$1=データセット1!$B464,データセット1!$D464),\"\")","v":""},{"$f":"IF(データセット1!$B464<>\"\",IF($P$1=データセット1!$B464,データセット1!$D464),\"\")","v":""},{"$f":"IF(データセット1!$B464<>\"\",IF($Q$1=データセット1!$B464,データセット1!$D464),\"\")","v":""},{"$f":"IF(データセット1!$B464<>\"\",IF($R$1=データセット1!$B464,データセット1!$D464),\"\")","v":""},{"$f":"IF(データセット1!$B464<>\"\",IF($S$1=データセット1!$B464,データセット1!$D464),\"\")","v":""},{"$f":"IF(データセット1!$B464<>\"\",IF($T$1=データセット1!$B464,データセット1!$D464),\"\")","v":""},{"$f":"IF(データセット1!$B464<>\"\",IF($U$1=データセット1!$B464,データセット1!$D464),\"\")","v":""}]
[null,null,null,null,null,null,null,null,null,null,null,null,{"$f":"IF(データセット1!$B465<>\"\",IF($M$1=データセット1!$B465,データセット1!$D465),\"\")","v":""},{"$f":"IF(データセット1!$B465<>\"\",IF($N$1=データセット1!$B465,データセット1!$D465),\"\")","v":""},{"$f":"IF(データセット1!$B465<>\"\",IF($O$1=データセット1!$B465,データセット1!$D465),\"\")","v":""},{"$f":"IF(データセット1!$B465<>\"\",IF($P$1=データセット1!$B465,データセット1!$D465),\"\")","v":""},{"$f":"IF(データセット1!$B465<>\"\",IF($Q$1=データセット1!$B465,データセット1!$D465),\"\")","v":""},{"$f":"IF(データセット1!$B465<>\"\",IF($R$1=データセット1!$B465,データセット1!$D465),\"\")","v":""},{"$f":"IF(データセット1!$B465<>\"\",IF($S$1=データセット1!$B465,データセット1!$D465),\"\")","v":""},{"$f":"IF(データセット1!$B465<>\"\",IF($T$1=データセット1!$B465,データセット1!$D465),\"\")","v":""},{"$f":"IF(データセット1!$B465<>\"\",IF($U$1=データセット1!$B465,データセット1!$D465),\"\")","v":""}]
[null,null,null,null,null,null,null,null,null,null,null,null,{"$f":"IF(データセット1!$B466<>\"\",IF($M$1=データセット1!$B466,データセット1!$D466),\"\")","v":""},{"$f":"IF(データセット1!$B466<>\"\",IF($N$1=データセット1!$B466,データセット1!$D466),\"\")","v":""},{"$f":"IF(データセット1!$B466<>\"\",IF($O$1=データセット1!$B466,データセット1!$D466),\"\")","v":""},{"$f":"IF(データセット1!$B466<>\"\",IF($P$1=データセット1!$B466,データセット1!$D466),\"\")","v":""},{"$f":"IF(データセット1!$B466<>\"\",IF($Q$1=データセット1!$B466,データセット1!$D466),\"\")","v":""},{"$f":"IF(データセット1!$B466<>\"\",IF($R$1=データセット1!$B466,データセット1!$D466),\"\")","v":""},{"$f":"IF(データセット1!$B466<>\"\",IF($S$1=データセット1!$B466,データセット1!$D466),\"\")","v":""},{"$f":"IF(データセット1!$B466<>\"\",IF($T$1=データセット1!$B466,データセット1!$D466),\"\")","v":""},{"$f":"IF(データセット1!$B466<>\"\",IF($U$1=データセット1!$B466,データセット1!$D466),\"\")","v":""}]
[null,null,null,null,null,null,null,null,null,null,null,null,{"$f":"IF(データセット1!$B467<>\"\",IF($M$1=データセット1!$B467,データセット1!$D467),\"\")","v":""},{"$f":"IF(データセット1!$B467<>\"\",IF($N$1=データセット1!$B467,データセット1!$D467),\"\")","v":""},{"$f":"IF(データセット1!$B467<>\"\",IF($O$1=データセット1!$B467,データセット1!$D467),\"\")","v":""},{"$f":"IF(データセット1!$B467<>\"\",IF($P$1=データセット1!$B467,データセット1!$D467),\"\")","v":""},{"$f":"IF(データセット1!$B467<>\"\",IF($Q$1=データセット1!$B467,データセット1!$D467),\"\")","v":""},{"$f":"IF(データセット1!$B467<>\"\",IF($R$1=データセット1!$B467,データセット1!$D467),\"\")","v":""},{"$f":"IF(データセット1!$B467<>\"\",IF($S$1=データセット1!$B467,データセット1!$D467),\"\")","v":""},{"$f":"IF(データセット1!$B467<>\"\",IF($T$1=データセット1!$B467,データセット1!$D467),\"\")","v":""},{"$f":"IF(データセット1!$B467<>\"\",IF($U$1=データセット1!$B467,データセット1!$D467),\"\")","v":""}]
[null,null,null,null,null,null,null,null,null,null,null,null,{"$f":"IF(データセット1!$B468<>\"\",IF($M$1=データセット1!$B468,データセット1!$D468),\"\")","v":""},{"$f":"IF(データセット1!$B468<>\"\",IF($N$1=データセット1!$B468,データセット1!$D468),\"\")","v":""},{"$f":"IF(データセット1!$B468<>\"\",IF($O$1=データセット1!$B468,データセット1!$D468),\"\")","v":""},{"$f":"IF(データセット1!$B468<>\"\",IF($P$1=データセット1!$B468,データセット1!$D468),\"\")","v":""},{"$f":"IF(データセット1!$B468<>\"\",IF($Q$1=データセット1!$B468,データセット1!$D468),\"\")","v":""},{"$f":"IF(データセット1!$B468<>\"\",IF($R$1=データセット1!$B468,データセット1!$D468),\"\")","v":""},{"$f":"IF(データセット1!$B468<>\"\",IF($S$1=データセット1!$B468,データセット1!$D468),\"\")","v":""},{"$f":"IF(データセット1!$B468<>\"\",IF($T$1=データセット1!$B468,データセット1!$D468),\"\")","v":""},{"$f":"IF(データセット1!$B468<>\"\",IF($U$1=データセット1!$B468,データセット1!$D468),\"\")","v":""}]
[null,null,null,null,null,null,null,null,null,null,null,null,{"$f":"IF(データセット1!$B469<>\"\",IF($M$1=データセット1!$B469,データセット1!$D469),\"\")","v":""},{"$f":"IF(データセット1!$B469<>\"\",IF($N$1=データセット1!$B469,データセット1!$D469),\"\")","v":""},{"$f":"IF(データセット1!$B469<>\"\",IF($O$1=データセット1!$B469,データセット1!$D469),\"\")","v":""},{"$f":"IF(データセット1!$B469<>\"\",IF($P$1=データセット1!$B469,データセット1!$D469),\"\")","v":""},{"$f":"IF(データセット1!$B469<>\"\",IF($Q$1=データセット1!$B469,データセット1!$D469),\"\")","v":""},{"$f":"IF(データセット1!$B469<>\"\",IF($R$1=データセット1!$B469,データセット1!$D469),\"\")","v":""},{"$f":"IF(データセット1!$B469<>\"\",IF($S$1=データセット1!$B469,データセット1!$D469),\"\")","v":""},{"$f":"IF(データセット1!$B469<>\"\",IF($T$1=データセット1!$B469,データセット1!$D469),\"\")","v":""},{"$f":"IF(データセット1!$B469<>\"\",IF($U$1=データセット1!$B469,データセット1!$D469),\"\")","v":""}]
[null,null,null,null,null,null,null,null,null,null,null,null,{"$f":"IF(データセット1!$B470<>\"\",IF($M$1=データセット1!$B470,データセット1!$D470),\"\")","v":""},{"$f":"IF(データセット1!$B470<>\"\",IF($N$1=データセット1!$B470,データセット1!$D470),\"\")","v":""},{"$f":"IF(データセット1!$B470<>\"\",IF($O$1=データセット1!$B470,データセット1!$D470),\"\")","v":""},{"$f":"IF(データセット1!$B470<>\"\",IF($P$1=データセット1!$B470,データセット1!$D470),\"\")","v":""},{"$f":"IF(データセット1!$B470<>\"\",IF($Q$1=データセット1!$B470,データセット1!$D470),\"\")","v":""},{"$f":"IF(データセット1!$B470<>\"\",IF($R$1=データセット1!$B470,データセット1!$D470),\"\")","v":""},{"$f":"IF(データセット1!$B470<>\"\",IF($S$1=データセット1!$B470,データセット1!$D470),\"\")","v":""},{"$f":"IF(データセット1!$B470<>\"\",IF($T$1=データセット1!$B470,データセット1!$D470),\"\")","v":""},{"$f":"IF(データセット1!$B470<>\"\",IF($U$1=データセット1!$B470,データセット1!$D470),\"\")","v":""}]
[null,null,null,null,null,null,null,null,null,null,null,null,{"$f":"IF(データセット1!$B471<>\"\",IF($M$1=データセット1!$B471,データセット1!$D471),\"\")","v":""},{"$f":"IF(データセット1!$B471<>\"\",IF($N$1=データセット1!$B471,データセット1!$D471),\"\")","v":""},{"$f":"IF(データセット1!$B471<>\"\",IF($O$1=データセット1!$B471,データセット1!$D471),\"\")","v":""},{"$f":"IF(データセット1!$B471<>\"\",IF($P$1=データセット1!$B471,データセット1!$D471),\"\")","v":""},{"$f":"IF(データセット1!$B471<>\"\",IF($Q$1=データセット1!$B471,データセット1!$D471),\"\")","v":""},{"$f":"IF(データセット1!$B471<>\"\",IF($R$1=データセット1!$B471,データセット1!$D471),\"\")","v":""},{"$f":"IF(データセット1!$B471<>\"\",IF($S$1=データセット1!$B471,データセット1!$D471),\"\")","v":""},{"$f":"IF(データセット1!$B471<>\"\",IF($T$1=データセット1!$B471,データセット1!$D471),\"\")","v":""},{"$f":"IF(データセット1!$B471<>\"\",IF($U$1=データセット1!$B471,データセット1!$D471),\"\")","v":""}]
[null,null,null,null,null,null,null,null,null,null,null,null,{"$f":"IF(データセット1!$B472<>\"\",IF($M$1=データセット1!$B472,データセット1!$D472),\"\")","v":""},{"$f":"IF(データセット1!$B472<>\"\",IF($N$1=データセット1!$B472,データセット1!$D472),\"\")","v":""},{"$f":"IF(データセット1!$B472<>\"\",IF($O$1=データセット1!$B472,データセット1!$D472),\"\")","v":""},{"$f":"IF(データセット1!$B472<>\"\",IF($P$1=データセット1!$B472,データセット1!$D472),\"\")","v":""},{"$f":"IF(データセット1!$B472<>\"\",IF($Q$1=データセット1!$B472,データセット1!$D472),\"\")","v":""},{"$f":"IF(データセット1!$B472<>\"\",IF($R$1=データセット1!$B472,データセット1!$D472),\"\")","v":""},{"$f":"IF(データセット1!$B472<>\"\",IF($S$1=データセット1!$B472,データセット1!$D472),\"\")","v":""},{"$f":"IF(データセット1!$B472<>\"\",IF($T$1=データセット1!$B472,データセット1!$D472),\"\")","v":""},{"$f":"IF(データセット1!$B472<>\"\",IF($U$1=データセット1!$B472,データセット1!$D472),\"\")","v":""}]
[null,null,null,null,null,null,null,null,null,null,null,null,{"$f":"IF(データセット1!$B473<>\"\",IF($M$1=データセット1!$B473,データセット1!$D473),\"\")","v":""},{"$f":"IF(データセット1!$B473<>\"\",IF($N$1=データセット1!$B473,データセット1!$D473),\"\")","v":""},{"$f":"IF(データセット1!$B473<>\"\",IF($O$1=データセット1!$B473,データセット1!$D473),\"\")","v":""},{"$f":"IF(データセット1!$B473<>\"\",IF($P$1=データセット1!$B473,データセット1!$D473),\"\")","v":""},{"$f":"IF(データセット1!$B473<>\"\",IF($Q$1=データセット1!$B473,データセット1!$D473),\"\")","v":""},{"$f":"IF(データセット1!$B473<>\"\",IF($R$1=データセット1!$B473,データセット1!$D473),\"\")","v":""},{"$f":"IF(データセット1!$B473<>\"\",IF($S$1=データセット1!$B473,データセット1!$D473),\"\")","v":""},{"$f":"IF(データセット1!$B473<>\"\",IF($T$1=データセット1!$B473,データセット1!$D473),\"\")","v":""},{"$f":"IF(データセット1!$B473<>\"\",IF($U$1=データセット1!$B473,データセット1!$D473),\"\")","v":""}]
[null,null,null,null,null,null,null,null,null,null,null,null,{"$f":"IF(データセット1!$B474<>\"\",IF($M$1=データセット1!$B474,データセット1!$D474),\"\")","v":""},{"$f":"IF(データセット1!$B474<>\"\",IF($N$1=データセット1!$B474,データセット1!$D474),\"\")","v":""},{"$f":"IF(データセット1!$B474<>\"\",IF($O$1=データセット1!$B474,データセット1!$D474),\"\")","v":""},{"$f":"IF(データセット1!$B474<>\"\",IF($P$1=データセット1!$B474,データセット1!$D474),\"\")","v":""},{"$f":"IF(データセット1!$B474<>\"\",IF($Q$1=データセット1!$B474,データセット1!$D474),\"\")","v":""},{"$f":"IF(データセット1!$B474<>\"\",IF($R$1=データセット1!$B474,データセット1!$D474),\"\")","v":""},{"$f":"IF(データセット1!$B474<>\"\",IF($S$1=データセット1!$B474,データセット1!$D474),\"\")","v":""},{"$f":"IF(データセット1!$B474<>\"\",IF($T$1=データセット1!$B474,データセット1!$D474),\"\")","v":""},{"$f":"IF(データセット1!$B474<>\"\",IF($U$1=データセット1!$B474,データセット1!$D474),\"\")","v":""}]
[null,null,null,null,null,null,null,null,null,null,null,null,{"$f":"IF(データセット1!$B475<>\"\",IF($M$1=データセット1!$B475,データセット1!$D475),\"\")","v":""},{"$f":"IF(データセット1!$B475<>\"\",IF($N$1=データセット1!$B475,データセット1!$D475),\"\")","v":""},{"$f":"IF(データセット1!$B475<>\"\",IF($O$1=データセット1!$B475,データセット1!$D475),\"\")","v":""},{"$f":"IF(データセット1!$B475<>\"\",IF($P$1=データセット1!$B475,データセット1!$D475),\"\")","v":""},{"$f":"IF(データセット1!$B475<>\"\",IF($Q$1=データセット1!$B475,データセット1!$D475),\"\")","v":""},{"$f":"IF(データセット1!$B475<>\"\",IF($R$1=データセット1!$B475,データセット1!$D475),\"\")","v":""},{"$f":"IF(データセット1!$B475<>\"\",IF($S$1=データセット1!$B475,データセット1!$D475),\"\")","v":""},{"$f":"IF(データセット1!$B475<>\"\",IF($T$1=データセット1!$B475,データセット1!$D475),\"\")","v":""},{"$f":"IF(データセット1!$B475<>\"\",IF($U$1=データセット1!$B475,データセット1!$D475),\"\")","v":""}]
[null,null,null,null,null,null,null,null,null,null,null,null,{"$f":"IF(データセット1!$B476<>\"\",IF($M$1=データセット1!$B476,データセット1!$D476),\"\")","v":""},{"$f":"IF(データセット1!$B476<>\"\",IF($N$1=データセット1!$B476,データセット1!$D476),\"\")","v":""},{"$f":"IF(データセット1!$B476<>\"\",IF($O$1=データセット1!$B476,データセット1!$D476),\"\")","v":""},{"$f":"IF(データセット1!$B476<>\"\",IF($P$1=データセット1!$B476,データセット1!$D476),\"\")","v":""},{"$f":"IF(データセット1!$B476<>\"\",IF($Q$1=データセット1!$B476,データセット1!$D476),\"\")","v":""},{"$f":"IF(データセット1!$B476<>\"\",IF($R$1=データセット1!$B476,データセット1!$D476),\"\")","v":""},{"$f":"IF(データセット1!$B476<>\"\",IF($S$1=データセット1!$B476,データセット1!$D476),\"\")","v":""},{"$f":"IF(データセット1!$B476<>\"\",IF($T$1=データセット1!$B476,データセット1!$D476),\"\")","v":""},{"$f":"IF(データセット1!$B476<>\"\",IF($U$1=データセット1!$B476,データセット1!$D476),\"\")","v":""}]
[null,null,null,null,null,null,null,null,null,null,null,null,{"$f":"IF(データセット1!$B477<>\"\",IF($M$1=データセット1!$B477,データセット1!$D477),\"\")","v":""},{"$f":"IF(データセット1!$B477<>\"\",IF($N$1=データセット1!$B477,データセット1!$D477),\"\")","v":""},{"$f":"IF(データセット1!$B477<>\"\",IF($O$1=データセット1!$B477,データセット1!$D477),\"\")","v":""},{"$f":"IF(データセット1!$B477<>\"\",IF($P$1=データセット1!$B477,データセット1!$D477),\"\")","v":""},{"$f":"IF(データセット1!$B477<>\"\",IF($Q$1=データセット1!$B477,データセット1!$D477),\"\")","v":""},{"$f":"IF(データセット1!$B477<>\"\",IF($R$1=データセット1!$B477,データセット1!$D477),\"\")","v":""},{"$f":"IF(データセット1!$B477<>\"\",IF($S$1=データセット1!$B477,データセット1!$D477),\"\")","v":""},{"$f":"IF(データセット1!$B477<>\"\",IF($T$1=データセット1!$B477,データセット1!$D477),\"\")","v":""},{"$f":"IF(データセット1!$B477<>\"\",IF($U$1=データセット1!$B477,データセット1!$D477),\"\")","v":""}]
[null,null,null,null,null,null,null,null,null,null,null,null,{"$f":"IF(データセット1!$B478<>\"\",IF($M$1=データセット1!$B478,データセット1!$D478),\"\")","v":""},{"$f":"IF(データセット1!$B478<>\"\",IF($N$1=データセット1!$B478,データセット1!$D478),\"\")","v":""},{"$f":"IF(データセット1!$B478<>\"\",IF($O$1=データセット1!$B478,データセット1!$D478),\"\")","v":""},{"$f":"IF(データセット1!$B478<>\"\",IF($P$1=データセット1!$B478,データセット1!$D478),\"\")","v":""},{"$f":"IF(データセット1!$B478<>\"\",IF($Q$1=データセット1!$B478,データセット1!$D478),\"\")","v":""},{"$f":"IF(データセット1!$B478<>\"\",IF($R$1=データセット1!$B478,データセット1!$D478),\"\")","v":""},{"$f":"IF(データセット1!$B478<>\"\",IF($S$1=データセット1!$B478,データセット1!$D478),\"\")","v":""},{"$f":"IF(データセット1!$B478<>\"\",IF($T$1=データセット1!$B478,データセット1!$D478),\"\")","v":""},{"$f":"IF(データセット1!$B478<>\"\",IF($U$1=データセット1!$B478,データセット1!$D478),\"\")","v":""}]
[null,null,null,null,null,null,null,null,null,null,null,null,{"$f":"IF(データセット1!$B479<>\"\",IF($M$1=データセット1!$B479,データセット1!$D479),\"\")","v":""},{"$f":"IF(データセット1!$B479<>\"\",IF($N$1=データセット1!$B479,データセット1!$D479),\"\")","v":""},{"$f":"IF(データセット1!$B479<>\"\",IF($O$1=データセット1!$B479,データセット1!$D479),\"\")","v":""},{"$f":"IF(データセット1!$B479<>\"\",IF($P$1=データセット1!$B479,データセット1!$D479),\"\")","v":""},{"$f":"IF(データセット1!$B479<>\"\",IF($Q$1=データセット1!$B479,データセット1!$D479),\"\")","v":""},{"$f":"IF(データセット1!$B479<>\"\",IF($R$1=データセット1!$B479,データセット1!$D479),\"\")","v":""},{"$f":"IF(データセット1!$B479<>\"\",IF($S$1=データセット1!$B479,データセット1!$D479),\"\")","v":""},{"$f":"IF(データセット1!$B479<>\"\",IF($T$1=データセット1!$B479,データセット1!$D479),\"\")","v":""},{"$f":"IF(データセット1!$B479<>\"\",IF($U$1=データセット1!$B479,データセット1!$D479),\"\")","v":""}]
[null,null,null,null,null,null,null,null,null,null,null,null,{"$f":"IF(データセット1!$B480<>\"\",IF($M$1=データセット1!$B480,データセット1!$D480),\"\")","v":""},{"$f":"IF(データセット1!$B480<>\"\",IF($N$1=データセット1!$B480,データセット1!$D480),\"\")","v":""},{"$f":"IF(データセット1!$B480<>\"\",IF($O$1=データセット1!$B480,データセット1!$D480),\"\")","v":""},{"$f":"IF(データセット1!$B480<>\"\",IF($P$1=データセット1!$B480,データセット1!$D480),\"\")","v":""},{"$f":"IF(データセット1!$B480<>\"\",IF($Q$1=データセット1!$B480,データセット1!$D480),\"\")","v":""},{"$f":"IF(データセット1!$B480<>\"\",IF($R$1=データセット1!$B480,データセット1!$D480),\"\")","v":""},{"$f":"IF(データセット1!$B480<>\"\",IF($S$1=データセット1!$B480,データセット1!$D480),\"\")","v":""},{"$f":"IF(データセット1!$B480<>\"\",IF($T$1=データセット1!$B480,データセット1!$D480),\"\")","v":""},{"$f":"IF(データセット1!$B480<>\"\",IF($U$1=データセット1!$B480,データセット1!$D480),\"\")","v":""}]
[null,null,null,null,null,null,null,null,null,null,null,null,{"$f":"IF(データセット1!$B481<>\"\",IF($M$1=データセット1!$B481,データセット1!$D481),\"\")","v":""},{"$f":"IF(データセット1!$B481<>\"\",IF($N$1=データセット1!$B481,データセット1!$D481),\"\")","v":""},{"$f":"IF(データセット1!$B481<>\"\",IF($O$1=データセット1!$B481,データセット1!$D481),\"\")","v":""},{"$f":"IF(データセット1!$B481<>\"\",IF($P$1=データセット1!$B481,データセット1!$D481),\"\")","v":""},{"$f":"IF(データセット1!$B481<>\"\",IF($Q$1=データセット1!$B481,データセット1!$D481),\"\")","v":""},{"$f":"IF(データセット1!$B481<>\"\",IF($R$1=データセット1!$B481,データセット1!$D481),\"\")","v":""},{"$f":"IF(データセット1!$B481<>\"\",IF($S$1=データセット1!$B481,データセット1!$D481),\"\")","v":""},{"$f":"IF(データセット1!$B481<>\"\",IF($T$1=データセット1!$B481,データセット1!$D481),\"\")","v":""},{"$f":"IF(データセット1!$B481<>\"\",IF($U$1=データセット1!$B481,データセット1!$D481),\"\")","v":""}]
[null,null,null,null,null,null,null,null,null,null,null,null,{"$f":"IF(データセット1!$B482<>\"\",IF($M$1=データセット1!$B482,データセット1!$D482),\"\")","v":""},{"$f":"IF(データセット1!$B482<>\"\",IF($N$1=データセット1!$B482,データセット1!$D482),\"\")","v":""},{"$f":"IF(データセット1!$B482<>\"\",IF($O$1=データセット1!$B482,データセット1!$D482),\"\")","v":""},{"$f":"IF(データセット1!$B482<>\"\",IF($P$1=データセット1!$B482,データセット1!$D482),\"\")","v":""},{"$f":"IF(データセット1!$B482<>\"\",IF($Q$1=データセット1!$B482,データセット1!$D482),\"\")","v":""},{"$f":"IF(データセット1!$B482<>\"\",IF($R$1=データセット1!$B482,データセット1!$D482),\"\")","v":""},{"$f":"IF(データセット1!$B482<>\"\",IF($S$1=データセット1!$B482,データセット1!$D482),\"\")","v":""},{"$f":"IF(データセット1!$B482<>\"\",IF($T$1=データセット1!$B482,データセット1!$D482),\"\")","v":""},{"$f":"IF(データセット1!$B482<>\"\",IF($U$1=データセット1!$B482,データセット1!$D482),\"\")","v":""}]
[null,null,null,null,null,null,null,null,null,null,null,null,{"$f":"IF(データセット1!$B483<>\"\",IF($M$1=データセット1!$B483,データセット1!$D483),\"\")","v":""},{"$f":"IF(データセット1!$B483<>\"\",IF($N$1=データセット1!$B483,データセット1!$D483),\"\")","v":""},{"$f":"IF(データセット1!$B483<>\"\",IF($O$1=データセット1!$B483,データセット1!$D483),\"\")","v":""},{"$f":"IF(データセット1!$B483<>\"\",IF($P$1=データセット1!$B483,データセット1!$D483),\"\")","v":""},{"$f":"IF(データセット1!$B483<>\"\",IF($Q$1=データセット1!$B483,データセット1!$D483),\"\")","v":""},{"$f":"IF(データセット1!$B483<>\"\",IF($R$1=データセット1!$B483,データセット1!$D483),\"\")","v":""},{"$f":"IF(データセット1!$B483<>\"\",IF($S$1=データセット1!$B483,データセット1!$D483),\"\")","v":""},{"$f":"IF(データセット1!$B483<>\"\",IF($T$1=データセット1!$B483,データセット1!$D483),\"\")","v":""},{"$f":"IF(データセット1!$B483<>\"\",IF($U$1=データセット1!$B483,データセット1!$D483),\"\")","v":""}]
[null,null,null,null,null,null,null,null,null,null,null,null,{"$f":"IF(データセット1!$B484<>\"\",IF($M$1=データセット1!$B484,データセット1!$D484),\"\")","v":""},{"$f":"IF(データセット1!$B484<>\"\",IF($N$1=データセット1!$B484,データセット1!$D484),\"\")","v":""},{"$f":"IF(データセット1!$B484<>\"\",IF($O$1=データセット1!$B484,データセット1!$D484),\"\")","v":""},{"$f":"IF(データセット1!$B484<>\"\",IF($P$1=データセット1!$B484,データセット1!$D484),\"\")","v":""},{"$f":"IF(データセット1!$B484<>\"\",IF($Q$1=データセット1!$B484,データセット1!$D484),\"\")","v":""},{"$f":"IF(データセット1!$B484<>\"\",IF($R$1=データセット1!$B484,データセット1!$D484),\"\")","v":""},{"$f":"IF(データセット1!$B484<>\"\",IF($S$1=データセット1!$B484,データセット1!$D484),\"\")","v":""},{"$f":"IF(データセット1!$B484<>\"\",IF($T$1=データセット1!$B484,データセット1!$D484),\"\")","v":""},{"$f":"IF(データセット1!$B484<>\"\",IF($U$1=データセット1!$B484,データセット1!$D484),\"\")","v":""}]
[null,null,null,null,null,null,null,null,null,null,null,null,{"$f":"IF(データセット1!$B485<>\"\",IF($M$1=データセット1!$B485,データセット1!$D485),\"\")","v":""},{"$f":"IF(データセット1!$B485<>\"\",IF($N$1=データセット1!$B485,データセット1!$D485),\"\")","v":""},{"$f":"IF(データセット1!$B485<>\"\",IF($O$1=データセット1!$B485,データセット1!$D485),\"\")","v":""},{"$f":"IF(データセット1!$B485<>\"\",IF($P$1=データセット1!$B485,データセット1!$D485),\"\")","v":""},{"$f":"IF(データセット1!$B485<>\"\",IF($Q$1=データセット1!$B485,データセット1!$D485),\"\")","v":""},{"$f":"IF(データセット1!$B485<>\"\",IF($R$1=データセット1!$B485,データセット1!$D485),\"\")","v":""},{"$f":"IF(データセット1!$B485<>\"\",IF($S$1=データセット1!$B485,データセット1!$D485),\"\")","v":""},{"$f":"IF(データセット1!$B485<>\"\",IF($T$1=データセット1!$B485,データセット1!$D485),\"\")","v":""},{"$f":"IF(データセット1!$B485<>\"\",IF($U$1=データセット1!$B485,データセット1!$D485),\"\")","v":""}]
[null,null,null,null,null,null,null,null,null,null,null,null,{"$f":"IF(データセット1!$B486<>\"\",IF($M$1=データセット1!$B486,データセット1!$D486),\"\")","v":""},{"$f":"IF(データセット1!$B486<>\"\",IF($N$1=データセット1!$B486,データセット1!$D486),\"\")","v":""},{"$f":"IF(データセット1!$B486<>\"\",IF($O$1=データセット1!$B486,データセット1!$D486),\"\")","v":""},{"$f":"IF(データセット1!$B486<>\"\",IF($P$1=データセット1!$B486,データセット1!$D486),\"\")","v":""},{"$f":"IF(データセット1!$B486<>\"\",IF($Q$1=データセット1!$B486,データセット1!$D486),\"\")","v":""},{"$f":"IF(データセット1!$B486<>\"\",IF($R$1=データセット1!$B486,データセット1!$D486),\"\")","v":""},{"$f":"IF(データセット1!$B486<>\"\",IF($S$1=データセット1!$B486,データセット1!$D486),\"\")","v":""},{"$f":"IF(データセット1!$B486<>\"\",IF($T$1=データセット1!$B486,データセット1!$D486),\"\")","v":""},{"$f":"IF(データセット1!$B486<>\"\",IF($U$1=データセット1!$B486,データセット1!$D486),\"\")","v":""}]
[null,null,null,null,null,null,null,null,null,null,null,null,{"$f":"IF(データセット1!$B487<>\"\",IF($M$1=データセット1!$B487,データセット1!$D487),\"\")","v":""},{"$f":"IF(データセット1!$B487<>\"\",IF($N$1=データセット1!$B487,データセット1!$D487),\"\")","v":""},{"$f":"IF(データセット1!$B487<>\"\",IF($O$1=データセット1!$B487,データセット1!$D487),\"\")","v":""},{"$f":"IF(データセット1!$B487<>\"\",IF($P$1=データセット1!$B487,データセット1!$D487),\"\")","v":""},{"$f":"IF(データセット1!$B487<>\"\",IF($Q$1=データセット1!$B487,データセット1!$D487),\"\")","v":""},{"$f":"IF(データセット1!$B487<>\"\",IF($R$1=データセット1!$B487,データセット1!$D487),\"\")","v":""},{"$f":"IF(データセット1!$B487<>\"\",IF($S$1=データセット1!$B487,データセット1!$D487),\"\")","v":""},{"$f":"IF(データセット1!$B487<>\"\",IF($T$1=データセット1!$B487,データセット1!$D487),\"\")","v":""},{"$f":"IF(データセット1!$B487<>\"\",IF($U$1=データセット1!$B487,データセット1!$D487),\"\")","v":""}]
[null,null,null,null,null,null,null,null,null,null,null,null,{"$f":"IF(データセット1!$B488<>\"\",IF($M$1=データセット1!$B488,データセット1!$D488),\"\")","v":""},{"$f":"IF(データセット1!$B488<>\"\",IF($N$1=データセット1!$B488,データセット1!$D488),\"\")","v":""},{"$f":"IF(データセット1!$B488<>\"\",IF($O$1=データセット1!$B488,データセット1!$D488),\"\")","v":""},{"$f":"IF(データセット1!$B488<>\"\",IF($P$1=データセット1!$B488,データセット1!$D488),\"\")","v":""},{"$f":"IF(データセット1!$B488<>\"\",IF($Q$1=データセット1!$B488,データセット1!$D488),\"\")","v":""},{"$f":"IF(データセット1!$B488<>\"\",IF($R$1=データセット1!$B488,データセット1!$D488),\"\")","v":""},{"$f":"IF(データセット1!$B488<>\"\",IF($S$1=データセット1!$B488,データセット1!$D488),\"\")","v":""},{"$f":"IF(データセット1!$B488<>\"\",IF($T$1=データセット1!$B488,データセット1!$D488),\"\")","v":""},{"$f":"IF(データセット1!$B488<>\"\",IF($U$1=データセット1!$B488,データセット1!$D488),\"\")","v":""}]
[null,null,null,null,null,null,null,null,null,null,null,null,{"$f":"IF(データセット1!$B489<>\"\",IF($M$1=データセット1!$B489,データセット1!$D489),\"\")","v":""},{"$f":"IF(データセット1!$B489<>\"\",IF($N$1=データセット1!$B489,データセット1!$D489),\"\")","v":""},{"$f":"IF(データセット1!$B489<>\"\",IF($O$1=データセット1!$B489,データセット1!$D489),\"\")","v":""},{"$f":"IF(データセット1!$B489<>\"\",IF($P$1=データセット1!$B489,データセット1!$D489),\"\")","v":""},{"$f":"IF(データセット1!$B489<>\"\",IF($Q$1=データセット1!$B489,データセット1!$D489),\"\")","v":""},{"$f":"IF(データセット1!$B489<>\"\",IF($R$1=データセット1!$B489,データセット1!$D489),\"\")","v":""},{"$f":"IF(データセット1!$B489<>\"\",IF($S$1=データセット1!$B489,データセット1!$D489),\"\")","v":""},{"$f":"IF(データセット1!$B489<>\"\",IF($T$1=データセット1!$B489,データセット1!$D489),\"\")","v":""},{"$f":"IF(データセット1!$B489<>\"\",IF($U$1=データセット1!$B489,データセット1!$D489),\"\")","v":""}]
[null,null,null,null,null,null,null,null,null,null,null,null,{"$f":"IF(データセット1!$B490<>\"\",IF($M$1=データセット1!$B490,データセット1!$D490),\"\")","v":""},{"$f":"IF(データセット1!$B490<>\"\",IF($N$1=データセット1!$B490,データセット1!$D490),\"\")","v":""},{"$f":"IF(データセット1!$B490<>\"\",IF($O$1=データセット1!$B490,データセット1!$D490),\"\")","v":""},{"$f":"IF(データセット1!$B490<>\"\",IF($P$1=データセット1!$B490,データセット1!$D490),\"\")","v":""},{"$f":"IF(データセット1!$B490<>\"\",IF($Q$1=データセット1!$B490,データセット1!$D490),\"\")","v":""},{"$f":"IF(データセット1!$B490<>\"\",IF($R$1=データセット1!$B490,データセット1!$D490),\"\")","v":""},{"$f":"IF(データセット1!$B490<>\"\",IF($S$1=データセット1!$B490,データセット1!$D490),\"\")","v":""},{"$f":"IF(データセット1!$B490<>\"\",IF($T$1=データセット1!$B490,データセット1!$D490),\"\")","v":""},{"$f":"IF(データセット1!$B490<>\"\",IF($U$1=データセット1!$B490,データセット1!$D490),\"\")","v":""}]
[null,null,null,null,null,null,null,null,null,null,null,null,{"$f":"IF(データセット1!$B491<>\"\",IF($M$1=データセット1!$B491,データセット1!$D491),\"\")","v":""},{"$f":"IF(データセット1!$B491<>\"\",IF($N$1=データセット1!$B491,データセット1!$D491),\"\")","v":""},{"$f":"IF(データセット1!$B491<>\"\",IF($O$1=データセット1!$B491,データセット1!$D491),\"\")","v":""},{"$f":"IF(データセット1!$B491<>\"\",IF($P$1=データセット1!$B491,データセット1!$D491),\"\")","v":""},{"$f":"IF(データセット1!$B491<>\"\",IF($Q$1=データセット1!$B491,データセット1!$D491),\"\")","v":""},{"$f":"IF(データセット1!$B491<>\"\",IF($R$1=データセット1!$B491,データセット1!$D491),\"\")","v":""},{"$f":"IF(データセット1!$B491<>\"\",IF($S$1=データセット1!$B491,データセット1!$D491),\"\")","v":""},{"$f":"IF(データセット1!$B491<>\"\",IF($T$1=データセット1!$B491,データセット1!$D491),\"\")","v":""},{"$f":"IF(データセット1!$B491<>\"\",IF($U$1=データセット1!$B491,データセット1!$D491),\"\")","v":""}]
[null,null,null,null,null,null,null,null,null,null,null,null,{"$f":"IF(データセット1!$B492<>\"\",IF($M$1=データセット1!$B492,データセット1!$D492),\"\")","v":""},{"$f":"IF(データセット1!$B492<>\"\",IF($N$1=データセット1!$B492,データセット1!$D492),\"\")","v":""},{"$f":"IF(データセット1!$B492<>\"\",IF($O$1=データセット1!$B492,データセット1!$D492),\"\")","v":""},{"$f":"IF(データセット1!$B492<>\"\",IF($P$1=データセット1!$B492,データセット1!$D492),\"\")","v":""},{"$f":"IF(データセット1!$B492<>\"\",IF($Q$1=データセット1!$B492,データセット1!$D492),\"\")","v":""},{"$f":"IF(データセット1!$B492<>\"\",IF($R$1=データセット1!$B492,データセット1!$D492),\"\")","v":""},{"$f":"IF(データセット1!$B492<>\"\",IF($S$1=データセット1!$B492,データセット1!$D492),\"\")","v":""},{"$f":"IF(データセット1!$B492<>\"\",IF($T$1=データセット1!$B492,データセット1!$D492),\"\")","v":""},{"$f":"IF(データセット1!$B492<>\"\",IF($U$1=データセット1!$B492,データセット1!$D492),\"\")","v":""}]
[null,null,null,null,null,null,null,null,null,null,null,null,{"$f":"IF(データセット1!$B493<>\"\",IF($M$1=データセット1!$B493,データセット1!$D493),\"\")","v":""},{"$f":"IF(データセット1!$B493<>\"\",IF($N$1=データセット1!$B493,データセット1!$D493),\"\")","v":""},{"$f":"IF(データセット1!$B493<>\"\",IF($O$1=データセット1!$B493,データセット1!$D493),\"\")","v":""},{"$f":"IF(データセット1!$B493<>\"\",IF($P$1=データセット1!$B493,データセット1!$D493),\"\")","v":""},{"$f":"IF(データセット1!$B493<>\"\",IF($Q$1=データセット1!$B493,データセット1!$D493),\"\")","v":""},{"$f":"IF(データセット1!$B493<>\"\",IF($R$1=データセット1!$B493,データセット1!$D493),\"\")","v":""},{"$f":"IF(データセット1!$B493<>\"\",IF($S$1=データセット1!$B493,データセット1!$D493),\"\")","v":""},{"$f":"IF(データセット1!$B493<>\"\",IF($T$1=データセット1!$B493,データセット1!$D493),\"\")","v":""},{"$f":"IF(データセット1!$B493<>\"\",IF($U$1=データセット1!$B493,データセット1!$D493),\"\")","v":""}]
[null,null,null,null,null,null,null,null,null,null,null,null,{"$f":"IF(データセット1!$B494<>\"\",IF($M$1=データセット1!$B494,データセット1!$D494),\"\")","v":""},{"$f":"IF(データセット1!$B494<>\"\",IF($N$1=データセット1!$B494,データセット1!$D494),\"\")","v":""},{"$f":"IF(データセット1!$B494<>\"\",IF($O$1=データセット1!$B494,データセット1!$D494),\"\")","v":""},{"$f":"IF(データセット1!$B494<>\"\",IF($P$1=データセット1!$B494,データセット1!$D494),\"\")","v":""},{"$f":"IF(データセット1!$B494<>\"\",IF($Q$1=データセット1!$B494,データセット1!$D494),\"\")","v":""},{"$f":"IF(データセット1!$B494<>\"\",IF($R$1=データセット1!$B494,データセット1!$D494),\"\")","v":""},{"$f":"IF(データセット1!$B494<>\"\",IF($S$1=データセット1!$B494,データセット1!$D494),\"\")","v":""},{"$f":"IF(データセット1!$B494<>\"\",IF($T$1=データセット1!$B494,データセット1!$D494),\"\")","v":""},{"$f":"IF(データセット1!$B494<>\"\",IF($U$1=データセット1!$B494,データセット1!$D494),\"\")","v":""}]
[null,null,null,null,null,null,null,null,null,null,null,null,{"$f":"IF(データセット1!$B495<>\"\",IF($M$1=データセット1!$B495,データセット1!$D495),\"\")","v":""},{"$f":"IF(データセット1!$B495<>\"\",IF($N$1=データセット1!$B495,データセット1!$D495),\"\")","v":""},{"$f":"IF(データセット1!$B495<>\"\",IF($O$1=データセット1!$B495,データセット1!$D495),\"\")","v":""},{"$f":"IF(データセット1!$B495<>\"\",IF($P$1=データセット1!$B495,データセット1!$D495),\"\")","v":""},{"$f":"IF(データセット1!$B495<>\"\",IF($Q$1=データセット1!$B495,データセット1!$D495),\"\")","v":""},{"$f":"IF(データセット1!$B495<>\"\",IF($R$1=データセット1!$B495,データセット1!$D495),\"\")","v":""},{"$f":"IF(データセット1!$B495<>\"\",IF($S$1=データセット1!$B495,データセット1!$D495),\"\")","v":""},{"$f":"IF(データセット1!$B495<>\"\",IF($T$1=データセット1!$B495,データセット1!$D495),\"\")","v":""},{"$f":"IF(データセット1!$B495<>\"\",IF($U$1=データセット1!$B495,データセット1!$D495),\"\")","v":""}]
[null,null,null,null,null,null,null,null,null,null,null,null,{"$f":"IF(データセット1!$B496<>\"\",IF($M$1=データセット1!$B496,データセット1!$D496),\"\")","v":""},{"$f":"IF(データセット1!$B496<>\"\",IF($N$1=データセット1!$B496,データセット1!$D496),\"\")","v":""},{"$f":"IF(データセット1!$B496<>\"\",IF($O$1=データセット1!$B496,データセット1!$D496),\"\")","v":""},{"$f":"IF(データセット1!$B496<>\"\",IF($P$1=データセット1!$B496,データセット1!$D496),\"\")","v":""},{"$f":"IF(データセット1!$B496<>\"\",IF($Q$1=データセット1!$B496,データセット1!$D496),\"\")","v":""},{"$f":"IF(データセット1!$B496<>\"\",IF($R$1=データセット1!$B496,データセット1!$D496),\"\")","v":""},{"$f":"IF(データセット1!$B496<>\"\",IF($S$1=データセット1!$B496,データセット1!$D496),\"\")","v":""},{"$f":"IF(データセット1!$B496<>\"\",IF($T$1=データセット1!$B496,データセット1!$D496),\"\")","v":""},{"$f":"IF(データセット1!$B496<>\"\",IF($U$1=データセット1!$B496,データセット1!$D496),\"\")","v":""}]
[null,null,null,null,null,null,null,null,null,null,null,null,{"$f":"IF(データセット1!$B497<>\"\",IF($M$1=データセット1!$B497,データセット1!$D497),\"\")","v":""},{"$f":"IF(データセット1!$B497<>\"\",IF($N$1=データセット1!$B497,データセット1!$D497),\"\")","v":""},{"$f":"IF(データセット1!$B497<>\"\",IF($O$1=データセット1!$B497,データセット1!$D497),\"\")","v":""},{"$f":"IF(データセット1!$B497<>\"\",IF($P$1=データセット1!$B497,データセット1!$D497),\"\")","v":""},{"$f":"IF(データセット1!$B497<>\"\",IF($Q$1=データセット1!$B497,データセット1!$D497),\"\")","v":""},{"$f":"IF(データセット1!$B497<>\"\",IF($R$1=データセット1!$B497,データセット1!$D497),\"\")","v":""},{"$f":"IF(データセット1!$B497<>\"\",IF($S$1=データセット1!$B497,データセット1!$D497),\"\")","v":""},{"$f":"IF(データセット1!$B497<>\"\",IF($T$1=データセット1!$B497,データセット1!$D497),\"\")","v":""},{"$f":"IF(データセット1!$B497<>\"\",IF($U$1=データセット1!$B497,データセット1!$D497),\"\")","v":""}]
[null,null,null,null,null,null,null,null,null,null,null,null,{"$f":"IF(データセット1!$B498<>\"\",IF($M$1=データセット1!$B498,データセット1!$D498),\"\")","v":""},{"$f":"IF(データセット1!$B498<>\"\",IF($N$1=データセット1!$B498,データセット1!$D498),\"\")","v":""},{"$f":"IF(データセット1!$B498<>\"\",IF($O$1=データセット1!$B498,データセット1!$D498),\"\")","v":""},{"$f":"IF(データセット1!$B498<>\"\",IF($P$1=データセット1!$B498,データセット1!$D498),\"\")","v":""},{"$f":"IF(データセット1!$B498<>\"\",IF($Q$1=データセット1!$B498,データセット1!$D498),\"\")","v":""},{"$f":"IF(データセット1!$B498<>\"\",IF($R$1=データセット1!$B498,データセット1!$D498),\"\")","v":""},{"$f":"IF(データセット1!$B498<>\"\",IF($S$1=データセット1!$B498,データセット1!$D498),\"\")","v":""},{"$f":"IF(データセット1!$B498<>\"\",IF($T$1=データセット1!$B498,データセット1!$D498),\"\")","v":""},{"$f":"IF(データセット1!$B498<>\"\",IF($U$1=データセット1!$B498,データセット1!$D498),\"\")","v":""}]
[null,null,null,null,null,null,null,null,null,null,null,null,{"$f":"IF(データセット1!$B499<>\"\",IF($M$1=データセット1!$B499,データセット1!$D499),\"\")","v":""},{"$f":"IF(データセット1!$B499<>\"\",IF($N$1=データセット1!$B499,データセット1!$D499),\"\")","v":""},{"$f":"IF(データセット1!$B499<>\"\",IF($O$1=データセット1!$B499,データセット1!$D499),\"\")","v":""},{"$f":"IF(データセット1!$B499<>\"\",IF($P$1=データセット1!$B499,データセット1!$D499),\"\")","v":""},{"$f":"IF(データセット1!$B499<>\"\",IF($Q$1=データセット1!$B499,データセット1!$D499),\"\")","v":""},{"$f":"IF(データセット1!$B499<>\"\",IF($R$1=データセット1!$B499,データセット1!$D499),\"\")","v":""},{"$f":"IF(データセット1!$B499<>\"\",IF($S$1=データセット1!$B499,データセット1!$D499),\"\")","v":""},{"$f":"IF(データセット1!$B499<>\"\",IF($T$1=データセット1!$B499,データセット1!$D499),\"\")","v":""},{"$f":"IF(データセット1!$B499<>\"\",IF($U$1=データセット1!$B499,データセット1!$D499),\"\")","v":""}]
[null,null,null,null,null,null,null,null,null,null,null,null,{"$f":"IF(データセット1!$B500<>\"\",IF($M$1=データセット1!$B500,データセット1!$D500),\"\")","v":""},{"$f":"IF(データセット1!$B500<>\"\",IF($N$1=データセット1!$B500,データセット1!$D500),\"\")","v":""},{"$f":"IF(データセット1!$B500<>\"\",IF($O$1=データセット1!$B500,データセット1!$D500),\"\")","v":""},{"$f":"IF(データセット1!$B500<>\"\",IF($P$1=データセット1!$B500,データセット1!$D500),\"\")","v":""},{"$f":"IF(データセット1!$B500<>\"\",IF($Q$1=データセット1!$B500,データセット1!$D500),\"\")","v":""},{"$f":"IF(データセット1!$B500<>\"\",IF($R$1=データセット1!$B500,データセット1!$D500),\"\")","v":""},{"$f":"IF(データセット1!$B500<>\"\",IF($S$1=データセット1!$B500,データセット1!$D500),\"\")","v":""},{"$f":"IF(データセット1!$B500<>\"\",IF($T$1=データセット1!$B500,データセット1!$D500),\"\")","v":""},{"$f":"IF(データセット1!$B500<>\"\",IF($U$1=データセット1!$B500,データセット1!$D500),\"\")","v":""}]
[null,null,null,null,null,null,null,null,null,null,null,null,{"$f":"IF(データセット1!$B501<>\"\",IF($M$1=データセット1!$B501,データセット1!$D501),\"\")","v":""},{"$f":"IF(データセット1!$B501<>\"\",IF($N$1=データセット1!$B501,データセット1!$D501),\"\")","v":""},{"$f":"IF(データセット1!$B501<>\"\",IF($O$1=データセット1!$B501,データセット1!$D501),\"\")","v":""},{"$f":"IF(データセット1!$B501<>\"\",IF($P$1=データセット1!$B501,データセット1!$D501),\"\")","v":""},{"$f":"IF(データセット1!$B501<>\"\",IF($Q$1=データセット1!$B501,データセット1!$D501),\"\")","v":""},{"$f":"IF(データセット1!$B501<>\"\",IF($R$1=データセット1!$B501,データセット1!$D501),\"\")","v":""},{"$f":"IF(データセット1!$B501<>\"\",IF($S$1=データセット1!$B501,データセット1!$D501),\"\")","v":""},{"$f":"IF(データセット1!$B501<>\"\",IF($T$1=データセット1!$B501,データセット1!$D501),\"\")","v":""},{"$f":"IF(データセット1!$B501<>\"\",IF($U$1=データセット1!$B501,データセット1!$D501),\"\")","v":""}]
[null,null,null,null,null,null,null,null,null,null,null,null,{"$f":"IF(データセット1!$B502<>\"\",IF($M$1=データセット1!$B502,データセット1!$D502),\"\")","v":""},{"$f":"IF(データセット1!$B502<>\"\",IF($N$1=データセット1!$B502,データセット1!$D502),\"\")","v":""},{"$f":"IF(データセット1!$B502<>\"\",IF($O$1=データセット1!$B502,データセット1!$D502),\"\")","v":""},{"$f":"IF(データセット1!$B502<>\"\",IF($P$1=データセット1!$B502,データセット1!$D502),\"\")","v":""},{"$f":"IF(データセット1!$B502<>\"\",IF($Q$1=データセット1!$B502,データセット1!$D502),\"\")","v":""},{"$f":"IF(データセット1!$B502<>\"\",IF($R$1=データセット1!$B502,データセット1!$D502),\"\")","v":""},{"$f":"IF(データセット1!$B502<>\"\",IF($S$1=データセット1!$B502,データセット1!$D502),\"\")","v":""},{"$f":"IF(データセット1!$B502<>\"\",IF($T$1=データセット1!$B502,データセット1!$D502),\"\")","v":""},{"$f":"IF(データセット1!$B502<>\"\",IF($U$1=データセット1!$B502,データセット1!$D502),\"\")","v":""}]
[null,null,null,null,null,null,null,null,null,null,null,null,{"$f":"IF(データセット1!$B503<>\"\",IF($M$1=データセット1!$B503,データセット1!$D503),\"\")","v":""},{"$f":"IF(データセット1!$B503<>\"\",IF($N$1=データセット1!$B503,データセット1!$D503),\"\")","v":""},{"$f":"IF(データセット1!$B503<>\"\",IF($O$1=データセット1!$B503,データセット1!$D503),\"\")","v":""},{"$f":"IF(データセット1!$B503<>\"\",IF($P$1=データセット1!$B503,データセット1!$D503),\"\")","v":""},{"$f":"IF(データセット1!$B503<>\"\",IF($Q$1=データセット1!$B503,データセット1!$D503),\"\")","v":""},{"$f":"IF(データセット1!$B503<>\"\",IF($R$1=データセット1!$B503,データセット1!$D503),\"\")","v":""},{"$f":"IF(データセット1!$B503<>\"\",IF($S$1=データセット1!$B503,データセット1!$D503),\"\")","v":""},{"$f":"IF(データセット1!$B503<>\"\",IF($T$1=データセット1!$B503,データセット1!$D503),\"\")","v":""},{"$f":"IF(データセット1!$B503<>\"\",IF($U$1=データセット1!$B503,データセット1!$D503),\"\")","v":""}]
[null,null,null,null,null,null,null,null,null,null,null,null,{"$f":"IF(データセット1!$B504<>\"\",IF($M$1=データセット1!$B504,データセット1!$D504),\"\")","v":""},{"$f":"IF(データセット1!$B504<>\"\",IF($N$1=データセット1!$B504,データセット1!$D504),\"\")","v":""},{"$f":"IF(データセット1!$B504<>\"\",IF($O$1=データセット1!$B504,データセット1!$D504),\"\")","v":""},{"$f":"IF(データセット1!$B504<>\"\",IF($P$1=データセット1!$B504,データセット1!$D504),\"\")","v":""},{"$f":"IF(データセット1!$B504<>\"\",IF($Q$1=データセット1!$B504,データセット1!$D504),\"\")","v":""},{"$f":"IF(データセット1!$B504<>\"\",IF($R$1=データセット1!$B504,データセット1!$D504),\"\")","v":""},{"$f":"IF(データセット1!$B504<>\"\",IF($S$1=データセット1!$B504,データセット1!$D504),\"\")","v":""},{"$f":"IF(データセット1!$B504<>\"\",IF($T$1=データセット1!$B504,データセット1!$D504),\"\")","v":""},{"$f":"IF(データセット1!$B504<>\"\",IF($U$1=データセット1!$B504,データセット1!$D504),\"\")","v":""}]
[null,null,null,null,null,null,null,null,null,null,null,null,{"$f":"IF(データセット1!$B505<>\"\",IF($M$1=データセット1!$B505,データセット1!$D505),\"\")","v":""},{"$f":"IF(データセット1!$B505<>\"\",IF($N$1=データセット1!$B505,データセット1!$D505),\"\")","v":""},{"$f":"IF(データセット1!$B505<>\"\",IF($O$1=データセット1!$B505,データセット1!$D505),\"\")","v":""},{"$f":"IF(データセット1!$B505<>\"\",IF($P$1=データセット1!$B505,データセット1!$D505),\"\")","v":""},{"$f":"IF(データセット1!$B505<>\"\",IF($Q$1=データセット1!$B505,データセット1!$D505),\"\")","v":""},{"$f":"IF(データセット1!$B505<>\"\",IF($R$1=データセット1!$B505,データセット1!$D505),\"\")","v":""},{"$f":"IF(データセット1!$B505<>\"\",IF($S$1=データセット1!$B505,データセット1!$D505),\"\")","v":""},{"$f":"IF(データセット1!$B505<>\"\",IF($T$1=データセット1!$B505,データセット1!$D505),\"\")","v":""},{"$f":"IF(データセット1!$B505<>\"\",IF($U$1=データセット1!$B505,データセット1!$D505),\"\")","v":""}]
[null,null,null,null,null,null,null,null,null,null,null,null,{"$f":"IF(データセット1!$B506<>\"\",IF($M$1=データセット1!$B506,データセット1!$D506),\"\")","v":""},{"$f":"IF(データセット1!$B506<>\"\",IF($N$1=データセット1!$B506,データセット1!$D506),\"\")","v":""},{"$f":"IF(データセット1!$B506<>\"\",IF($O$1=データセット1!$B506,データセット1!$D506),\"\")","v":""},{"$f":"IF(データセット1!$B506<>\"\",IF($P$1=データセット1!$B506,データセット1!$D506),\"\")","v":""},{"$f":"IF(データセット1!$B506<>\"\",IF($Q$1=データセット1!$B506,データセット1!$D506),\"\")","v":""},{"$f":"IF(データセット1!$B506<>\"\",IF($R$1=データセット1!$B506,データセット1!$D506),\"\")","v":""},{"$f":"IF(データセット1!$B506<>\"\",IF($S$1=データセット1!$B506,データセット1!$D506),\"\")","v":""},{"$f":"IF(データセット1!$B506<>\"\",IF($T$1=データセット1!$B506,データセット1!$D506),\"\")","v":""},{"$f":"IF(データセット1!$B506<>\"\",IF($U$1=データセット1!$B506,データセット1!$D506),\"\")","v":""}]
[null,null,null,null,null,null,null,null,null,null,null,null,{"$f":"IF(データセット1!$B507<>\"\",IF($M$1=データセット1!$B507,データセット1!$D507),\"\")","v":""},{"$f":"IF(データセット1!$B507<>\"\",IF($N$1=データセット1!$B507,データセット1!$D507),\"\")","v":""},{"$f":"IF(データセット1!$B507<>\"\",IF($O$1=データセット1!$B507,データセット1!$D507),\"\")","v":""},{"$f":"IF(データセット1!$B507<>\"\",IF($P$1=データセット1!$B507,データセット1!$D507),\"\")","v":""},{"$f":"IF(データセット1!$B507<>\"\",IF($Q$1=データセット1!$B507,データセット1!$D507),\"\")","v":""},{"$f":"IF(データセット1!$B507<>\"\",IF($R$1=データセット1!$B507,データセット1!$D507),\"\")","v":""},{"$f":"IF(データセット1!$B507<>\"\",IF($S$1=データセット1!$B507,データセット1!$D507),\"\")","v":""},{"$f":"IF(データセット1!$B507<>\"\",IF($T$1=データセット1!$B507,データセット1!$D507),\"\")","v":""},{"$f":"IF(データセット1!$B507<>\"\",IF($U$1=データセット1!$B507,データセット1!$D507),\"\")","v":""}]
[null,null,null,null,null,null,null,null,null,null,null,null,{"$f":"IF(データセット1!$B508<>\"\",IF($M$1=データセット1!$B508,データセット1!$D508),\"\")","v":""},{"$f":"IF(データセット1!$B508<>\"\",IF($N$1=データセット1!$B508,データセット1!$D508),\"\")","v":""},{"$f":"IF(データセット1!$B508<>\"\",IF($O$1=データセット1!$B508,データセット1!$D508),\"\")","v":""},{"$f":"IF(データセット1!$B508<>\"\",IF($P$1=データセット1!$B508,データセット1!$D508),\"\")","v":""},{"$f":"IF(データセット1!$B508<>\"\",IF($Q$1=データセット1!$B508,データセット1!$D508),\"\")","v":""},{"$f":"IF(データセット1!$B508<>\"\",IF($R$1=データセット1!$B508,データセット1!$D508),\"\")","v":""},{"$f":"IF(データセット1!$B508<>\"\",IF($S$1=データセット1!$B508,データセット1!$D508),\"\")","v":""},{"$f":"IF(データセット1!$B508<>\"\",IF($T$1=データセット1!$B508,データセット1!$D508),\"\")","v":""},{"$f":"IF(データセット1!$B508<>\"\",IF($U$1=データセット1!$B508,データセット1!$D508),\"\")","v":""}]
[null,null,null,null,null,null,null,null,null,null,null,null,{"$f":"IF(データセット1!$B509<>\"\",IF($M$1=データセット1!$B509,データセット1!$D509),\"\")","v":""},{"$f":"IF(データセット1!$B509<>\"\",IF($N$1=データセット1!$B509,データセット1!$D509),\"\")","v":""},{"$f":"IF(データセット1!$B509<>\"\",IF($O$1=データセット1!$B509,データセット1!$D509),\"\")","v":""},{"$f":"IF(データセット1!$B509<>\"\",IF($P$1=データセット1!$B509,データセット1!$D509),\"\")","v":""},{"$f":"IF(データセット1!$B509<>\"\",IF($Q$1=データセット1!$B509,データセット1!$D509),\"\")","v":""},{"$f":"IF(データセット1!$B509<>\"\",IF($R$1=データセット1!$B509,データセット1!$D509),\"\")","v":""},{"$f":"IF(データセット1!$B509<>\"\",IF($S$1=データセット1!$B509,データセット1!$D509),\"\")","v":""},{"$f":"IF(データセット1!$B509<>\"\",IF($T$1=データセット1!$B509,データセット1!$D509),\"\")","v":""},{"$f":"IF(データセット1!$B509<>\"\",IF($U$1=データセット1!$B509,データセット1!$D509),\"\")","v":""}]
[null,null,null,null,null,null,null,null,null,null,null,null,{"$f":"IF(データセット1!$B510<>\"\",IF($M$1=データセット1!$B510,データセット1!$D510),\"\")","v":""},{"$f":"IF(データセット1!$B510<>\"\",IF($N$1=データセット1!$B510,データセット1!$D510),\"\")","v":""},{"$f":"IF(データセット1!$B510<>\"\",IF($O$1=データセット1!$B510,データセット1!$D510),\"\")","v":""},{"$f":"IF(データセット1!$B510<>\"\",IF($P$1=データセット1!$B510,データセット1!$D510),\"\")","v":""},{"$f":"IF(データセット1!$B510<>\"\",IF($Q$1=データセット1!$B510,データセット1!$D510),\"\")","v":""},{"$f":"IF(データセット1!$B510<>\"\",IF($R$1=データセット1!$B510,データセット1!$D510),\"\")","v":""},{"$f":"IF(データセット1!$B510<>\"\",IF($S$1=データセット1!$B510,データセット1!$D510),\"\")","v":""},{"$f":"IF(データセット1!$B510<>\"\",IF($T$1=データセット1!$B510,データセット1!$D510),\"\")","v":""},{"$f":"IF(データセット1!$B510<>\"\",IF($U$1=データセット1!$B510,データセット1!$D510),\"\")","v":""}]
[null,null,null,null,null,null,null,null,null,null,null,null,{"$f":"IF(データセット1!$B511<>\"\",IF($M$1=データセット1!$B511,データセット1!$D511),\"\")","v":""},{"$f":"IF(データセット1!$B511<>\"\",IF($N$1=データセット1!$B511,データセット1!$D511),\"\")","v":""},{"$f":"IF(データセット1!$B511<>\"\",IF($O$1=データセット1!$B511,データセット1!$D511),\"\")","v":""},{"$f":"IF(データセット1!$B511<>\"\",IF($P$1=データセット1!$B511,データセット1!$D511),\"\")","v":""},{"$f":"IF(データセット1!$B511<>\"\",IF($Q$1=データセット1!$B511,データセット1!$D511),\"\")","v":""},{"$f":"IF(データセット1!$B511<>\"\",IF($R$1=データセット1!$B511,データセット1!$D511),\"\")","v":""},{"$f":"IF(データセット1!$B511<>\"\",IF($S$1=データセット1!$B511,データセット1!$D511),\"\")","v":""},{"$f":"IF(データセット1!$B511<>\"\",IF($T$1=データセット1!$B511,データセット1!$D511),\"\")","v":""},{"$f":"IF(データセット1!$B511<>\"\",IF($U$1=データセット1!$B511,データセット1!$D511),\"\")","v":""}]
[null,null,null,null,null,null,null,null,null,null,null,null,{"$f":"IF(データセット1!$B512<>\"\",IF($M$1=データセット1!$B512,データセット1!$D512),\"\")","v":""},{"$f":"IF(データセット1!$B512<>\"\",IF($N$1=データセット1!$B512,データセット1!$D512),\"\")","v":""},{"$f":"IF(データセット1!$B512<>\"\",IF($O$1=データセット1!$B512,データセット1!$D512),\"\")","v":""},{"$f":"IF(データセット1!$B512<>\"\",IF($P$1=データセット1!$B512,データセット1!$D512),\"\")","v":""},{"$f":"IF(データセット1!$B512<>\"\",IF($Q$1=データセット1!$B512,データセット1!$D512),\"\")","v":""},{"$f":"IF(データセット1!$B512<>\"\",IF($R$1=データセット1!$B512,データセット1!$D512),\"\")","v":""},{"$f":"IF(データセット1!$B512<>\"\",IF($S$1=データセット1!$B512,データセット1!$D512),\"\")","v":""},{"$f":"IF(データセット1!$B512<>\"\",IF($T$1=データセット1!$B512,データセット1!$D512),\"\")","v":""},{"$f":"IF(データセット1!$B512<>\"\",IF($U$1=データセット1!$B512,データセット1!$D512),\"\")","v":""}]
[null,null,null,null,null,null,null,null,null,null,null,null,{"$f":"IF(データセット1!$B513<>\"\",IF($M$1=データセット1!$B513,データセット1!$D513),\"\")","v":""},{"$f":"IF(データセット1!$B513<>\"\",IF($N$1=データセット1!$B513,データセット1!$D513),\"\")","v":""},{"$f":"IF(データセット1!$B513<>\"\",IF($O$1=データセット1!$B513,データセット1!$D513),\"\")","v":""},{"$f":"IF(データセット1!$B513<>\"\",IF($P$1=データセット1!$B513,データセット1!$D513),\"\")","v":""},{"$f":"IF(データセット1!$B513<>\"\",IF($Q$1=データセット1!$B513,データセット1!$D513),\"\")","v":""},{"$f":"IF(データセット1!$B513<>\"\",IF($R$1=データセット1!$B513,データセット1!$D513),\"\")","v":""},{"$f":"IF(データセット1!$B513<>\"\",IF($S$1=データセット1!$B513,データセット1!$D513),\"\")","v":""},{"$f":"IF(データセット1!$B513<>\"\",IF($T$1=データセット1!$B513,データセット1!$D513),\"\")","v":""},{"$f":"IF(データセット1!$B513<>\"\",IF($U$1=データセット1!$B513,データセット1!$D513),\"\")","v":""}]
[null,null,null,null,null,null,null,null,null,null,null,null,{"$f":"IF(データセット1!$B514<>\"\",IF($M$1=データセット1!$B514,データセット1!$D514),\"\")","v":""},{"$f":"IF(データセット1!$B514<>\"\",IF($N$1=データセット1!$B514,データセット1!$D514),\"\")","v":""},{"$f":"IF(データセット1!$B514<>\"\",IF($O$1=データセット1!$B514,データセット1!$D514),\"\")","v":""},{"$f":"IF(データセット1!$B514<>\"\",IF($P$1=データセット1!$B514,データセット1!$D514),\"\")","v":""},{"$f":"IF(データセット1!$B514<>\"\",IF($Q$1=データセット1!$B514,データセット1!$D514),\"\")","v":""},{"$f":"IF(データセット1!$B514<>\"\",IF($R$1=データセット1!$B514,データセット1!$D514),\"\")","v":""},{"$f":"IF(データセット1!$B514<>\"\",IF($S$1=データセット1!$B514,データセット1!$D514),\"\")","v":""},{"$f":"IF(データセット1!$B514<>\"\",IF($T$1=データセット1!$B514,データセット1!$D514),\"\")","v":""},{"$f":"IF(データセット1!$B514<>\"\",IF($U$1=データセット1!$B514,データセット1!$D514),\"\")","v":""}]
[null,null,null,null,null,null,null,null,null,null,null,null,{"$f":"IF(データセット1!$B515<>\"\",IF($M$1=データセット1!$B515,データセット1!$D515),\"\")","v":""},{"$f":"IF(データセット1!$B515<>\"\",IF($N$1=データセット1!$B515,データセット1!$D515),\"\")","v":""},{"$f":"IF(データセット1!$B515<>\"\",IF($O$1=データセット1!$B515,データセット1!$D515),\"\")","v":""},{"$f":"IF(データセット1!$B515<>\"\",IF($P$1=データセット1!$B515,データセット1!$D515),\"\")","v":""},{"$f":"IF(データセット1!$B515<>\"\",IF($Q$1=データセット1!$B515,データセット1!$D515),\"\")","v":""},{"$f":"IF(データセット1!$B515<>\"\",IF($R$1=データセット1!$B515,データセット1!$D515),\"\")","v":""},{"$f":"IF(データセット1!$B515<>\"\",IF($S$1=データセット1!$B515,データセット1!$D515),\"\")","v":""},{"$f":"IF(データセット1!$B515<>\"\",IF($T$1=データセット1!$B515,データセット1!$D515),\"\")","v":""},{"$f":"IF(データセット1!$B515<>\"\",IF($U$1=データセット1!$B515,データセット1!$D515),\"\")","v":""}]
[null,null,null,null,null,null,null,null,null,null,null,null,{"$f":"IF(データセット1!$B516<>\"\",IF($M$1=データセット1!$B516,データセット1!$D516),\"\")","v":""},{"$f":"IF(データセット1!$B516<>\"\",IF($N$1=データセット1!$B516,データセット1!$D516),\"\")","v":""},{"$f":"IF(データセット1!$B516<>\"\",IF($O$1=データセット1!$B516,データセット1!$D516),\"\")","v":""},{"$f":"IF(データセット1!$B516<>\"\",IF($P$1=データセット1!$B516,データセット1!$D516),\"\")","v":""},{"$f":"IF(データセット1!$B516<>\"\",IF($Q$1=データセット1!$B516,データセット1!$D516),\"\")","v":""},{"$f":"IF(データセット1!$B516<>\"\",IF($R$1=データセット1!$B516,データセット1!$D516),\"\")","v":""},{"$f":"IF(データセット1!$B516<>\"\",IF($S$1=データセット1!$B516,データセット1!$D516),\"\")","v":""},{"$f":"IF(データセット1!$B516<>\"\",IF($T$1=データセット1!$B516,データセット1!$D516),\"\")","v":""},{"$f":"IF(データセット1!$B516<>\"\",IF($U$1=データセット1!$B516,データセット1!$D516),\"\")","v":""}]
[null,null,null,null,null,null,null,null,null,null,null,null,{"$f":"IF(データセット1!$B517<>\"\",IF($M$1=データセット1!$B517,データセット1!$D517),\"\")","v":""},{"$f":"IF(データセット1!$B517<>\"\",IF($N$1=データセット1!$B517,データセット1!$D517),\"\")","v":""},{"$f":"IF(データセット1!$B517<>\"\",IF($O$1=データセット1!$B517,データセット1!$D517),\"\")","v":""},{"$f":"IF(データセット1!$B517<>\"\",IF($P$1=データセット1!$B517,データセット1!$D517),\"\")","v":""},{"$f":"IF(データセット1!$B517<>\"\",IF($Q$1=データセット1!$B517,データセット1!$D517),\"\")","v":""},{"$f":"IF(データセット1!$B517<>\"\",IF($R$1=データセット1!$B517,データセット1!$D517),\"\")","v":""},{"$f":"IF(データセット1!$B517<>\"\",IF($S$1=データセット1!$B517,データセット1!$D517),\"\")","v":""},{"$f":"IF(データセット1!$B517<>\"\",IF($T$1=データセット1!$B517,データセット1!$D517),\"\")","v":""},{"$f":"IF(データセット1!$B517<>\"\",IF($U$1=データセット1!$B517,データセット1!$D517),\"\")","v":""}]
[null,null,null,null,null,null,null,null,null,null,null,null,{"$f":"IF(データセット1!$B518<>\"\",IF($M$1=データセット1!$B518,データセット1!$D518),\"\")","v":""},{"$f":"IF(データセット1!$B518<>\"\",IF($N$1=データセット1!$B518,データセット1!$D518),\"\")","v":""},{"$f":"IF(データセット1!$B518<>\"\",IF($O$1=データセット1!$B518,データセット1!$D518),\"\")","v":""},{"$f":"IF(データセット1!$B518<>\"\",IF($P$1=データセット1!$B518,データセット1!$D518),\"\")","v":""},{"$f":"IF(データセット1!$B518<>\"\",IF($Q$1=データセット1!$B518,データセット1!$D518),\"\")","v":""},{"$f":"IF(データセット1!$B518<>\"\",IF($R$1=データセット1!$B518,データセット1!$D518),\"\")","v":""},{"$f":"IF(データセット1!$B518<>\"\",IF($S$1=データセット1!$B518,データセット1!$D518),\"\")","v":""},{"$f":"IF(データセット1!$B518<>\"\",IF($T$1=データセット1!$B518,データセット1!$D518),\"\")","v":""},{"$f":"IF(データセット1!$B518<>\"\",IF($U$1=データセット1!$B518,データセット1!$D518),\"\")","v":""}]
[null,null,null,null,null,null,null,null,null,null,null,null,{"$f":"IF(データセット1!$B519<>\"\",IF($M$1=データセット1!$B519,データセット1!$D519),\"\")","v":""},{"$f":"IF(データセット1!$B519<>\"\",IF($N$1=データセット1!$B519,データセット1!$D519),\"\")","v":""},{"$f":"IF(データセット1!$B519<>\"\",IF($O$1=データセット1!$B519,データセット1!$D519),\"\")","v":""},{"$f":"IF(データセット1!$B519<>\"\",IF($P$1=データセット1!$B519,データセット1!$D519),\"\")","v":""},{"$f":"IF(データセット1!$B519<>\"\",IF($Q$1=データセット1!$B519,データセット1!$D519),\"\")","v":""},{"$f":"IF(データセット1!$B519<>\"\",IF($R$1=データセット1!$B519,データセット1!$D519),\"\")","v":""},{"$f":"IF(データセット1!$B519<>\"\",IF($S$1=データセット1!$B519,データセット1!$D519),\"\")","v":""},{"$f":"IF(データセット1!$B519<>\"\",IF($T$1=データセット1!$B519,データセット1!$D519),\"\")","v":""},{"$f":"IF(データセット1!$B519<>\"\",IF($U$1=データセット1!$B519,データセット1!$D519),\"\")","v":""}]
[null,null,null,null,null,null,null,null,null,null,null,null,{"$f":"IF(データセット1!$B520<>\"\",IF($M$1=データセット1!$B520,データセット1!$D520),\"\")","v":""},{"$f":"IF(データセット1!$B520<>\"\",IF($N$1=データセット1!$B520,データセット1!$D520),\"\")","v":""},{"$f":"IF(データセット1!$B520<>\"\",IF($O$1=データセット1!$B520,データセット1!$D520),\"\")","v":""},{"$f":"IF(データセット1!$B520<>\"\",IF($P$1=データセット1!$B520,データセット1!$D520),\"\")","v":""},{"$f":"IF(データセット1!$B520<>\"\",IF($Q$1=データセット1!$B520,データセット1!$D520),\"\")","v":""},{"$f":"IF(データセット1!$B520<>\"\",IF($R$1=データセット1!$B520,データセット1!$D520),\"\")","v":""},{"$f":"IF(データセット1!$B520<>\"\",IF($S$1=データセット1!$B520,データセット1!$D520),\"\")","v":""},{"$f":"IF(データセット1!$B520<>\"\",IF($T$1=データセット1!$B520,データセット1!$D520),\"\")","v":""},{"$f":"IF(データセット1!$B520<>\"\",IF($U$1=データセット1!$B520,データセット1!$D520),\"\")","v":""}]
[null,null,null,null,null,null,null,null,null,null,null,null,{"$f":"IF(データセット1!$B521<>\"\",IF($M$1=データセット1!$B521,データセット1!$D521),\"\")","v":""},{"$f":"IF(データセット1!$B521<>\"\",IF($N$1=データセット1!$B521,データセット1!$D521),\"\")","v":""},{"$f":"IF(データセット1!$B521<>\"\",IF($O$1=データセット1!$B521,データセット1!$D521),\"\")","v":""},{"$f":"IF(データセット1!$B521<>\"\",IF($P$1=データセット1!$B521,データセット1!$D521),\"\")","v":""},{"$f":"IF(データセット1!$B521<>\"\",IF($Q$1=データセット1!$B521,データセット1!$D521),\"\")","v":""},{"$f":"IF(データセット1!$B521<>\"\",IF($R$1=データセット1!$B521,データセット1!$D521),\"\")","v":""},{"$f":"IF(データセット1!$B521<>\"\",IF($S$1=データセット1!$B521,データセット1!$D521),\"\")","v":""},{"$f":"IF(データセット1!$B521<>\"\",IF($T$1=データセット1!$B521,データセット1!$D521),\"\")","v":""},{"$f":"IF(データセット1!$B521<>\"\",IF($U$1=データセット1!$B521,データセット1!$D521),\"\")","v":""}]
[null,null,null,null,null,null,null,null,null,null,null,null,{"$f":"IF(データセット1!$B522<>\"\",IF($M$1=データセット1!$B522,データセット1!$D522),\"\")","v":""},{"$f":"IF(データセット1!$B522<>\"\",IF($N$1=データセット1!$B522,データセット1!$D522),\"\")","v":""},{"$f":"IF(データセット1!$B522<>\"\",IF($O$1=データセット1!$B522,データセット1!$D522),\"\")","v":""},{"$f":"IF(データセット1!$B522<>\"\",IF($P$1=データセット1!$B522,データセット1!$D522),\"\")","v":""},{"$f":"IF(データセット1!$B522<>\"\",IF($Q$1=データセット1!$B522,データセット1!$D522),\"\")","v":""},{"$f":"IF(データセット1!$B522<>\"\",IF($R$1=データセット1!$B522,データセット1!$D522),\"\")","v":""},{"$f":"IF(データセット1!$B522<>\"\",IF($S$1=データセット1!$B522,データセット1!$D522),\"\")","v":""},{"$f":"IF(データセット1!$B522<>\"\",IF($T$1=データセット1!$B522,データセット1!$D522),\"\")","v":""},{"$f":"IF(データセット1!$B522<>\"\",IF($U$1=データセット1!$B522,データセット1!$D522),\"\")","v":""}]
[null,null,null,null,null,null,null,null,null,null,null,null,{"$f":"IF(データセット1!$B523<>\"\",IF($M$1=データセット1!$B523,データセット1!$D523),\"\")","v":""},{"$f":"IF(データセット1!$B523<>\"\",IF($N$1=データセット1!$B523,データセット1!$D523),\"\")","v":""},{"$f":"IF(データセット1!$B523<>\"\",IF($O$1=データセット1!$B523,データセット1!$D523),\"\")","v":""},{"$f":"IF(データセット1!$B523<>\"\",IF($P$1=データセット1!$B523,データセット1!$D523),\"\")","v":""},{"$f":"IF(データセット1!$B523<>\"\",IF($Q$1=データセット1!$B523,データセット1!$D523),\"\")","v":""},{"$f":"IF(データセット1!$B523<>\"\",IF($R$1=データセット1!$B523,データセット1!$D523),\"\")","v":""},{"$f":"IF(データセット1!$B523<>\"\",IF($S$1=データセット1!$B523,データセット1!$D523),\"\")","v":""},{"$f":"IF(データセット1!$B523<>\"\",IF($T$1=データセット1!$B523,データセット1!$D523),\"\")","v":""},{"$f":"IF(データセット1!$B523<>\"\",IF($U$1=データセット1!$B523,データセット1!$D523),\"\")","v":""}]
[null,null,null,null,null,null,null,null,null,null,null,null,{"$f":"IF(データセット1!$B524<>\"\",IF($M$1=データセット1!$B524,データセット1!$D524),\"\")","v":""},{"$f":"IF(データセット1!$B524<>\"\",IF($N$1=データセット1!$B524,データセット1!$D524),\"\")","v":""},{"$f":"IF(データセット1!$B524<>\"\",IF($O$1=データセット1!$B524,データセット1!$D524),\"\")","v":""},{"$f":"IF(データセット1!$B524<>\"\",IF($P$1=データセット1!$B524,データセット1!$D524),\"\")","v":""},{"$f":"IF(データセット1!$B524<>\"\",IF($Q$1=データセット1!$B524,データセット1!$D524),\"\")","v":""},{"$f":"IF(データセット1!$B524<>\"\",IF($R$1=データセット1!$B524,データセット1!$D524),\"\")","v":""},{"$f":"IF(データセット1!$B524<>\"\",IF($S$1=データセット1!$B524,データセット1!$D524),\"\")","v":""},{"$f":"IF(データセット1!$B524<>\"\",IF($T$1=データセット1!$B524,データセット1!$D524),\"\")","v":""},{"$f":"IF(データセット1!$B524<>\"\",IF($U$1=データセット1!$B524,データセット1!$D524),\"\")","v":""}]
[null,null,null,null,null,null,null,null,null,null,null,null,{"$f":"IF(データセット1!$B525<>\"\",IF($M$1=データセット1!$B525,データセット1!$D525),\"\")","v":""},{"$f":"IF(データセット1!$B525<>\"\",IF($N$1=データセット1!$B525,データセット1!$D525),\"\")","v":""},{"$f":"IF(データセット1!$B525<>\"\",IF($O$1=データセット1!$B525,データセット1!$D525),\"\")","v":""},{"$f":"IF(データセット1!$B525<>\"\",IF($P$1=データセット1!$B525,データセット1!$D525),\"\")","v":""},{"$f":"IF(データセット1!$B525<>\"\",IF($Q$1=データセット1!$B525,データセット1!$D525),\"\")","v":""},{"$f":"IF(データセット1!$B525<>\"\",IF($R$1=データセット1!$B525,データセット1!$D525),\"\")","v":""},{"$f":"IF(データセット1!$B525<>\"\",IF($S$1=データセット1!$B525,データセット1!$D525),\"\")","v":""},{"$f":"IF(データセット1!$B525<>\"\",IF($T$1=データセット1!$B525,データセット1!$D525),\"\")","v":""},{"$f":"IF(データセット1!$B525<>\"\",IF($U$1=データセット1!$B525,データセット1!$D525),\"\")","v":""}]
[null,null,null,null,null,null,null,null,null,null,null,null,{"$f":"IF(データセット1!$B526<>\"\",IF($M$1=データセット1!$B526,データセット1!$D526),\"\")","v":""},{"$f":"IF(データセット1!$B526<>\"\",IF($N$1=データセット1!$B526,データセット1!$D526),\"\")","v":""},{"$f":"IF(データセット1!$B526<>\"\",IF($O$1=データセット1!$B526,データセット1!$D526),\"\")","v":""},{"$f":"IF(データセット1!$B526<>\"\",IF($P$1=データセット1!$B526,データセット1!$D526),\"\")","v":""},{"$f":"IF(データセット1!$B526<>\"\",IF($Q$1=データセット1!$B526,データセット1!$D526),\"\")","v":""},{"$f":"IF(データセット1!$B526<>\"\",IF($R$1=データセット1!$B526,データセット1!$D526),\"\")","v":""},{"$f":"IF(データセット1!$B526<>\"\",IF($S$1=データセット1!$B526,データセット1!$D526),\"\")","v":""},{"$f":"IF(データセット1!$B526<>\"\",IF($T$1=データセット1!$B526,データセット1!$D526),\"\")","v":""},{"$f":"IF(データセット1!$B526<>\"\",IF($U$1=データセット1!$B526,データセット1!$D526),\"\")","v":""}]
[null,null,null,null,null,null,null,null,null,null,null,null,{"$f":"IF(データセット1!$B527<>\"\",IF($M$1=データセット1!$B527,データセット1!$D527),\"\")","v":""},{"$f":"IF(データセット1!$B527<>\"\",IF($N$1=データセット1!$B527,データセット1!$D527),\"\")","v":""},{"$f":"IF(データセット1!$B527<>\"\",IF($O$1=データセット1!$B527,データセット1!$D527),\"\")","v":""},{"$f":"IF(データセット1!$B527<>\"\",IF($P$1=データセット1!$B527,データセット1!$D527),\"\")","v":""},{"$f":"IF(データセット1!$B527<>\"\",IF($Q$1=データセット1!$B527,データセット1!$D527),\"\")","v":""},{"$f":"IF(データセット1!$B527<>\"\",IF($R$1=データセット1!$B527,データセット1!$D527),\"\")","v":""},{"$f":"IF(データセット1!$B527<>\"\",IF($S$1=データセット1!$B527,データセット1!$D527),\"\")","v":""},{"$f":"IF(データセット1!$B527<>\"\",IF($T$1=データセット1!$B527,データセット1!$D527),\"\")","v":""},{"$f":"IF(データセット1!$B527<>\"\",IF($U$1=データセット1!$B527,データセット1!$D527),\"\")","v":""}]
[null,null,null,null,null,null,null,null,null,null,null,null,{"$f":"IF(データセット1!$B528<>\"\",IF($M$1=データセット1!$B528,データセット1!$D528),\"\")","v":""},{"$f":"IF(データセット1!$B528<>\"\",IF($N$1=データセット1!$B528,データセット1!$D528),\"\")","v":""},{"$f":"IF(データセット1!$B528<>\"\",IF($O$1=データセット1!$B528,データセット1!$D528),\"\")","v":""},{"$f":"IF(データセット1!$B528<>\"\",IF($P$1=データセット1!$B528,データセット1!$D528),\"\")","v":""},{"$f":"IF(データセット1!$B528<>\"\",IF($Q$1=データセット1!$B528,データセット1!$D528),\"\")","v":""},{"$f":"IF(データセット1!$B528<>\"\",IF($R$1=データセット1!$B528,データセット1!$D528),\"\")","v":""},{"$f":"IF(データセット1!$B528<>\"\",IF($S$1=データセット1!$B528,データセット1!$D528),\"\")","v":""},{"$f":"IF(データセット1!$B528<>\"\",IF($T$1=データセット1!$B528,データセット1!$D528),\"\")","v":""},{"$f":"IF(データセット1!$B528<>\"\",IF($U$1=データセット1!$B528,データセット1!$D528),\"\")","v":""}]
[null,null,null,null,null,null,null,null,null,null,null,null,{"$f":"IF(データセット1!$B529<>\"\",IF($M$1=データセット1!$B529,データセット1!$D529),\"\")","v":""},{"$f":"IF(データセット1!$B529<>\"\",IF($N$1=データセット1!$B529,データセット1!$D529),\"\")","v":""},{"$f":"IF(データセット1!$B529<>\"\",IF($O$1=データセット1!$B529,データセット1!$D529),\"\")","v":""},{"$f":"IF(データセット1!$B529<>\"\",IF($P$1=データセット1!$B529,データセット1!$D529),\"\")","v":""},{"$f":"IF(データセット1!$B529<>\"\",IF($Q$1=データセット1!$B529,データセット1!$D529),\"\")","v":""},{"$f":"IF(データセット1!$B529<>\"\",IF($R$1=データセット1!$B529,データセット1!$D529),\"\")","v":""},{"$f":"IF(データセット1!$B529<>\"\",IF($S$1=データセット1!$B529,データセット1!$D529),\"\")","v":""},{"$f":"IF(データセット1!$B529<>\"\",IF($T$1=データセット1!$B529,データセット1!$D529),\"\")","v":""},{"$f":"IF(データセット1!$B529<>\"\",IF($U$1=データセット1!$B529,データセット1!$D529),\"\")","v":""}]
[null,null,null,null,null,null,null,null,null,null,null,null,{"$f":"IF(データセット1!$B530<>\"\",IF($M$1=データセット1!$B530,データセット1!$D530),\"\")","v":""},{"$f":"IF(データセット1!$B530<>\"\",IF($N$1=データセット1!$B530,データセット1!$D530),\"\")","v":""},{"$f":"IF(データセット1!$B530<>\"\",IF($O$1=データセット1!$B530,データセット1!$D530),\"\")","v":""},{"$f":"IF(データセット1!$B530<>\"\",IF($P$1=データセット1!$B530,データセット1!$D530),\"\")","v":""},{"$f":"IF(データセット1!$B530<>\"\",IF($Q$1=データセット1!$B530,データセット1!$D530),\"\")","v":""},{"$f":"IF(データセット1!$B530<>\"\",IF($R$1=データセット1!$B530,データセット1!$D530),\"\")","v":""},{"$f":"IF(データセット1!$B530<>\"\",IF($S$1=データセット1!$B530,データセット1!$D530),\"\")","v":""},{"$f":"IF(データセット1!$B530<>\"\",IF($T$1=データセット1!$B530,データセット1!$D530),\"\")","v":""},{"$f":"IF(データセット1!$B530<>\"\",IF($U$1=データセット1!$B530,データセット1!$D530),\"\")","v":""}]
[null,null,null,null,null,null,null,null,null,null,null,null,{"$f":"IF(データセット1!$B531<>\"\",IF($M$1=データセット1!$B531,データセット1!$D531),\"\")","v":""},{"$f":"IF(データセット1!$B531<>\"\",IF($N$1=データセット1!$B531,データセット1!$D531),\"\")","v":""},{"$f":"IF(データセット1!$B531<>\"\",IF($O$1=データセット1!$B531,データセット1!$D531),\"\")","v":""},{"$f":"IF(データセット1!$B531<>\"\",IF($P$1=データセット1!$B531,データセット1!$D531),\"\")","v":""},{"$f":"IF(データセット1!$B531<>\"\",IF($Q$1=データセット1!$B531,データセット1!$D531),\"\")","v":""},{"$f":"IF(データセット1!$B531<>\"\",IF($R$1=データセット1!$B531,データセット1!$D531),\"\")","v":""},{"$f":"IF(データセット1!$B531<>\"\",IF($S$1=データセット1!$B531,データセット1!$D531),\"\")","v":""},{"$f":"IF(データセット1!$B531<>\"\",IF($T$1=データセット1!$B531,データセット1!$D531),\"\")","v":""},{"$f":"IF(データセット1!$B531<>\"\",IF($U$1=データセット1!$B531,データセット1!$D531),\"\")","v":""}]
[null,null,null,null,null,null,null,null,null,null,null,null,{"$f":"IF(データセット1!$B532<>\"\",IF($M$1=データセット1!$B532,データセット1!$D532),\"\")","v":""},{"$f":"IF(データセット1!$B532<>\"\",IF($N$1=データセット1!$B532,データセット1!$D532),\"\")","v":""},{"$f":"IF(データセット1!$B532<>\"\",IF($O$1=データセット1!$B532,データセット1!$D532),\"\")","v":""},{"$f":"IF(データセット1!$B532<>\"\",IF($P$1=データセット1!$B532,データセット1!$D532),\"\")","v":""},{"$f":"IF(データセット1!$B532<>\"\",IF($Q$1=データセット1!$B532,データセット1!$D532),\"\")","v":""},{"$f":"IF(データセット1!$B532<>\"\",IF($R$1=データセット1!$B532,データセット1!$D532),\"\")","v":""},{"$f":"IF(データセット1!$B532<>\"\",IF($S$1=データセット1!$B532,データセット1!$D532),\"\")","v":""},{"$f":"IF(データセット1!$B532<>\"\",IF($T$1=データセット1!$B532,データセット1!$D532),\"\")","v":""},{"$f":"IF(データセット1!$B532<>\"\",IF($U$1=データセット1!$B532,データセット1!$D532),\"\")","v":""}]
[null,null,null,null,null,null,null,null,null,null,null,null,{"$f":"IF(データセット1!$B533<>\"\",IF($M$1=データセット1!$B533,データセット1!$D533),\"\")","v":""},{"$f":"IF(データセット1!$B533<>\"\",IF($N$1=データセット1!$B533,データセット1!$D533),\"\")","v":""},{"$f":"IF(データセット1!$B533<>\"\",IF($O$1=データセット1!$B533,データセット1!$D533),\"\")","v":""},{"$f":"IF(データセット1!$B533<>\"\",IF($P$1=データセット1!$B533,データセット1!$D533),\"\")","v":""},{"$f":"IF(データセット1!$B533<>\"\",IF($Q$1=データセット1!$B533,データセット1!$D533),\"\")","v":""},{"$f":"IF(データセット1!$B533<>\"\",IF($R$1=データセット1!$B533,データセット1!$D533),\"\")","v":""},{"$f":"IF(データセット1!$B533<>\"\",IF($S$1=データセット1!$B533,データセット1!$D533),\"\")","v":""},{"$f":"IF(データセット1!$B533<>\"\",IF($T$1=データセット1!$B533,データセット1!$D533),\"\")","v":""},{"$f":"IF(データセット1!$B533<>\"\",IF($U$1=データセット1!$B533,データセット1!$D533),\"\")","v":""}]
[null,null,null,null,null,null,null,null,null,null,null,null,{"$f":"IF(データセット1!$B534<>\"\",IF($M$1=データセット1!$B534,データセット1!$D534),\"\")","v":""},{"$f":"IF(データセット1!$B534<>\"\",IF($N$1=データセット1!$B534,データセット1!$D534),\"\")","v":""},{"$f":"IF(データセット1!$B534<>\"\",IF($O$1=データセット1!$B534,データセット1!$D534),\"\")","v":""},{"$f":"IF(データセット1!$B534<>\"\",IF($P$1=データセット1!$B534,データセット1!$D534),\"\")","v":""},{"$f":"IF(データセット1!$B534<>\"\",IF($Q$1=データセット1!$B534,データセット1!$D534),\"\")","v":""},{"$f":"IF(データセット1!$B534<>\"\",IF($R$1=データセット1!$B534,データセット1!$D534),\"\")","v":""},{"$f":"IF(データセット1!$B534<>\"\",IF($S$1=データセット1!$B534,データセット1!$D534),\"\")","v":""},{"$f":"IF(データセット1!$B534<>\"\",IF($T$1=データセット1!$B534,データセット1!$D534),\"\")","v":""},{"$f":"IF(データセット1!$B534<>\"\",IF($U$1=データセット1!$B534,データセット1!$D534),\"\")","v":""}]
[null,null,null,null,null,null,null,null,null,null,null,null,{"$f":"IF(データセット1!$B535<>\"\",IF($M$1=データセット1!$B535,データセット1!$D535),\"\")","v":""},{"$f":"IF(データセット1!$B535<>\"\",IF($N$1=データセット1!$B535,データセット1!$D535),\"\")","v":""},{"$f":"IF(データセット1!$B535<>\"\",IF($O$1=データセット1!$B535,データセット1!$D535),\"\")","v":""},{"$f":"IF(データセット1!$B535<>\"\",IF($P$1=データセット1!$B535,データセット1!$D535),\"\")","v":""},{"$f":"IF(データセット1!$B535<>\"\",IF($Q$1=データセット1!$B535,データセット1!$D535),\"\")","v":""},{"$f":"IF(データセット1!$B535<>\"\",IF($R$1=データセット1!$B535,データセット1!$D535),\"\")","v":""},{"$f":"IF(データセット1!$B535<>\"\",IF($S$1=データセット1!$B535,データセット1!$D535),\"\")","v":""},{"$f":"IF(データセット1!$B535<>\"\",IF($T$1=データセット1!$B535,データセット1!$D535),\"\")","v":""},{"$f":"IF(データセット1!$B535<>\"\",IF($U$1=データセット1!$B535,データセット1!$D535),\"\")","v":""}]
[null,null,null,null,null,null,null,null,null,null,null,null,{"$f":"IF(データセット1!$B536<>\"\",IF($M$1=データセット1!$B536,データセット1!$D536),\"\")","v":""},{"$f":"IF(データセット1!$B536<>\"\",IF($N$1=データセット1!$B536,データセット1!$D536),\"\")","v":""},{"$f":"IF(データセット1!$B536<>\"\",IF($O$1=データセット1!$B536,データセット1!$D536),\"\")","v":""},{"$f":"IF(データセット1!$B536<>\"\",IF($P$1=データセット1!$B536,データセット1!$D536),\"\")","v":""},{"$f":"IF(データセット1!$B536<>\"\",IF($Q$1=データセット1!$B536,データセット1!$D536),\"\")","v":""},{"$f":"IF(データセット1!$B536<>\"\",IF($R$1=データセット1!$B536,データセット1!$D536),\"\")","v":""},{"$f":"IF(データセット1!$B536<>\"\",IF($S$1=データセット1!$B536,データセット1!$D536),\"\")","v":""},{"$f":"IF(データセット1!$B536<>\"\",IF($T$1=データセット1!$B536,データセット1!$D536),\"\")","v":""},{"$f":"IF(データセット1!$B536<>\"\",IF($U$1=データセット1!$B536,データセット1!$D536),\"\")","v":""}]
[null,null,null,null,null,null,null,null,null,null,null,null,{"$f":"IF(データセット1!$B537<>\"\",IF($M$1=データセット1!$B537,データセット1!$D537),\"\")","v":""},{"$f":"IF(データセット1!$B537<>\"\",IF($N$1=データセット1!$B537,データセット1!$D537),\"\")","v":""},{"$f":"IF(データセット1!$B537<>\"\",IF($O$1=データセット1!$B537,データセット1!$D537),\"\")","v":""},{"$f":"IF(データセット1!$B537<>\"\",IF($P$1=データセット1!$B537,データセット1!$D537),\"\")","v":""},{"$f":"IF(データセット1!$B537<>\"\",IF($Q$1=データセット1!$B537,データセット1!$D537),\"\")","v":""},{"$f":"IF(データセット1!$B537<>\"\",IF($R$1=データセット1!$B537,データセット1!$D537),\"\")","v":""},{"$f":"IF(データセット1!$B537<>\"\",IF($S$1=データセット1!$B537,データセット1!$D537),\"\")","v":""},{"$f":"IF(データセット1!$B537<>\"\",IF($T$1=データセット1!$B537,データセット1!$D537),\"\")","v":""},{"$f":"IF(データセット1!$B537<>\"\",IF($U$1=データセット1!$B537,データセット1!$D537),\"\")","v":""}]
[null,null,null,null,null,null,null,null,null,null,null,null,{"$f":"IF(データセット1!$B538<>\"\",IF($M$1=データセット1!$B538,データセット1!$D538),\"\")","v":""},{"$f":"IF(データセット1!$B538<>\"\",IF($N$1=データセット1!$B538,データセット1!$D538),\"\")","v":""},{"$f":"IF(データセット1!$B538<>\"\",IF($O$1=データセット1!$B538,データセット1!$D538),\"\")","v":""},{"$f":"IF(データセット1!$B538<>\"\",IF($P$1=データセット1!$B538,データセット1!$D538),\"\")","v":""},{"$f":"IF(データセット1!$B538<>\"\",IF($Q$1=データセット1!$B538,データセット1!$D538),\"\")","v":""},{"$f":"IF(データセット1!$B538<>\"\",IF($R$1=データセット1!$B538,データセット1!$D538),\"\")","v":""},{"$f":"IF(データセット1!$B538<>\"\",IF($S$1=データセット1!$B538,データセット1!$D538),\"\")","v":""},{"$f":"IF(データセット1!$B538<>\"\",IF($T$1=データセット1!$B538,データセット1!$D538),\"\")","v":""},{"$f":"IF(データセット1!$B538<>\"\",IF($U$1=データセット1!$B538,データセット1!$D538),\"\")","v":""}]
[null,null,null,null,null,null,null,null,null,null,null,null,{"$f":"IF(データセット1!$B539<>\"\",IF($M$1=データセット1!$B539,データセット1!$D539),\"\")","v":""},{"$f":"IF(データセット1!$B539<>\"\",IF($N$1=データセット1!$B539,データセット1!$D539),\"\")","v":""},{"$f":"IF(データセット1!$B539<>\"\",IF($O$1=データセット1!$B539,データセット1!$D539),\"\")","v":""},{"$f":"IF(データセット1!$B539<>\"\",IF($P$1=データセット1!$B539,データセット1!$D539),\"\")","v":""},{"$f":"IF(データセット1!$B539<>\"\",IF($Q$1=データセット1!$B539,データセット1!$D539),\"\")","v":""},{"$f":"IF(データセット1!$B539<>\"\",IF($R$1=データセット1!$B539,データセット1!$D539),\"\")","v":""},{"$f":"IF(データセット1!$B539<>\"\",IF($S$1=データセット1!$B539,データセット1!$D539),\"\")","v":""},{"$f":"IF(データセット1!$B539<>\"\",IF($T$1=データセット1!$B539,データセット1!$D539),\"\")","v":""},{"$f":"IF(データセット1!$B539<>\"\",IF($U$1=データセット1!$B539,データセット1!$D539),\"\")","v":""}]
[null,null,null,null,null,null,null,null,null,null,null,null,{"$f":"IF(データセット1!$B540<>\"\",IF($M$1=データセット1!$B540,データセット1!$D540),\"\")","v":""},{"$f":"IF(データセット1!$B540<>\"\",IF($N$1=データセット1!$B540,データセット1!$D540),\"\")","v":""},{"$f":"IF(データセット1!$B540<>\"\",IF($O$1=データセット1!$B540,データセット1!$D540),\"\")","v":""},{"$f":"IF(データセット1!$B540<>\"\",IF($P$1=データセット1!$B540,データセット1!$D540),\"\")","v":""},{"$f":"IF(データセット1!$B540<>\"\",IF($Q$1=データセット1!$B540,データセット1!$D540),\"\")","v":""},{"$f":"IF(データセット1!$B540<>\"\",IF($R$1=データセット1!$B540,データセット1!$D540),\"\")","v":""},{"$f":"IF(データセット1!$B540<>\"\",IF($S$1=データセット1!$B540,データセット1!$D540),\"\")","v":""},{"$f":"IF(データセット1!$B540<>\"\",IF($T$1=データセット1!$B540,データセット1!$D540),\"\")","v":""},{"$f":"IF(データセット1!$B540<>\"\",IF($U$1=データセット1!$B540,データセット1!$D540),\"\")","v":""}]
[null,null,null,null,null,null,null,null,null,null,null,null,{"$f":"IF(データセット1!$B541<>\"\",IF($M$1=データセット1!$B541,データセット1!$D541),\"\")","v":""},{"$f":"IF(データセット1!$B541<>\"\",IF($N$1=データセット1!$B541,データセット1!$D541),\"\")","v":""},{"$f":"IF(データセット1!$B541<>\"\",IF($O$1=データセット1!$B541,データセット1!$D541),\"\")","v":""},{"$f":"IF(データセット1!$B541<>\"\",IF($P$1=データセット1!$B541,データセット1!$D541),\"\")","v":""},{"$f":"IF(データセット1!$B541<>\"\",IF($Q$1=データセット1!$B541,データセット1!$D541),\"\")","v":""},{"$f":"IF(データセット1!$B541<>\"\",IF($R$1=データセット1!$B541,データセット1!$D541),\"\")","v":""},{"$f":"IF(データセット1!$B541<>\"\",IF($S$1=データセット1!$B541,データセット1!$D541),\"\")","v":""},{"$f":"IF(データセット1!$B541<>\"\",IF($T$1=データセット1!$B541,データセット1!$D541),\"\")","v":""},{"$f":"IF(データセット1!$B541<>\"\",IF($U$1=データセット1!$B541,データセット1!$D541),\"\")","v":""}]
[null,null,null,null,null,null,null,null,null,null,null,null,{"$f":"IF(データセット1!$B542<>\"\",IF($M$1=データセット1!$B542,データセット1!$D542),\"\")","v":""},{"$f":"IF(データセット1!$B542<>\"\",IF($N$1=データセット1!$B542,データセット1!$D542),\"\")","v":""},{"$f":"IF(データセット1!$B542<>\"\",IF($O$1=データセット1!$B542,データセット1!$D542),\"\")","v":""},{"$f":"IF(データセット1!$B542<>\"\",IF($P$1=データセット1!$B542,データセット1!$D542),\"\")","v":""},{"$f":"IF(データセット1!$B542<>\"\",IF($Q$1=データセット1!$B542,データセット1!$D542),\"\")","v":""},{"$f":"IF(データセット1!$B542<>\"\",IF($R$1=データセット1!$B542,データセット1!$D542),\"\")","v":""},{"$f":"IF(データセット1!$B542<>\"\",IF($S$1=データセット1!$B542,データセット1!$D542),\"\")","v":""},{"$f":"IF(データセット1!$B542<>\"\",IF($T$1=データセット1!$B542,データセット1!$D542),\"\")","v":""},{"$f":"IF(データセット1!$B542<>\"\",IF($U$1=データセット1!$B542,データセット1!$D542),\"\")","v":""}]
[null,null,null,null,null,null,null,null,null,null,null,null,{"$f":"IF(データセット1!$B543<>\"\",IF($M$1=データセット1!$B543,データセット1!$D543),\"\")","v":""},{"$f":"IF(データセット1!$B543<>\"\",IF($N$1=データセット1!$B543,データセット1!$D543),\"\")","v":""},{"$f":"IF(データセット1!$B543<>\"\",IF($O$1=データセット1!$B543,データセット1!$D543),\"\")","v":""},{"$f":"IF(データセット1!$B543<>\"\",IF($P$1=データセット1!$B543,データセット1!$D543),\"\")","v":""},{"$f":"IF(データセット1!$B543<>\"\",IF($Q$1=データセット1!$B543,データセット1!$D543),\"\")","v":""},{"$f":"IF(データセット1!$B543<>\"\",IF($R$1=データセット1!$B543,データセット1!$D543),\"\")","v":""},{"$f":"IF(データセット1!$B543<>\"\",IF($S$1=データセット1!$B543,データセット1!$D543),\"\")","v":""},{"$f":"IF(データセット1!$B543<>\"\",IF($T$1=データセット1!$B543,データセット1!$D543),\"\")","v":""},{"$f":"IF(データセット1!$B543<>\"\",IF($U$1=データセット1!$B543,データセット1!$D543),\"\")","v":""}]
[null,null,null,null,null,null,null,null,null,null,null,null,{"$f":"IF(データセット1!$B544<>\"\",IF($M$1=データセット1!$B544,データセット1!$D544),\"\")","v":""},{"$f":"IF(データセット1!$B544<>\"\",IF($N$1=データセット1!$B544,データセット1!$D544),\"\")","v":""},{"$f":"IF(データセット1!$B544<>\"\",IF($O$1=データセット1!$B544,データセット1!$D544),\"\")","v":""},{"$f":"IF(データセット1!$B544<>\"\",IF($P$1=データセット1!$B544,データセット1!$D544),\"\")","v":""},{"$f":"IF(データセット1!$B544<>\"\",IF($Q$1=データセット1!$B544,データセット1!$D544),\"\")","v":""},{"$f":"IF(データセット1!$B544<>\"\",IF($R$1=データセット1!$B544,データセット1!$D544),\"\")","v":""},{"$f":"IF(データセット1!$B544<>\"\",IF($S$1=データセット1!$B544,データセット1!$D544),\"\")","v":""},{"$f":"IF(データセット1!$B544<>\"\",IF($T$1=データセット1!$B544,データセット1!$D544),\"\")","v":""},{"$f":"IF(データセット1!$B544<>\"\",IF($U$1=データセット1!$B544,データセット1!$D544),\"\")","v":""}]
[null,null,null,null,null,null,null,null,null,null,null,null,{"$f":"IF(データセット1!$B545<>\"\",IF($M$1=データセット1!$B545,データセット1!$D545),\"\")","v":""},{"$f":"IF(データセット1!$B545<>\"\",IF($N$1=データセット1!$B545,データセット1!$D545),\"\")","v":""},{"$f":"IF(データセット1!$B545<>\"\",IF($O$1=データセット1!$B545,データセット1!$D545),\"\")","v":""},{"$f":"IF(データセット1!$B545<>\"\",IF($P$1=データセット1!$B545,データセット1!$D545),\"\")","v":""},{"$f":"IF(データセット1!$B545<>\"\",IF($Q$1=データセット1!$B545,データセット1!$D545),\"\")","v":""},{"$f":"IF(データセット1!$B545<>\"\",IF($R$1=データセット1!$B545,データセット1!$D545),\"\")","v":""},{"$f":"IF(データセット1!$B545<>\"\",IF($S$1=データセット1!$B545,データセット1!$D545),\"\")","v":""},{"$f":"IF(データセット1!$B545<>\"\",IF($T$1=データセット1!$B545,データセット1!$D545),\"\")","v":""},{"$f":"IF(データセット1!$B545<>\"\",IF($U$1=データセット1!$B545,データセット1!$D545),\"\")","v":""}]
[null,null,null,null,null,null,null,null,null,null,null,null,{"$f":"IF(データセット1!$B546<>\"\",IF($M$1=データセット1!$B546,データセット1!$D546),\"\")","v":""},{"$f":"IF(データセット1!$B546<>\"\",IF($N$1=データセット1!$B546,データセット1!$D546),\"\")","v":""},{"$f":"IF(データセット1!$B546<>\"\",IF($O$1=データセット1!$B546,データセット1!$D546),\"\")","v":""},{"$f":"IF(データセット1!$B546<>\"\",IF($P$1=データセット1!$B546,データセット1!$D546),\"\")","v":""},{"$f":"IF(データセット1!$B546<>\"\",IF($Q$1=データセット1!$B546,データセット1!$D546),\"\")","v":""},{"$f":"IF(データセット1!$B546<>\"\",IF($R$1=データセット1!$B546,データセット1!$D546),\"\")","v":""},{"$f":"IF(データセット1!$B546<>\"\",IF($S$1=データセット1!$B546,データセット1!$D546),\"\")","v":""},{"$f":"IF(データセット1!$B546<>\"\",IF($T$1=データセット1!$B546,データセット1!$D546),\"\")","v":""},{"$f":"IF(データセット1!$B546<>\"\",IF($U$1=データセット1!$B546,データセット1!$D546),\"\")","v":""}]
[null,null,null,null,null,null,null,null,null,null,null,null,{"$f":"IF(データセット1!$B547<>\"\",IF($M$1=データセット1!$B547,データセット1!$D547),\"\")","v":""},{"$f":"IF(データセット1!$B547<>\"\",IF($N$1=データセット1!$B547,データセット1!$D547),\"\")","v":""},{"$f":"IF(データセット1!$B547<>\"\",IF($O$1=データセット1!$B547,データセット1!$D547),\"\")","v":""},{"$f":"IF(データセット1!$B547<>\"\",IF($P$1=データセット1!$B547,データセット1!$D547),\"\")","v":""},{"$f":"IF(データセット1!$B547<>\"\",IF($Q$1=データセット1!$B547,データセット1!$D547),\"\")","v":""},{"$f":"IF(データセット1!$B547<>\"\",IF($R$1=データセット1!$B547,データセット1!$D547),\"\")","v":""},{"$f":"IF(データセット1!$B547<>\"\",IF($S$1=データセット1!$B547,データセット1!$D547),\"\")","v":""},{"$f":"IF(データセット1!$B547<>\"\",IF($T$1=データセット1!$B547,データセット1!$D547),\"\")","v":""},{"$f":"IF(データセット1!$B547<>\"\",IF($U$1=データセット1!$B547,データセット1!$D547),\"\")","v":""}]
[null,null,null,null,null,null,null,null,null,null,null,null,{"$f":"IF(データセット1!$B548<>\"\",IF($M$1=データセット1!$B548,データセット1!$D548),\"\")","v":""},{"$f":"IF(データセット1!$B548<>\"\",IF($N$1=データセット1!$B548,データセット1!$D548),\"\")","v":""},{"$f":"IF(データセット1!$B548<>\"\",IF($O$1=データセット1!$B548,データセット1!$D548),\"\")","v":""},{"$f":"IF(データセット1!$B548<>\"\",IF($P$1=データセット1!$B548,データセット1!$D548),\"\")","v":""},{"$f":"IF(データセット1!$B548<>\"\",IF($Q$1=データセット1!$B548,データセット1!$D548),\"\")","v":""},{"$f":"IF(データセット1!$B548<>\"\",IF($R$1=データセット1!$B548,データセット1!$D548),\"\")","v":""},{"$f":"IF(データセット1!$B548<>\"\",IF($S$1=データセット1!$B548,データセット1!$D548),\"\")","v":""},{"$f":"IF(データセット1!$B548<>\"\",IF($T$1=データセット1!$B548,データセット1!$D548),\"\")","v":""},{"$f":"IF(データセット1!$B548<>\"\",IF($U$1=データセット1!$B548,データセット1!$D548),\"\")","v":""}]
[null,null,null,null,null,null,null,null,null,null,null,null,{"$f":"IF(データセット1!$B549<>\"\",IF($M$1=データセット1!$B549,データセット1!$D549),\"\")","v":""},{"$f":"IF(データセット1!$B549<>\"\",IF($N$1=データセット1!$B549,データセット1!$D549),\"\")","v":""},{"$f":"IF(データセット1!$B549<>\"\",IF($O$1=データセット1!$B549,データセット1!$D549),\"\")","v":""},{"$f":"IF(データセット1!$B549<>\"\",IF($P$1=データセット1!$B549,データセット1!$D549),\"\")","v":""},{"$f":"IF(データセット1!$B549<>\"\",IF($Q$1=データセット1!$B549,データセット1!$D549),\"\")","v":""},{"$f":"IF(データセット1!$B549<>\"\",IF($R$1=データセット1!$B549,データセット1!$D549),\"\")","v":""},{"$f":"IF(データセット1!$B549<>\"\",IF($S$1=データセット1!$B549,データセット1!$D549),\"\")","v":""},{"$f":"IF(データセット1!$B549<>\"\",IF($T$1=データセット1!$B549,データセット1!$D549),\"\")","v":""},{"$f":"IF(データセット1!$B549<>\"\",IF($U$1=データセット1!$B549,データセット1!$D549),\"\")","v":""}]
[null,null,null,null,null,null,null,null,null,null,null,null,{"$f":"IF(データセット1!$B550<>\"\",IF($M$1=データセット1!$B550,データセット1!$D550),\"\")","v":""},{"$f":"IF(データセット1!$B550<>\"\",IF($N$1=データセット1!$B550,データセット1!$D550),\"\")","v":""},{"$f":"IF(データセット1!$B550<>\"\",IF($O$1=データセット1!$B550,データセット1!$D550),\"\")","v":""},{"$f":"IF(データセット1!$B550<>\"\",IF($P$1=データセット1!$B550,データセット1!$D550),\"\")","v":""},{"$f":"IF(データセット1!$B550<>\"\",IF($Q$1=データセット1!$B550,データセット1!$D550),\"\")","v":""},{"$f":"IF(データセット1!$B550<>\"\",IF($R$1=データセット1!$B550,データセット1!$D550),\"\")","v":""},{"$f":"IF(データセット1!$B550<>\"\",IF($S$1=データセット1!$B550,データセット1!$D550),\"\")","v":""},{"$f":"IF(データセット1!$B550<>\"\",IF($T$1=データセット1!$B550,データセット1!$D550),\"\")","v":""},{"$f":"IF(データセット1!$B550<>\"\",IF($U$1=データセット1!$B550,データセット1!$D550),\"\")","v":""}]
[null,null,null,null,null,null,null,null,null,null,null,null,{"$f":"IF(データセット1!$B551<>\"\",IF($M$1=データセット1!$B551,データセット1!$D551),\"\")","v":""},{"$f":"IF(データセット1!$B551<>\"\",IF($N$1=データセット1!$B551,データセット1!$D551),\"\")","v":""},{"$f":"IF(データセット1!$B551<>\"\",IF($O$1=データセット1!$B551,データセット1!$D551),\"\")","v":""},{"$f":"IF(データセット1!$B551<>\"\",IF($P$1=データセット1!$B551,データセット1!$D551),\"\")","v":""},{"$f":"IF(データセット1!$B551<>\"\",IF($Q$1=データセット1!$B551,データセット1!$D551),\"\")","v":""},{"$f":"IF(データセット1!$B551<>\"\",IF($R$1=データセット1!$B551,データセット1!$D551),\"\")","v":""},{"$f":"IF(データセット1!$B551<>\"\",IF($S$1=データセット1!$B551,データセット1!$D551),\"\")","v":""},{"$f":"IF(データセット1!$B551<>\"\",IF($T$1=データセット1!$B551,データセット1!$D551),\"\")","v":""},{"$f":"IF(データセット1!$B551<>\"\",IF($U$1=データセット1!$B551,データセット1!$D551),\"\")","v":""}]
[null,null,null,null,null,null,null,null,null,null,null,null,{"$f":"IF(データセット1!$B552<>\"\",IF($M$1=データセット1!$B552,データセット1!$D552),\"\")","v":""},{"$f":"IF(データセット1!$B552<>\"\",IF($N$1=データセット1!$B552,データセット1!$D552),\"\")","v":""},{"$f":"IF(データセット1!$B552<>\"\",IF($O$1=データセット1!$B552,データセット1!$D552),\"\")","v":""},{"$f":"IF(データセット1!$B552<>\"\",IF($P$1=データセット1!$B552,データセット1!$D552),\"\")","v":""},{"$f":"IF(データセット1!$B552<>\"\",IF($Q$1=データセット1!$B552,データセット1!$D552),\"\")","v":""},{"$f":"IF(データセット1!$B552<>\"\",IF($R$1=データセット1!$B552,データセット1!$D552),\"\")","v":""},{"$f":"IF(データセット1!$B552<>\"\",IF($S$1=データセット1!$B552,データセット1!$D552),\"\")","v":""},{"$f":"IF(データセット1!$B552<>\"\",IF($T$1=データセット1!$B552,データセット1!$D552),\"\")","v":""},{"$f":"IF(データセット1!$B552<>\"\",IF($U$1=データセット1!$B552,データセット1!$D552),\"\")","v":""}]
[null,null,null,null,null,null,null,null,null,null,null,null,{"$f":"IF(データセット1!$B553<>\"\",IF($M$1=データセット1!$B553,データセット1!$D553),\"\")","v":""},{"$f":"IF(データセット1!$B553<>\"\",IF($N$1=データセット1!$B553,データセット1!$D553),\"\")","v":""},{"$f":"IF(データセット1!$B553<>\"\",IF($O$1=データセット1!$B553,データセット1!$D553),\"\")","v":""},{"$f":"IF(データセット1!$B553<>\"\",IF($P$1=データセット1!$B553,データセット1!$D553),\"\")","v":""},{"$f":"IF(データセット1!$B553<>\"\",IF($Q$1=データセット1!$B553,データセット1!$D553),\"\")","v":""},{"$f":"IF(データセット1!$B553<>\"\",IF($R$1=データセット1!$B553,データセット1!$D553),\"\")","v":""},{"$f":"IF(データセット1!$B553<>\"\",IF($S$1=データセット1!$B553,データセット1!$D553),\"\")","v":""},{"$f":"IF(データセット1!$B553<>\"\",IF($T$1=データセット1!$B553,データセット1!$D553),\"\")","v":""},{"$f":"IF(データセット1!$B553<>\"\",IF($U$1=データセット1!$B553,データセット1!$D553),\"\")","v":""}]
[null,null,null,null,null,null,null,null,null,null,null,null,{"$f":"IF(データセット1!$B554<>\"\",IF($M$1=データセット1!$B554,データセット1!$D554),\"\")","v":""},{"$f":"IF(データセット1!$B554<>\"\",IF($N$1=データセット1!$B554,データセット1!$D554),\"\")","v":""},{"$f":"IF(データセット1!$B554<>\"\",IF($O$1=データセット1!$B554,データセット1!$D554),\"\")","v":""},{"$f":"IF(データセット1!$B554<>\"\",IF($P$1=データセット1!$B554,データセット1!$D554),\"\")","v":""},{"$f":"IF(データセット1!$B554<>\"\",IF($Q$1=データセット1!$B554,データセット1!$D554),\"\")","v":""},{"$f":"IF(データセット1!$B554<>\"\",IF($R$1=データセット1!$B554,データセット1!$D554),\"\")","v":""},{"$f":"IF(データセット1!$B554<>\"\",IF($S$1=データセット1!$B554,データセット1!$D554),\"\")","v":""},{"$f":"IF(データセット1!$B554<>\"\",IF($T$1=データセット1!$B554,データセット1!$D554),\"\")","v":""},{"$f":"IF(データセット1!$B554<>\"\",IF($U$1=データセット1!$B554,データセット1!$D554),\"\")","v":""}]
[null,null,null,null,null,null,null,null,null,null,null,null,{"$f":"IF(データセット1!$B555<>\"\",IF($M$1=データセット1!$B555,データセット1!$D555),\"\")","v":""},{"$f":"IF(データセット1!$B555<>\"\",IF($N$1=データセット1!$B555,データセット1!$D555),\"\")","v":""},{"$f":"IF(データセット1!$B555<>\"\",IF($O$1=データセット1!$B555,データセット1!$D555),\"\")","v":""},{"$f":"IF(データセット1!$B555<>\"\",IF($P$1=データセット1!$B555,データセット1!$D555),\"\")","v":""},{"$f":"IF(データセット1!$B555<>\"\",IF($Q$1=データセット1!$B555,データセット1!$D555),\"\")","v":""},{"$f":"IF(データセット1!$B555<>\"\",IF($R$1=データセット1!$B555,データセット1!$D555),\"\")","v":""},{"$f":"IF(データセット1!$B555<>\"\",IF($S$1=データセット1!$B555,データセット1!$D555),\"\")","v":""},{"$f":"IF(データセット1!$B555<>\"\",IF($T$1=データセット1!$B555,データセット1!$D555),\"\")","v":""},{"$f":"IF(データセット1!$B555<>\"\",IF($U$1=データセット1!$B555,データセット1!$D555),\"\")","v":""}]
[null,null,null,null,null,null,null,null,null,null,null,null,{"$f":"IF(データセット1!$B556<>\"\",IF($M$1=データセット1!$B556,データセット1!$D556),\"\")","v":""},{"$f":"IF(データセット1!$B556<>\"\",IF($N$1=データセット1!$B556,データセット1!$D556),\"\")","v":""},{"$f":"IF(データセット1!$B556<>\"\",IF($O$1=データセット1!$B556,データセット1!$D556),\"\")","v":""},{"$f":"IF(データセット1!$B556<>\"\",IF($P$1=データセット1!$B556,データセット1!$D556),\"\")","v":""},{"$f":"IF(データセット1!$B556<>\"\",IF($Q$1=データセット1!$B556,データセット1!$D556),\"\")","v":""},{"$f":"IF(データセット1!$B556<>\"\",IF($R$1=データセット1!$B556,データセット1!$D556),\"\")","v":""},{"$f":"IF(データセット1!$B556<>\"\",IF($S$1=データセット1!$B556,データセット1!$D556),\"\")","v":""},{"$f":"IF(データセット1!$B556<>\"\",IF($T$1=データセット1!$B556,データセット1!$D556),\"\")","v":""},{"$f":"IF(データセット1!$B556<>\"\",IF($U$1=データセット1!$B556,データセット1!$D556),\"\")","v":""}]
[null,null,null,null,null,null,null,null,null,null,null,null,{"$f":"IF(データセット1!$B557<>\"\",IF($M$1=データセット1!$B557,データセット1!$D557),\"\")","v":""},{"$f":"IF(データセット1!$B557<>\"\",IF($N$1=データセット1!$B557,データセット1!$D557),\"\")","v":""},{"$f":"IF(データセット1!$B557<>\"\",IF($O$1=データセット1!$B557,データセット1!$D557),\"\")","v":""},{"$f":"IF(データセット1!$B557<>\"\",IF($P$1=データセット1!$B557,データセット1!$D557),\"\")","v":""},{"$f":"IF(データセット1!$B557<>\"\",IF($Q$1=データセット1!$B557,データセット1!$D557),\"\")","v":""},{"$f":"IF(データセット1!$B557<>\"\",IF($R$1=データセット1!$B557,データセット1!$D557),\"\")","v":""},{"$f":"IF(データセット1!$B557<>\"\",IF($S$1=データセット1!$B557,データセット1!$D557),\"\")","v":""},{"$f":"IF(データセット1!$B557<>\"\",IF($T$1=データセット1!$B557,データセット1!$D557),\"\")","v":""},{"$f":"IF(データセット1!$B557<>\"\",IF($U$1=データセット1!$B557,データセット1!$D557),\"\")","v":""}]
[null,null,null,null,null,null,null,null,null,null,null,null,{"$f":"IF(データセット1!$B558<>\"\",IF($M$1=データセット1!$B558,データセット1!$D558),\"\")","v":""},{"$f":"IF(データセット1!$B558<>\"\",IF($N$1=データセット1!$B558,データセット1!$D558),\"\")","v":""},{"$f":"IF(データセット1!$B558<>\"\",IF($O$1=データセット1!$B558,データセット1!$D558),\"\")","v":""},{"$f":"IF(データセット1!$B558<>\"\",IF($P$1=データセット1!$B558,データセット1!$D558),\"\")","v":""},{"$f":"IF(データセット1!$B558<>\"\",IF($Q$1=データセット1!$B558,データセット1!$D558),\"\")","v":""},{"$f":"IF(データセット1!$B558<>\"\",IF($R$1=データセット1!$B558,データセット1!$D558),\"\")","v":""},{"$f":"IF(データセット1!$B558<>\"\",IF($S$1=データセット1!$B558,データセット1!$D558),\"\")","v":""},{"$f":"IF(データセット1!$B558<>\"\",IF($T$1=データセット1!$B558,データセット1!$D558),\"\")","v":""},{"$f":"IF(データセット1!$B558<>\"\",IF($U$1=データセット1!$B558,データセット1!$D558),\"\")","v":""}]
[null,null,null,null,null,null,null,null,null,null,null,null,{"$f":"IF(データセット1!$B559<>\"\",IF($M$1=データセット1!$B559,データセット1!$D559),\"\")","v":""},{"$f":"IF(データセット1!$B559<>\"\",IF($N$1=データセット1!$B559,データセット1!$D559),\"\")","v":""},{"$f":"IF(データセット1!$B559<>\"\",IF($O$1=データセット1!$B559,データセット1!$D559),\"\")","v":""},{"$f":"IF(データセット1!$B559<>\"\",IF($P$1=データセット1!$B559,データセット1!$D559),\"\")","v":""},{"$f":"IF(データセット1!$B559<>\"\",IF($Q$1=データセット1!$B559,データセット1!$D559),\"\")","v":""},{"$f":"IF(データセット1!$B559<>\"\",IF($R$1=データセット1!$B559,データセット1!$D559),\"\")","v":""},{"$f":"IF(データセット1!$B559<>\"\",IF($S$1=データセット1!$B559,データセット1!$D559),\"\")","v":""},{"$f":"IF(データセット1!$B559<>\"\",IF($T$1=データセット1!$B559,データセット1!$D559),\"\")","v":""},{"$f":"IF(データセット1!$B559<>\"\",IF($U$1=データセット1!$B559,データセット1!$D559),\"\")","v":""}]
[null,null,null,null,null,null,null,null,null,null,null,null,{"$f":"IF(データセット1!$B560<>\"\",IF($M$1=データセット1!$B560,データセット1!$D560),\"\")","v":""},{"$f":"IF(データセット1!$B560<>\"\",IF($N$1=データセット1!$B560,データセット1!$D560),\"\")","v":""},{"$f":"IF(データセット1!$B560<>\"\",IF($O$1=データセット1!$B560,データセット1!$D560),\"\")","v":""},{"$f":"IF(データセット1!$B560<>\"\",IF($P$1=データセット1!$B560,データセット1!$D560),\"\")","v":""},{"$f":"IF(データセット1!$B560<>\"\",IF($Q$1=データセット1!$B560,データセット1!$D560),\"\")","v":""},{"$f":"IF(データセット1!$B560<>\"\",IF($R$1=データセット1!$B560,データセット1!$D560),\"\")","v":""},{"$f":"IF(データセット1!$B560<>\"\",IF($S$1=データセット1!$B560,データセット1!$D560),\"\")","v":""},{"$f":"IF(データセット1!$B560<>\"\",IF($T$1=データセット1!$B560,データセット1!$D560),\"\")","v":""},{"$f":"IF(データセット1!$B560<>\"\",IF($U$1=データセット1!$B560,データセット1!$D560),\"\")","v":""}]
[null,null,null,null,null,null,null,null,null,null,null,null,{"$f":"IF(データセット1!$B561<>\"\",IF($M$1=データセット1!$B561,データセット1!$D561),\"\")","v":""},{"$f":"IF(データセット1!$B561<>\"\",IF($N$1=データセット1!$B561,データセット1!$D561),\"\")","v":""},{"$f":"IF(データセット1!$B561<>\"\",IF($O$1=データセット1!$B561,データセット1!$D561),\"\")","v":""},{"$f":"IF(データセット1!$B561<>\"\",IF($P$1=データセット1!$B561,データセット1!$D561),\"\")","v":""},{"$f":"IF(データセット1!$B561<>\"\",IF($Q$1=データセット1!$B561,データセット1!$D561),\"\")","v":""},{"$f":"IF(データセット1!$B561<>\"\",IF($R$1=データセット1!$B561,データセット1!$D561),\"\")","v":""},{"$f":"IF(データセット1!$B561<>\"\",IF($S$1=データセット1!$B561,データセット1!$D561),\"\")","v":""},{"$f":"IF(データセット1!$B561<>\"\",IF($T$1=データセット1!$B561,データセット1!$D561),\"\")","v":""},{"$f":"IF(データセット1!$B561<>\"\",IF($U$1=データセット1!$B561,データセット1!$D561),\"\")","v":""}]
[null,null,null,null,null,null,null,null,null,null,null,null,{"$f":"IF(データセット1!$B562<>\"\",IF($M$1=データセット1!$B562,データセット1!$D562),\"\")","v":""},{"$f":"IF(データセット1!$B562<>\"\",IF($N$1=データセット1!$B562,データセット1!$D562),\"\")","v":""},{"$f":"IF(データセット1!$B562<>\"\",IF($O$1=データセット1!$B562,データセット1!$D562),\"\")","v":""},{"$f":"IF(データセット1!$B562<>\"\",IF($P$1=データセット1!$B562,データセット1!$D562),\"\")","v":""},{"$f":"IF(データセット1!$B562<>\"\",IF($Q$1=データセット1!$B562,データセット1!$D562),\"\")","v":""},{"$f":"IF(データセット1!$B562<>\"\",IF($R$1=データセット1!$B562,データセット1!$D562),\"\")","v":""},{"$f":"IF(データセット1!$B562<>\"\",IF($S$1=データセット1!$B562,データセット1!$D562),\"\")","v":""},{"$f":"IF(データセット1!$B562<>\"\",IF($T$1=データセット1!$B562,データセット1!$D562),\"\")","v":""},{"$f":"IF(データセット1!$B562<>\"\",IF($U$1=データセット1!$B562,データセット1!$D562),\"\")","v":""}]
[null,null,null,null,null,null,null,null,null,null,null,null,{"$f":"IF(データセット1!$B563<>\"\",IF($M$1=データセット1!$B563,データセット1!$D563),\"\")","v":""},{"$f":"IF(データセット1!$B563<>\"\",IF($N$1=データセット1!$B563,データセット1!$D563),\"\")","v":""},{"$f":"IF(データセット1!$B563<>\"\",IF($O$1=データセット1!$B563,データセット1!$D563),\"\")","v":""},{"$f":"IF(データセット1!$B563<>\"\",IF($P$1=データセット1!$B563,データセット1!$D563),\"\")","v":""},{"$f":"IF(データセット1!$B563<>\"\",IF($Q$1=データセット1!$B563,データセット1!$D563),\"\")","v":""},{"$f":"IF(データセット1!$B563<>\"\",IF($R$1=データセット1!$B563,データセット1!$D563),\"\")","v":""},{"$f":"IF(データセット1!$B563<>\"\",IF($S$1=データセット1!$B563,データセット1!$D563),\"\")","v":""},{"$f":"IF(データセット1!$B563<>\"\",IF($T$1=データセット1!$B563,データセット1!$D563),\"\")","v":""},{"$f":"IF(データセット1!$B563<>\"\",IF($U$1=データセット1!$B563,データセット1!$D563),\"\")","v":""}]
[null,null,null,null,null,null,null,null,null,null,null,null,{"$f":"IF(データセット1!$B564<>\"\",IF($M$1=データセット1!$B564,データセット1!$D564),\"\")","v":""},{"$f":"IF(データセット1!$B564<>\"\",IF($N$1=データセット1!$B564,データセット1!$D564),\"\")","v":""},{"$f":"IF(データセット1!$B564<>\"\",IF($O$1=データセット1!$B564,データセット1!$D564),\"\")","v":""},{"$f":"IF(データセット1!$B564<>\"\",IF($P$1=データセット1!$B564,データセット1!$D564),\"\")","v":""},{"$f":"IF(データセット1!$B564<>\"\",IF($Q$1=データセット1!$B564,データセット1!$D564),\"\")","v":""},{"$f":"IF(データセット1!$B564<>\"\",IF($R$1=データセット1!$B564,データセット1!$D564),\"\")","v":""},{"$f":"IF(データセット1!$B564<>\"\",IF($S$1=データセット1!$B564,データセット1!$D564),\"\")","v":""},{"$f":"IF(データセット1!$B564<>\"\",IF($T$1=データセット1!$B564,データセット1!$D564),\"\")","v":""},{"$f":"IF(データセット1!$B564<>\"\",IF($U$1=データセット1!$B564,データセット1!$D564),\"\")","v":""}]
[null,null,null,null,null,null,null,null,null,null,null,null,{"$f":"IF(データセット1!$B565<>\"\",IF($M$1=データセット1!$B565,データセット1!$D565),\"\")","v":""},{"$f":"IF(データセット1!$B565<>\"\",IF($N$1=データセット1!$B565,データセット1!$D565),\"\")","v":""},{"$f":"IF(データセット1!$B565<>\"\",IF($O$1=データセット1!$B565,データセット1!$D565),\"\")","v":""},{"$f":"IF(データセット1!$B565<>\"\",IF($P$1=データセット1!$B565,データセット1!$D565),\"\")","v":""},{"$f":"IF(データセット1!$B565<>\"\",IF($Q$1=データセット1!$B565,データセット1!$D565),\"\")","v":""},{"$f":"IF(データセット1!$B565<>\"\",IF($R$1=データセット1!$B565,データセット1!$D565),\"\")","v":""},{"$f":"IF(データセット1!$B565<>\"\",IF($S$1=データセット1!$B565,データセット1!$D565),\"\")","v":""},{"$f":"IF(データセット1!$B565<>\"\",IF($T$1=データセット1!$B565,データセット1!$D565),\"\")","v":""},{"$f":"IF(データセット1!$B565<>\"\",IF($U$1=データセット1!$B565,データセット1!$D565),\"\")","v":""}]
[null,null,null,null,null,null,null,null,null,null,null,null,{"$f":"IF(データセット1!$B566<>\"\",IF($M$1=データセット1!$B566,データセット1!$D566),\"\")","v":""},{"$f":"IF(データセット1!$B566<>\"\",IF($N$1=データセット1!$B566,データセット1!$D566),\"\")","v":""},{"$f":"IF(データセット1!$B566<>\"\",IF($O$1=データセット1!$B566,データセット1!$D566),\"\")","v":""},{"$f":"IF(データセット1!$B566<>\"\",IF($P$1=データセット1!$B566,データセット1!$D566),\"\")","v":""},{"$f":"IF(データセット1!$B566<>\"\",IF($Q$1=データセット1!$B566,データセット1!$D566),\"\")","v":""},{"$f":"IF(データセット1!$B566<>\"\",IF($R$1=データセット1!$B566,データセット1!$D566),\"\")","v":""},{"$f":"IF(データセット1!$B566<>\"\",IF($S$1=データセット1!$B566,データセット1!$D566),\"\")","v":""},{"$f":"IF(データセット1!$B566<>\"\",IF($T$1=データセット1!$B566,データセット1!$D566),\"\")","v":""},{"$f":"IF(データセット1!$B566<>\"\",IF($U$1=データセット1!$B566,データセット1!$D566),\"\")","v":""}]
[null,null,null,null,null,null,null,null,null,null,null,null,{"$f":"IF(データセット1!$B567<>\"\",IF($M$1=データセット1!$B567,データセット1!$D567),\"\")","v":""},{"$f":"IF(データセット1!$B567<>\"\",IF($N$1=データセット1!$B567,データセット1!$D567),\"\")","v":""},{"$f":"IF(データセット1!$B567<>\"\",IF($O$1=データセット1!$B567,データセット1!$D567),\"\")","v":""},{"$f":"IF(データセット1!$B567<>\"\",IF($P$1=データセット1!$B567,データセット1!$D567),\"\")","v":""},{"$f":"IF(データセット1!$B567<>\"\",IF($Q$1=データセット1!$B567,データセット1!$D567),\"\")","v":""},{"$f":"IF(データセット1!$B567<>\"\",IF($R$1=データセット1!$B567,データセット1!$D567),\"\")","v":""},{"$f":"IF(データセット1!$B567<>\"\",IF($S$1=データセット1!$B567,データセット1!$D567),\"\")","v":""},{"$f":"IF(データセット1!$B567<>\"\",IF($T$1=データセット1!$B567,データセット1!$D567),\"\")","v":""},{"$f":"IF(データセット1!$B567<>\"\",IF($U$1=データセット1!$B567,データセット1!$D567),\"\")","v":""}]
[null,null,null,null,null,null,null,null,null,null,null,null,{"$f":"IF(データセット1!$B568<>\"\",IF($M$1=データセット1!$B568,データセット1!$D568),\"\")","v":""},{"$f":"IF(データセット1!$B568<>\"\",IF($N$1=データセット1!$B568,データセット1!$D568),\"\")","v":""},{"$f":"IF(データセット1!$B568<>\"\",IF($O$1=データセット1!$B568,データセット1!$D568),\"\")","v":""},{"$f":"IF(データセット1!$B568<>\"\",IF($P$1=データセット1!$B568,データセット1!$D568),\"\")","v":""},{"$f":"IF(データセット1!$B568<>\"\",IF($Q$1=データセット1!$B568,データセット1!$D568),\"\")","v":""},{"$f":"IF(データセット1!$B568<>\"\",IF($R$1=データセット1!$B568,データセット1!$D568),\"\")","v":""},{"$f":"IF(データセット1!$B568<>\"\",IF($S$1=データセット1!$B568,データセット1!$D568),\"\")","v":""},{"$f":"IF(データセット1!$B568<>\"\",IF($T$1=データセット1!$B568,データセット1!$D568),\"\")","v":""},{"$f":"IF(データセット1!$B568<>\"\",IF($U$1=データセット1!$B568,データセット1!$D568),\"\")","v":""}]
[null,null,null,null,null,null,null,null,null,null,null,null,{"$f":"IF(データセット1!$B569<>\"\",IF($M$1=データセット1!$B569,データセット1!$D569),\"\")","v":""},{"$f":"IF(データセット1!$B569<>\"\",IF($N$1=データセット1!$B569,データセット1!$D569),\"\")","v":""},{"$f":"IF(データセット1!$B569<>\"\",IF($O$1=データセット1!$B569,データセット1!$D569),\"\")","v":""},{"$f":"IF(データセット1!$B569<>\"\",IF($P$1=データセット1!$B569,データセット1!$D569),\"\")","v":""},{"$f":"IF(データセット1!$B569<>\"\",IF($Q$1=データセット1!$B569,データセット1!$D569),\"\")","v":""},{"$f":"IF(データセット1!$B569<>\"\",IF($R$1=データセット1!$B569,データセット1!$D569),\"\")","v":""},{"$f":"IF(データセット1!$B569<>\"\",IF($S$1=データセット1!$B569,データセット1!$D569),\"\")","v":""},{"$f":"IF(データセット1!$B569<>\"\",IF($T$1=データセット1!$B569,データセット1!$D569),\"\")","v":""},{"$f":"IF(データセット1!$B569<>\"\",IF($U$1=データセット1!$B569,データセット1!$D569),\"\")","v":""}]
[null,null,null,null,null,null,null,null,null,null,null,null,{"$f":"IF(データセット1!$B570<>\"\",IF($M$1=データセット1!$B570,データセット1!$D570),\"\")","v":""},{"$f":"IF(データセット1!$B570<>\"\",IF($N$1=データセット1!$B570,データセット1!$D570),\"\")","v":""},{"$f":"IF(データセット1!$B570<>\"\",IF($O$1=データセット1!$B570,データセット1!$D570),\"\")","v":""},{"$f":"IF(データセット1!$B570<>\"\",IF($P$1=データセット1!$B570,データセット1!$D570),\"\")","v":""},{"$f":"IF(データセット1!$B570<>\"\",IF($Q$1=データセット1!$B570,データセット1!$D570),\"\")","v":""},{"$f":"IF(データセット1!$B570<>\"\",IF($R$1=データセット1!$B570,データセット1!$D570),\"\")","v":""},{"$f":"IF(データセット1!$B570<>\"\",IF($S$1=データセット1!$B570,データセット1!$D570),\"\")","v":""},{"$f":"IF(データセット1!$B570<>\"\",IF($T$1=データセット1!$B570,データセット1!$D570),\"\")","v":""},{"$f":"IF(データセット1!$B570<>\"\",IF($U$1=データセット1!$B570,データセット1!$D570),\"\")","v":""}]
[null,null,null,null,null,null,null,null,null,null,null,null,{"$f":"IF(データセット1!$B571<>\"\",IF($M$1=データセット1!$B571,データセット1!$D571),\"\")","v":""},{"$f":"IF(データセット1!$B571<>\"\",IF($N$1=データセット1!$B571,データセット1!$D571),\"\")","v":""},{"$f":"IF(データセット1!$B571<>\"\",IF($O$1=データセット1!$B571,データセット1!$D571),\"\")","v":""},{"$f":"IF(データセット1!$B571<>\"\",IF($P$1=データセット1!$B571,データセット1!$D571),\"\")","v":""},{"$f":"IF(データセット1!$B571<>\"\",IF($Q$1=データセット1!$B571,データセット1!$D571),\"\")","v":""},{"$f":"IF(データセット1!$B571<>\"\",IF($R$1=データセット1!$B571,データセット1!$D571),\"\")","v":""},{"$f":"IF(データセット1!$B571<>\"\",IF($S$1=データセット1!$B571,データセット1!$D571),\"\")","v":""},{"$f":"IF(データセット1!$B571<>\"\",IF($T$1=データセット1!$B571,データセット1!$D571),\"\")","v":""},{"$f":"IF(データセット1!$B571<>\"\",IF($U$1=データセット1!$B571,データセット1!$D571),\"\")","v":""}]
[null,null,null,null,null,null,null,null,null,null,null,null,{"$f":"IF(データセット1!$B572<>\"\",IF($M$1=データセット1!$B572,データセット1!$D572),\"\")","v":""},{"$f":"IF(データセット1!$B572<>\"\",IF($N$1=データセット1!$B572,データセット1!$D572),\"\")","v":""},{"$f":"IF(データセット1!$B572<>\"\",IF($O$1=データセット1!$B572,データセット1!$D572),\"\")","v":""},{"$f":"IF(データセット1!$B572<>\"\",IF($P$1=データセット1!$B572,データセット1!$D572),\"\")","v":""},{"$f":"IF(データセット1!$B572<>\"\",IF($Q$1=データセット1!$B572,データセット1!$D572),\"\")","v":""},{"$f":"IF(データセット1!$B572<>\"\",IF($R$1=データセット1!$B572,データセット1!$D572),\"\")","v":""},{"$f":"IF(データセット1!$B572<>\"\",IF($S$1=データセット1!$B572,データセット1!$D572),\"\")","v":""},{"$f":"IF(データセット1!$B572<>\"\",IF($T$1=データセット1!$B572,データセット1!$D572),\"\")","v":""},{"$f":"IF(データセット1!$B572<>\"\",IF($U$1=データセット1!$B572,データセット1!$D572),\"\")","v":""}]
[null,null,null,null,null,null,null,null,null,null,null,null,{"$f":"IF(データセット1!$B573<>\"\",IF($M$1=データセット1!$B573,データセット1!$D573),\"\")","v":""},{"$f":"IF(データセット1!$B573<>\"\",IF($N$1=データセット1!$B573,データセット1!$D573),\"\")","v":""},{"$f":"IF(データセット1!$B573<>\"\",IF($O$1=データセット1!$B573,データセット1!$D573),\"\")","v":""},{"$f":"IF(データセット1!$B573<>\"\",IF($P$1=データセット1!$B573,データセット1!$D573),\"\")","v":""},{"$f":"IF(データセット1!$B573<>\"\",IF($Q$1=データセット1!$B573,データセット1!$D573),\"\")","v":""},{"$f":"IF(データセット1!$B573<>\"\",IF($R$1=データセット1!$B573,データセット1!$D573),\"\")","v":""},{"$f":"IF(データセット1!$B573<>\"\",IF($S$1=データセット1!$B573,データセット1!$D573),\"\")","v":""},{"$f":"IF(データセット1!$B573<>\"\",IF($T$1=データセット1!$B573,データセット1!$D573),\"\")","v":""},{"$f":"IF(データセット1!$B573<>\"\",IF($U$1=データセット1!$B573,データセット1!$D573),\"\")","v":""}]
[null,null,null,null,null,null,null,null,null,null,null,null,{"$f":"IF(データセット1!$B574<>\"\",IF($M$1=データセット1!$B574,データセット1!$D574),\"\")","v":""},{"$f":"IF(データセット1!$B574<>\"\",IF($N$1=データセット1!$B574,データセット1!$D574),\"\")","v":""},{"$f":"IF(データセット1!$B574<>\"\",IF($O$1=データセット1!$B574,データセット1!$D574),\"\")","v":""},{"$f":"IF(データセット1!$B574<>\"\",IF($P$1=データセット1!$B574,データセット1!$D574),\"\")","v":""},{"$f":"IF(データセット1!$B574<>\"\",IF($Q$1=データセット1!$B574,データセット1!$D574),\"\")","v":""},{"$f":"IF(データセット1!$B574<>\"\",IF($R$1=データセット1!$B574,データセット1!$D574),\"\")","v":""},{"$f":"IF(データセット1!$B574<>\"\",IF($S$1=データセット1!$B574,データセット1!$D574),\"\")","v":""},{"$f":"IF(データセット1!$B574<>\"\",IF($T$1=データセット1!$B574,データセット1!$D574),\"\")","v":""},{"$f":"IF(データセット1!$B574<>\"\",IF($U$1=データセット1!$B574,データセット1!$D574),\"\")","v":""}]
[null,null,null,null,null,null,null,null,null,null,null,null,{"$f":"IF(データセット1!$B575<>\"\",IF($M$1=データセット1!$B575,データセット1!$D575),\"\")","v":""},{"$f":"IF(データセット1!$B575<>\"\",IF($N$1=データセット1!$B575,データセット1!$D575),\"\")","v":""},{"$f":"IF(データセット1!$B575<>\"\",IF($O$1=データセット1!$B575,データセット1!$D575),\"\")","v":""},{"$f":"IF(データセット1!$B575<>\"\",IF($P$1=データセット1!$B575,データセット1!$D575),\"\")","v":""},{"$f":"IF(データセット1!$B575<>\"\",IF($Q$1=データセット1!$B575,データセット1!$D575),\"\")","v":""},{"$f":"IF(データセット1!$B575<>\"\",IF($R$1=データセット1!$B575,データセット1!$D575),\"\")","v":""},{"$f":"IF(データセット1!$B575<>\"\",IF($S$1=データセット1!$B575,データセット1!$D575),\"\")","v":""},{"$f":"IF(データセット1!$B575<>\"\",IF($T$1=データセット1!$B575,データセット1!$D575),\"\")","v":""},{"$f":"IF(データセット1!$B575<>\"\",IF($U$1=データセット1!$B575,データセット1!$D575),\"\")","v":""}]
[null,null,null,null,null,null,null,null,null,null,null,null,{"$f":"IF(データセット1!$B576<>\"\",IF($M$1=データセット1!$B576,データセット1!$D576),\"\")","v":""},{"$f":"IF(データセット1!$B576<>\"\",IF($N$1=データセット1!$B576,データセット1!$D576),\"\")","v":""},{"$f":"IF(データセット1!$B576<>\"\",IF($O$1=データセット1!$B576,データセット1!$D576),\"\")","v":""},{"$f":"IF(データセット1!$B576<>\"\",IF($P$1=データセット1!$B576,データセット1!$D576),\"\")","v":""},{"$f":"IF(データセット1!$B576<>\"\",IF($Q$1=データセット1!$B576,データセット1!$D576),\"\")","v":""},{"$f":"IF(データセット1!$B576<>\"\",IF($R$1=データセット1!$B576,データセット1!$D576),\"\")","v":""},{"$f":"IF(データセット1!$B576<>\"\",IF($S$1=データセット1!$B576,データセット1!$D576),\"\")","v":""},{"$f":"IF(データセット1!$B576<>\"\",IF($T$1=データセット1!$B576,データセット1!$D576),\"\")","v":""},{"$f":"IF(データセット1!$B576<>\"\",IF($U$1=データセット1!$B576,データセット1!$D576),\"\")","v":""}]
[null,null,null,null,null,null,null,null,null,null,null,null,{"$f":"IF(データセット1!$B577<>\"\",IF($M$1=データセット1!$B577,データセット1!$D577),\"\")","v":""},{"$f":"IF(データセット1!$B577<>\"\",IF($N$1=データセット1!$B577,データセット1!$D577),\"\")","v":""},{"$f":"IF(データセット1!$B577<>\"\",IF($O$1=データセット1!$B577,データセット1!$D577),\"\")","v":""},{"$f":"IF(データセット1!$B577<>\"\",IF($P$1=データセット1!$B577,データセット1!$D577),\"\")","v":""},{"$f":"IF(データセット1!$B577<>\"\",IF($Q$1=データセット1!$B577,データセット1!$D577),\"\")","v":""},{"$f":"IF(データセット1!$B577<>\"\",IF($R$1=データセット1!$B577,データセット1!$D577),\"\")","v":""},{"$f":"IF(データセット1!$B577<>\"\",IF($S$1=データセット1!$B577,データセット1!$D577),\"\")","v":""},{"$f":"IF(データセット1!$B577<>\"\",IF($T$1=データセット1!$B577,データセット1!$D577),\"\")","v":""},{"$f":"IF(データセット1!$B577<>\"\",IF($U$1=データセット1!$B577,データセット1!$D577),\"\")","v":""}]
[null,null,null,null,null,null,null,null,null,null,null,null,{"$f":"IF(データセット1!$B578<>\"\",IF($M$1=データセット1!$B578,データセット1!$D578),\"\")","v":""},{"$f":"IF(データセット1!$B578<>\"\",IF($N$1=データセット1!$B578,データセット1!$D578),\"\")","v":""},{"$f":"IF(データセット1!$B578<>\"\",IF($O$1=データセット1!$B578,データセット1!$D578),\"\")","v":""},{"$f":"IF(データセット1!$B578<>\"\",IF($P$1=データセット1!$B578,データセット1!$D578),\"\")","v":""},{"$f":"IF(データセット1!$B578<>\"\",IF($Q$1=データセット1!$B578,データセット1!$D578),\"\")","v":""},{"$f":"IF(データセット1!$B578<>\"\",IF($R$1=データセット1!$B578,データセット1!$D578),\"\")","v":""},{"$f":"IF(データセット1!$B578<>\"\",IF($S$1=データセット1!$B578,データセット1!$D578),\"\")","v":""},{"$f":"IF(データセット1!$B578<>\"\",IF($T$1=データセット1!$B578,データセット1!$D578),\"\")","v":""},{"$f":"IF(データセット1!$B578<>\"\",IF($U$1=データセット1!$B578,データセット1!$D578),\"\")","v":""}]
[null,null,null,null,null,null,null,null,null,null,null,null,{"$f":"IF(データセット1!$B579<>\"\",IF($M$1=データセット1!$B579,データセット1!$D579),\"\")","v":""},{"$f":"IF(データセット1!$B579<>\"\",IF($N$1=データセット1!$B579,データセット1!$D579),\"\")","v":""},{"$f":"IF(データセット1!$B579<>\"\",IF($O$1=データセット1!$B579,データセット1!$D579),\"\")","v":""},{"$f":"IF(データセット1!$B579<>\"\",IF($P$1=データセット1!$B579,データセット1!$D579),\"\")","v":""},{"$f":"IF(データセット1!$B579<>\"\",IF($Q$1=データセット1!$B579,データセット1!$D579),\"\")","v":""},{"$f":"IF(データセット1!$B579<>\"\",IF($R$1=データセット1!$B579,データセット1!$D579),\"\")","v":""},{"$f":"IF(データセット1!$B579<>\"\",IF($S$1=データセット1!$B579,データセット1!$D579),\"\")","v":""},{"$f":"IF(データセット1!$B579<>\"\",IF($T$1=データセット1!$B579,データセット1!$D579),\"\")","v":""},{"$f":"IF(データセット1!$B579<>\"\",IF($U$1=データセット1!$B579,データセット1!$D579),\"\")","v":""}]
[null,null,null,null,null,null,null,null,null,null,null,null,{"$f":"IF(データセット1!$B580<>\"\",IF($M$1=データセット1!$B580,データセット1!$D580),\"\")","v":""},{"$f":"IF(データセット1!$B580<>\"\",IF($N$1=データセット1!$B580,データセット1!$D580),\"\")","v":""},{"$f":"IF(データセット1!$B580<>\"\",IF($O$1=データセット1!$B580,データセット1!$D580),\"\")","v":""},{"$f":"IF(データセット1!$B580<>\"\",IF($P$1=データセット1!$B580,データセット1!$D580),\"\")","v":""},{"$f":"IF(データセット1!$B580<>\"\",IF($Q$1=データセット1!$B580,データセット1!$D580),\"\")","v":""},{"$f":"IF(データセット1!$B580<>\"\",IF($R$1=データセット1!$B580,データセット1!$D580),\"\")","v":""},{"$f":"IF(データセット1!$B580<>\"\",IF($S$1=データセット1!$B580,データセット1!$D580),\"\")","v":""},{"$f":"IF(データセット1!$B580<>\"\",IF($T$1=データセット1!$B580,データセット1!$D580),\"\")","v":""},{"$f":"IF(データセット1!$B580<>\"\",IF($U$1=データセット1!$B580,データセット1!$D580),\"\")","v":""}]
[null,null,null,null,null,null,null,null,null,null,null,null,{"$f":"IF(データセット1!$B581<>\"\",IF($M$1=データセット1!$B581,データセット1!$D581),\"\")","v":""},{"$f":"IF(データセット1!$B581<>\"\",IF($N$1=データセット1!$B581,データセット1!$D581),\"\")","v":""},{"$f":"IF(データセット1!$B581<>\"\",IF($O$1=データセット1!$B581,データセット1!$D581),\"\")","v":""},{"$f":"IF(データセット1!$B581<>\"\",IF($P$1=データセット1!$B581,データセット1!$D581),\"\")","v":""},{"$f":"IF(データセット1!$B581<>\"\",IF($Q$1=データセット1!$B581,データセット1!$D581),\"\")","v":""},{"$f":"IF(データセット1!$B581<>\"\",IF($R$1=データセット1!$B581,データセット1!$D581),\"\")","v":""},{"$f":"IF(データセット1!$B581<>\"\",IF($S$1=データセット1!$B581,データセット1!$D581),\"\")","v":""},{"$f":"IF(データセット1!$B581<>\"\",IF($T$1=データセット1!$B581,データセット1!$D581),\"\")","v":""},{"$f":"IF(データセット1!$B581<>\"\",IF($U$1=データセット1!$B581,データセット1!$D581),\"\")","v":""}]
[null,null,null,null,null,null,null,null,null,null,null,null,{"$f":"IF(データセット1!$B582<>\"\",IF($M$1=データセット1!$B582,データセット1!$D582),\"\")","v":""},{"$f":"IF(データセット1!$B582<>\"\",IF($N$1=データセット1!$B582,データセット1!$D582),\"\")","v":""},{"$f":"IF(データセット1!$B582<>\"\",IF($O$1=データセット1!$B582,データセット1!$D582),\"\")","v":""},{"$f":"IF(データセット1!$B582<>\"\",IF($P$1=データセット1!$B582,データセット1!$D582),\"\")","v":""},{"$f":"IF(データセット1!$B582<>\"\",IF($Q$1=データセット1!$B582,データセット1!$D582),\"\")","v":""},{"$f":"IF(データセット1!$B582<>\"\",IF($R$1=データセット1!$B582,データセット1!$D582),\"\")","v":""},{"$f":"IF(データセット1!$B582<>\"\",IF($S$1=データセット1!$B582,データセット1!$D582),\"\")","v":""},{"$f":"IF(データセット1!$B582<>\"\",IF($T$1=データセット1!$B582,データセット1!$D582),\"\")","v":""},{"$f":"IF(データセット1!$B582<>\"\",IF($U$1=データセット1!$B582,データセット1!$D582),\"\")","v":""}]
[null,null,null,null,null,null,null,null,null,null,null,null,{"$f":"IF(データセット1!$B583<>\"\",IF($M$1=データセット1!$B583,データセット1!$D583),\"\")","v":""},{"$f":"IF(データセット1!$B583<>\"\",IF($N$1=データセット1!$B583,データセット1!$D583),\"\")","v":""},{"$f":"IF(データセット1!$B583<>\"\",IF($O$1=データセット1!$B583,データセット1!$D583),\"\")","v":""},{"$f":"IF(データセット1!$B583<>\"\",IF($P$1=データセット1!$B583,データセット1!$D583),\"\")","v":""},{"$f":"IF(データセット1!$B583<>\"\",IF($Q$1=データセット1!$B583,データセット1!$D583),\"\")","v":""},{"$f":"IF(データセット1!$B583<>\"\",IF($R$1=データセット1!$B583,データセット1!$D583),\"\")","v":""},{"$f":"IF(データセット1!$B583<>\"\",IF($S$1=データセット1!$B583,データセット1!$D583),\"\")","v":""},{"$f":"IF(データセット1!$B583<>\"\",IF($T$1=データセット1!$B583,データセット1!$D583),\"\")","v":""},{"$f":"IF(データセット1!$B583<>\"\",IF($U$1=データセット1!$B583,データセット1!$D583),\"\")","v":""}]
[null,null,null,null,null,null,null,null,null,null,null,null,{"$f":"IF(データセット1!$B584<>\"\",IF($M$1=データセット1!$B584,データセット1!$D584),\"\")","v":""},{"$f":"IF(データセット1!$B584<>\"\",IF($N$1=データセット1!$B584,データセット1!$D584),\"\")","v":""},{"$f":"IF(データセット1!$B584<>\"\",IF($O$1=データセット1!$B584,データセット1!$D584),\"\")","v":""},{"$f":"IF(データセット1!$B584<>\"\",IF($P$1=データセット1!$B584,データセット1!$D584),\"\")","v":""},{"$f":"IF(データセット1!$B584<>\"\",IF($Q$1=データセット1!$B584,データセット1!$D584),\"\")","v":""},{"$f":"IF(データセット1!$B584<>\"\",IF($R$1=データセット1!$B584,データセット1!$D584),\"\")","v":""},{"$f":"IF(データセット1!$B584<>\"\",IF($S$1=データセット1!$B584,データセット1!$D584),\"\")","v":""},{"$f":"IF(データセット1!$B584<>\"\",IF($T$1=データセット1!$B584,データセット1!$D584),\"\")","v":""},{"$f":"IF(データセット1!$B584<>\"\",IF($U$1=データセット1!$B584,データセット1!$D584),\"\")","v":""}]
[null,null,null,null,null,null,null,null,null,null,null,null,{"$f":"IF(データセット1!$B585<>\"\",IF($M$1=データセット1!$B585,データセット1!$D585),\"\")","v":""},{"$f":"IF(データセット1!$B585<>\"\",IF($N$1=データセット1!$B585,データセット1!$D585),\"\")","v":""},{"$f":"IF(データセット1!$B585<>\"\",IF($O$1=データセット1!$B585,データセット1!$D585),\"\")","v":""},{"$f":"IF(データセット1!$B585<>\"\",IF($P$1=データセット1!$B585,データセット1!$D585),\"\")","v":""},{"$f":"IF(データセット1!$B585<>\"\",IF($Q$1=データセット1!$B585,データセット1!$D585),\"\")","v":""},{"$f":"IF(データセット1!$B585<>\"\",IF($R$1=データセット1!$B585,データセット1!$D585),\"\")","v":""},{"$f":"IF(データセット1!$B585<>\"\",IF($S$1=データセット1!$B585,データセット1!$D585),\"\")","v":""},{"$f":"IF(データセット1!$B585<>\"\",IF($T$1=データセット1!$B585,データセット1!$D585),\"\")","v":""},{"$f":"IF(データセット1!$B585<>\"\",IF($U$1=データセット1!$B585,データセット1!$D585),\"\")","v":""}]
[null,null,null,null,null,null,null,null,null,null,null,null,{"$f":"IF(データセット1!$B586<>\"\",IF($M$1=データセット1!$B586,データセット1!$D586),\"\")","v":""},{"$f":"IF(データセット1!$B586<>\"\",IF($N$1=データセット1!$B586,データセット1!$D586),\"\")","v":""},{"$f":"IF(データセット1!$B586<>\"\",IF($O$1=データセット1!$B586,データセット1!$D586),\"\")","v":""},{"$f":"IF(データセット1!$B586<>\"\",IF($P$1=データセット1!$B586,データセット1!$D586),\"\")","v":""},{"$f":"IF(データセット1!$B586<>\"\",IF($Q$1=データセット1!$B586,データセット1!$D586),\"\")","v":""},{"$f":"IF(データセット1!$B586<>\"\",IF($R$1=データセット1!$B586,データセット1!$D586),\"\")","v":""},{"$f":"IF(データセット1!$B586<>\"\",IF($S$1=データセット1!$B586,データセット1!$D586),\"\")","v":""},{"$f":"IF(データセット1!$B586<>\"\",IF($T$1=データセット1!$B586,データセット1!$D586),\"\")","v":""},{"$f":"IF(データセット1!$B586<>\"\",IF($U$1=データセット1!$B586,データセット1!$D586),\"\")","v":""}]
[null,null,null,null,null,null,null,null,null,null,null,null,{"$f":"IF(データセット1!$B587<>\"\",IF($M$1=データセット1!$B587,データセット1!$D587),\"\")","v":""},{"$f":"IF(データセット1!$B587<>\"\",IF($N$1=データセット1!$B587,データセット1!$D587),\"\")","v":""},{"$f":"IF(データセット1!$B587<>\"\",IF($O$1=データセット1!$B587,データセット1!$D587),\"\")","v":""},{"$f":"IF(データセット1!$B587<>\"\",IF($P$1=データセット1!$B587,データセット1!$D587),\"\")","v":""},{"$f":"IF(データセット1!$B587<>\"\",IF($Q$1=データセット1!$B587,データセット1!$D587),\"\")","v":""},{"$f":"IF(データセット1!$B587<>\"\",IF($R$1=データセット1!$B587,データセット1!$D587),\"\")","v":""},{"$f":"IF(データセット1!$B587<>\"\",IF($S$1=データセット1!$B587,データセット1!$D587),\"\")","v":""},{"$f":"IF(データセット1!$B587<>\"\",IF($T$1=データセット1!$B587,データセット1!$D587),\"\")","v":""},{"$f":"IF(データセット1!$B587<>\"\",IF($U$1=データセット1!$B587,データセット1!$D587),\"\")","v":""}]
[null,null,null,null,null,null,null,null,null,null,null,null,{"$f":"IF(データセット1!$B588<>\"\",IF($M$1=データセット1!$B588,データセット1!$D588),\"\")","v":""},{"$f":"IF(データセット1!$B588<>\"\",IF($N$1=データセット1!$B588,データセット1!$D588),\"\")","v":""},{"$f":"IF(データセット1!$B588<>\"\",IF($O$1=データセット1!$B588,データセット1!$D588),\"\")","v":""},{"$f":"IF(データセット1!$B588<>\"\",IF($P$1=データセット1!$B588,データセット1!$D588),\"\")","v":""},{"$f":"IF(データセット1!$B588<>\"\",IF($Q$1=データセット1!$B588,データセット1!$D588),\"\")","v":""},{"$f":"IF(データセット1!$B588<>\"\",IF($R$1=データセット1!$B588,データセット1!$D588),\"\")","v":""},{"$f":"IF(データセット1!$B588<>\"\",IF($S$1=データセット1!$B588,データセット1!$D588),\"\")","v":""},{"$f":"IF(データセット1!$B588<>\"\",IF($T$1=データセット1!$B588,データセット1!$D588),\"\")","v":""},{"$f":"IF(データセット1!$B588<>\"\",IF($U$1=データセット1!$B588,データセット1!$D588),\"\")","v":""}]
[null,null,null,null,null,null,null,null,null,null,null,null,{"$f":"IF(データセット1!$B589<>\"\",IF($M$1=データセット1!$B589,データセット1!$D589),\"\")","v":""},{"$f":"IF(データセット1!$B589<>\"\",IF($N$1=データセット1!$B589,データセット1!$D589),\"\")","v":""},{"$f":"IF(データセット1!$B589<>\"\",IF($O$1=データセット1!$B589,データセット1!$D589),\"\")","v":""},{"$f":"IF(データセット1!$B589<>\"\",IF($P$1=データセット1!$B589,データセット1!$D589),\"\")","v":""},{"$f":"IF(データセット1!$B589<>\"\",IF($Q$1=データセット1!$B589,データセット1!$D589),\"\")","v":""},{"$f":"IF(データセット1!$B589<>\"\",IF($R$1=データセット1!$B589,データセット1!$D589),\"\")","v":""},{"$f":"IF(データセット1!$B589<>\"\",IF($S$1=データセット1!$B589,データセット1!$D589),\"\")","v":""},{"$f":"IF(データセット1!$B589<>\"\",IF($T$1=データセット1!$B589,データセット1!$D589),\"\")","v":""},{"$f":"IF(データセット1!$B589<>\"\",IF($U$1=データセット1!$B589,データセット1!$D589),\"\")","v":""}]
[null,null,null,null,null,null,null,null,null,null,null,null,{"$f":"IF(データセット1!$B590<>\"\",IF($M$1=データセット1!$B590,データセット1!$D590),\"\")","v":""},{"$f":"IF(データセット1!$B590<>\"\",IF($N$1=データセット1!$B590,データセット1!$D590),\"\")","v":""},{"$f":"IF(データセット1!$B590<>\"\",IF($O$1=データセット1!$B590,データセット1!$D590),\"\")","v":""},{"$f":"IF(データセット1!$B590<>\"\",IF($P$1=データセット1!$B590,データセット1!$D590),\"\")","v":""},{"$f":"IF(データセット1!$B590<>\"\",IF($Q$1=データセット1!$B590,データセット1!$D590),\"\")","v":""},{"$f":"IF(データセット1!$B590<>\"\",IF($R$1=データセット1!$B590,データセット1!$D590),\"\")","v":""},{"$f":"IF(データセット1!$B590<>\"\",IF($S$1=データセット1!$B590,データセット1!$D590),\"\")","v":""},{"$f":"IF(データセット1!$B590<>\"\",IF($T$1=データセット1!$B590,データセット1!$D590),\"\")","v":""},{"$f":"IF(データセット1!$B590<>\"\",IF($U$1=データセット1!$B590,データセット1!$D590),\"\")","v":""}]
[null,null,null,null,null,null,null,null,null,null,null,null,{"$f":"IF(データセット1!$B591<>\"\",IF($M$1=データセット1!$B591,データセット1!$D591),\"\")","v":""},{"$f":"IF(データセット1!$B591<>\"\",IF($N$1=データセット1!$B591,データセット1!$D591),\"\")","v":""},{"$f":"IF(データセット1!$B591<>\"\",IF($O$1=データセット1!$B591,データセット1!$D591),\"\")","v":""},{"$f":"IF(データセット1!$B591<>\"\",IF($P$1=データセット1!$B591,データセット1!$D591),\"\")","v":""},{"$f":"IF(データセット1!$B591<>\"\",IF($Q$1=データセット1!$B591,データセット1!$D591),\"\")","v":""},{"$f":"IF(データセット1!$B591<>\"\",IF($R$1=データセット1!$B591,データセット1!$D591),\"\")","v":""},{"$f":"IF(データセット1!$B591<>\"\",IF($S$1=データセット1!$B591,データセット1!$D591),\"\")","v":""},{"$f":"IF(データセット1!$B591<>\"\",IF($T$1=データセット1!$B591,データセット1!$D591),\"\")","v":""},{"$f":"IF(データセット1!$B591<>\"\",IF($U$1=データセット1!$B591,データセット1!$D591),\"\")","v":""}]
[null,null,null,null,null,null,null,null,null,null,null,null,{"$f":"IF(データセット1!$B592<>\"\",IF($M$1=データセット1!$B592,データセット1!$D592),\"\")","v":""},{"$f":"IF(データセット1!$B592<>\"\",IF($N$1=データセット1!$B592,データセット1!$D592),\"\")","v":""},{"$f":"IF(データセット1!$B592<>\"\",IF($O$1=データセット1!$B592,データセット1!$D592),\"\")","v":""},{"$f":"IF(データセット1!$B592<>\"\",IF($P$1=データセット1!$B592,データセット1!$D592),\"\")","v":""},{"$f":"IF(データセット1!$B592<>\"\",IF($Q$1=データセット1!$B592,データセット1!$D592),\"\")","v":""},{"$f":"IF(データセット1!$B592<>\"\",IF($R$1=データセット1!$B592,データセット1!$D592),\"\")","v":""},{"$f":"IF(データセット1!$B592<>\"\",IF($S$1=データセット1!$B592,データセット1!$D592),\"\")","v":""},{"$f":"IF(データセット1!$B592<>\"\",IF($T$1=データセット1!$B592,データセット1!$D592),\"\")","v":""},{"$f":"IF(データセット1!$B592<>\"\",IF($U$1=データセット1!$B592,データセット1!$D592),\"\")","v":""}]
[null,null,null,null,null,null,null,null,null,null,null,null,{"$f":"IF(データセット1!$B593<>\"\",IF($M$1=データセット1!$B593,データセット1!$D593),\"\")","v":""},{"$f":"IF(データセット1!$B593<>\"\",IF($N$1=データセット1!$B593,データセット1!$D593),\"\")","v":""},{"$f":"IF(データセット1!$B593<>\"\",IF($O$1=データセット1!$B593,データセット1!$D593),\"\")","v":""},{"$f":"IF(データセット1!$B593<>\"\",IF($P$1=データセット1!$B593,データセット1!$D593),\"\")","v":""},{"$f":"IF(データセット1!$B593<>\"\",IF($Q$1=データセット1!$B593,データセット1!$D593),\"\")","v":""},{"$f":"IF(データセット1!$B593<>\"\",IF($R$1=データセット1!$B593,データセット1!$D593),\"\")","v":""},{"$f":"IF(データセット1!$B593<>\"\",IF($S$1=データセット1!$B593,データセット1!$D593),\"\")","v":""},{"$f":"IF(データセット1!$B593<>\"\",IF($T$1=データセット1!$B593,データセット1!$D593),\"\")","v":""},{"$f":"IF(データセット1!$B593<>\"\",IF($U$1=データセット1!$B593,データセット1!$D593),\"\")","v":""}]
[null,null,null,null,null,null,null,null,null,null,null,null,{"$f":"IF(データセット1!$B594<>\"\",IF($M$1=データセット1!$B594,データセット1!$D594),\"\")","v":""},{"$f":"IF(データセット1!$B594<>\"\",IF($N$1=データセット1!$B594,データセット1!$D594),\"\")","v":""},{"$f":"IF(データセット1!$B594<>\"\",IF($O$1=データセット1!$B594,データセット1!$D594),\"\")","v":""},{"$f":"IF(データセット1!$B594<>\"\",IF($P$1=データセット1!$B594,データセット1!$D594),\"\")","v":""},{"$f":"IF(データセット1!$B594<>\"\",IF($Q$1=データセット1!$B594,データセット1!$D594),\"\")","v":""},{"$f":"IF(データセット1!$B594<>\"\",IF($R$1=データセット1!$B594,データセット1!$D594),\"\")","v":""},{"$f":"IF(データセット1!$B594<>\"\",IF($S$1=データセット1!$B594,データセット1!$D594),\"\")","v":""},{"$f":"IF(データセット1!$B594<>\"\",IF($T$1=データセット1!$B594,データセット1!$D594),\"\")","v":""},{"$f":"IF(データセット1!$B594<>\"\",IF($U$1=データセット1!$B594,データセット1!$D594),\"\")","v":""}]
[null,null,null,null,null,null,null,null,null,null,null,null,{"$f":"IF(データセット1!$B595<>\"\",IF($M$1=データセット1!$B595,データセット1!$D595),\"\")","v":""},{"$f":"IF(データセット1!$B595<>\"\",IF($N$1=データセット1!$B595,データセット1!$D595),\"\")","v":""},{"$f":"IF(データセット1!$B595<>\"\",IF($O$1=データセット1!$B595,データセット1!$D595),\"\")","v":""},{"$f":"IF(データセット1!$B595<>\"\",IF($P$1=データセット1!$B595,データセット1!$D595),\"\")","v":""},{"$f":"IF(データセット1!$B595<>\"\",IF($Q$1=データセット1!$B595,データセット1!$D595),\"\")","v":""},{"$f":"IF(データセット1!$B595<>\"\",IF($R$1=データセット1!$B595,データセット1!$D595),\"\")","v":""},{"$f":"IF(データセット1!$B595<>\"\",IF($S$1=データセット1!$B595,データセット1!$D595),\"\")","v":""},{"$f":"IF(データセット1!$B595<>\"\",IF($T$1=データセット1!$B595,データセット1!$D595),\"\")","v":""},{"$f":"IF(データセット1!$B595<>\"\",IF($U$1=データセット1!$B595,データセット1!$D595),\"\")","v":""}]
[null,null,null,null,null,null,null,null,null,null,null,null,{"$f":"IF(データセット1!$B596<>\"\",IF($M$1=データセット1!$B596,データセット1!$D596),\"\")","v":""},{"$f":"IF(データセット1!$B596<>\"\",IF($N$1=データセット1!$B596,データセット1!$D596),\"\")","v":""},{"$f":"IF(データセット1!$B596<>\"\",IF($O$1=データセット1!$B596,データセット1!$D596),\"\")","v":""},{"$f":"IF(データセット1!$B596<>\"\",IF($P$1=データセット1!$B596,データセット1!$D596),\"\")","v":""},{"$f":"IF(データセット1!$B596<>\"\",IF($Q$1=データセット1!$B596,データセット1!$D596),\"\")","v":""},{"$f":"IF(データセット1!$B596<>\"\",IF($R$1=データセット1!$B596,データセット1!$D596),\"\")","v":""},{"$f":"IF(データセット1!$B596<>\"\",IF($S$1=データセット1!$B596,データセット1!$D596),\"\")","v":""},{"$f":"IF(データセット1!$B596<>\"\",IF($T$1=データセット1!$B596,データセット1!$D596),\"\")","v":""},{"$f":"IF(データセット1!$B596<>\"\",IF($U$1=データセット1!$B596,データセット1!$D596),\"\")","v":""}]
[null,null,null,null,null,null,null,null,null,null,null,null,{"$f":"IF(データセット1!$B597<>\"\",IF($M$1=データセット1!$B597,データセット1!$D597),\"\")","v":""},{"$f":"IF(データセット1!$B597<>\"\",IF($N$1=データセット1!$B597,データセット1!$D597),\"\")","v":""},{"$f":"IF(データセット1!$B597<>\"\",IF($O$1=データセット1!$B597,データセット1!$D597),\"\")","v":""},{"$f":"IF(データセット1!$B597<>\"\",IF($P$1=データセット1!$B597,データセット1!$D597),\"\")","v":""},{"$f":"IF(データセット1!$B597<>\"\",IF($Q$1=データセット1!$B597,データセット1!$D597),\"\")","v":""},{"$f":"IF(データセット1!$B597<>\"\",IF($R$1=データセット1!$B597,データセット1!$D597),\"\")","v":""},{"$f":"IF(データセット1!$B597<>\"\",IF($S$1=データセット1!$B597,データセット1!$D597),\"\")","v":""},{"$f":"IF(データセット1!$B597<>\"\",IF($T$1=データセット1!$B597,データセット1!$D597),\"\")","v":""},{"$f":"IF(データセット1!$B597<>\"\",IF($U$1=データセット1!$B597,データセット1!$D597),\"\")","v":""}]
[null,null,null,null,null,null,null,null,null,null,null,null,{"$f":"IF(データセット1!$B598<>\"\",IF($M$1=データセット1!$B598,データセット1!$D598),\"\")","v":""},{"$f":"IF(データセット1!$B598<>\"\",IF($N$1=データセット1!$B598,データセット1!$D598),\"\")","v":""},{"$f":"IF(データセット1!$B598<>\"\",IF($O$1=データセット1!$B598,データセット1!$D598),\"\")","v":""},{"$f":"IF(データセット1!$B598<>\"\",IF($P$1=データセット1!$B598,データセット1!$D598),\"\")","v":""},{"$f":"IF(データセット1!$B598<>\"\",IF($Q$1=データセット1!$B598,データセット1!$D598),\"\")","v":""},{"$f":"IF(データセット1!$B598<>\"\",IF($R$1=データセット1!$B598,データセット1!$D598),\"\")","v":""},{"$f":"IF(データセット1!$B598<>\"\",IF($S$1=データセット1!$B598,データセット1!$D598),\"\")","v":""},{"$f":"IF(データセット1!$B598<>\"\",IF($T$1=データセット1!$B598,データセット1!$D598),\"\")","v":""},{"$f":"IF(データセット1!$B598<>\"\",IF($U$1=データセット1!$B598,データセット1!$D598),\"\")","v":""}]
[null,null,null,null,null,null,null,null,null,null,null,null,{"$f":"IF(データセット1!$B599<>\"\",IF($M$1=データセット1!$B599,データセット1!$D599),\"\")","v":""},{"$f":"IF(データセット1!$B599<>\"\",IF($N$1=データセット1!$B599,データセット1!$D599),\"\")","v":""},{"$f":"IF(データセット1!$B599<>\"\",IF($O$1=データセット1!$B599,データセット1!$D599),\"\")","v":""},{"$f":"IF(データセット1!$B599<>\"\",IF($P$1=データセット1!$B599,データセット1!$D599),\"\")","v":""},{"$f":"IF(データセット1!$B599<>\"\",IF($Q$1=データセット1!$B599,データセット1!$D599),\"\")","v":""},{"$f":"IF(データセット1!$B599<>\"\",IF($R$1=データセット1!$B599,データセット1!$D599),\"\")","v":""},{"$f":"IF(データセット1!$B599<>\"\",IF($S$1=データセット1!$B599,データセット1!$D599),\"\")","v":""},{"$f":"IF(データセット1!$B599<>\"\",IF($T$1=データセット1!$B599,データセット1!$D599),\"\")","v":""},{"$f":"IF(データセット1!$B599<>\"\",IF($U$1=データセット1!$B599,データセット1!$D599),\"\")","v":""}]
[null,null,null,null,null,null,null,null,null,null,null,null,{"$f":"IF(データセット1!$B600<>\"\",IF($M$1=データセット1!$B600,データセット1!$D600),\"\")","v":""},{"$f":"IF(データセット1!$B600<>\"\",IF($N$1=データセット1!$B600,データセット1!$D600),\"\")","v":""},{"$f":"IF(データセット1!$B600<>\"\",IF($O$1=データセット1!$B600,データセット1!$D600),\"\")","v":""},{"$f":"IF(データセット1!$B600<>\"\",IF($P$1=データセット1!$B600,データセット1!$D600),\"\")","v":""},{"$f":"IF(データセット1!$B600<>\"\",IF($Q$1=データセット1!$B600,データセット1!$D600),\"\")","v":""},{"$f":"IF(データセット1!$B600<>\"\",IF($R$1=データセット1!$B600,データセット1!$D600),\"\")","v":""},{"$f":"IF(データセット1!$B600<>\"\",IF($S$1=データセット1!$B600,データセット1!$D600),\"\")","v":""},{"$f":"IF(データセット1!$B600<>\"\",IF($T$1=データセット1!$B600,データセット1!$D600),\"\")","v":""},{"$f":"IF(データセット1!$B600<>\"\",IF($U$1=データセット1!$B600,データセット1!$D600),\"\")","v":""}]
[null,null,null,null,null,null,null,null,null,null,null,null,{"$f":"IF(データセット1!$B601<>\"\",IF($M$1=データセット1!$B601,データセット1!$D601),\"\")","v":""},{"$f":"IF(データセット1!$B601<>\"\",IF($N$1=データセット1!$B601,データセット1!$D601),\"\")","v":""},{"$f":"IF(データセット1!$B601<>\"\",IF($O$1=データセット1!$B601,データセット1!$D601),\"\")","v":""},{"$f":"IF(データセット1!$B601<>\"\",IF($P$1=データセット1!$B601,データセット1!$D601),\"\")","v":""},{"$f":"IF(データセット1!$B601<>\"\",IF($Q$1=データセット1!$B601,データセット1!$D601),\"\")","v":""},{"$f":"IF(データセット1!$B601<>\"\",IF($R$1=データセット1!$B601,データセット1!$D601),\"\")","v":""},{"$f":"IF(データセット1!$B601<>\"\",IF($S$1=データセット1!$B601,データセット1!$D601),\"\")","v":""},{"$f":"IF(データセット1!$B601<>\"\",IF($T$1=データセット1!$B601,データセット1!$D601),\"\")","v":""},{"$f":"IF(データセット1!$B601<>\"\",IF($U$1=データセット1!$B601,データセット1!$D601),\"\")","v":""}]
[null,null,null,null,null,null,null,null,null,null,null,null,{"$f":"IF(データセット1!$B602<>\"\",IF($M$1=データセット1!$B602,データセット1!$D602),\"\")","v":""},{"$f":"IF(データセット1!$B602<>\"\",IF($N$1=データセット1!$B602,データセット1!$D602),\"\")","v":""},{"$f":"IF(データセット1!$B602<>\"\",IF($O$1=データセット1!$B602,データセット1!$D602),\"\")","v":""},{"$f":"IF(データセット1!$B602<>\"\",IF($P$1=データセット1!$B602,データセット1!$D602),\"\")","v":""},{"$f":"IF(データセット1!$B602<>\"\",IF($Q$1=データセット1!$B602,データセット1!$D602),\"\")","v":""},{"$f":"IF(データセット1!$B602<>\"\",IF($R$1=データセット1!$B602,データセット1!$D602),\"\")","v":""},{"$f":"IF(データセット1!$B602<>\"\",IF($S$1=データセット1!$B602,データセット1!$D602),\"\")","v":""},{"$f":"IF(データセット1!$B602<>\"\",IF($T$1=データセット1!$B602,データセット1!$D602),\"\")","v":""},{"$f":"IF(データセット1!$B602<>\"\",IF($U$1=データセット1!$B602,データセット1!$D602),\"\")","v":""}]
[null,null,null,null,null,null,null,null,null,null,null,null,{"$f":"IF(データセット1!$B603<>\"\",IF($M$1=データセット1!$B603,データセット1!$D603),\"\")","v":""},{"$f":"IF(データセット1!$B603<>\"\",IF($N$1=データセット1!$B603,データセット1!$D603),\"\")","v":""},{"$f":"IF(データセット1!$B603<>\"\",IF($O$1=データセット1!$B603,データセット1!$D603),\"\")","v":""},{"$f":"IF(データセット1!$B603<>\"\",IF($P$1=データセット1!$B603,データセット1!$D603),\"\")","v":""},{"$f":"IF(データセット1!$B603<>\"\",IF($Q$1=データセット1!$B603,データセット1!$D603),\"\")","v":""},{"$f":"IF(データセット1!$B603<>\"\",IF($R$1=データセット1!$B603,データセット1!$D603),\"\")","v":""},{"$f":"IF(データセット1!$B603<>\"\",IF($S$1=データセット1!$B603,データセット1!$D603),\"\")","v":""},{"$f":"IF(データセット1!$B603<>\"\",IF($T$1=データセット1!$B603,データセット1!$D603),\"\")","v":""},{"$f":"IF(データセット1!$B603<>\"\",IF($U$1=データセット1!$B603,データセット1!$D603),\"\")","v":""}]
[null,null,null,null,null,null,null,null,null,null,null,null,{"$f":"IF(データセット1!$B604<>\"\",IF($M$1=データセット1!$B604,データセット1!$D604),\"\")","v":""},{"$f":"IF(データセット1!$B604<>\"\",IF($N$1=データセット1!$B604,データセット1!$D604),\"\")","v":""},{"$f":"IF(データセット1!$B604<>\"\",IF($O$1=データセット1!$B604,データセット1!$D604),\"\")","v":""},{"$f":"IF(データセット1!$B604<>\"\",IF($P$1=データセット1!$B604,データセット1!$D604),\"\")","v":""},{"$f":"IF(データセット1!$B604<>\"\",IF($Q$1=データセット1!$B604,データセット1!$D604),\"\")","v":""},{"$f":"IF(データセット1!$B604<>\"\",IF($R$1=データセット1!$B604,データセット1!$D604),\"\")","v":""},{"$f":"IF(データセット1!$B604<>\"\",IF($S$1=データセット1!$B604,データセット1!$D604),\"\")","v":""},{"$f":"IF(データセット1!$B604<>\"\",IF($T$1=データセット1!$B604,データセット1!$D604),\"\")","v":""},{"$f":"IF(データセット1!$B604<>\"\",IF($U$1=データセット1!$B604,データセット1!$D604),\"\")","v":""}]
[null,null,null,null,null,null,null,null,null,null,null,null,{"$f":"IF(データセット1!$B605<>\"\",IF($M$1=データセット1!$B605,データセット1!$D605),\"\")","v":""},{"$f":"IF(データセット1!$B605<>\"\",IF($N$1=データセット1!$B605,データセット1!$D605),\"\")","v":""},{"$f":"IF(データセット1!$B605<>\"\",IF($O$1=データセット1!$B605,データセット1!$D605),\"\")","v":""},{"$f":"IF(データセット1!$B605<>\"\",IF($P$1=データセット1!$B605,データセット1!$D605),\"\")","v":""},{"$f":"IF(データセット1!$B605<>\"\",IF($Q$1=データセット1!$B605,データセット1!$D605),\"\")","v":""},{"$f":"IF(データセット1!$B605<>\"\",IF($R$1=データセット1!$B605,データセット1!$D605),\"\")","v":""},{"$f":"IF(データセット1!$B605<>\"\",IF($S$1=データセット1!$B605,データセット1!$D605),\"\")","v":""},{"$f":"IF(データセット1!$B605<>\"\",IF($T$1=データセット1!$B605,データセット1!$D605),\"\")","v":""},{"$f":"IF(データセット1!$B605<>\"\",IF($U$1=データセット1!$B605,データセット1!$D605),\"\")","v":""}]
[null,null,null,null,null,null,null,null,null,null,null,null,{"$f":"IF(データセット1!$B606<>\"\",IF($M$1=データセット1!$B606,データセット1!$D606),\"\")","v":""},{"$f":"IF(データセット1!$B606<>\"\",IF($N$1=データセット1!$B606,データセット1!$D606),\"\")","v":""},{"$f":"IF(データセット1!$B606<>\"\",IF($O$1=データセット1!$B606,データセット1!$D606),\"\")","v":""},{"$f":"IF(データセット1!$B606<>\"\",IF($P$1=データセット1!$B606,データセット1!$D606),\"\")","v":""},{"$f":"IF(データセット1!$B606<>\"\",IF($Q$1=データセット1!$B606,データセット1!$D606),\"\")","v":""},{"$f":"IF(データセット1!$B606<>\"\",IF($R$1=データセット1!$B606,データセット1!$D606),\"\")","v":""},{"$f":"IF(データセット1!$B606<>\"\",IF($S$1=データセット1!$B606,データセット1!$D606),\"\")","v":""},{"$f":"IF(データセット1!$B606<>\"\",IF($T$1=データセット1!$B606,データセット1!$D606),\"\")","v":""},{"$f":"IF(データセット1!$B606<>\"\",IF($U$1=データセット1!$B606,データセット1!$D606),\"\")","v":""}]
[null,null,null,null,null,null,null,null,null,null,null,null,{"$f":"IF(データセット1!$B607<>\"\",IF($M$1=データセット1!$B607,データセット1!$D607),\"\")","v":""},{"$f":"IF(データセット1!$B607<>\"\",IF($N$1=データセット1!$B607,データセット1!$D607),\"\")","v":""},{"$f":"IF(データセット1!$B607<>\"\",IF($O$1=データセット1!$B607,データセット1!$D607),\"\")","v":""},{"$f":"IF(データセット1!$B607<>\"\",IF($P$1=データセット1!$B607,データセット1!$D607),\"\")","v":""},{"$f":"IF(データセット1!$B607<>\"\",IF($Q$1=データセット1!$B607,データセット1!$D607),\"\")","v":""},{"$f":"IF(データセット1!$B607<>\"\",IF($R$1=データセット1!$B607,データセット1!$D607),\"\")","v":""},{"$f":"IF(データセット1!$B607<>\"\",IF($S$1=データセット1!$B607,データセット1!$D607),\"\")","v":""},{"$f":"IF(データセット1!$B607<>\"\",IF($T$1=データセット1!$B607,データセット1!$D607),\"\")","v":""},{"$f":"IF(データセット1!$B607<>\"\",IF($U$1=データセット1!$B607,データセット1!$D607),\"\")","v":""}]
[null,null,null,null,null,null,null,null,null,null,null,null,{"$f":"IF(データセット1!$B608<>\"\",IF($M$1=データセット1!$B608,データセット1!$D608),\"\")","v":""},{"$f":"IF(データセット1!$B608<>\"\",IF($N$1=データセット1!$B608,データセット1!$D608),\"\")","v":""},{"$f":"IF(データセット1!$B608<>\"\",IF($O$1=データセット1!$B608,データセット1!$D608),\"\")","v":""},{"$f":"IF(データセット1!$B608<>\"\",IF($P$1=データセット1!$B608,データセット1!$D608),\"\")","v":""},{"$f":"IF(データセット1!$B608<>\"\",IF($Q$1=データセット1!$B608,データセット1!$D608),\"\")","v":""},{"$f":"IF(データセット1!$B608<>\"\",IF($R$1=データセット1!$B608,データセット1!$D608),\"\")","v":""},{"$f":"IF(データセット1!$B608<>\"\",IF($S$1=データセット1!$B608,データセット1!$D608),\"\")","v":""},{"$f":"IF(データセット1!$B608<>\"\",IF($T$1=データセット1!$B608,データセット1!$D608),\"\")","v":""},{"$f":"IF(データセット1!$B608<>\"\",IF($U$1=データセット1!$B608,データセット1!$D608),\"\")","v":""}]
[null,null,null,null,null,null,null,null,null,null,null,null,{"$f":"IF(データセット1!$B609<>\"\",IF($M$1=データセット1!$B609,データセット1!$D609),\"\")","v":""},{"$f":"IF(データセット1!$B609<>\"\",IF($N$1=データセット1!$B609,データセット1!$D609),\"\")","v":""},{"$f":"IF(データセット1!$B609<>\"\",IF($O$1=データセット1!$B609,データセット1!$D609),\"\")","v":""},{"$f":"IF(データセット1!$B609<>\"\",IF($P$1=データセット1!$B609,データセット1!$D609),\"\")","v":""},{"$f":"IF(データセット1!$B609<>\"\",IF($Q$1=データセット1!$B609,データセット1!$D609),\"\")","v":""},{"$f":"IF(データセット1!$B609<>\"\",IF($R$1=データセット1!$B609,データセット1!$D609),\"\")","v":""},{"$f":"IF(データセット1!$B609<>\"\",IF($S$1=データセット1!$B609,データセット1!$D609),\"\")","v":""},{"$f":"IF(データセット1!$B609<>\"\",IF($T$1=データセット1!$B609,データセット1!$D609),\"\")","v":""},{"$f":"IF(データセット1!$B609<>\"\",IF($U$1=データセット1!$B609,データセット1!$D609),\"\")","v":""}]
[null,null,null,null,null,null,null,null,null,null,null,null,{"$f":"IF(データセット1!$B610<>\"\",IF($M$1=データセット1!$B610,データセット1!$D610),\"\")","v":""},{"$f":"IF(データセット1!$B610<>\"\",IF($N$1=データセット1!$B610,データセット1!$D610),\"\")","v":""},{"$f":"IF(データセット1!$B610<>\"\",IF($O$1=データセット1!$B610,データセット1!$D610),\"\")","v":""},{"$f":"IF(データセット1!$B610<>\"\",IF($P$1=データセット1!$B610,データセット1!$D610),\"\")","v":""},{"$f":"IF(データセット1!$B610<>\"\",IF($Q$1=データセット1!$B610,データセット1!$D610),\"\")","v":""},{"$f":"IF(データセット1!$B610<>\"\",IF($R$1=データセット1!$B610,データセット1!$D610),\"\")","v":""},{"$f":"IF(データセット1!$B610<>\"\",IF($S$1=データセット1!$B610,データセット1!$D610),\"\")","v":""},{"$f":"IF(データセット1!$B610<>\"\",IF($T$1=データセット1!$B610,データセット1!$D610),\"\")","v":""},{"$f":"IF(データセット1!$B610<>\"\",IF($U$1=データセット1!$B610,データセット1!$D610),\"\")","v":""}]
[null,null,null,null,null,null,null,null,null,null,null,null,{"$f":"IF(データセット1!$B611<>\"\",IF($M$1=データセット1!$B611,データセット1!$D611),\"\")","v":""},{"$f":"IF(データセット1!$B611<>\"\",IF($N$1=データセット1!$B611,データセット1!$D611),\"\")","v":""},{"$f":"IF(データセット1!$B611<>\"\",IF($O$1=データセット1!$B611,データセット1!$D611),\"\")","v":""},{"$f":"IF(データセット1!$B611<>\"\",IF($P$1=データセット1!$B611,データセット1!$D611),\"\")","v":""},{"$f":"IF(データセット1!$B611<>\"\",IF($Q$1=データセット1!$B611,データセット1!$D611),\"\")","v":""},{"$f":"IF(データセット1!$B611<>\"\",IF($R$1=データセット1!$B611,データセット1!$D611),\"\")","v":""},{"$f":"IF(データセット1!$B611<>\"\",IF($S$1=データセット1!$B611,データセット1!$D611),\"\")","v":""},{"$f":"IF(データセット1!$B611<>\"\",IF($T$1=データセット1!$B611,データセット1!$D611),\"\")","v":""},{"$f":"IF(データセット1!$B611<>\"\",IF($U$1=データセット1!$B611,データセット1!$D611),\"\")","v":""}]
[null,null,null,null,null,null,null,null,null,null,null,null,{"$f":"IF(データセット1!$B612<>\"\",IF($M$1=データセット1!$B612,データセット1!$D612),\"\")","v":""},{"$f":"IF(データセット1!$B612<>\"\",IF($N$1=データセット1!$B612,データセット1!$D612),\"\")","v":""},{"$f":"IF(データセット1!$B612<>\"\",IF($O$1=データセット1!$B612,データセット1!$D612),\"\")","v":""},{"$f":"IF(データセット1!$B612<>\"\",IF($P$1=データセット1!$B612,データセット1!$D612),\"\")","v":""},{"$f":"IF(データセット1!$B612<>\"\",IF($Q$1=データセット1!$B612,データセット1!$D612),\"\")","v":""},{"$f":"IF(データセット1!$B612<>\"\",IF($R$1=データセット1!$B612,データセット1!$D612),\"\")","v":""},{"$f":"IF(データセット1!$B612<>\"\",IF($S$1=データセット1!$B612,データセット1!$D612),\"\")","v":""},{"$f":"IF(データセット1!$B612<>\"\",IF($T$1=データセット1!$B612,データセット1!$D612),\"\")","v":""},{"$f":"IF(データセット1!$B612<>\"\",IF($U$1=データセット1!$B612,データセット1!$D612),\"\")","v":""}]
[null,null,null,null,null,null,null,null,null,null,null,null,{"$f":"IF(データセット1!$B613<>\"\",IF($M$1=データセット1!$B613,データセット1!$D613),\"\")","v":""},{"$f":"IF(データセット1!$B613<>\"\",IF($N$1=データセット1!$B613,データセット1!$D613),\"\")","v":""},{"$f":"IF(データセット1!$B613<>\"\",IF($O$1=データセット1!$B613,データセット1!$D613),\"\")","v":""},{"$f":"IF(データセット1!$B613<>\"\",IF($P$1=データセット1!$B613,データセット1!$D613),\"\")","v":""},{"$f":"IF(データセット1!$B613<>\"\",IF($Q$1=データセット1!$B613,データセット1!$D613),\"\")","v":""},{"$f":"IF(データセット1!$B613<>\"\",IF($R$1=データセット1!$B613,データセット1!$D613),\"\")","v":""},{"$f":"IF(データセット1!$B613<>\"\",IF($S$1=データセット1!$B613,データセット1!$D613),\"\")","v":""},{"$f":"IF(データセット1!$B613<>\"\",IF($T$1=データセット1!$B613,データセット1!$D613),\"\")","v":""},{"$f":"IF(データセット1!$B613<>\"\",IF($U$1=データセット1!$B613,データセット1!$D613),\"\")","v":""}]
[null,null,null,null,null,null,null,null,null,null,null,null,{"$f":"IF(データセット1!$B614<>\"\",IF($M$1=データセット1!$B614,データセット1!$D614),\"\")","v":""},{"$f":"IF(データセット1!$B614<>\"\",IF($N$1=データセット1!$B614,データセット1!$D614),\"\")","v":""},{"$f":"IF(データセット1!$B614<>\"\",IF($O$1=データセット1!$B614,データセット1!$D614),\"\")","v":""},{"$f":"IF(データセット1!$B614<>\"\",IF($P$1=データセット1!$B614,データセット1!$D614),\"\")","v":""},{"$f":"IF(データセット1!$B614<>\"\",IF($Q$1=データセット1!$B614,データセット1!$D614),\"\")","v":""},{"$f":"IF(データセット1!$B614<>\"\",IF($R$1=データセット1!$B614,データセット1!$D614),\"\")","v":""},{"$f":"IF(データセット1!$B614<>\"\",IF($S$1=データセット1!$B614,データセット1!$D614),\"\")","v":""},{"$f":"IF(データセット1!$B614<>\"\",IF($T$1=データセット1!$B614,データセット1!$D614),\"\")","v":""},{"$f":"IF(データセット1!$B614<>\"\",IF($U$1=データセット1!$B614,データセット1!$D614),\"\")","v":""}]
[null,null,null,null,null,null,null,null,null,null,null,null,{"$f":"IF(データセット1!$B615<>\"\",IF($M$1=データセット1!$B615,データセット1!$D615),\"\")","v":""},{"$f":"IF(データセット1!$B615<>\"\",IF($N$1=データセット1!$B615,データセット1!$D615),\"\")","v":""},{"$f":"IF(データセット1!$B615<>\"\",IF($O$1=データセット1!$B615,データセット1!$D615),\"\")","v":""},{"$f":"IF(データセット1!$B615<>\"\",IF($P$1=データセット1!$B615,データセット1!$D615),\"\")","v":""},{"$f":"IF(データセット1!$B615<>\"\",IF($Q$1=データセット1!$B615,データセット1!$D615),\"\")","v":""},{"$f":"IF(データセット1!$B615<>\"\",IF($R$1=データセット1!$B615,データセット1!$D615),\"\")","v":""},{"$f":"IF(データセット1!$B615<>\"\",IF($S$1=データセット1!$B615,データセット1!$D615),\"\")","v":""},{"$f":"IF(データセット1!$B615<>\"\",IF($T$1=データセット1!$B615,データセット1!$D615),\"\")","v":""},{"$f":"IF(データセット1!$B615<>\"\",IF($U$1=データセット1!$B615,データセット1!$D615),\"\")","v":""}]
[null,null,null,null,null,null,null,null,null,null,null,null,{"$f":"IF(データセット1!$B616<>\"\",IF($M$1=データセット1!$B616,データセット1!$D616),\"\")","v":""},{"$f":"IF(データセット1!$B616<>\"\",IF($N$1=データセット1!$B616,データセット1!$D616),\"\")","v":""},{"$f":"IF(データセット1!$B616<>\"\",IF($O$1=データセット1!$B616,データセット1!$D616),\"\")","v":""},{"$f":"IF(データセット1!$B616<>\"\",IF($P$1=データセット1!$B616,データセット1!$D616),\"\")","v":""},{"$f":"IF(データセット1!$B616<>\"\",IF($Q$1=データセット1!$B616,データセット1!$D616),\"\")","v":""},{"$f":"IF(データセット1!$B616<>\"\",IF($R$1=データセット1!$B616,データセット1!$D616),\"\")","v":""},{"$f":"IF(データセット1!$B616<>\"\",IF($S$1=データセット1!$B616,データセット1!$D616),\"\")","v":""},{"$f":"IF(データセット1!$B616<>\"\",IF($T$1=データセット1!$B616,データセット1!$D616),\"\")","v":""},{"$f":"IF(データセット1!$B616<>\"\",IF($U$1=データセット1!$B616,データセット1!$D616),\"\")","v":""}]
[null,null,null,null,null,null,null,null,null,null,null,null,{"$f":"IF(データセット1!$B617<>\"\",IF($M$1=データセット1!$B617,データセット1!$D617),\"\")","v":""},{"$f":"IF(データセット1!$B617<>\"\",IF($N$1=データセット1!$B617,データセット1!$D617),\"\")","v":""},{"$f":"IF(データセット1!$B617<>\"\",IF($O$1=データセット1!$B617,データセット1!$D617),\"\")","v":""},{"$f":"IF(データセット1!$B617<>\"\",IF($P$1=データセット1!$B617,データセット1!$D617),\"\")","v":""},{"$f":"IF(データセット1!$B617<>\"\",IF($Q$1=データセット1!$B617,データセット1!$D617),\"\")","v":""},{"$f":"IF(データセット1!$B617<>\"\",IF($R$1=データセット1!$B617,データセット1!$D617),\"\")","v":""},{"$f":"IF(データセット1!$B617<>\"\",IF($S$1=データセット1!$B617,データセット1!$D617),\"\")","v":""},{"$f":"IF(データセット1!$B617<>\"\",IF($T$1=データセット1!$B617,データセット1!$D617),\"\")","v":""},{"$f":"IF(データセット1!$B617<>\"\",IF($U$1=データセット1!$B617,データセット1!$D617),\"\")","v":""}]
[null,null,null,null,null,null,null,null,null,null,null,null,{"$f":"IF(データセット1!$B618<>\"\",IF($M$1=データセット1!$B618,データセット1!$D618),\"\")","v":""},{"$f":"IF(データセット1!$B618<>\"\",IF($N$1=データセット1!$B618,データセット1!$D618),\"\")","v":""},{"$f":"IF(データセット1!$B618<>\"\",IF($O$1=データセット1!$B618,データセット1!$D618),\"\")","v":""},{"$f":"IF(データセット1!$B618<>\"\",IF($P$1=データセット1!$B618,データセット1!$D618),\"\")","v":""},{"$f":"IF(データセット1!$B618<>\"\",IF($Q$1=データセット1!$B618,データセット1!$D618),\"\")","v":""},{"$f":"IF(データセット1!$B618<>\"\",IF($R$1=データセット1!$B618,データセット1!$D618),\"\")","v":""},{"$f":"IF(データセット1!$B618<>\"\",IF($S$1=データセット1!$B618,データセット1!$D618),\"\")","v":""},{"$f":"IF(データセット1!$B618<>\"\",IF($T$1=データセット1!$B618,データセット1!$D618),\"\")","v":""},{"$f":"IF(データセット1!$B618<>\"\",IF($U$1=データセット1!$B618,データセット1!$D618),\"\")","v":""}]
[null,null,null,null,null,null,null,null,null,null,null,null,{"$f":"IF(データセット1!$B619<>\"\",IF($M$1=データセット1!$B619,データセット1!$D619),\"\")","v":""},{"$f":"IF(データセット1!$B619<>\"\",IF($N$1=データセット1!$B619,データセット1!$D619),\"\")","v":""},{"$f":"IF(データセット1!$B619<>\"\",IF($O$1=データセット1!$B619,データセット1!$D619),\"\")","v":""},{"$f":"IF(データセット1!$B619<>\"\",IF($P$1=データセット1!$B619,データセット1!$D619),\"\")","v":""},{"$f":"IF(データセット1!$B619<>\"\",IF($Q$1=データセット1!$B619,データセット1!$D619),\"\")","v":""},{"$f":"IF(データセット1!$B619<>\"\",IF($R$1=データセット1!$B619,データセット1!$D619),\"\")","v":""},{"$f":"IF(データセット1!$B619<>\"\",IF($S$1=データセット1!$B619,データセット1!$D619),\"\")","v":""},{"$f":"IF(データセット1!$B619<>\"\",IF($T$1=データセット1!$B619,データセット1!$D619),\"\")","v":""},{"$f":"IF(データセット1!$B619<>\"\",IF($U$1=データセット1!$B619,データセット1!$D619),\"\")","v":""}]
[null,null,null,null,null,null,null,null,null,null,null,null,{"$f":"IF(データセット1!$B620<>\"\",IF($M$1=データセット1!$B620,データセット1!$D620),\"\")","v":""},{"$f":"IF(データセット1!$B620<>\"\",IF($N$1=データセット1!$B620,データセット1!$D620),\"\")","v":""},{"$f":"IF(データセット1!$B620<>\"\",IF($O$1=データセット1!$B620,データセット1!$D620),\"\")","v":""},{"$f":"IF(データセット1!$B620<>\"\",IF($P$1=データセット1!$B620,データセット1!$D620),\"\")","v":""},{"$f":"IF(データセット1!$B620<>\"\",IF($Q$1=データセット1!$B620,データセット1!$D620),\"\")","v":""},{"$f":"IF(データセット1!$B620<>\"\",IF($R$1=データセット1!$B620,データセット1!$D620),\"\")","v":""},{"$f":"IF(データセット1!$B620<>\"\",IF($S$1=データセット1!$B620,データセット1!$D620),\"\")","v":""},{"$f":"IF(データセット1!$B620<>\"\",IF($T$1=データセット1!$B620,データセット1!$D620),\"\")","v":""},{"$f":"IF(データセット1!$B620<>\"\",IF($U$1=データセット1!$B620,データセット1!$D620),\"\")","v":""}]
[null,null,null,null,null,null,null,null,null,null,null,null,{"$f":"IF(データセット1!$B621<>\"\",IF($M$1=データセット1!$B621,データセット1!$D621),\"\")","v":""},{"$f":"IF(データセット1!$B621<>\"\",IF($N$1=データセット1!$B621,データセット1!$D621),\"\")","v":""},{"$f":"IF(データセット1!$B621<>\"\",IF($O$1=データセット1!$B621,データセット1!$D621),\"\")","v":""},{"$f":"IF(データセット1!$B621<>\"\",IF($P$1=データセット1!$B621,データセット1!$D621),\"\")","v":""},{"$f":"IF(データセット1!$B621<>\"\",IF($Q$1=データセット1!$B621,データセット1!$D621),\"\")","v":""},{"$f":"IF(データセット1!$B621<>\"\",IF($R$1=データセット1!$B621,データセット1!$D621),\"\")","v":""},{"$f":"IF(データセット1!$B621<>\"\",IF($S$1=データセット1!$B621,データセット1!$D621),\"\")","v":""},{"$f":"IF(データセット1!$B621<>\"\",IF($T$1=データセット1!$B621,データセット1!$D621),\"\")","v":""},{"$f":"IF(データセット1!$B621<>\"\",IF($U$1=データセット1!$B621,データセット1!$D621),\"\")","v":""}]
[null,null,null,null,null,null,null,null,null,null,null,null,{"$f":"IF(データセット1!$B622<>\"\",IF($M$1=データセット1!$B622,データセット1!$D622),\"\")","v":""},{"$f":"IF(データセット1!$B622<>\"\",IF($N$1=データセット1!$B622,データセット1!$D622),\"\")","v":""},{"$f":"IF(データセット1!$B622<>\"\",IF($O$1=データセット1!$B622,データセット1!$D622),\"\")","v":""},{"$f":"IF(データセット1!$B622<>\"\",IF($P$1=データセット1!$B622,データセット1!$D622),\"\")","v":""},{"$f":"IF(データセット1!$B622<>\"\",IF($Q$1=データセット1!$B622,データセット1!$D622),\"\")","v":""},{"$f":"IF(データセット1!$B622<>\"\",IF($R$1=データセット1!$B622,データセット1!$D622),\"\")","v":""},{"$f":"IF(データセット1!$B622<>\"\",IF($S$1=データセット1!$B622,データセット1!$D622),\"\")","v":""},{"$f":"IF(データセット1!$B622<>\"\",IF($T$1=データセット1!$B622,データセット1!$D622),\"\")","v":""},{"$f":"IF(データセット1!$B622<>\"\",IF($U$1=データセット1!$B622,データセット1!$D622),\"\")","v":""}]
[null,null,null,null,null,null,null,null,null,null,null,null,{"$f":"IF(データセット1!$B623<>\"\",IF($M$1=データセット1!$B623,データセット1!$D623),\"\")","v":""},{"$f":"IF(データセット1!$B623<>\"\",IF($N$1=データセット1!$B623,データセット1!$D623),\"\")","v":""},{"$f":"IF(データセット1!$B623<>\"\",IF($O$1=データセット1!$B623,データセット1!$D623),\"\")","v":""},{"$f":"IF(データセット1!$B623<>\"\",IF($P$1=データセット1!$B623,データセット1!$D623),\"\")","v":""},{"$f":"IF(データセット1!$B623<>\"\",IF($Q$1=データセット1!$B623,データセット1!$D623),\"\")","v":""},{"$f":"IF(データセット1!$B623<>\"\",IF($R$1=データセット1!$B623,データセット1!$D623),\"\")","v":""},{"$f":"IF(データセット1!$B623<>\"\",IF($S$1=データセット1!$B623,データセット1!$D623),\"\")","v":""},{"$f":"IF(データセット1!$B623<>\"\",IF($T$1=データセット1!$B623,データセット1!$D623),\"\")","v":""},{"$f":"IF(データセット1!$B623<>\"\",IF($U$1=データセット1!$B623,データセット1!$D623),\"\")","v":""}]
[null,null,null,null,null,null,null,null,null,null,null,null,{"$f":"IF(データセット1!$B624<>\"\",IF($M$1=データセット1!$B624,データセット1!$D624),\"\")","v":""},{"$f":"IF(データセット1!$B624<>\"\",IF($N$1=データセット1!$B624,データセット1!$D624),\"\")","v":""},{"$f":"IF(データセット1!$B624<>\"\",IF($O$1=データセット1!$B624,データセット1!$D624),\"\")","v":""},{"$f":"IF(データセット1!$B624<>\"\",IF($P$1=データセット1!$B624,データセット1!$D624),\"\")","v":""},{"$f":"IF(データセット1!$B624<>\"\",IF($Q$1=データセット1!$B624,データセット1!$D624),\"\")","v":""},{"$f":"IF(データセット1!$B624<>\"\",IF($R$1=データセット1!$B624,データセット1!$D624),\"\")","v":""},{"$f":"IF(データセット1!$B624<>\"\",IF($S$1=データセット1!$B624,データセット1!$D624),\"\")","v":""},{"$f":"IF(データセット1!$B624<>\"\",IF($T$1=データセット1!$B624,データセット1!$D624),\"\")","v":""},{"$f":"IF(データセット1!$B624<>\"\",IF($U$1=データセット1!$B624,データセット1!$D624),\"\")","v":""}]
[null,null,null,null,null,null,null,null,null,null,null,null,{"$f":"IF(データセット1!$B625<>\"\",IF($M$1=データセット1!$B625,データセット1!$D625),\"\")","v":""},{"$f":"IF(データセット1!$B625<>\"\",IF($N$1=データセット1!$B625,データセット1!$D625),\"\")","v":""},{"$f":"IF(データセット1!$B625<>\"\",IF($O$1=データセット1!$B625,データセット1!$D625),\"\")","v":""},{"$f":"IF(データセット1!$B625<>\"\",IF($P$1=データセット1!$B625,データセット1!$D625),\"\")","v":""},{"$f":"IF(データセット1!$B625<>\"\",IF($Q$1=データセット1!$B625,データセット1!$D625),\"\")","v":""},{"$f":"IF(データセット1!$B625<>\"\",IF($R$1=データセット1!$B625,データセット1!$D625),\"\")","v":""},{"$f":"IF(データセット1!$B625<>\"\",IF($S$1=データセット1!$B625,データセット1!$D625),\"\")","v":""},{"$f":"IF(データセット1!$B625<>\"\",IF($T$1=データセット1!$B625,データセット1!$D625),\"\")","v":""},{"$f":"IF(データセット1!$B625<>\"\",IF($U$1=データセット1!$B625,データセット1!$D625),\"\")","v":""}]
[null,null,null,null,null,null,null,null,null,null,null,null,{"$f":"IF(データセット1!$B626<>\"\",IF($M$1=データセット1!$B626,データセット1!$D626),\"\")","v":""},{"$f":"IF(データセット1!$B626<>\"\",IF($N$1=データセット1!$B626,データセット1!$D626),\"\")","v":""},{"$f":"IF(データセット1!$B626<>\"\",IF($O$1=データセット1!$B626,データセット1!$D626),\"\")","v":""},{"$f":"IF(データセット1!$B626<>\"\",IF($P$1=データセット1!$B626,データセット1!$D626),\"\")","v":""},{"$f":"IF(データセット1!$B626<>\"\",IF($Q$1=データセット1!$B626,データセット1!$D626),\"\")","v":""},{"$f":"IF(データセット1!$B626<>\"\",IF($R$1=データセット1!$B626,データセット1!$D626),\"\")","v":""},{"$f":"IF(データセット1!$B626<>\"\",IF($S$1=データセット1!$B626,データセット1!$D626),\"\")","v":""},{"$f":"IF(データセット1!$B626<>\"\",IF($T$1=データセット1!$B626,データセット1!$D626),\"\")","v":""},{"$f":"IF(データセット1!$B626<>\"\",IF($U$1=データセット1!$B626,データセット1!$D626),\"\")","v":""}]
[null,null,null,null,null,null,null,null,null,null,null,null,{"$f":"IF(データセット1!$B627<>\"\",IF($M$1=データセット1!$B627,データセット1!$D627),\"\")","v":""},{"$f":"IF(データセット1!$B627<>\"\",IF($N$1=データセット1!$B627,データセット1!$D627),\"\")","v":""},{"$f":"IF(データセット1!$B627<>\"\",IF($O$1=データセット1!$B627,データセット1!$D627),\"\")","v":""},{"$f":"IF(データセット1!$B627<>\"\",IF($P$1=データセット1!$B627,データセット1!$D627),\"\")","v":""},{"$f":"IF(データセット1!$B627<>\"\",IF($Q$1=データセット1!$B627,データセット1!$D627),\"\")","v":""},{"$f":"IF(データセット1!$B627<>\"\",IF($R$1=データセット1!$B627,データセット1!$D627),\"\")","v":""},{"$f":"IF(データセット1!$B627<>\"\",IF($S$1=データセット1!$B627,データセット1!$D627),\"\")","v":""},{"$f":"IF(データセット1!$B627<>\"\",IF($T$1=データセット1!$B627,データセット1!$D627),\"\")","v":""},{"$f":"IF(データセット1!$B627<>\"\",IF($U$1=データセット1!$B627,データセット1!$D627),\"\")","v":""}]
[null,null,null,null,null,null,null,null,null,null,null,null,{"$f":"IF(データセット1!$B628<>\"\",IF($M$1=データセット1!$B628,データセット1!$D628),\"\")","v":""},{"$f":"IF(データセット1!$B628<>\"\",IF($N$1=データセット1!$B628,データセット1!$D628),\"\")","v":""},{"$f":"IF(データセット1!$B628<>\"\",IF($O$1=データセット1!$B628,データセット1!$D628),\"\")","v":""},{"$f":"IF(データセット1!$B628<>\"\",IF($P$1=データセット1!$B628,データセット1!$D628),\"\")","v":""},{"$f":"IF(データセット1!$B628<>\"\",IF($Q$1=データセット1!$B628,データセット1!$D628),\"\")","v":""},{"$f":"IF(データセット1!$B628<>\"\",IF($R$1=データセット1!$B628,データセット1!$D628),\"\")","v":""},{"$f":"IF(データセット1!$B628<>\"\",IF($S$1=データセット1!$B628,データセット1!$D628),\"\")","v":""},{"$f":"IF(データセット1!$B628<>\"\",IF($T$1=データセット1!$B628,データセット1!$D628),\"\")","v":""},{"$f":"IF(データセット1!$B628<>\"\",IF($U$1=データセット1!$B628,データセット1!$D628),\"\")","v":""}]
[null,null,null,null,null,null,null,null,null,null,null,null,{"$f":"IF(データセット1!$B629<>\"\",IF($M$1=データセット1!$B629,データセット1!$D629),\"\")","v":""},{"$f":"IF(データセット1!$B629<>\"\",IF($N$1=データセット1!$B629,データセット1!$D629),\"\")","v":""},{"$f":"IF(データセット1!$B629<>\"\",IF($O$1=データセット1!$B629,データセット1!$D629),\"\")","v":""},{"$f":"IF(データセット1!$B629<>\"\",IF($P$1=データセット1!$B629,データセット1!$D629),\"\")","v":""},{"$f":"IF(データセット1!$B629<>\"\",IF($Q$1=データセット1!$B629,データセット1!$D629),\"\")","v":""},{"$f":"IF(データセット1!$B629<>\"\",IF($R$1=データセット1!$B629,データセット1!$D629),\"\")","v":""},{"$f":"IF(データセット1!$B629<>\"\",IF($S$1=データセット1!$B629,データセット1!$D629),\"\")","v":""},{"$f":"IF(データセット1!$B629<>\"\",IF($T$1=データセット1!$B629,データセット1!$D629),\"\")","v":""},{"$f":"IF(データセット1!$B629<>\"\",IF($U$1=データセット1!$B629,データセット1!$D629),\"\")","v":""}]
[null,null,null,null,null,null,null,null,null,null,null,null,{"$f":"IF(データセット1!$B630<>\"\",IF($M$1=データセット1!$B630,データセット1!$D630),\"\")","v":""},{"$f":"IF(データセット1!$B630<>\"\",IF($N$1=データセット1!$B630,データセット1!$D630),\"\")","v":""},{"$f":"IF(データセット1!$B630<>\"\",IF($O$1=データセット1!$B630,データセット1!$D630),\"\")","v":""},{"$f":"IF(データセット1!$B630<>\"\",IF($P$1=データセット1!$B630,データセット1!$D630),\"\")","v":""},{"$f":"IF(データセット1!$B630<>\"\",IF($Q$1=データセット1!$B630,データセット1!$D630),\"\")","v":""},{"$f":"IF(データセット1!$B630<>\"\",IF($R$1=データセット1!$B630,データセット1!$D630),\"\")","v":""},{"$f":"IF(データセット1!$B630<>\"\",IF($S$1=データセット1!$B630,データセット1!$D630),\"\")","v":""},{"$f":"IF(データセット1!$B630<>\"\",IF($T$1=データセット1!$B630,データセット1!$D630),\"\")","v":""},{"$f":"IF(データセット1!$B630<>\"\",IF($U$1=データセット1!$B630,データセット1!$D630),\"\")","v":""}]
[null,null,null,null,null,null,null,null,null,null,null,null,{"$f":"IF(データセット1!$B631<>\"\",IF($M$1=データセット1!$B631,データセット1!$D631),\"\")","v":""},{"$f":"IF(データセット1!$B631<>\"\",IF($N$1=データセット1!$B631,データセット1!$D631),\"\")","v":""},{"$f":"IF(データセット1!$B631<>\"\",IF($O$1=データセット1!$B631,データセット1!$D631),\"\")","v":""},{"$f":"IF(データセット1!$B631<>\"\",IF($P$1=データセット1!$B631,データセット1!$D631),\"\")","v":""},{"$f":"IF(データセット1!$B631<>\"\",IF($Q$1=データセット1!$B631,データセット1!$D631),\"\")","v":""},{"$f":"IF(データセット1!$B631<>\"\",IF($R$1=データセット1!$B631,データセット1!$D631),\"\")","v":""},{"$f":"IF(データセット1!$B631<>\"\",IF($S$1=データセット1!$B631,データセット1!$D631),\"\")","v":""},{"$f":"IF(データセット1!$B631<>\"\",IF($T$1=データセット1!$B631,データセット1!$D631),\"\")","v":""},{"$f":"IF(データセット1!$B631<>\"\",IF($U$1=データセット1!$B631,データセット1!$D631),\"\")","v":""}]
[null,null,null,null,null,null,null,null,null,null,null,null,{"$f":"IF(データセット1!$B632<>\"\",IF($M$1=データセット1!$B632,データセット1!$D632),\"\")","v":""},{"$f":"IF(データセット1!$B632<>\"\",IF($N$1=データセット1!$B632,データセット1!$D632),\"\")","v":""},{"$f":"IF(データセット1!$B632<>\"\",IF($O$1=データセット1!$B632,データセット1!$D632),\"\")","v":""},{"$f":"IF(データセット1!$B632<>\"\",IF($P$1=データセット1!$B632,データセット1!$D632),\"\")","v":""},{"$f":"IF(データセット1!$B632<>\"\",IF($Q$1=データセット1!$B632,データセット1!$D632),\"\")","v":""},{"$f":"IF(データセット1!$B632<>\"\",IF($R$1=データセット1!$B632,データセット1!$D632),\"\")","v":""},{"$f":"IF(データセット1!$B632<>\"\",IF($S$1=データセット1!$B632,データセット1!$D632),\"\")","v":""},{"$f":"IF(データセット1!$B632<>\"\",IF($T$1=データセット1!$B632,データセット1!$D632),\"\")","v":""},{"$f":"IF(データセット1!$B632<>\"\",IF($U$1=データセット1!$B632,データセット1!$D632),\"\")","v":""}]
[null,null,null,null,null,null,null,null,null,null,null,null,{"$f":"IF(データセット1!$B633<>\"\",IF($M$1=データセット1!$B633,データセット1!$D633),\"\")","v":""},{"$f":"IF(データセット1!$B633<>\"\",IF($N$1=データセット1!$B633,データセット1!$D633),\"\")","v":""},{"$f":"IF(データセット1!$B633<>\"\",IF($O$1=データセット1!$B633,データセット1!$D633),\"\")","v":""},{"$f":"IF(データセット1!$B633<>\"\",IF($P$1=データセット1!$B633,データセット1!$D633),\"\")","v":""},{"$f":"IF(データセット1!$B633<>\"\",IF($Q$1=データセット1!$B633,データセット1!$D633),\"\")","v":""},{"$f":"IF(データセット1!$B633<>\"\",IF($R$1=データセット1!$B633,データセット1!$D633),\"\")","v":""},{"$f":"IF(データセット1!$B633<>\"\",IF($S$1=データセット1!$B633,データセット1!$D633),\"\")","v":""},{"$f":"IF(データセット1!$B633<>\"\",IF($T$1=データセット1!$B633,データセット1!$D633),\"\")","v":""},{"$f":"IF(データセット1!$B633<>\"\",IF($U$1=データセット1!$B633,データセット1!$D633),\"\")","v":""}]
[null,null,null,null,null,null,null,null,null,null,null,null,{"$f":"IF(データセット1!$B634<>\"\",IF($M$1=データセット1!$B634,データセット1!$D634),\"\")","v":""},{"$f":"IF(データセット1!$B634<>\"\",IF($N$1=データセット1!$B634,データセット1!$D634),\"\")","v":""},{"$f":"IF(データセット1!$B634<>\"\",IF($O$1=データセット1!$B634,データセット1!$D634),\"\")","v":""},{"$f":"IF(データセット1!$B634<>\"\",IF($P$1=データセット1!$B634,データセット1!$D634),\"\")","v":""},{"$f":"IF(データセット1!$B634<>\"\",IF($Q$1=データセット1!$B634,データセット1!$D634),\"\")","v":""},{"$f":"IF(データセット1!$B634<>\"\",IF($R$1=データセット1!$B634,データセット1!$D634),\"\")","v":""},{"$f":"IF(データセット1!$B634<>\"\",IF($S$1=データセット1!$B634,データセット1!$D634),\"\")","v":""},{"$f":"IF(データセット1!$B634<>\"\",IF($T$1=データセット1!$B634,データセット1!$D634),\"\")","v":""},{"$f":"IF(データセット1!$B634<>\"\",IF($U$1=データセット1!$B634,データセット1!$D634),\"\")","v":""}]
[null,null,null,null,null,null,null,null,null,null,null,null,{"$f":"IF(データセット1!$B635<>\"\",IF($M$1=データセット1!$B635,データセット1!$D635),\"\")","v":""},{"$f":"IF(データセット1!$B635<>\"\",IF($N$1=データセット1!$B635,データセット1!$D635),\"\")","v":""},{"$f":"IF(データセット1!$B635<>\"\",IF($O$1=データセット1!$B635,データセット1!$D635),\"\")","v":""},{"$f":"IF(データセット1!$B635<>\"\",IF($P$1=データセット1!$B635,データセット1!$D635),\"\")","v":""},{"$f":"IF(データセット1!$B635<>\"\",IF($Q$1=データセット1!$B635,データセット1!$D635),\"\")","v":""},{"$f":"IF(データセット1!$B635<>\"\",IF($R$1=データセット1!$B635,データセット1!$D635),\"\")","v":""},{"$f":"IF(データセット1!$B635<>\"\",IF($S$1=データセット1!$B635,データセット1!$D635),\"\")","v":""},{"$f":"IF(データセット1!$B635<>\"\",IF($T$1=データセット1!$B635,データセット1!$D635),\"\")","v":""},{"$f":"IF(データセット1!$B635<>\"\",IF($U$1=データセット1!$B635,データセット1!$D635),\"\")","v":""}]
[null,null,null,null,null,null,null,null,null,null,null,null,{"$f":"IF(データセット1!$B636<>\"\",IF($M$1=データセット1!$B636,データセット1!$D636),\"\")","v":""},{"$f":"IF(データセット1!$B636<>\"\",IF($N$1=データセット1!$B636,データセット1!$D636),\"\")","v":""},{"$f":"IF(データセット1!$B636<>\"\",IF($O$1=データセット1!$B636,データセット1!$D636),\"\")","v":""},{"$f":"IF(データセット1!$B636<>\"\",IF($P$1=データセット1!$B636,データセット1!$D636),\"\")","v":""},{"$f":"IF(データセット1!$B636<>\"\",IF($Q$1=データセット1!$B636,データセット1!$D636),\"\")","v":""},{"$f":"IF(データセット1!$B636<>\"\",IF($R$1=データセット1!$B636,データセット1!$D636),\"\")","v":""},{"$f":"IF(データセット1!$B636<>\"\",IF($S$1=データセット1!$B636,データセット1!$D636),\"\")","v":""},{"$f":"IF(データセット1!$B636<>\"\",IF($T$1=データセット1!$B636,データセット1!$D636),\"\")","v":""},{"$f":"IF(データセット1!$B636<>\"\",IF($U$1=データセット1!$B636,データセット1!$D636),\"\")","v":""}]
[null,null,null,null,null,null,null,null,null,null,null,null,{"$f":"IF(データセット1!$B637<>\"\",IF($M$1=データセット1!$B637,データセット1!$D637),\"\")","v":""},{"$f":"IF(データセット1!$B637<>\"\",IF($N$1=データセット1!$B637,データセット1!$D637),\"\")","v":""},{"$f":"IF(データセット1!$B637<>\"\",IF($O$1=データセット1!$B637,データセット1!$D637),\"\")","v":""},{"$f":"IF(データセット1!$B637<>\"\",IF($P$1=データセット1!$B637,データセット1!$D637),\"\")","v":""},{"$f":"IF(データセット1!$B637<>\"\",IF($Q$1=データセット1!$B637,データセット1!$D637),\"\")","v":""},{"$f":"IF(データセット1!$B637<>\"\",IF($R$1=データセット1!$B637,データセット1!$D637),\"\")","v":""},{"$f":"IF(データセット1!$B637<>\"\",IF($S$1=データセット1!$B637,データセット1!$D637),\"\")","v":""},{"$f":"IF(データセット1!$B637<>\"\",IF($T$1=データセット1!$B637,データセット1!$D637),\"\")","v":""},{"$f":"IF(データセット1!$B637<>\"\",IF($U$1=データセット1!$B637,データセット1!$D637),\"\")","v":""}]
[null,null,null,null,null,null,null,null,null,null,null,null,{"$f":"IF(データセット1!$B638<>\"\",IF($M$1=データセット1!$B638,データセット1!$D638),\"\")","v":""},{"$f":"IF(データセット1!$B638<>\"\",IF($N$1=データセット1!$B638,データセット1!$D638),\"\")","v":""},{"$f":"IF(データセット1!$B638<>\"\",IF($O$1=データセット1!$B638,データセット1!$D638),\"\")","v":""},{"$f":"IF(データセット1!$B638<>\"\",IF($P$1=データセット1!$B638,データセット1!$D638),\"\")","v":""},{"$f":"IF(データセット1!$B638<>\"\",IF($Q$1=データセット1!$B638,データセット1!$D638),\"\")","v":""},{"$f":"IF(データセット1!$B638<>\"\",IF($R$1=データセット1!$B638,データセット1!$D638),\"\")","v":""},{"$f":"IF(データセット1!$B638<>\"\",IF($S$1=データセット1!$B638,データセット1!$D638),\"\")","v":""},{"$f":"IF(データセット1!$B638<>\"\",IF($T$1=データセット1!$B638,データセット1!$D638),\"\")","v":""},{"$f":"IF(データセット1!$B638<>\"\",IF($U$1=データセット1!$B638,データセット1!$D638),\"\")","v":""}]
[null,null,null,null,null,null,null,null,null,null,null,null,{"$f":"IF(データセット1!$B639<>\"\",IF($M$1=データセット1!$B639,データセット1!$D639),\"\")","v":""},{"$f":"IF(データセット1!$B639<>\"\",IF($N$1=データセット1!$B639,データセット1!$D639),\"\")","v":""},{"$f":"IF(データセット1!$B639<>\"\",IF($O$1=データセット1!$B639,データセット1!$D639),\"\")","v":""},{"$f":"IF(データセット1!$B639<>\"\",IF($P$1=データセット1!$B639,データセット1!$D639),\"\")","v":""},{"$f":"IF(データセット1!$B639<>\"\",IF($Q$1=データセット1!$B639,データセット1!$D639),\"\")","v":""},{"$f":"IF(データセット1!$B639<>\"\",IF($R$1=データセット1!$B639,データセット1!$D639),\"\")","v":""},{"$f":"IF(データセット1!$B639<>\"\",IF($S$1=データセット1!$B639,データセット1!$D639),\"\")","v":""},{"$f":"IF(データセット1!$B639<>\"\",IF($T$1=データセット1!$B639,データセット1!$D639),\"\")","v":""},{"$f":"IF(データセット1!$B639<>\"\",IF($U$1=データセット1!$B639,データセット1!$D639),\"\")","v":""}]
[null,null,null,null,null,null,null,null,null,null,null,null,{"$f":"IF(データセット1!$B640<>\"\",IF($M$1=データセット1!$B640,データセット1!$D640),\"\")","v":""},{"$f":"IF(データセット1!$B640<>\"\",IF($N$1=データセット1!$B640,データセット1!$D640),\"\")","v":""},{"$f":"IF(データセット1!$B640<>\"\",IF($O$1=データセット1!$B640,データセット1!$D640),\"\")","v":""},{"$f":"IF(データセット1!$B640<>\"\",IF($P$1=データセット1!$B640,データセット1!$D640),\"\")","v":""},{"$f":"IF(データセット1!$B640<>\"\",IF($Q$1=データセット1!$B640,データセット1!$D640),\"\")","v":""},{"$f":"IF(データセット1!$B640<>\"\",IF($R$1=データセット1!$B640,データセット1!$D640),\"\")","v":""},{"$f":"IF(データセット1!$B640<>\"\",IF($S$1=データセット1!$B640,データセット1!$D640),\"\")","v":""},{"$f":"IF(データセット1!$B640<>\"\",IF($T$1=データセット1!$B640,データセット1!$D640),\"\")","v":""},{"$f":"IF(データセット1!$B640<>\"\",IF($U$1=データセット1!$B640,データセット1!$D640),\"\")","v":""}]
[null,null,null,null,null,null,null,null,null,null,null,null,{"$f":"IF(データセット1!$B641<>\"\",IF($M$1=データセット1!$B641,データセット1!$D641),\"\")","v":""},{"$f":"IF(データセット1!$B641<>\"\",IF($N$1=データセット1!$B641,データセット1!$D641),\"\")","v":""},{"$f":"IF(データセット1!$B641<>\"\",IF($O$1=データセット1!$B641,データセット1!$D641),\"\")","v":""},{"$f":"IF(データセット1!$B641<>\"\",IF($P$1=データセット1!$B641,データセット1!$D641),\"\")","v":""},{"$f":"IF(データセット1!$B641<>\"\",IF($Q$1=データセット1!$B641,データセット1!$D641),\"\")","v":""},{"$f":"IF(データセット1!$B641<>\"\",IF($R$1=データセット1!$B641,データセット1!$D641),\"\")","v":""},{"$f":"IF(データセット1!$B641<>\"\",IF($S$1=データセット1!$B641,データセット1!$D641),\"\")","v":""},{"$f":"IF(データセット1!$B641<>\"\",IF($T$1=データセット1!$B641,データセット1!$D641),\"\")","v":""},{"$f":"IF(データセット1!$B641<>\"\",IF($U$1=データセット1!$B641,データセット1!$D641),\"\")","v":""}]
[null,null,null,null,null,null,null,null,null,null,null,null,{"$f":"IF(データセット1!$B642<>\"\",IF($M$1=データセット1!$B642,データセット1!$D642),\"\")","v":""},{"$f":"IF(データセット1!$B642<>\"\",IF($N$1=データセット1!$B642,データセット1!$D642),\"\")","v":""},{"$f":"IF(データセット1!$B642<>\"\",IF($O$1=データセット1!$B642,データセット1!$D642),\"\")","v":""},{"$f":"IF(データセット1!$B642<>\"\",IF($P$1=データセット1!$B642,データセット1!$D642),\"\")","v":""},{"$f":"IF(データセット1!$B642<>\"\",IF($Q$1=データセット1!$B642,データセット1!$D642),\"\")","v":""},{"$f":"IF(データセット1!$B642<>\"\",IF($R$1=データセット1!$B642,データセット1!$D642),\"\")","v":""},{"$f":"IF(データセット1!$B642<>\"\",IF($S$1=データセット1!$B642,データセット1!$D642),\"\")","v":""},{"$f":"IF(データセット1!$B642<>\"\",IF($T$1=データセット1!$B642,データセット1!$D642),\"\")","v":""},{"$f":"IF(データセット1!$B642<>\"\",IF($U$1=データセット1!$B642,データセット1!$D642),\"\")","v":""}]
[null,null,null,null,null,null,null,null,null,null,null,null,{"$f":"IF(データセット1!$B643<>\"\",IF($M$1=データセット1!$B643,データセット1!$D643),\"\")","v":""},{"$f":"IF(データセット1!$B643<>\"\",IF($N$1=データセット1!$B643,データセット1!$D643),\"\")","v":""},{"$f":"IF(データセット1!$B643<>\"\",IF($O$1=データセット1!$B643,データセット1!$D643),\"\")","v":""},{"$f":"IF(データセット1!$B643<>\"\",IF($P$1=データセット1!$B643,データセット1!$D643),\"\")","v":""},{"$f":"IF(データセット1!$B643<>\"\",IF($Q$1=データセット1!$B643,データセット1!$D643),\"\")","v":""},{"$f":"IF(データセット1!$B643<>\"\",IF($R$1=データセット1!$B643,データセット1!$D643),\"\")","v":""},{"$f":"IF(データセット1!$B643<>\"\",IF($S$1=データセット1!$B643,データセット1!$D643),\"\")","v":""},{"$f":"IF(データセット1!$B643<>\"\",IF($T$1=データセット1!$B643,データセット1!$D643),\"\")","v":""},{"$f":"IF(データセット1!$B643<>\"\",IF($U$1=データセット1!$B643,データセット1!$D643),\"\")","v":""}]
[null,null,null,null,null,null,null,null,null,null,null,null,{"$f":"IF(データセット1!$B644<>\"\",IF($M$1=データセット1!$B644,データセット1!$D644),\"\")","v":""},{"$f":"IF(データセット1!$B644<>\"\",IF($N$1=データセット1!$B644,データセット1!$D644),\"\")","v":""},{"$f":"IF(データセット1!$B644<>\"\",IF($O$1=データセット1!$B644,データセット1!$D644),\"\")","v":""},{"$f":"IF(データセット1!$B644<>\"\",IF($P$1=データセット1!$B644,データセット1!$D644),\"\")","v":""},{"$f":"IF(データセット1!$B644<>\"\",IF($Q$1=データセット1!$B644,データセット1!$D644),\"\")","v":""},{"$f":"IF(データセット1!$B644<>\"\",IF($R$1=データセット1!$B644,データセット1!$D644),\"\")","v":""},{"$f":"IF(データセット1!$B644<>\"\",IF($S$1=データセット1!$B644,データセット1!$D644),\"\")","v":""},{"$f":"IF(データセット1!$B644<>\"\",IF($T$1=データセット1!$B644,データセット1!$D644),\"\")","v":""},{"$f":"IF(データセット1!$B644<>\"\",IF($U$1=データセット1!$B644,データセット1!$D644),\"\")","v":""}]
[null,null,null,null,null,null,null,null,null,null,null,null,{"$f":"IF(データセット1!$B645<>\"\",IF($M$1=データセット1!$B645,データセット1!$D645),\"\")","v":""},{"$f":"IF(データセット1!$B645<>\"\",IF($N$1=データセット1!$B645,データセット1!$D645),\"\")","v":""},{"$f":"IF(データセット1!$B645<>\"\",IF($O$1=データセット1!$B645,データセット1!$D645),\"\")","v":""},{"$f":"IF(データセット1!$B645<>\"\",IF($P$1=データセット1!$B645,データセット1!$D645),\"\")","v":""},{"$f":"IF(データセット1!$B645<>\"\",IF($Q$1=データセット1!$B645,データセット1!$D645),\"\")","v":""},{"$f":"IF(データセット1!$B645<>\"\",IF($R$1=データセット1!$B645,データセット1!$D645),\"\")","v":""},{"$f":"IF(データセット1!$B645<>\"\",IF($S$1=データセット1!$B645,データセット1!$D645),\"\")","v":""},{"$f":"IF(データセット1!$B645<>\"\",IF($T$1=データセット1!$B645,データセット1!$D645),\"\")","v":""},{"$f":"IF(データセット1!$B645<>\"\",IF($U$1=データセット1!$B645,データセット1!$D645),\"\")","v":""}]
[null,null,null,null,null,null,null,null,null,null,null,null,{"$f":"IF(データセット1!$B646<>\"\",IF($M$1=データセット1!$B646,データセット1!$D646),\"\")","v":""},{"$f":"IF(データセット1!$B646<>\"\",IF($N$1=データセット1!$B646,データセット1!$D646),\"\")","v":""},{"$f":"IF(データセット1!$B646<>\"\",IF($O$1=データセット1!$B646,データセット1!$D646),\"\")","v":""},{"$f":"IF(データセット1!$B646<>\"\",IF($P$1=データセット1!$B646,データセット1!$D646),\"\")","v":""},{"$f":"IF(データセット1!$B646<>\"\",IF($Q$1=データセット1!$B646,データセット1!$D646),\"\")","v":""},{"$f":"IF(データセット1!$B646<>\"\",IF($R$1=データセット1!$B646,データセット1!$D646),\"\")","v":""},{"$f":"IF(データセット1!$B646<>\"\",IF($S$1=データセット1!$B646,データセット1!$D646),\"\")","v":""},{"$f":"IF(データセット1!$B646<>\"\",IF($T$1=データセット1!$B646,データセット1!$D646),\"\")","v":""},{"$f":"IF(データセット1!$B646<>\"\",IF($U$1=データセット1!$B646,データセット1!$D646),\"\")","v":""}]
[null,null,null,null,null,null,null,null,null,null,null,null,{"$f":"IF(データセット1!$B647<>\"\",IF($M$1=データセット1!$B647,データセット1!$D647),\"\")","v":""},{"$f":"IF(データセット1!$B647<>\"\",IF($N$1=データセット1!$B647,データセット1!$D647),\"\")","v":""},{"$f":"IF(データセット1!$B647<>\"\",IF($O$1=データセット1!$B647,データセット1!$D647),\"\")","v":""},{"$f":"IF(データセット1!$B647<>\"\",IF($P$1=データセット1!$B647,データセット1!$D647),\"\")","v":""},{"$f":"IF(データセット1!$B647<>\"\",IF($Q$1=データセット1!$B647,データセット1!$D647),\"\")","v":""},{"$f":"IF(データセット1!$B647<>\"\",IF($R$1=データセット1!$B647,データセット1!$D647),\"\")","v":""},{"$f":"IF(データセット1!$B647<>\"\",IF($S$1=データセット1!$B647,データセット1!$D647),\"\")","v":""},{"$f":"IF(データセット1!$B647<>\"\",IF($T$1=データセット1!$B647,データセット1!$D647),\"\")","v":""},{"$f":"IF(データセット1!$B647<>\"\",IF($U$1=データセット1!$B647,データセット1!$D647),\"\")","v":""}]
[null,null,null,null,null,null,null,null,null,null,null,null,{"$f":"IF(データセット1!$B648<>\"\",IF($M$1=データセット1!$B648,データセット1!$D648),\"\")","v":""},{"$f":"IF(データセット1!$B648<>\"\",IF($N$1=データセット1!$B648,データセット1!$D648),\"\")","v":""},{"$f":"IF(データセット1!$B648<>\"\",IF($O$1=データセット1!$B648,データセット1!$D648),\"\")","v":""},{"$f":"IF(データセット1!$B648<>\"\",IF($P$1=データセット1!$B648,データセット1!$D648),\"\")","v":""},{"$f":"IF(データセット1!$B648<>\"\",IF($Q$1=データセット1!$B648,データセット1!$D648),\"\")","v":""},{"$f":"IF(データセット1!$B648<>\"\",IF($R$1=データセット1!$B648,データセット1!$D648),\"\")","v":""},{"$f":"IF(データセット1!$B648<>\"\",IF($S$1=データセット1!$B648,データセット1!$D648),\"\")","v":""},{"$f":"IF(データセット1!$B648<>\"\",IF($T$1=データセット1!$B648,データセット1!$D648),\"\")","v":""},{"$f":"IF(データセット1!$B648<>\"\",IF($U$1=データセット1!$B648,データセット1!$D648),\"\")","v":""}]
[null,null,null,null,null,null,null,null,null,null,null,null,{"$f":"IF(データセット1!$B649<>\"\",IF($M$1=データセット1!$B649,データセット1!$D649),\"\")","v":""},{"$f":"IF(データセット1!$B649<>\"\",IF($N$1=データセット1!$B649,データセット1!$D649),\"\")","v":""},{"$f":"IF(データセット1!$B649<>\"\",IF($O$1=データセット1!$B649,データセット1!$D649),\"\")","v":""},{"$f":"IF(データセット1!$B649<>\"\",IF($P$1=データセット1!$B649,データセット1!$D649),\"\")","v":""},{"$f":"IF(データセット1!$B649<>\"\",IF($Q$1=データセット1!$B649,データセット1!$D649),\"\")","v":""},{"$f":"IF(データセット1!$B649<>\"\",IF($R$1=データセット1!$B649,データセット1!$D649),\"\")","v":""},{"$f":"IF(データセット1!$B649<>\"\",IF($S$1=データセット1!$B649,データセット1!$D649),\"\")","v":""},{"$f":"IF(データセット1!$B649<>\"\",IF($T$1=データセット1!$B649,データセット1!$D649),\"\")","v":""},{"$f":"IF(データセット1!$B649<>\"\",IF($U$1=データセット1!$B649,データセット1!$D649),\"\")","v":""}]
[null,null,null,null,null,null,null,null,null,null,null,null,{"$f":"IF(データセット1!$B650<>\"\",IF($M$1=データセット1!$B650,データセット1!$D650),\"\")","v":""},{"$f":"IF(データセット1!$B650<>\"\",IF($N$1=データセット1!$B650,データセット1!$D650),\"\")","v":""},{"$f":"IF(データセット1!$B650<>\"\",IF($O$1=データセット1!$B650,データセット1!$D650),\"\")","v":""},{"$f":"IF(データセット1!$B650<>\"\",IF($P$1=データセット1!$B650,データセット1!$D650),\"\")","v":""},{"$f":"IF(データセット1!$B650<>\"\",IF($Q$1=データセット1!$B650,データセット1!$D650),\"\")","v":""},{"$f":"IF(データセット1!$B650<>\"\",IF($R$1=データセット1!$B650,データセット1!$D650),\"\")","v":""},{"$f":"IF(データセット1!$B650<>\"\",IF($S$1=データセット1!$B650,データセット1!$D650),\"\")","v":""},{"$f":"IF(データセット1!$B650<>\"\",IF($T$1=データセット1!$B650,データセット1!$D650),\"\")","v":""},{"$f":"IF(データセット1!$B650<>\"\",IF($U$1=データセット1!$B650,データセット1!$D650),\"\")","v":""}]
[null,null,null,null,null,null,null,null,null,null,null,null,{"$f":"IF(データセット1!$B651<>\"\",IF($M$1=データセット1!$B651,データセット1!$D651),\"\")","v":""},{"$f":"IF(データセット1!$B651<>\"\",IF($N$1=データセット1!$B651,データセット1!$D651),\"\")","v":""},{"$f":"IF(データセット1!$B651<>\"\",IF($O$1=データセット1!$B651,データセット1!$D651),\"\")","v":""},{"$f":"IF(データセット1!$B651<>\"\",IF($P$1=データセット1!$B651,データセット1!$D651),\"\")","v":""},{"$f":"IF(データセット1!$B651<>\"\",IF($Q$1=データセット1!$B651,データセット1!$D651),\"\")","v":""},{"$f":"IF(データセット1!$B651<>\"\",IF($R$1=データセット1!$B651,データセット1!$D651),\"\")","v":""},{"$f":"IF(データセット1!$B651<>\"\",IF($S$1=データセット1!$B651,データセット1!$D651),\"\")","v":""},{"$f":"IF(データセット1!$B651<>\"\",IF($T$1=データセット1!$B651,データセット1!$D651),\"\")","v":""},{"$f":"IF(データセット1!$B651<>\"\",IF($U$1=データセット1!$B651,データセット1!$D651),\"\")","v":""}]
[null,null,null,null,null,null,null,null,null,null,null,null,{"$f":"IF(データセット1!$B652<>\"\",IF($M$1=データセット1!$B652,データセット1!$D652),\"\")","v":""},{"$f":"IF(データセット1!$B652<>\"\",IF($N$1=データセット1!$B652,データセット1!$D652),\"\")","v":""},{"$f":"IF(データセット1!$B652<>\"\",IF($O$1=データセット1!$B652,データセット1!$D652),\"\")","v":""},{"$f":"IF(データセット1!$B652<>\"\",IF($P$1=データセット1!$B652,データセット1!$D652),\"\")","v":""},{"$f":"IF(データセット1!$B652<>\"\",IF($Q$1=データセット1!$B652,データセット1!$D652),\"\")","v":""},{"$f":"IF(データセット1!$B652<>\"\",IF($R$1=データセット1!$B652,データセット1!$D652),\"\")","v":""},{"$f":"IF(データセット1!$B652<>\"\",IF($S$1=データセット1!$B652,データセット1!$D652),\"\")","v":""},{"$f":"IF(データセット1!$B652<>\"\",IF($T$1=データセット1!$B652,データセット1!$D652),\"\")","v":""},{"$f":"IF(データセット1!$B652<>\"\",IF($U$1=データセット1!$B652,データセット1!$D652),\"\")","v":""}]
[null,null,null,null,null,null,null,null,null,null,null,null,{"$f":"IF(データセット1!$B653<>\"\",IF($M$1=データセット1!$B653,データセット1!$D653),\"\")","v":""},{"$f":"IF(データセット1!$B653<>\"\",IF($N$1=データセット1!$B653,データセット1!$D653),\"\")","v":""},{"$f":"IF(データセット1!$B653<>\"\",IF($O$1=データセット1!$B653,データセット1!$D653),\"\")","v":""},{"$f":"IF(データセット1!$B653<>\"\",IF($P$1=データセット1!$B653,データセット1!$D653),\"\")","v":""},{"$f":"IF(データセット1!$B653<>\"\",IF($Q$1=データセット1!$B653,データセット1!$D653),\"\")","v":""},{"$f":"IF(データセット1!$B653<>\"\",IF($R$1=データセット1!$B653,データセット1!$D653),\"\")","v":""},{"$f":"IF(データセット1!$B653<>\"\",IF($S$1=データセット1!$B653,データセット1!$D653),\"\")","v":""},{"$f":"IF(データセット1!$B653<>\"\",IF($T$1=データセット1!$B653,データセット1!$D653),\"\")","v":""},{"$f":"IF(データセット1!$B653<>\"\",IF($U$1=データセット1!$B653,データセット1!$D653),\"\")","v":""}]
[null,null,null,null,null,null,null,null,null,null,null,null,{"$f":"IF(データセット1!$B654<>\"\",IF($M$1=データセット1!$B654,データセット1!$D654),\"\")","v":""},{"$f":"IF(データセット1!$B654<>\"\",IF($N$1=データセット1!$B654,データセット1!$D654),\"\")","v":""},{"$f":"IF(データセット1!$B654<>\"\",IF($O$1=データセット1!$B654,データセット1!$D654),\"\")","v":""},{"$f":"IF(データセット1!$B654<>\"\",IF($P$1=データセット1!$B654,データセット1!$D654),\"\")","v":""},{"$f":"IF(データセット1!$B654<>\"\",IF($Q$1=データセット1!$B654,データセット1!$D654),\"\")","v":""},{"$f":"IF(データセット1!$B654<>\"\",IF($R$1=データセット1!$B654,データセット1!$D654),\"\")","v":""},{"$f":"IF(データセット1!$B654<>\"\",IF($S$1=データセット1!$B654,データセット1!$D654),\"\")","v":""},{"$f":"IF(データセット1!$B654<>\"\",IF($T$1=データセット1!$B654,データセット1!$D654),\"\")","v":""},{"$f":"IF(データセット1!$B654<>\"\",IF($U$1=データセット1!$B654,データセット1!$D654),\"\")","v":""}]
[null,null,null,null,null,null,null,null,null,null,null,null,{"$f":"IF(データセット1!$B655<>\"\",IF($M$1=データセット1!$B655,データセット1!$D655),\"\")","v":""},{"$f":"IF(データセット1!$B655<>\"\",IF($N$1=データセット1!$B655,データセット1!$D655),\"\")","v":""},{"$f":"IF(データセット1!$B655<>\"\",IF($O$1=データセット1!$B655,データセット1!$D655),\"\")","v":""},{"$f":"IF(データセット1!$B655<>\"\",IF($P$1=データセット1!$B655,データセット1!$D655),\"\")","v":""},{"$f":"IF(データセット1!$B655<>\"\",IF($Q$1=データセット1!$B655,データセット1!$D655),\"\")","v":""},{"$f":"IF(データセット1!$B655<>\"\",IF($R$1=データセット1!$B655,データセット1!$D655),\"\")","v":""},{"$f":"IF(データセット1!$B655<>\"\",IF($S$1=データセット1!$B655,データセット1!$D655),\"\")","v":""},{"$f":"IF(データセット1!$B655<>\"\",IF($T$1=データセット1!$B655,データセット1!$D655),\"\")","v":""},{"$f":"IF(データセット1!$B655<>\"\",IF($U$1=データセット1!$B655,データセット1!$D655),\"\")","v":""}]
[null,null,null,null,null,null,null,null,null,null,null,null,{"$f":"IF(データセット1!$B656<>\"\",IF($M$1=データセット1!$B656,データセット1!$D656),\"\")","v":""},{"$f":"IF(データセット1!$B656<>\"\",IF($N$1=データセット1!$B656,データセット1!$D656),\"\")","v":""},{"$f":"IF(データセット1!$B656<>\"\",IF($O$1=データセット1!$B656,データセット1!$D656),\"\")","v":""},{"$f":"IF(データセット1!$B656<>\"\",IF($P$1=データセット1!$B656,データセット1!$D656),\"\")","v":""},{"$f":"IF(データセット1!$B656<>\"\",IF($Q$1=データセット1!$B656,データセット1!$D656),\"\")","v":""},{"$f":"IF(データセット1!$B656<>\"\",IF($R$1=データセット1!$B656,データセット1!$D656),\"\")","v":""},{"$f":"IF(データセット1!$B656<>\"\",IF($S$1=データセット1!$B656,データセット1!$D656),\"\")","v":""},{"$f":"IF(データセット1!$B656<>\"\",IF($T$1=データセット1!$B656,データセット1!$D656),\"\")","v":""},{"$f":"IF(データセット1!$B656<>\"\",IF($U$1=データセット1!$B656,データセット1!$D656),\"\")","v":""}]
[null,null,null,null,null,null,null,null,null,null,null,null,{"$f":"IF(データセット1!$B657<>\"\",IF($M$1=データセット1!$B657,データセット1!$D657),\"\")","v":""},{"$f":"IF(データセット1!$B657<>\"\",IF($N$1=データセット1!$B657,データセット1!$D657),\"\")","v":""},{"$f":"IF(データセット1!$B657<>\"\",IF($O$1=データセット1!$B657,データセット1!$D657),\"\")","v":""},{"$f":"IF(データセット1!$B657<>\"\",IF($P$1=データセット1!$B657,データセット1!$D657),\"\")","v":""},{"$f":"IF(データセット1!$B657<>\"\",IF($Q$1=データセット1!$B657,データセット1!$D657),\"\")","v":""},{"$f":"IF(データセット1!$B657<>\"\",IF($R$1=データセット1!$B657,データセット1!$D657),\"\")","v":""},{"$f":"IF(データセット1!$B657<>\"\",IF($S$1=データセット1!$B657,データセット1!$D657),\"\")","v":""},{"$f":"IF(データセット1!$B657<>\"\",IF($T$1=データセット1!$B657,データセット1!$D657),\"\")","v":""},{"$f":"IF(データセット1!$B657<>\"\",IF($U$1=データセット1!$B657,データセット1!$D657),\"\")","v":""}]
[null,null,null,null,null,null,null,null,null,null,null,null,{"$f":"IF(データセット1!$B658<>\"\",IF($M$1=データセット1!$B658,データセット1!$D658),\"\")","v":""},{"$f":"IF(データセット1!$B658<>\"\",IF($N$1=データセット1!$B658,データセット1!$D658),\"\")","v":""},{"$f":"IF(データセット1!$B658<>\"\",IF($O$1=データセット1!$B658,データセット1!$D658),\"\")","v":""},{"$f":"IF(データセット1!$B658<>\"\",IF($P$1=データセット1!$B658,データセット1!$D658),\"\")","v":""},{"$f":"IF(データセット1!$B658<>\"\",IF($Q$1=データセット1!$B658,データセット1!$D658),\"\")","v":""},{"$f":"IF(データセット1!$B658<>\"\",IF($R$1=データセット1!$B658,データセット1!$D658),\"\")","v":""},{"$f":"IF(データセット1!$B658<>\"\",IF($S$1=データセット1!$B658,データセット1!$D658),\"\")","v":""},{"$f":"IF(データセット1!$B658<>\"\",IF($T$1=データセット1!$B658,データセット1!$D658),\"\")","v":""},{"$f":"IF(データセット1!$B658<>\"\",IF($U$1=データセット1!$B658,データセット1!$D658),\"\")","v":""}]
[null,null,null,null,null,null,null,null,null,null,null,null,{"$f":"IF(データセット1!$B659<>\"\",IF($M$1=データセット1!$B659,データセット1!$D659),\"\")","v":""},{"$f":"IF(データセット1!$B659<>\"\",IF($N$1=データセット1!$B659,データセット1!$D659),\"\")","v":""},{"$f":"IF(データセット1!$B659<>\"\",IF($O$1=データセット1!$B659,データセット1!$D659),\"\")","v":""},{"$f":"IF(データセット1!$B659<>\"\",IF($P$1=データセット1!$B659,データセット1!$D659),\"\")","v":""},{"$f":"IF(データセット1!$B659<>\"\",IF($Q$1=データセット1!$B659,データセット1!$D659),\"\")","v":""},{"$f":"IF(データセット1!$B659<>\"\",IF($R$1=データセット1!$B659,データセット1!$D659),\"\")","v":""},{"$f":"IF(データセット1!$B659<>\"\",IF($S$1=データセット1!$B659,データセット1!$D659),\"\")","v":""},{"$f":"IF(データセット1!$B659<>\"\",IF($T$1=データセット1!$B659,データセット1!$D659),\"\")","v":""},{"$f":"IF(データセット1!$B659<>\"\",IF($U$1=データセット1!$B659,データセット1!$D659),\"\")","v":""}]
[null,null,null,null,null,null,null,null,null,null,null,null,{"$f":"IF(データセット1!$B660<>\"\",IF($M$1=データセット1!$B660,データセット1!$D660),\"\")","v":""},{"$f":"IF(データセット1!$B660<>\"\",IF($N$1=データセット1!$B660,データセット1!$D660),\"\")","v":""},{"$f":"IF(データセット1!$B660<>\"\",IF($O$1=データセット1!$B660,データセット1!$D660),\"\")","v":""},{"$f":"IF(データセット1!$B660<>\"\",IF($P$1=データセット1!$B660,データセット1!$D660),\"\")","v":""},{"$f":"IF(データセット1!$B660<>\"\",IF($Q$1=データセット1!$B660,データセット1!$D660),\"\")","v":""},{"$f":"IF(データセット1!$B660<>\"\",IF($R$1=データセット1!$B660,データセット1!$D660),\"\")","v":""},{"$f":"IF(データセット1!$B660<>\"\",IF($S$1=データセット1!$B660,データセット1!$D660),\"\")","v":""},{"$f":"IF(データセット1!$B660<>\"\",IF($T$1=データセット1!$B660,データセット1!$D660),\"\")","v":""},{"$f":"IF(データセット1!$B660<>\"\",IF($U$1=データセット1!$B660,データセット1!$D660),\"\")","v":""}]
[null,null,null,null,null,null,null,null,null,null,null,null,{"$f":"IF(データセット1!$B661<>\"\",IF($M$1=データセット1!$B661,データセット1!$D661),\"\")","v":""},{"$f":"IF(データセット1!$B661<>\"\",IF($N$1=データセット1!$B661,データセット1!$D661),\"\")","v":""},{"$f":"IF(データセット1!$B661<>\"\",IF($O$1=データセット1!$B661,データセット1!$D661),\"\")","v":""},{"$f":"IF(データセット1!$B661<>\"\",IF($P$1=データセット1!$B661,データセット1!$D661),\"\")","v":""},{"$f":"IF(データセット1!$B661<>\"\",IF($Q$1=データセット1!$B661,データセット1!$D661),\"\")","v":""},{"$f":"IF(データセット1!$B661<>\"\",IF($R$1=データセット1!$B661,データセット1!$D661),\"\")","v":""},{"$f":"IF(データセット1!$B661<>\"\",IF($S$1=データセット1!$B661,データセット1!$D661),\"\")","v":""},{"$f":"IF(データセット1!$B661<>\"\",IF($T$1=データセット1!$B661,データセット1!$D661),\"\")","v":""},{"$f":"IF(データセット1!$B661<>\"\",IF($U$1=データセット1!$B661,データセット1!$D661),\"\")","v":""}]
[null,null,null,null,null,null,null,null,null,null,null,null,{"$f":"IF(データセット1!$B662<>\"\",IF($M$1=データセット1!$B662,データセット1!$D662),\"\")","v":""},{"$f":"IF(データセット1!$B662<>\"\",IF($N$1=データセット1!$B662,データセット1!$D662),\"\")","v":""},{"$f":"IF(データセット1!$B662<>\"\",IF($O$1=データセット1!$B662,データセット1!$D662),\"\")","v":""},{"$f":"IF(データセット1!$B662<>\"\",IF($P$1=データセット1!$B662,データセット1!$D662),\"\")","v":""},{"$f":"IF(データセット1!$B662<>\"\",IF($Q$1=データセット1!$B662,データセット1!$D662),\"\")","v":""},{"$f":"IF(データセット1!$B662<>\"\",IF($R$1=データセット1!$B662,データセット1!$D662),\"\")","v":""},{"$f":"IF(データセット1!$B662<>\"\",IF($S$1=データセット1!$B662,データセット1!$D662),\"\")","v":""},{"$f":"IF(データセット1!$B662<>\"\",IF($T$1=データセット1!$B662,データセット1!$D662),\"\")","v":""},{"$f":"IF(データセット1!$B662<>\"\",IF($U$1=データセット1!$B662,データセット1!$D662),\"\")","v":""}]
[null,null,null,null,null,null,null,null,null,null,null,null,{"$f":"IF(データセット1!$B663<>\"\",IF($M$1=データセット1!$B663,データセット1!$D663),\"\")","v":""},{"$f":"IF(データセット1!$B663<>\"\",IF($N$1=データセット1!$B663,データセット1!$D663),\"\")","v":""},{"$f":"IF(データセット1!$B663<>\"\",IF($O$1=データセット1!$B663,データセット1!$D663),\"\")","v":""},{"$f":"IF(データセット1!$B663<>\"\",IF($P$1=データセット1!$B663,データセット1!$D663),\"\")","v":""},{"$f":"IF(データセット1!$B663<>\"\",IF($Q$1=データセット1!$B663,データセット1!$D663),\"\")","v":""},{"$f":"IF(データセット1!$B663<>\"\",IF($R$1=データセット1!$B663,データセット1!$D663),\"\")","v":""},{"$f":"IF(データセット1!$B663<>\"\",IF($S$1=データセット1!$B663,データセット1!$D663),\"\")","v":""},{"$f":"IF(データセット1!$B663<>\"\",IF($T$1=データセット1!$B663,データセット1!$D663),\"\")","v":""},{"$f":"IF(データセット1!$B663<>\"\",IF($U$1=データセット1!$B663,データセット1!$D663),\"\")","v":""}]
[null,null,null,null,null,null,null,null,null,null,null,null,{"$f":"IF(データセット1!$B664<>\"\",IF($M$1=データセット1!$B664,データセット1!$D664),\"\")","v":""},{"$f":"IF(データセット1!$B664<>\"\",IF($N$1=データセット1!$B664,データセット1!$D664),\"\")","v":""},{"$f":"IF(データセット1!$B664<>\"\",IF($O$1=データセット1!$B664,データセット1!$D664),\"\")","v":""},{"$f":"IF(データセット1!$B664<>\"\",IF($P$1=データセット1!$B664,データセット1!$D664),\"\")","v":""},{"$f":"IF(データセット1!$B664<>\"\",IF($Q$1=データセット1!$B664,データセット1!$D664),\"\")","v":""},{"$f":"IF(データセット1!$B664<>\"\",IF($R$1=データセット1!$B664,データセット1!$D664),\"\")","v":""},{"$f":"IF(データセット1!$B664<>\"\",IF($S$1=データセット1!$B664,データセット1!$D664),\"\")","v":""},{"$f":"IF(データセット1!$B664<>\"\",IF($T$1=データセット1!$B664,データセット1!$D664),\"\")","v":""},{"$f":"IF(データセット1!$B664<>\"\",IF($U$1=データセット1!$B664,データセット1!$D664),\"\")","v":""}]
[null,null,null,null,null,null,null,null,null,null,null,null,{"$f":"IF(データセット1!$B665<>\"\",IF($M$1=データセット1!$B665,データセット1!$D665),\"\")","v":""},{"$f":"IF(データセット1!$B665<>\"\",IF($N$1=データセット1!$B665,データセット1!$D665),\"\")","v":""},{"$f":"IF(データセット1!$B665<>\"\",IF($O$1=データセット1!$B665,データセット1!$D665),\"\")","v":""},{"$f":"IF(データセット1!$B665<>\"\",IF($P$1=データセット1!$B665,データセット1!$D665),\"\")","v":""},{"$f":"IF(データセット1!$B665<>\"\",IF($Q$1=データセット1!$B665,データセット1!$D665),\"\")","v":""},{"$f":"IF(データセット1!$B665<>\"\",IF($R$1=データセット1!$B665,データセット1!$D665),\"\")","v":""},{"$f":"IF(データセット1!$B665<>\"\",IF($S$1=データセット1!$B665,データセット1!$D665),\"\")","v":""},{"$f":"IF(データセット1!$B665<>\"\",IF($T$1=データセット1!$B665,データセット1!$D665),\"\")","v":""},{"$f":"IF(データセット1!$B665<>\"\",IF($U$1=データセット1!$B665,データセット1!$D665),\"\")","v":""}]
[null,null,null,null,null,null,null,null,null,null,null,null,{"$f":"IF(データセット1!$B666<>\"\",IF($M$1=データセット1!$B666,データセット1!$D666),\"\")","v":""},{"$f":"IF(データセット1!$B666<>\"\",IF($N$1=データセット1!$B666,データセット1!$D666),\"\")","v":""},{"$f":"IF(データセット1!$B666<>\"\",IF($O$1=データセット1!$B666,データセット1!$D666),\"\")","v":""},{"$f":"IF(データセット1!$B666<>\"\",IF($P$1=データセット1!$B666,データセット1!$D666),\"\")","v":""},{"$f":"IF(データセット1!$B666<>\"\",IF($Q$1=データセット1!$B666,データセット1!$D666),\"\")","v":""},{"$f":"IF(データセット1!$B666<>\"\",IF($R$1=データセット1!$B666,データセット1!$D666),\"\")","v":""},{"$f":"IF(データセット1!$B666<>\"\",IF($S$1=データセット1!$B666,データセット1!$D666),\"\")","v":""},{"$f":"IF(データセット1!$B666<>\"\",IF($T$1=データセット1!$B666,データセット1!$D666),\"\")","v":""},{"$f":"IF(データセット1!$B666<>\"\",IF($U$1=データセット1!$B666,データセット1!$D666),\"\")","v":""}]
[null,null,null,null,null,null,null,null,null,null,null,null,{"$f":"IF(データセット1!$B667<>\"\",IF($M$1=データセット1!$B667,データセット1!$D667),\"\")","v":""},{"$f":"IF(データセット1!$B667<>\"\",IF($N$1=データセット1!$B667,データセット1!$D667),\"\")","v":""},{"$f":"IF(データセット1!$B667<>\"\",IF($O$1=データセット1!$B667,データセット1!$D667),\"\")","v":""},{"$f":"IF(データセット1!$B667<>\"\",IF($P$1=データセット1!$B667,データセット1!$D667),\"\")","v":""},{"$f":"IF(データセット1!$B667<>\"\",IF($Q$1=データセット1!$B667,データセット1!$D667),\"\")","v":""},{"$f":"IF(データセット1!$B667<>\"\",IF($R$1=データセット1!$B667,データセット1!$D667),\"\")","v":""},{"$f":"IF(データセット1!$B667<>\"\",IF($S$1=データセット1!$B667,データセット1!$D667),\"\")","v":""},{"$f":"IF(データセット1!$B667<>\"\",IF($T$1=データセット1!$B667,データセット1!$D667),\"\")","v":""},{"$f":"IF(データセット1!$B667<>\"\",IF($U$1=データセット1!$B667,データセット1!$D667),\"\")","v":""}]
[null,null,null,null,null,null,null,null,null,null,null,null,{"$f":"IF(データセット1!$B668<>\"\",IF($M$1=データセット1!$B668,データセット1!$D668),\"\")","v":""},{"$f":"IF(データセット1!$B668<>\"\",IF($N$1=データセット1!$B668,データセット1!$D668),\"\")","v":""},{"$f":"IF(データセット1!$B668<>\"\",IF($O$1=データセット1!$B668,データセット1!$D668),\"\")","v":""},{"$f":"IF(データセット1!$B668<>\"\",IF($P$1=データセット1!$B668,データセット1!$D668),\"\")","v":""},{"$f":"IF(データセット1!$B668<>\"\",IF($Q$1=データセット1!$B668,データセット1!$D668),\"\")","v":""},{"$f":"IF(データセット1!$B668<>\"\",IF($R$1=データセット1!$B668,データセット1!$D668),\"\")","v":""},{"$f":"IF(データセット1!$B668<>\"\",IF($S$1=データセット1!$B668,データセット1!$D668),\"\")","v":""},{"$f":"IF(データセット1!$B668<>\"\",IF($T$1=データセット1!$B668,データセット1!$D668),\"\")","v":""},{"$f":"IF(データセット1!$B668<>\"\",IF($U$1=データセット1!$B668,データセット1!$D668),\"\")","v":""}]
[null,null,null,null,null,null,null,null,null,null,null,null,{"$f":"IF(データセット1!$B669<>\"\",IF($M$1=データセット1!$B669,データセット1!$D669),\"\")","v":""},{"$f":"IF(データセット1!$B669<>\"\",IF($N$1=データセット1!$B669,データセット1!$D669),\"\")","v":""},{"$f":"IF(データセット1!$B669<>\"\",IF($O$1=データセット1!$B669,データセット1!$D669),\"\")","v":""},{"$f":"IF(データセット1!$B669<>\"\",IF($P$1=データセット1!$B669,データセット1!$D669),\"\")","v":""},{"$f":"IF(データセット1!$B669<>\"\",IF($Q$1=データセット1!$B669,データセット1!$D669),\"\")","v":""},{"$f":"IF(データセット1!$B669<>\"\",IF($R$1=データセット1!$B669,データセット1!$D669),\"\")","v":""},{"$f":"IF(データセット1!$B669<>\"\",IF($S$1=データセット1!$B669,データセット1!$D669),\"\")","v":""},{"$f":"IF(データセット1!$B669<>\"\",IF($T$1=データセット1!$B669,データセット1!$D669),\"\")","v":""},{"$f":"IF(データセット1!$B669<>\"\",IF($U$1=データセット1!$B669,データセット1!$D669),\"\")","v":""}]
[null,null,null,null,null,null,null,null,null,null,null,null,{"$f":"IF(データセット1!$B670<>\"\",IF($M$1=データセット1!$B670,データセット1!$D670),\"\")","v":""},{"$f":"IF(データセット1!$B670<>\"\",IF($N$1=データセット1!$B670,データセット1!$D670),\"\")","v":""},{"$f":"IF(データセット1!$B670<>\"\",IF($O$1=データセット1!$B670,データセット1!$D670),\"\")","v":""},{"$f":"IF(データセット1!$B670<>\"\",IF($P$1=データセット1!$B670,データセット1!$D670),\"\")","v":""},{"$f":"IF(データセット1!$B670<>\"\",IF($Q$1=データセット1!$B670,データセット1!$D670),\"\")","v":""},{"$f":"IF(データセット1!$B670<>\"\",IF($R$1=データセット1!$B670,データセット1!$D670),\"\")","v":""},{"$f":"IF(データセット1!$B670<>\"\",IF($S$1=データセット1!$B670,データセット1!$D670),\"\")","v":""},{"$f":"IF(データセット1!$B670<>\"\",IF($T$1=データセット1!$B670,データセット1!$D670),\"\")","v":""},{"$f":"IF(データセット1!$B670<>\"\",IF($U$1=データセット1!$B670,データセット1!$D670),\"\")","v":""}]
[null,null,null,null,null,null,null,null,null,null,null,null,{"$f":"IF(データセット1!$B671<>\"\",IF($M$1=データセット1!$B671,データセット1!$D671),\"\")","v":""},{"$f":"IF(データセット1!$B671<>\"\",IF($N$1=データセット1!$B671,データセット1!$D671),\"\")","v":""},{"$f":"IF(データセット1!$B671<>\"\",IF($O$1=データセット1!$B671,データセット1!$D671),\"\")","v":""},{"$f":"IF(データセット1!$B671<>\"\",IF($P$1=データセット1!$B671,データセット1!$D671),\"\")","v":""},{"$f":"IF(データセット1!$B671<>\"\",IF($Q$1=データセット1!$B671,データセット1!$D671),\"\")","v":""},{"$f":"IF(データセット1!$B671<>\"\",IF($R$1=データセット1!$B671,データセット1!$D671),\"\")","v":""},{"$f":"IF(データセット1!$B671<>\"\",IF($S$1=データセット1!$B671,データセット1!$D671),\"\")","v":""},{"$f":"IF(データセット1!$B671<>\"\",IF($T$1=データセット1!$B671,データセット1!$D671),\"\")","v":""},{"$f":"IF(データセット1!$B671<>\"\",IF($U$1=データセット1!$B671,データセット1!$D671),\"\")","v":""}]
[null,null,null,null,null,null,null,null,null,null,null,null,{"$f":"IF(データセット1!$B672<>\"\",IF($M$1=データセット1!$B672,データセット1!$D672),\"\")","v":""},{"$f":"IF(データセット1!$B672<>\"\",IF($N$1=データセット1!$B672,データセット1!$D672),\"\")","v":""},{"$f":"IF(データセット1!$B672<>\"\",IF($O$1=データセット1!$B672,データセット1!$D672),\"\")","v":""},{"$f":"IF(データセット1!$B672<>\"\",IF($P$1=データセット1!$B672,データセット1!$D672),\"\")","v":""},{"$f":"IF(データセット1!$B672<>\"\",IF($Q$1=データセット1!$B672,データセット1!$D672),\"\")","v":""},{"$f":"IF(データセット1!$B672<>\"\",IF($R$1=データセット1!$B672,データセット1!$D672),\"\")","v":""},{"$f":"IF(データセット1!$B672<>\"\",IF($S$1=データセット1!$B672,データセット1!$D672),\"\")","v":""},{"$f":"IF(データセット1!$B672<>\"\",IF($T$1=データセット1!$B672,データセット1!$D672),\"\")","v":""},{"$f":"IF(データセット1!$B672<>\"\",IF($U$1=データセット1!$B672,データセット1!$D672),\"\")","v":""}]
[null,null,null,null,null,null,null,null,null,null,null,null,{"$f":"IF(データセット1!$B673<>\"\",IF($M$1=データセット1!$B673,データセット1!$D673),\"\")","v":""},{"$f":"IF(データセット1!$B673<>\"\",IF($N$1=データセット1!$B673,データセット1!$D673),\"\")","v":""},{"$f":"IF(データセット1!$B673<>\"\",IF($O$1=データセット1!$B673,データセット1!$D673),\"\")","v":""},{"$f":"IF(データセット1!$B673<>\"\",IF($P$1=データセット1!$B673,データセット1!$D673),\"\")","v":""},{"$f":"IF(データセット1!$B673<>\"\",IF($Q$1=データセット1!$B673,データセット1!$D673),\"\")","v":""},{"$f":"IF(データセット1!$B673<>\"\",IF($R$1=データセット1!$B673,データセット1!$D673),\"\")","v":""},{"$f":"IF(データセット1!$B673<>\"\",IF($S$1=データセット1!$B673,データセット1!$D673),\"\")","v":""},{"$f":"IF(データセット1!$B673<>\"\",IF($T$1=データセット1!$B673,データセット1!$D673),\"\")","v":""},{"$f":"IF(データセット1!$B673<>\"\",IF($U$1=データセット1!$B673,データセット1!$D673),\"\")","v":""}]
[null,null,null,null,null,null,null,null,null,null,null,null,{"$f":"IF(データセット1!$B674<>\"\",IF($M$1=データセット1!$B674,データセット1!$D674),\"\")","v":""},{"$f":"IF(データセット1!$B674<>\"\",IF($N$1=データセット1!$B674,データセット1!$D674),\"\")","v":""},{"$f":"IF(データセット1!$B674<>\"\",IF($O$1=データセット1!$B674,データセット1!$D674),\"\")","v":""},{"$f":"IF(データセット1!$B674<>\"\",IF($P$1=データセット1!$B674,データセット1!$D674),\"\")","v":""},{"$f":"IF(データセット1!$B674<>\"\",IF($Q$1=データセット1!$B674,データセット1!$D674),\"\")","v":""},{"$f":"IF(データセット1!$B674<>\"\",IF($R$1=データセット1!$B674,データセット1!$D674),\"\")","v":""},{"$f":"IF(データセット1!$B674<>\"\",IF($S$1=データセット1!$B674,データセット1!$D674),\"\")","v":""},{"$f":"IF(データセット1!$B674<>\"\",IF($T$1=データセット1!$B674,データセット1!$D674),\"\")","v":""},{"$f":"IF(データセット1!$B674<>\"\",IF($U$1=データセット1!$B674,データセット1!$D674),\"\")","v":""}]
[null,null,null,null,null,null,null,null,null,null,null,null,{"$f":"IF(データセット1!$B675<>\"\",IF($M$1=データセット1!$B675,データセット1!$D675),\"\")","v":""},{"$f":"IF(データセット1!$B675<>\"\",IF($N$1=データセット1!$B675,データセット1!$D675),\"\")","v":""},{"$f":"IF(データセット1!$B675<>\"\",IF($O$1=データセット1!$B675,データセット1!$D675),\"\")","v":""},{"$f":"IF(データセット1!$B675<>\"\",IF($P$1=データセット1!$B675,データセット1!$D675),\"\")","v":""},{"$f":"IF(データセット1!$B675<>\"\",IF($Q$1=データセット1!$B675,データセット1!$D675),\"\")","v":""},{"$f":"IF(データセット1!$B675<>\"\",IF($R$1=データセット1!$B675,データセット1!$D675),\"\")","v":""},{"$f":"IF(データセット1!$B675<>\"\",IF($S$1=データセット1!$B675,データセット1!$D675),\"\")","v":""},{"$f":"IF(データセット1!$B675<>\"\",IF($T$1=データセット1!$B675,データセット1!$D675),\"\")","v":""},{"$f":"IF(データセット1!$B675<>\"\",IF($U$1=データセット1!$B675,データセット1!$D675),\"\")","v":""}]
[null,null,null,null,null,null,null,null,null,null,null,null,{"$f":"IF(データセット1!$B676<>\"\",IF($M$1=データセット1!$B676,データセット1!$D676),\"\")","v":""},{"$f":"IF(データセット1!$B676<>\"\",IF($N$1=データセット1!$B676,データセット1!$D676),\"\")","v":""},{"$f":"IF(データセット1!$B676<>\"\",IF($O$1=データセット1!$B676,データセット1!$D676),\"\")","v":""},{"$f":"IF(データセット1!$B676<>\"\",IF($P$1=データセット1!$B676,データセット1!$D676),\"\")","v":""},{"$f":"IF(データセット1!$B676<>\"\",IF($Q$1=データセット1!$B676,データセット1!$D676),\"\")","v":""},{"$f":"IF(データセット1!$B676<>\"\",IF($R$1=データセット1!$B676,データセット1!$D676),\"\")","v":""},{"$f":"IF(データセット1!$B676<>\"\",IF($S$1=データセット1!$B676,データセット1!$D676),\"\")","v":""},{"$f":"IF(データセット1!$B676<>\"\",IF($T$1=データセット1!$B676,データセット1!$D676),\"\")","v":""},{"$f":"IF(データセット1!$B676<>\"\",IF($U$1=データセット1!$B676,データセット1!$D676),\"\")","v":""}]
[null,null,null,null,null,null,null,null,null,null,null,null,{"$f":"IF(データセット1!$B677<>\"\",IF($M$1=データセット1!$B677,データセット1!$D677),\"\")","v":""},{"$f":"IF(データセット1!$B677<>\"\",IF($N$1=データセット1!$B677,データセット1!$D677),\"\")","v":""},{"$f":"IF(データセット1!$B677<>\"\",IF($O$1=データセット1!$B677,データセット1!$D677),\"\")","v":""},{"$f":"IF(データセット1!$B677<>\"\",IF($P$1=データセット1!$B677,データセット1!$D677),\"\")","v":""},{"$f":"IF(データセット1!$B677<>\"\",IF($Q$1=データセット1!$B677,データセット1!$D677),\"\")","v":""},{"$f":"IF(データセット1!$B677<>\"\",IF($R$1=データセット1!$B677,データセット1!$D677),\"\")","v":""},{"$f":"IF(データセット1!$B677<>\"\",IF($S$1=データセット1!$B677,データセット1!$D677),\"\")","v":""},{"$f":"IF(データセット1!$B677<>\"\",IF($T$1=データセット1!$B677,データセット1!$D677),\"\")","v":""},{"$f":"IF(データセット1!$B677<>\"\",IF($U$1=データセット1!$B677,データセット1!$D677),\"\")","v":""}]
[null,null,null,null,null,null,null,null,null,null,null,null,{"$f":"IF(データセット1!$B678<>\"\",IF($M$1=データセット1!$B678,データセット1!$D678),\"\")","v":""},{"$f":"IF(データセット1!$B678<>\"\",IF($N$1=データセット1!$B678,データセット1!$D678),\"\")","v":""},{"$f":"IF(データセット1!$B678<>\"\",IF($O$1=データセット1!$B678,データセット1!$D678),\"\")","v":""},{"$f":"IF(データセット1!$B678<>\"\",IF($P$1=データセット1!$B678,データセット1!$D678),\"\")","v":""},{"$f":"IF(データセット1!$B678<>\"\",IF($Q$1=データセット1!$B678,データセット1!$D678),\"\")","v":""},{"$f":"IF(データセット1!$B678<>\"\",IF($R$1=データセット1!$B678,データセット1!$D678),\"\")","v":""},{"$f":"IF(データセット1!$B678<>\"\",IF($S$1=データセット1!$B678,データセット1!$D678),\"\")","v":""},{"$f":"IF(データセット1!$B678<>\"\",IF($T$1=データセット1!$B678,データセット1!$D678),\"\")","v":""},{"$f":"IF(データセット1!$B678<>\"\",IF($U$1=データセット1!$B678,データセット1!$D678),\"\")","v":""}]
[null,null,null,null,null,null,null,null,null,null,null,null,{"$f":"IF(データセット1!$B679<>\"\",IF($M$1=データセット1!$B679,データセット1!$D679),\"\")","v":""},{"$f":"IF(データセット1!$B679<>\"\",IF($N$1=データセット1!$B679,データセット1!$D679),\"\")","v":""},{"$f":"IF(データセット1!$B679<>\"\",IF($O$1=データセット1!$B679,データセット1!$D679),\"\")","v":""},{"$f":"IF(データセット1!$B679<>\"\",IF($P$1=データセット1!$B679,データセット1!$D679),\"\")","v":""},{"$f":"IF(データセット1!$B679<>\"\",IF($Q$1=データセット1!$B679,データセット1!$D679),\"\")","v":""},{"$f":"IF(データセット1!$B679<>\"\",IF($R$1=データセット1!$B679,データセット1!$D679),\"\")","v":""},{"$f":"IF(データセット1!$B679<>\"\",IF($S$1=データセット1!$B679,データセット1!$D679),\"\")","v":""},{"$f":"IF(データセット1!$B679<>\"\",IF($T$1=データセット1!$B679,データセット1!$D679),\"\")","v":""},{"$f":"IF(データセット1!$B679<>\"\",IF($U$1=データセット1!$B679,データセット1!$D679),\"\")","v":""}]
[null,null,null,null,null,null,null,null,null,null,null,null,{"$f":"IF(データセット1!$B680<>\"\",IF($M$1=データセット1!$B680,データセット1!$D680),\"\")","v":""},{"$f":"IF(データセット1!$B680<>\"\",IF($N$1=データセット1!$B680,データセット1!$D680),\"\")","v":""},{"$f":"IF(データセット1!$B680<>\"\",IF($O$1=データセット1!$B680,データセット1!$D680),\"\")","v":""},{"$f":"IF(データセット1!$B680<>\"\",IF($P$1=データセット1!$B680,データセット1!$D680),\"\")","v":""},{"$f":"IF(データセット1!$B680<>\"\",IF($Q$1=データセット1!$B680,データセット1!$D680),\"\")","v":""},{"$f":"IF(データセット1!$B680<>\"\",IF($R$1=データセット1!$B680,データセット1!$D680),\"\")","v":""},{"$f":"IF(データセット1!$B680<>\"\",IF($S$1=データセット1!$B680,データセット1!$D680),\"\")","v":""},{"$f":"IF(データセット1!$B680<>\"\",IF($T$1=データセット1!$B680,データセット1!$D680),\"\")","v":""},{"$f":"IF(データセット1!$B680<>\"\",IF($U$1=データセット1!$B680,データセット1!$D680),\"\")","v":""}]
[null,null,null,null,null,null,null,null,null,null,null,null,{"$f":"IF(データセット1!$B681<>\"\",IF($M$1=データセット1!$B681,データセット1!$D681),\"\")","v":""},{"$f":"IF(データセット1!$B681<>\"\",IF($N$1=データセット1!$B681,データセット1!$D681),\"\")","v":""},{"$f":"IF(データセット1!$B681<>\"\",IF($O$1=データセット1!$B681,データセット1!$D681),\"\")","v":""},{"$f":"IF(データセット1!$B681<>\"\",IF($P$1=データセット1!$B681,データセット1!$D681),\"\")","v":""},{"$f":"IF(データセット1!$B681<>\"\",IF($Q$1=データセット1!$B681,データセット1!$D681),\"\")","v":""},{"$f":"IF(データセット1!$B681<>\"\",IF($R$1=データセット1!$B681,データセット1!$D681),\"\")","v":""},{"$f":"IF(データセット1!$B681<>\"\",IF($S$1=データセット1!$B681,データセット1!$D681),\"\")","v":""},{"$f":"IF(データセット1!$B681<>\"\",IF($T$1=データセット1!$B681,データセット1!$D681),\"\")","v":""},{"$f":"IF(データセット1!$B681<>\"\",IF($U$1=データセット1!$B681,データセット1!$D681),\"\")","v":""}]
[null,null,null,null,null,null,null,null,null,null,null,null,{"$f":"IF(データセット1!$B682<>\"\",IF($M$1=データセット1!$B682,データセット1!$D682),\"\")","v":""},{"$f":"IF(データセット1!$B682<>\"\",IF($N$1=データセット1!$B682,データセット1!$D682),\"\")","v":""},{"$f":"IF(データセット1!$B682<>\"\",IF($O$1=データセット1!$B682,データセット1!$D682),\"\")","v":""},{"$f":"IF(データセット1!$B682<>\"\",IF($P$1=データセット1!$B682,データセット1!$D682),\"\")","v":""},{"$f":"IF(データセット1!$B682<>\"\",IF($Q$1=データセット1!$B682,データセット1!$D682),\"\")","v":""},{"$f":"IF(データセット1!$B682<>\"\",IF($R$1=データセット1!$B682,データセット1!$D682),\"\")","v":""},{"$f":"IF(データセット1!$B682<>\"\",IF($S$1=データセット1!$B682,データセット1!$D682),\"\")","v":""},{"$f":"IF(データセット1!$B682<>\"\",IF($T$1=データセット1!$B682,データセット1!$D682),\"\")","v":""},{"$f":"IF(データセット1!$B682<>\"\",IF($U$1=データセット1!$B682,データセット1!$D682),\"\")","v":""}]
[null,null,null,null,null,null,null,null,null,null,null,null,{"$f":"IF(データセット1!$B683<>\"\",IF($M$1=データセット1!$B683,データセット1!$D683),\"\")","v":""},{"$f":"IF(データセット1!$B683<>\"\",IF($N$1=データセット1!$B683,データセット1!$D683),\"\")","v":""},{"$f":"IF(データセット1!$B683<>\"\",IF($O$1=データセット1!$B683,データセット1!$D683),\"\")","v":""},{"$f":"IF(データセット1!$B683<>\"\",IF($P$1=データセット1!$B683,データセット1!$D683),\"\")","v":""},{"$f":"IF(データセット1!$B683<>\"\",IF($Q$1=データセット1!$B683,データセット1!$D683),\"\")","v":""},{"$f":"IF(データセット1!$B683<>\"\",IF($R$1=データセット1!$B683,データセット1!$D683),\"\")","v":""},{"$f":"IF(データセット1!$B683<>\"\",IF($S$1=データセット1!$B683,データセット1!$D683),\"\")","v":""},{"$f":"IF(データセット1!$B683<>\"\",IF($T$1=データセット1!$B683,データセット1!$D683),\"\")","v":""},{"$f":"IF(データセット1!$B683<>\"\",IF($U$1=データセット1!$B683,データセット1!$D683),\"\")","v":""}]
[null,null,null,null,null,null,null,null,null,null,null,null,{"$f":"IF(データセット1!$B684<>\"\",IF($M$1=データセット1!$B684,データセット1!$D684),\"\")","v":""},{"$f":"IF(データセット1!$B684<>\"\",IF($N$1=データセット1!$B684,データセット1!$D684),\"\")","v":""},{"$f":"IF(データセット1!$B684<>\"\",IF($O$1=データセット1!$B684,データセット1!$D684),\"\")","v":""},{"$f":"IF(データセット1!$B684<>\"\",IF($P$1=データセット1!$B684,データセット1!$D684),\"\")","v":""},{"$f":"IF(データセット1!$B684<>\"\",IF($Q$1=データセット1!$B684,データセット1!$D684),\"\")","v":""},{"$f":"IF(データセット1!$B684<>\"\",IF($R$1=データセット1!$B684,データセット1!$D684),\"\")","v":""},{"$f":"IF(データセット1!$B684<>\"\",IF($S$1=データセット1!$B684,データセット1!$D684),\"\")","v":""},{"$f":"IF(データセット1!$B684<>\"\",IF($T$1=データセット1!$B684,データセット1!$D684),\"\")","v":""},{"$f":"IF(データセット1!$B684<>\"\",IF($U$1=データセット1!$B684,データセット1!$D684),\"\")","v":""}]
[null,null,null,null,null,null,null,null,null,null,null,null,{"$f":"IF(データセット1!$B685<>\"\",IF($M$1=データセット1!$B685,データセット1!$D685),\"\")","v":""},{"$f":"IF(データセット1!$B685<>\"\",IF($N$1=データセット1!$B685,データセット1!$D685),\"\")","v":""},{"$f":"IF(データセット1!$B685<>\"\",IF($O$1=データセット1!$B685,データセット1!$D685),\"\")","v":""},{"$f":"IF(データセット1!$B685<>\"\",IF($P$1=データセット1!$B685,データセット1!$D685),\"\")","v":""},{"$f":"IF(データセット1!$B685<>\"\",IF($Q$1=データセット1!$B685,データセット1!$D685),\"\")","v":""},{"$f":"IF(データセット1!$B685<>\"\",IF($R$1=データセット1!$B685,データセット1!$D685),\"\")","v":""},{"$f":"IF(データセット1!$B685<>\"\",IF($S$1=データセット1!$B685,データセット1!$D685),\"\")","v":""},{"$f":"IF(データセット1!$B685<>\"\",IF($T$1=データセット1!$B685,データセット1!$D685),\"\")","v":""},{"$f":"IF(データセット1!$B685<>\"\",IF($U$1=データセット1!$B685,データセット1!$D685),\"\")","v":""}]
[null,null,null,null,null,null,null,null,null,null,null,null,{"$f":"IF(データセット1!$B686<>\"\",IF($M$1=データセット1!$B686,データセット1!$D686),\"\")","v":""},{"$f":"IF(データセット1!$B686<>\"\",IF($N$1=データセット1!$B686,データセット1!$D686),\"\")","v":""},{"$f":"IF(データセット1!$B686<>\"\",IF($O$1=データセット1!$B686,データセット1!$D686),\"\")","v":""},{"$f":"IF(データセット1!$B686<>\"\",IF($P$1=データセット1!$B686,データセット1!$D686),\"\")","v":""},{"$f":"IF(データセット1!$B686<>\"\",IF($Q$1=データセット1!$B686,データセット1!$D686),\"\")","v":""},{"$f":"IF(データセット1!$B686<>\"\",IF($R$1=データセット1!$B686,データセット1!$D686),\"\")","v":""},{"$f":"IF(データセット1!$B686<>\"\",IF($S$1=データセット1!$B686,データセット1!$D686),\"\")","v":""},{"$f":"IF(データセット1!$B686<>\"\",IF($T$1=データセット1!$B686,データセット1!$D686),\"\")","v":""},{"$f":"IF(データセット1!$B686<>\"\",IF($U$1=データセット1!$B686,データセット1!$D686),\"\")","v":""}]
[null,null,null,null,null,null,null,null,null,null,null,null,{"$f":"IF(データセット1!$B687<>\"\",IF($M$1=データセット1!$B687,データセット1!$D687),\"\")","v":""},{"$f":"IF(データセット1!$B687<>\"\",IF($N$1=データセット1!$B687,データセット1!$D687),\"\")","v":""},{"$f":"IF(データセット1!$B687<>\"\",IF($O$1=データセット1!$B687,データセット1!$D687),\"\")","v":""},{"$f":"IF(データセット1!$B687<>\"\",IF($P$1=データセット1!$B687,データセット1!$D687),\"\")","v":""},{"$f":"IF(データセット1!$B687<>\"\",IF($Q$1=データセット1!$B687,データセット1!$D687),\"\")","v":""},{"$f":"IF(データセット1!$B687<>\"\",IF($R$1=データセット1!$B687,データセット1!$D687),\"\")","v":""},{"$f":"IF(データセット1!$B687<>\"\",IF($S$1=データセット1!$B687,データセット1!$D687),\"\")","v":""},{"$f":"IF(データセット1!$B687<>\"\",IF($T$1=データセット1!$B687,データセット1!$D687),\"\")","v":""},{"$f":"IF(データセット1!$B687<>\"\",IF($U$1=データセット1!$B687,データセット1!$D687),\"\")","v":""}]
[null,null,null,null,null,null,null,null,null,null,null,null,{"$f":"IF(データセット1!$B688<>\"\",IF($M$1=データセット1!$B688,データセット1!$D688),\"\")","v":""},{"$f":"IF(データセット1!$B688<>\"\",IF($N$1=データセット1!$B688,データセット1!$D688),\"\")","v":""},{"$f":"IF(データセット1!$B688<>\"\",IF($O$1=データセット1!$B688,データセット1!$D688),\"\")","v":""},{"$f":"IF(データセット1!$B688<>\"\",IF($P$1=データセット1!$B688,データセット1!$D688),\"\")","v":""},{"$f":"IF(データセット1!$B688<>\"\",IF($Q$1=データセット1!$B688,データセット1!$D688),\"\")","v":""},{"$f":"IF(データセット1!$B688<>\"\",IF($R$1=データセット1!$B688,データセット1!$D688),\"\")","v":""},{"$f":"IF(データセット1!$B688<>\"\",IF($S$1=データセット1!$B688,データセット1!$D688),\"\")","v":""},{"$f":"IF(データセット1!$B688<>\"\",IF($T$1=データセット1!$B688,データセット1!$D688),\"\")","v":""},{"$f":"IF(データセット1!$B688<>\"\",IF($U$1=データセット1!$B688,データセット1!$D688),\"\")","v":""}]
[null,null,null,null,null,null,null,null,null,null,null,null,{"$f":"IF(データセット1!$B689<>\"\",IF($M$1=データセット1!$B689,データセット1!$D689),\"\")","v":""},{"$f":"IF(データセット1!$B689<>\"\",IF($N$1=データセット1!$B689,データセット1!$D689),\"\")","v":""},{"$f":"IF(データセット1!$B689<>\"\",IF($O$1=データセット1!$B689,データセット1!$D689),\"\")","v":""},{"$f":"IF(データセット1!$B689<>\"\",IF($P$1=データセット1!$B689,データセット1!$D689),\"\")","v":""},{"$f":"IF(データセット1!$B689<>\"\",IF($Q$1=データセット1!$B689,データセット1!$D689),\"\")","v":""},{"$f":"IF(データセット1!$B689<>\"\",IF($R$1=データセット1!$B689,データセット1!$D689),\"\")","v":""},{"$f":"IF(データセット1!$B689<>\"\",IF($S$1=データセット1!$B689,データセット1!$D689),\"\")","v":""},{"$f":"IF(データセット1!$B689<>\"\",IF($T$1=データセット1!$B689,データセット1!$D689),\"\")","v":""},{"$f":"IF(データセット1!$B689<>\"\",IF($U$1=データセット1!$B689,データセット1!$D689),\"\")","v":""}]
[null,null,null,null,null,null,null,null,null,null,null,null,{"$f":"IF(データセット1!$B690<>\"\",IF($M$1=データセット1!$B690,データセット1!$D690),\"\")","v":""},{"$f":"IF(データセット1!$B690<>\"\",IF($N$1=データセット1!$B690,データセット1!$D690),\"\")","v":""},{"$f":"IF(データセット1!$B690<>\"\",IF($O$1=データセット1!$B690,データセット1!$D690),\"\")","v":""},{"$f":"IF(データセット1!$B690<>\"\",IF($P$1=データセット1!$B690,データセット1!$D690),\"\")","v":""},{"$f":"IF(データセット1!$B690<>\"\",IF($Q$1=データセット1!$B690,データセット1!$D690),\"\")","v":""},{"$f":"IF(データセット1!$B690<>\"\",IF($R$1=データセット1!$B690,データセット1!$D690),\"\")","v":""},{"$f":"IF(データセット1!$B690<>\"\",IF($S$1=データセット1!$B690,データセット1!$D690),\"\")","v":""},{"$f":"IF(データセット1!$B690<>\"\",IF($T$1=データセット1!$B690,データセット1!$D690),\"\")","v":""},{"$f":"IF(データセット1!$B690<>\"\",IF($U$1=データセット1!$B690,データセット1!$D690),\"\")","v":""}]
[null,null,null,null,null,null,null,null,null,null,null,null,{"$f":"IF(データセット1!$B691<>\"\",IF($M$1=データセット1!$B691,データセット1!$D691),\"\")","v":""},{"$f":"IF(データセット1!$B691<>\"\",IF($N$1=データセット1!$B691,データセット1!$D691),\"\")","v":""},{"$f":"IF(データセット1!$B691<>\"\",IF($O$1=データセット1!$B691,データセット1!$D691),\"\")","v":""},{"$f":"IF(データセット1!$B691<>\"\",IF($P$1=データセット1!$B691,データセット1!$D691),\"\")","v":""},{"$f":"IF(データセット1!$B691<>\"\",IF($Q$1=データセット1!$B691,データセット1!$D691),\"\")","v":""},{"$f":"IF(データセット1!$B691<>\"\",IF($R$1=データセット1!$B691,データセット1!$D691),\"\")","v":""},{"$f":"IF(データセット1!$B691<>\"\",IF($S$1=データセット1!$B691,データセット1!$D691),\"\")","v":""},{"$f":"IF(データセット1!$B691<>\"\",IF($T$1=データセット1!$B691,データセット1!$D691),\"\")","v":""},{"$f":"IF(データセット1!$B691<>\"\",IF($U$1=データセット1!$B691,データセット1!$D691),\"\")","v":""}]
[null,null,null,null,null,null,null,null,null,null,null,null,{"$f":"IF(データセット1!$B692<>\"\",IF($M$1=データセット1!$B692,データセット1!$D692),\"\")","v":""},{"$f":"IF(データセット1!$B692<>\"\",IF($N$1=データセット1!$B692,データセット1!$D692),\"\")","v":""},{"$f":"IF(データセット1!$B692<>\"\",IF($O$1=データセット1!$B692,データセット1!$D692),\"\")","v":""},{"$f":"IF(データセット1!$B692<>\"\",IF($P$1=データセット1!$B692,データセット1!$D692),\"\")","v":""},{"$f":"IF(データセット1!$B692<>\"\",IF($Q$1=データセット1!$B692,データセット1!$D692),\"\")","v":""},{"$f":"IF(データセット1!$B692<>\"\",IF($R$1=データセット1!$B692,データセット1!$D692),\"\")","v":""},{"$f":"IF(データセット1!$B692<>\"\",IF($S$1=データセット1!$B692,データセット1!$D692),\"\")","v":""},{"$f":"IF(データセット1!$B692<>\"\",IF($T$1=データセット1!$B692,データセット1!$D692),\"\")","v":""},{"$f":"IF(データセット1!$B692<>\"\",IF($U$1=データセット1!$B692,データセット1!$D692),\"\")","v":""}]
[null,null,null,null,null,null,null,null,null,null,null,null,{"$f":"IF(データセット1!$B693<>\"\",IF($M$1=データセット1!$B693,データセット1!$D693),\"\")","v":""},{"$f":"IF(データセット1!$B693<>\"\",IF($N$1=データセット1!$B693,データセット1!$D693),\"\")","v":""},{"$f":"IF(データセット1!$B693<>\"\",IF($O$1=データセット1!$B693,データセット1!$D693),\"\")","v":""},{"$f":"IF(データセット1!$B693<>\"\",IF($P$1=データセット1!$B693,データセット1!$D693),\"\")","v":""},{"$f":"IF(データセット1!$B693<>\"\",IF($Q$1=データセット1!$B693,データセット1!$D693),\"\")","v":""},{"$f":"IF(データセット1!$B693<>\"\",IF($R$1=データセット1!$B693,データセット1!$D693),\"\")","v":""},{"$f":"IF(データセット1!$B693<>\"\",IF($S$1=データセット1!$B693,データセット1!$D693),\"\")","v":""},{"$f":"IF(データセット1!$B693<>\"\",IF($T$1=データセット1!$B693,データセット1!$D693),\"\")","v":""},{"$f":"IF(データセット1!$B693<>\"\",IF($U$1=データセット1!$B693,データセット1!$D693),\"\")","v":""}]
[null,null,null,null,null,null,null,null,null,null,null,null,{"$f":"IF(データセット1!$B694<>\"\",IF($M$1=データセット1!$B694,データセット1!$D694),\"\")","v":""},{"$f":"IF(データセット1!$B694<>\"\",IF($N$1=データセット1!$B694,データセット1!$D694),\"\")","v":""},{"$f":"IF(データセット1!$B694<>\"\",IF($O$1=データセット1!$B694,データセット1!$D694),\"\")","v":""},{"$f":"IF(データセット1!$B694<>\"\",IF($P$1=データセット1!$B694,データセット1!$D694),\"\")","v":""},{"$f":"IF(データセット1!$B694<>\"\",IF($Q$1=データセット1!$B694,データセット1!$D694),\"\")","v":""},{"$f":"IF(データセット1!$B694<>\"\",IF($R$1=データセット1!$B694,データセット1!$D694),\"\")","v":""},{"$f":"IF(データセット1!$B694<>\"\",IF($S$1=データセット1!$B694,データセット1!$D694),\"\")","v":""},{"$f":"IF(データセット1!$B694<>\"\",IF($T$1=データセット1!$B694,データセット1!$D694),\"\")","v":""},{"$f":"IF(データセット1!$B694<>\"\",IF($U$1=データセット1!$B694,データセット1!$D694),\"\")","v":""}]
[null,null,null,null,null,null,null,null,null,null,null,null,{"$f":"IF(データセット1!$B695<>\"\",IF($M$1=データセット1!$B695,データセット1!$D695),\"\")","v":""},{"$f":"IF(データセット1!$B695<>\"\",IF($N$1=データセット1!$B695,データセット1!$D695),\"\")","v":""},{"$f":"IF(データセット1!$B695<>\"\",IF($O$1=データセット1!$B695,データセット1!$D695),\"\")","v":""},{"$f":"IF(データセット1!$B695<>\"\",IF($P$1=データセット1!$B695,データセット1!$D695),\"\")","v":""},{"$f":"IF(データセット1!$B695<>\"\",IF($Q$1=データセット1!$B695,データセット1!$D695),\"\")","v":""},{"$f":"IF(データセット1!$B695<>\"\",IF($R$1=データセット1!$B695,データセット1!$D695),\"\")","v":""},{"$f":"IF(データセット1!$B695<>\"\",IF($S$1=データセット1!$B695,データセット1!$D695),\"\")","v":""},{"$f":"IF(データセット1!$B695<>\"\",IF($T$1=データセット1!$B695,データセット1!$D695),\"\")","v":""},{"$f":"IF(データセット1!$B695<>\"\",IF($U$1=データセット1!$B695,データセット1!$D695),\"\")","v":""}]
[null,null,null,null,null,null,null,null,null,null,null,null,{"$f":"IF(データセット1!$B696<>\"\",IF($M$1=データセット1!$B696,データセット1!$D696),\"\")","v":""},{"$f":"IF(データセット1!$B696<>\"\",IF($N$1=データセット1!$B696,データセット1!$D696),\"\")","v":""},{"$f":"IF(データセット1!$B696<>\"\",IF($O$1=データセット1!$B696,データセット1!$D696),\"\")","v":""},{"$f":"IF(データセット1!$B696<>\"\",IF($P$1=データセット1!$B696,データセット1!$D696),\"\")","v":""},{"$f":"IF(データセット1!$B696<>\"\",IF($Q$1=データセット1!$B696,データセット1!$D696),\"\")","v":""},{"$f":"IF(データセット1!$B696<>\"\",IF($R$1=データセット1!$B696,データセット1!$D696),\"\")","v":""},{"$f":"IF(データセット1!$B696<>\"\",IF($S$1=データセット1!$B696,データセット1!$D696),\"\")","v":""},{"$f":"IF(データセット1!$B696<>\"\",IF($T$1=データセット1!$B696,データセット1!$D696),\"\")","v":""},{"$f":"IF(データセット1!$B696<>\"\",IF($U$1=データセット1!$B696,データセット1!$D696),\"\")","v":""}]
[null,null,null,null,null,null,null,null,null,null,null,null,{"$f":"IF(データセット1!$B697<>\"\",IF($M$1=データセット1!$B697,データセット1!$D697),\"\")","v":""},{"$f":"IF(データセット1!$B697<>\"\",IF($N$1=データセット1!$B697,データセット1!$D697),\"\")","v":""},{"$f":"IF(データセット1!$B697<>\"\",IF($O$1=データセット1!$B697,データセット1!$D697),\"\")","v":""},{"$f":"IF(データセット1!$B697<>\"\",IF($P$1=データセット1!$B697,データセット1!$D697),\"\")","v":""},{"$f":"IF(データセット1!$B697<>\"\",IF($Q$1=データセット1!$B697,データセット1!$D697),\"\")","v":""},{"$f":"IF(データセット1!$B697<>\"\",IF($R$1=データセット1!$B697,データセット1!$D697),\"\")","v":""},{"$f":"IF(データセット1!$B697<>\"\",IF($S$1=データセット1!$B697,データセット1!$D697),\"\")","v":""},{"$f":"IF(データセット1!$B697<>\"\",IF($T$1=データセット1!$B697,データセット1!$D697),\"\")","v":""},{"$f":"IF(データセット1!$B697<>\"\",IF($U$1=データセット1!$B697,データセット1!$D697),\"\")","v":""}]
[null,null,null,null,null,null,null,null,null,null,null,null,{"$f":"IF(データセット1!$B698<>\"\",IF($M$1=データセット1!$B698,データセット1!$D698),\"\")","v":""},{"$f":"IF(データセット1!$B698<>\"\",IF($N$1=データセット1!$B698,データセット1!$D698),\"\")","v":""},{"$f":"IF(データセット1!$B698<>\"\",IF($O$1=データセット1!$B698,データセット1!$D698),\"\")","v":""},{"$f":"IF(データセット1!$B698<>\"\",IF($P$1=データセット1!$B698,データセット1!$D698),\"\")","v":""},{"$f":"IF(データセット1!$B698<>\"\",IF($Q$1=データセット1!$B698,データセット1!$D698),\"\")","v":""},{"$f":"IF(データセット1!$B698<>\"\",IF($R$1=データセット1!$B698,データセット1!$D698),\"\")","v":""},{"$f":"IF(データセット1!$B698<>\"\",IF($S$1=データセット1!$B698,データセット1!$D698),\"\")","v":""},{"$f":"IF(データセット1!$B698<>\"\",IF($T$1=データセット1!$B698,データセット1!$D698),\"\")","v":""},{"$f":"IF(データセット1!$B698<>\"\",IF($U$1=データセット1!$B698,データセット1!$D698),\"\")","v":""}]
[null,null,null,null,null,null,null,null,null,null,null,null,{"$f":"IF(データセット1!$B699<>\"\",IF($M$1=データセット1!$B699,データセット1!$D699),\"\")","v":""},{"$f":"IF(データセット1!$B699<>\"\",IF($N$1=データセット1!$B699,データセット1!$D699),\"\")","v":""},{"$f":"IF(データセット1!$B699<>\"\",IF($O$1=データセット1!$B699,データセット1!$D699),\"\")","v":""},{"$f":"IF(データセット1!$B699<>\"\",IF($P$1=データセット1!$B699,データセット1!$D699),\"\")","v":""},{"$f":"IF(データセット1!$B699<>\"\",IF($Q$1=データセット1!$B699,データセット1!$D699),\"\")","v":""},{"$f":"IF(データセット1!$B699<>\"\",IF($R$1=データセット1!$B699,データセット1!$D699),\"\")","v":""},{"$f":"IF(データセット1!$B699<>\"\",IF($S$1=データセット1!$B699,データセット1!$D699),\"\")","v":""},{"$f":"IF(データセット1!$B699<>\"\",IF($T$1=データセット1!$B699,データセット1!$D699),\"\")","v":""},{"$f":"IF(データセット1!$B699<>\"\",IF($U$1=データセット1!$B699,データセット1!$D699),\"\")","v":""}]
[null,null,null,null,null,null,null,null,null,null,null,null,{"$f":"IF(データセット1!$B700<>\"\",IF($M$1=データセット1!$B700,データセット1!$D700),\"\")","v":""},{"$f":"IF(データセット1!$B700<>\"\",IF($N$1=データセット1!$B700,データセット1!$D700),\"\")","v":""},{"$f":"IF(データセット1!$B700<>\"\",IF($O$1=データセット1!$B700,データセット1!$D700),\"\")","v":""},{"$f":"IF(データセット1!$B700<>\"\",IF($P$1=データセット1!$B700,データセット1!$D700),\"\")","v":""},{"$f":"IF(データセット1!$B700<>\"\",IF($Q$1=データセット1!$B700,データセット1!$D700),\"\")","v":""},{"$f":"IF(データセット1!$B700<>\"\",IF($R$1=データセット1!$B700,データセット1!$D700),\"\")","v":""},{"$f":"IF(データセット1!$B700<>\"\",IF($S$1=データセット1!$B700,データセット1!$D700),\"\")","v":""},{"$f":"IF(データセット1!$B700<>\"\",IF($T$1=データセット1!$B700,データセット1!$D700),\"\")","v":""},{"$f":"IF(データセット1!$B700<>\"\",IF($U$1=データセット1!$B700,データセット1!$D700),\"\")","v":""}]
[null,null,null,null,null,null,null,null,null,null,null,null,{"$f":"IF(データセット1!$B701<>\"\",IF($M$1=データセット1!$B701,データセット1!$D701),\"\")","v":""},{"$f":"IF(データセット1!$B701<>\"\",IF($N$1=データセット1!$B701,データセット1!$D701),\"\")","v":""},{"$f":"IF(データセット1!$B701<>\"\",IF($O$1=データセット1!$B701,データセット1!$D701),\"\")","v":""},{"$f":"IF(データセット1!$B701<>\"\",IF($P$1=データセット1!$B701,データセット1!$D701),\"\")","v":""},{"$f":"IF(データセット1!$B701<>\"\",IF($Q$1=データセット1!$B701,データセット1!$D701),\"\")","v":""},{"$f":"IF(データセット1!$B701<>\"\",IF($R$1=データセット1!$B701,データセット1!$D701),\"\")","v":""},{"$f":"IF(データセット1!$B701<>\"\",IF($S$1=データセット1!$B701,データセット1!$D701),\"\")","v":""},{"$f":"IF(データセット1!$B701<>\"\",IF($T$1=データセット1!$B701,データセット1!$D701),\"\")","v":""},{"$f":"IF(データセット1!$B701<>\"\",IF($U$1=データセット1!$B701,データセット1!$D701),\"\")","v":""}]
[null,null,null,null,null,null,null,null,null,null,null,null,{"$f":"IF(データセット1!$B702<>\"\",IF($M$1=データセット1!$B702,データセット1!$D702),\"\")","v":""},{"$f":"IF(データセット1!$B702<>\"\",IF($N$1=データセット1!$B702,データセット1!$D702),\"\")","v":""},{"$f":"IF(データセット1!$B702<>\"\",IF($O$1=データセット1!$B702,データセット1!$D702),\"\")","v":""},{"$f":"IF(データセット1!$B702<>\"\",IF($P$1=データセット1!$B702,データセット1!$D702),\"\")","v":""},{"$f":"IF(データセット1!$B702<>\"\",IF($Q$1=データセット1!$B702,データセット1!$D702),\"\")","v":""},{"$f":"IF(データセット1!$B702<>\"\",IF($R$1=データセット1!$B702,データセット1!$D702),\"\")","v":""},{"$f":"IF(データセット1!$B702<>\"\",IF($S$1=データセット1!$B702,データセット1!$D702),\"\")","v":""},{"$f":"IF(データセット1!$B702<>\"\",IF($T$1=データセット1!$B702,データセット1!$D702),\"\")","v":""},{"$f":"IF(データセット1!$B702<>\"\",IF($U$1=データセット1!$B702,データセット1!$D702),\"\")","v":""}]
[null,null,null,null,null,null,null,null,null,null,null,null,{"$f":"IF(データセット1!$B703<>\"\",IF($M$1=データセット1!$B703,データセット1!$D703),\"\")","v":""},{"$f":"IF(データセット1!$B703<>\"\",IF($N$1=データセット1!$B703,データセット1!$D703),\"\")","v":""},{"$f":"IF(データセット1!$B703<>\"\",IF($O$1=データセット1!$B703,データセット1!$D703),\"\")","v":""},{"$f":"IF(データセット1!$B703<>\"\",IF($P$1=データセット1!$B703,データセット1!$D703),\"\")","v":""},{"$f":"IF(データセット1!$B703<>\"\",IF($Q$1=データセット1!$B703,データセット1!$D703),\"\")","v":""},{"$f":"IF(データセット1!$B703<>\"\",IF($R$1=データセット1!$B703,データセット1!$D703),\"\")","v":""},{"$f":"IF(データセット1!$B703<>\"\",IF($S$1=データセット1!$B703,データセット1!$D703),\"\")","v":""},{"$f":"IF(データセット1!$B703<>\"\",IF($T$1=データセット1!$B703,データセット1!$D703),\"\")","v":""},{"$f":"IF(データセット1!$B703<>\"\",IF($U$1=データセット1!$B703,データセット1!$D703),\"\")","v":""}]
[null,null,null,null,null,null,null,null,null,null,null,null,{"$f":"IF(データセット1!$B704<>\"\",IF($M$1=データセット1!$B704,データセット1!$D704),\"\")","v":""},{"$f":"IF(データセット1!$B704<>\"\",IF($N$1=データセット1!$B704,データセット1!$D704),\"\")","v":""},{"$f":"IF(データセット1!$B704<>\"\",IF($O$1=データセット1!$B704,データセット1!$D704),\"\")","v":""},{"$f":"IF(データセット1!$B704<>\"\",IF($P$1=データセット1!$B704,データセット1!$D704),\"\")","v":""},{"$f":"IF(データセット1!$B704<>\"\",IF($Q$1=データセット1!$B704,データセット1!$D704),\"\")","v":""},{"$f":"IF(データセット1!$B704<>\"\",IF($R$1=データセット1!$B704,データセット1!$D704),\"\")","v":""},{"$f":"IF(データセット1!$B704<>\"\",IF($S$1=データセット1!$B704,データセット1!$D704),\"\")","v":""},{"$f":"IF(データセット1!$B704<>\"\",IF($T$1=データセット1!$B704,データセット1!$D704),\"\")","v":""},{"$f":"IF(データセット1!$B704<>\"\",IF($U$1=データセット1!$B704,データセット1!$D704),\"\")","v":""}]
[null,null,null,null,null,null,null,null,null,null,null,null,{"$f":"IF(データセット1!$B705<>\"\",IF($M$1=データセット1!$B705,データセット1!$D705),\"\")","v":""},{"$f":"IF(データセット1!$B705<>\"\",IF($N$1=データセット1!$B705,データセット1!$D705),\"\")","v":""},{"$f":"IF(データセット1!$B705<>\"\",IF($O$1=データセット1!$B705,データセット1!$D705),\"\")","v":""},{"$f":"IF(データセット1!$B705<>\"\",IF($P$1=データセット1!$B705,データセット1!$D705),\"\")","v":""},{"$f":"IF(データセット1!$B705<>\"\",IF($Q$1=データセット1!$B705,データセット1!$D705),\"\")","v":""},{"$f":"IF(データセット1!$B705<>\"\",IF($R$1=データセット1!$B705,データセット1!$D705),\"\")","v":""},{"$f":"IF(データセット1!$B705<>\"\",IF($S$1=データセット1!$B705,データセット1!$D705),\"\")","v":""},{"$f":"IF(データセット1!$B705<>\"\",IF($T$1=データセット1!$B705,データセット1!$D705),\"\")","v":""},{"$f":"IF(データセット1!$B705<>\"\",IF($U$1=データセット1!$B705,データセット1!$D705),\"\")","v":""}]
[null,null,null,null,null,null,null,null,null,null,null,null,{"$f":"IF(データセット1!$B706<>\"\",IF($M$1=データセット1!$B706,データセット1!$D706),\"\")","v":""},{"$f":"IF(データセット1!$B706<>\"\",IF($N$1=データセット1!$B706,データセット1!$D706),\"\")","v":""},{"$f":"IF(データセット1!$B706<>\"\",IF($O$1=データセット1!$B706,データセット1!$D706),\"\")","v":""},{"$f":"IF(データセット1!$B706<>\"\",IF($P$1=データセット1!$B706,データセット1!$D706),\"\")","v":""},{"$f":"IF(データセット1!$B706<>\"\",IF($Q$1=データセット1!$B706,データセット1!$D706),\"\")","v":""},{"$f":"IF(データセット1!$B706<>\"\",IF($R$1=データセット1!$B706,データセット1!$D706),\"\")","v":""},{"$f":"IF(データセット1!$B706<>\"\",IF($S$1=データセット1!$B706,データセット1!$D706),\"\")","v":""},{"$f":"IF(データセット1!$B706<>\"\",IF($T$1=データセット1!$B706,データセット1!$D706),\"\")","v":""},{"$f":"IF(データセット1!$B706<>\"\",IF($U$1=データセット1!$B706,データセット1!$D706),\"\")","v":""}]
[null,null,null,null,null,null,null,null,null,null,null,null,{"$f":"IF(データセット1!$B707<>\"\",IF($M$1=データセット1!$B707,データセット1!$D707),\"\")","v":""},{"$f":"IF(データセット1!$B707<>\"\",IF($N$1=データセット1!$B707,データセット1!$D707),\"\")","v":""},{"$f":"IF(データセット1!$B707<>\"\",IF($O$1=データセット1!$B707,データセット1!$D707),\"\")","v":""},{"$f":"IF(データセット1!$B707<>\"\",IF($P$1=データセット1!$B707,データセット1!$D707),\"\")","v":""},{"$f":"IF(データセット1!$B707<>\"\",IF($Q$1=データセット1!$B707,データセット1!$D707),\"\")","v":""},{"$f":"IF(データセット1!$B707<>\"\",IF($R$1=データセット1!$B707,データセット1!$D707),\"\")","v":""},{"$f":"IF(データセット1!$B707<>\"\",IF($S$1=データセット1!$B707,データセット1!$D707),\"\")","v":""},{"$f":"IF(データセット1!$B707<>\"\",IF($T$1=データセット1!$B707,データセット1!$D707),\"\")","v":""},{"$f":"IF(データセット1!$B707<>\"\",IF($U$1=データセット1!$B707,データセット1!$D707),\"\")","v":""}]
[null,null,null,null,null,null,null,null,null,null,null,null,{"$f":"IF(データセット1!$B708<>\"\",IF($M$1=データセット1!$B708,データセット1!$D708),\"\")","v":""},{"$f":"IF(データセット1!$B708<>\"\",IF($N$1=データセット1!$B708,データセット1!$D708),\"\")","v":""},{"$f":"IF(データセット1!$B708<>\"\",IF($O$1=データセット1!$B708,データセット1!$D708),\"\")","v":""},{"$f":"IF(データセット1!$B708<>\"\",IF($P$1=データセット1!$B708,データセット1!$D708),\"\")","v":""},{"$f":"IF(データセット1!$B708<>\"\",IF($Q$1=データセット1!$B708,データセット1!$D708),\"\")","v":""},{"$f":"IF(データセット1!$B708<>\"\",IF($R$1=データセット1!$B708,データセット1!$D708),\"\")","v":""},{"$f":"IF(データセット1!$B708<>\"\",IF($S$1=データセット1!$B708,データセット1!$D708),\"\")","v":""},{"$f":"IF(データセット1!$B708<>\"\",IF($T$1=データセット1!$B708,データセット1!$D708),\"\")","v":""},{"$f":"IF(データセット1!$B708<>\"\",IF($U$1=データセット1!$B708,データセット1!$D708),\"\")","v":""}]
[null,null,null,null,null,null,null,null,null,null,null,null,{"$f":"IF(データセット1!$B709<>\"\",IF($M$1=データセット1!$B709,データセット1!$D709),\"\")","v":""},{"$f":"IF(データセット1!$B709<>\"\",IF($N$1=データセット1!$B709,データセット1!$D709),\"\")","v":""},{"$f":"IF(データセット1!$B709<>\"\",IF($O$1=データセット1!$B709,データセット1!$D709),\"\")","v":""},{"$f":"IF(データセット1!$B709<>\"\",IF($P$1=データセット1!$B709,データセット1!$D709),\"\")","v":""},{"$f":"IF(データセット1!$B709<>\"\",IF($Q$1=データセット1!$B709,データセット1!$D709),\"\")","v":""},{"$f":"IF(データセット1!$B709<>\"\",IF($R$1=データセット1!$B709,データセット1!$D709),\"\")","v":""},{"$f":"IF(データセット1!$B709<>\"\",IF($S$1=データセット1!$B709,データセット1!$D709),\"\")","v":""},{"$f":"IF(データセット1!$B709<>\"\",IF($T$1=データセット1!$B709,データセット1!$D709),\"\")","v":""},{"$f":"IF(データセット1!$B709<>\"\",IF($U$1=データセット1!$B709,データセット1!$D709),\"\")","v":""}]
[null,null,null,null,null,null,null,null,null,null,null,null,{"$f":"IF(データセット1!$B710<>\"\",IF($M$1=データセット1!$B710,データセット1!$D710),\"\")","v":""},{"$f":"IF(データセット1!$B710<>\"\",IF($N$1=データセット1!$B710,データセット1!$D710),\"\")","v":""},{"$f":"IF(データセット1!$B710<>\"\",IF($O$1=データセット1!$B710,データセット1!$D710),\"\")","v":""},{"$f":"IF(データセット1!$B710<>\"\",IF($P$1=データセット1!$B710,データセット1!$D710),\"\")","v":""},{"$f":"IF(データセット1!$B710<>\"\",IF($Q$1=データセット1!$B710,データセット1!$D710),\"\")","v":""},{"$f":"IF(データセット1!$B710<>\"\",IF($R$1=データセット1!$B710,データセット1!$D710),\"\")","v":""},{"$f":"IF(データセット1!$B710<>\"\",IF($S$1=データセット1!$B710,データセット1!$D710),\"\")","v":""},{"$f":"IF(データセット1!$B710<>\"\",IF($T$1=データセット1!$B710,データセット1!$D710),\"\")","v":""},{"$f":"IF(データセット1!$B710<>\"\",IF($U$1=データセット1!$B710,データセット1!$D710),\"\")","v":""}]
[null,null,null,null,null,null,null,null,null,null,null,null,{"$f":"IF(データセット1!$B711<>\"\",IF($M$1=データセット1!$B711,データセット1!$D711),\"\")","v":""},{"$f":"IF(データセット1!$B711<>\"\",IF($N$1=データセット1!$B711,データセット1!$D711),\"\")","v":""},{"$f":"IF(データセット1!$B711<>\"\",IF($O$1=データセット1!$B711,データセット1!$D711),\"\")","v":""},{"$f":"IF(データセット1!$B711<>\"\",IF($P$1=データセット1!$B711,データセット1!$D711),\"\")","v":""},{"$f":"IF(データセット1!$B711<>\"\",IF($Q$1=データセット1!$B711,データセット1!$D711),\"\")","v":""},{"$f":"IF(データセット1!$B711<>\"\",IF($R$1=データセット1!$B711,データセット1!$D711),\"\")","v":""},{"$f":"IF(データセット1!$B711<>\"\",IF($S$1=データセット1!$B711,データセット1!$D711),\"\")","v":""},{"$f":"IF(データセット1!$B711<>\"\",IF($T$1=データセット1!$B711,データセット1!$D711),\"\")","v":""},{"$f":"IF(データセット1!$B711<>\"\",IF($U$1=データセット1!$B711,データセット1!$D711),\"\")","v":""}]
[null,null,null,null,null,null,null,null,null,null,null,null,{"$f":"IF(データセット1!$B712<>\"\",IF($M$1=データセット1!$B712,データセット1!$D712),\"\")","v":""},{"$f":"IF(データセット1!$B712<>\"\",IF($N$1=データセット1!$B712,データセット1!$D712),\"\")","v":""},{"$f":"IF(データセット1!$B712<>\"\",IF($O$1=データセット1!$B712,データセット1!$D712),\"\")","v":""},{"$f":"IF(データセット1!$B712<>\"\",IF($P$1=データセット1!$B712,データセット1!$D712),\"\")","v":""},{"$f":"IF(データセット1!$B712<>\"\",IF($Q$1=データセット1!$B712,データセット1!$D712),\"\")","v":""},{"$f":"IF(データセット1!$B712<>\"\",IF($R$1=データセット1!$B712,データセット1!$D712),\"\")","v":""},{"$f":"IF(データセット1!$B712<>\"\",IF($S$1=データセット1!$B712,データセット1!$D712),\"\")","v":""},{"$f":"IF(データセット1!$B712<>\"\",IF($T$1=データセット1!$B712,データセット1!$D712),\"\")","v":""},{"$f":"IF(データセット1!$B712<>\"\",IF($U$1=データセット1!$B712,データセット1!$D712),\"\")","v":""}]
[null,null,null,null,null,null,null,null,null,null,null,null,{"$f":"IF(データセット1!$B713<>\"\",IF($M$1=データセット1!$B713,データセット1!$D713),\"\")","v":""},{"$f":"IF(データセット1!$B713<>\"\",IF($N$1=データセット1!$B713,データセット1!$D713),\"\")","v":""},{"$f":"IF(データセット1!$B713<>\"\",IF($O$1=データセット1!$B713,データセット1!$D713),\"\")","v":""},{"$f":"IF(データセット1!$B713<>\"\",IF($P$1=データセット1!$B713,データセット1!$D713),\"\")","v":""},{"$f":"IF(データセット1!$B713<>\"\",IF($Q$1=データセット1!$B713,データセット1!$D713),\"\")","v":""},{"$f":"IF(データセット1!$B713<>\"\",IF($R$1=データセット1!$B713,データセット1!$D713),\"\")","v":""},{"$f":"IF(データセット1!$B713<>\"\",IF($S$1=データセット1!$B713,データセット1!$D713),\"\")","v":""},{"$f":"IF(データセット1!$B713<>\"\",IF($T$1=データセット1!$B713,データセット1!$D713),\"\")","v":""},{"$f":"IF(データセット1!$B713<>\"\",IF($U$1=データセット1!$B713,データセット1!$D713),\"\")","v":""}]
[null,null,null,null,null,null,null,null,null,null,null,null,{"$f":"IF(データセット1!$B714<>\"\",IF($M$1=データセット1!$B714,データセット1!$D714),\"\")","v":""},{"$f":"IF(データセット1!$B714<>\"\",IF($N$1=データセット1!$B714,データセット1!$D714),\"\")","v":""},{"$f":"IF(データセット1!$B714<>\"\",IF($O$1=データセット1!$B714,データセット1!$D714),\"\")","v":""},{"$f":"IF(データセット1!$B714<>\"\",IF($P$1=データセット1!$B714,データセット1!$D714),\"\")","v":""},{"$f":"IF(データセット1!$B714<>\"\",IF($Q$1=データセット1!$B714,データセット1!$D714),\"\")","v":""},{"$f":"IF(データセット1!$B714<>\"\",IF($R$1=データセット1!$B714,データセット1!$D714),\"\")","v":""},{"$f":"IF(データセット1!$B714<>\"\",IF($S$1=データセット1!$B714,データセット1!$D714),\"\")","v":""},{"$f":"IF(データセット1!$B714<>\"\",IF($T$1=データセット1!$B714,データセット1!$D714),\"\")","v":""},{"$f":"IF(データセット1!$B714<>\"\",IF($U$1=データセット1!$B714,データセット1!$D714),\"\")","v":""}]
[null,null,null,null,null,null,null,null,null,null,null,null,{"$f":"IF(データセット1!$B715<>\"\",IF($M$1=データセット1!$B715,データセット1!$D715),\"\")","v":""},{"$f":"IF(データセット1!$B715<>\"\",IF($N$1=データセット1!$B715,データセット1!$D715),\"\")","v":""},{"$f":"IF(データセット1!$B715<>\"\",IF($O$1=データセット1!$B715,データセット1!$D715),\"\")","v":""},{"$f":"IF(データセット1!$B715<>\"\",IF($P$1=データセット1!$B715,データセット1!$D715),\"\")","v":""},{"$f":"IF(データセット1!$B715<>\"\",IF($Q$1=データセット1!$B715,データセット1!$D715),\"\")","v":""},{"$f":"IF(データセット1!$B715<>\"\",IF($R$1=データセット1!$B715,データセット1!$D715),\"\")","v":""},{"$f":"IF(データセット1!$B715<>\"\",IF($S$1=データセット1!$B715,データセット1!$D715),\"\")","v":""},{"$f":"IF(データセット1!$B715<>\"\",IF($T$1=データセット1!$B715,データセット1!$D715),\"\")","v":""},{"$f":"IF(データセット1!$B715<>\"\",IF($U$1=データセット1!$B715,データセット1!$D715),\"\")","v":""}]
[null,null,null,null,null,null,null,null,null,null,null,null,{"$f":"IF(データセット1!$B716<>\"\",IF($M$1=データセット1!$B716,データセット1!$D716),\"\")","v":""},{"$f":"IF(データセット1!$B716<>\"\",IF($N$1=データセット1!$B716,データセット1!$D716),\"\")","v":""},{"$f":"IF(データセット1!$B716<>\"\",IF($O$1=データセット1!$B716,データセット1!$D716),\"\")","v":""},{"$f":"IF(データセット1!$B716<>\"\",IF($P$1=データセット1!$B716,データセット1!$D716),\"\")","v":""},{"$f":"IF(データセット1!$B716<>\"\",IF($Q$1=データセット1!$B716,データセット1!$D716),\"\")","v":""},{"$f":"IF(データセット1!$B716<>\"\",IF($R$1=データセット1!$B716,データセット1!$D716),\"\")","v":""},{"$f":"IF(データセット1!$B716<>\"\",IF($S$1=データセット1!$B716,データセット1!$D716),\"\")","v":""},{"$f":"IF(データセット1!$B716<>\"\",IF($T$1=データセット1!$B716,データセット1!$D716),\"\")","v":""},{"$f":"IF(データセット1!$B716<>\"\",IF($U$1=データセット1!$B716,データセット1!$D716),\"\")","v":""}]
[null,null,null,null,null,null,null,null,null,null,null,null,{"$f":"IF(データセット1!$B717<>\"\",IF($M$1=データセット1!$B717,データセット1!$D717),\"\")","v":""},{"$f":"IF(データセット1!$B717<>\"\",IF($N$1=データセット1!$B717,データセット1!$D717),\"\")","v":""},{"$f":"IF(データセット1!$B717<>\"\",IF($O$1=データセット1!$B717,データセット1!$D717),\"\")","v":""},{"$f":"IF(データセット1!$B717<>\"\",IF($P$1=データセット1!$B717,データセット1!$D717),\"\")","v":""},{"$f":"IF(データセット1!$B717<>\"\",IF($Q$1=データセット1!$B717,データセット1!$D717),\"\")","v":""},{"$f":"IF(データセット1!$B717<>\"\",IF($R$1=データセット1!$B717,データセット1!$D717),\"\")","v":""},{"$f":"IF(データセット1!$B717<>\"\",IF($S$1=データセット1!$B717,データセット1!$D717),\"\")","v":""},{"$f":"IF(データセット1!$B717<>\"\",IF($T$1=データセット1!$B717,データセット1!$D717),\"\")","v":""},{"$f":"IF(データセット1!$B717<>\"\",IF($U$1=データセット1!$B717,データセット1!$D717),\"\")","v":""}]
[null,null,null,null,null,null,null,null,null,null,null,null,{"$f":"IF(データセット1!$B718<>\"\",IF($M$1=データセット1!$B718,データセット1!$D718),\"\")","v":""},{"$f":"IF(データセット1!$B718<>\"\",IF($N$1=データセット1!$B718,データセット1!$D718),\"\")","v":""},{"$f":"IF(データセット1!$B718<>\"\",IF($O$1=データセット1!$B718,データセット1!$D718),\"\")","v":""},{"$f":"IF(データセット1!$B718<>\"\",IF($P$1=データセット1!$B718,データセット1!$D718),\"\")","v":""},{"$f":"IF(データセット1!$B718<>\"\",IF($Q$1=データセット1!$B718,データセット1!$D718),\"\")","v":""},{"$f":"IF(データセット1!$B718<>\"\",IF($R$1=データセット1!$B718,データセット1!$D718),\"\")","v":""},{"$f":"IF(データセット1!$B718<>\"\",IF($S$1=データセット1!$B718,データセット1!$D718),\"\")","v":""},{"$f":"IF(データセット1!$B718<>\"\",IF($T$1=データセット1!$B718,データセット1!$D718),\"\")","v":""},{"$f":"IF(データセット1!$B718<>\"\",IF($U$1=データセット1!$B718,データセット1!$D718),\"\")","v":""}]
[null,null,null,null,null,null,null,null,null,null,null,null,{"$f":"IF(データセット1!$B719<>\"\",IF($M$1=データセット1!$B719,データセット1!$D719),\"\")","v":""},{"$f":"IF(データセット1!$B719<>\"\",IF($N$1=データセット1!$B719,データセット1!$D719),\"\")","v":""},{"$f":"IF(データセット1!$B719<>\"\",IF($O$1=データセット1!$B719,データセット1!$D719),\"\")","v":""},{"$f":"IF(データセット1!$B719<>\"\",IF($P$1=データセット1!$B719,データセット1!$D719),\"\")","v":""},{"$f":"IF(データセット1!$B719<>\"\",IF($Q$1=データセット1!$B719,データセット1!$D719),\"\")","v":""},{"$f":"IF(データセット1!$B719<>\"\",IF($R$1=データセット1!$B719,データセット1!$D719),\"\")","v":""},{"$f":"IF(データセット1!$B719<>\"\",IF($S$1=データセット1!$B719,データセット1!$D719),\"\")","v":""},{"$f":"IF(データセット1!$B719<>\"\",IF($T$1=データセット1!$B719,データセット1!$D719),\"\")","v":""},{"$f":"IF(データセット1!$B719<>\"\",IF($U$1=データセット1!$B719,データセット1!$D719),\"\")","v":""}]
[null,null,null,null,null,null,null,null,null,null,null,null,{"$f":"IF(データセット1!$B720<>\"\",IF($M$1=データセット1!$B720,データセット1!$D720),\"\")","v":""},{"$f":"IF(データセット1!$B720<>\"\",IF($N$1=データセット1!$B720,データセット1!$D720),\"\")","v":""},{"$f":"IF(データセット1!$B720<>\"\",IF($O$1=データセット1!$B720,データセット1!$D720),\"\")","v":""},{"$f":"IF(データセット1!$B720<>\"\",IF($P$1=データセット1!$B720,データセット1!$D720),\"\")","v":""},{"$f":"IF(データセット1!$B720<>\"\",IF($Q$1=データセット1!$B720,データセット1!$D720),\"\")","v":""},{"$f":"IF(データセット1!$B720<>\"\",IF($R$1=データセット1!$B720,データセット1!$D720),\"\")","v":""},{"$f":"IF(データセット1!$B720<>\"\",IF($S$1=データセット1!$B720,データセット1!$D720),\"\")","v":""},{"$f":"IF(データセット1!$B720<>\"\",IF($T$1=データセット1!$B720,データセット1!$D720),\"\")","v":""},{"$f":"IF(データセット1!$B720<>\"\",IF($U$1=データセット1!$B720,データセット1!$D720),\"\")","v":""}]
[null,null,null,null,null,null,null,null,null,null,null,null,{"$f":"IF(データセット1!$B721<>\"\",IF($M$1=データセット1!$B721,データセット1!$D721),\"\")","v":""},{"$f":"IF(データセット1!$B721<>\"\",IF($N$1=データセット1!$B721,データセット1!$D721),\"\")","v":""},{"$f":"IF(データセット1!$B721<>\"\",IF($O$1=データセット1!$B721,データセット1!$D721),\"\")","v":""},{"$f":"IF(データセット1!$B721<>\"\",IF($P$1=データセット1!$B721,データセット1!$D721),\"\")","v":""},{"$f":"IF(データセット1!$B721<>\"\",IF($Q$1=データセット1!$B721,データセット1!$D721),\"\")","v":""},{"$f":"IF(データセット1!$B721<>\"\",IF($R$1=データセット1!$B721,データセット1!$D721),\"\")","v":""},{"$f":"IF(データセット1!$B721<>\"\",IF($S$1=データセット1!$B721,データセット1!$D721),\"\")","v":""},{"$f":"IF(データセット1!$B721<>\"\",IF($T$1=データセット1!$B721,データセット1!$D721),\"\")","v":""},{"$f":"IF(データセット1!$B721<>\"\",IF($U$1=データセット1!$B721,データセット1!$D721),\"\")","v":""}]
[null,null,null,null,null,null,null,null,null,null,null,null,{"$f":"IF(データセット1!$B722<>\"\",IF($M$1=データセット1!$B722,データセット1!$D722),\"\")","v":""},{"$f":"IF(データセット1!$B722<>\"\",IF($N$1=データセット1!$B722,データセット1!$D722),\"\")","v":""},{"$f":"IF(データセット1!$B722<>\"\",IF($O$1=データセット1!$B722,データセット1!$D722),\"\")","v":""},{"$f":"IF(データセット1!$B722<>\"\",IF($P$1=データセット1!$B722,データセット1!$D722),\"\")","v":""},{"$f":"IF(データセット1!$B722<>\"\",IF($Q$1=データセット1!$B722,データセット1!$D722),\"\")","v":""},{"$f":"IF(データセット1!$B722<>\"\",IF($R$1=データセット1!$B722,データセット1!$D722),\"\")","v":""},{"$f":"IF(データセット1!$B722<>\"\",IF($S$1=データセット1!$B722,データセット1!$D722),\"\")","v":""},{"$f":"IF(データセット1!$B722<>\"\",IF($T$1=データセット1!$B722,データセット1!$D722),\"\")","v":""},{"$f":"IF(データセット1!$B722<>\"\",IF($U$1=データセット1!$B722,データセット1!$D722),\"\")","v":""}]
[null,null,null,null,null,null,null,null,null,null,null,null,{"$f":"IF(データセット1!$B723<>\"\",IF($M$1=データセット1!$B723,データセット1!$D723),\"\")","v":""},{"$f":"IF(データセット1!$B723<>\"\",IF($N$1=データセット1!$B723,データセット1!$D723),\"\")","v":""},{"$f":"IF(データセット1!$B723<>\"\",IF($O$1=データセット1!$B723,データセット1!$D723),\"\")","v":""},{"$f":"IF(データセット1!$B723<>\"\",IF($P$1=データセット1!$B723,データセット1!$D723),\"\")","v":""},{"$f":"IF(データセット1!$B723<>\"\",IF($Q$1=データセット1!$B723,データセット1!$D723),\"\")","v":""},{"$f":"IF(データセット1!$B723<>\"\",IF($R$1=データセット1!$B723,データセット1!$D723),\"\")","v":""},{"$f":"IF(データセット1!$B723<>\"\",IF($S$1=データセット1!$B723,データセット1!$D723),\"\")","v":""},{"$f":"IF(データセット1!$B723<>\"\",IF($T$1=データセット1!$B723,データセット1!$D723),\"\")","v":""},{"$f":"IF(データセット1!$B723<>\"\",IF($U$1=データセット1!$B723,データセット1!$D723),\"\")","v":""}]
[null,null,null,null,null,null,null,null,null,null,null,null,{"$f":"IF(データセット1!$B724<>\"\",IF($M$1=データセット1!$B724,データセット1!$D724),\"\")","v":""},{"$f":"IF(データセット1!$B724<>\"\",IF($N$1=データセット1!$B724,データセット1!$D724),\"\")","v":""},{"$f":"IF(データセット1!$B724<>\"\",IF($O$1=データセット1!$B724,データセット1!$D724),\"\")","v":""},{"$f":"IF(データセット1!$B724<>\"\",IF($P$1=データセット1!$B724,データセット1!$D724),\"\")","v":""},{"$f":"IF(データセット1!$B724<>\"\",IF($Q$1=データセット1!$B724,データセット1!$D724),\"\")","v":""},{"$f":"IF(データセット1!$B724<>\"\",IF($R$1=データセット1!$B724,データセット1!$D724),\"\")","v":""},{"$f":"IF(データセット1!$B724<>\"\",IF($S$1=データセット1!$B724,データセット1!$D724),\"\")","v":""},{"$f":"IF(データセット1!$B724<>\"\",IF($T$1=データセット1!$B724,データセット1!$D724),\"\")","v":""},{"$f":"IF(データセット1!$B724<>\"\",IF($U$1=データセット1!$B724,データセット1!$D724),\"\")","v":""}]
[null,null,null,null,null,null,null,null,null,null,null,null,{"$f":"IF(データセット1!$B725<>\"\",IF($M$1=データセット1!$B725,データセット1!$D725),\"\")","v":""},{"$f":"IF(データセット1!$B725<>\"\",IF($N$1=データセット1!$B725,データセット1!$D725),\"\")","v":""},{"$f":"IF(データセット1!$B725<>\"\",IF($O$1=データセット1!$B725,データセット1!$D725),\"\")","v":""},{"$f":"IF(データセット1!$B725<>\"\",IF($P$1=データセット1!$B725,データセット1!$D725),\"\")","v":""},{"$f":"IF(データセット1!$B725<>\"\",IF($Q$1=データセット1!$B725,データセット1!$D725),\"\")","v":""},{"$f":"IF(データセット1!$B725<>\"\",IF($R$1=データセット1!$B725,データセット1!$D725),\"\")","v":""},{"$f":"IF(データセット1!$B725<>\"\",IF($S$1=データセット1!$B725,データセット1!$D725),\"\")","v":""},{"$f":"IF(データセット1!$B725<>\"\",IF($T$1=データセット1!$B725,データセット1!$D725),\"\")","v":""},{"$f":"IF(データセット1!$B725<>\"\",IF($U$1=データセット1!$B725,データセット1!$D725),\"\")","v":""}]
[null,null,null,null,null,null,null,null,null,null,null,null,{"$f":"IF(データセット1!$B726<>\"\",IF($M$1=データセット1!$B726,データセット1!$D726),\"\")","v":""},{"$f":"IF(データセット1!$B726<>\"\",IF($N$1=データセット1!$B726,データセット1!$D726),\"\")","v":""},{"$f":"IF(データセット1!$B726<>\"\",IF($O$1=データセット1!$B726,データセット1!$D726),\"\")","v":""},{"$f":"IF(データセット1!$B726<>\"\",IF($P$1=データセット1!$B726,データセット1!$D726),\"\")","v":""},{"$f":"IF(データセット1!$B726<>\"\",IF($Q$1=データセット1!$B726,データセット1!$D726),\"\")","v":""},{"$f":"IF(データセット1!$B726<>\"\",IF($R$1=データセット1!$B726,データセット1!$D726),\"\")","v":""},{"$f":"IF(データセット1!$B726<>\"\",IF($S$1=データセット1!$B726,データセット1!$D726),\"\")","v":""},{"$f":"IF(データセット1!$B726<>\"\",IF($T$1=データセット1!$B726,データセット1!$D726),\"\")","v":""},{"$f":"IF(データセット1!$B726<>\"\",IF($U$1=データセット1!$B726,データセット1!$D726),\"\")","v":""}]
[null,null,null,null,null,null,null,null,null,null,null,null,{"$f":"IF(データセット1!$B727<>\"\",IF($M$1=データセット1!$B727,データセット1!$D727),\"\")","v":""},{"$f":"IF(データセット1!$B727<>\"\",IF($N$1=データセット1!$B727,データセット1!$D727),\"\")","v":""},{"$f":"IF(データセット1!$B727<>\"\",IF($O$1=データセット1!$B727,データセット1!$D727),\"\")","v":""},{"$f":"IF(データセット1!$B727<>\"\",IF($P$1=データセット1!$B727,データセット1!$D727),\"\")","v":""},{"$f":"IF(データセット1!$B727<>\"\",IF($Q$1=データセット1!$B727,データセット1!$D727),\"\")","v":""},{"$f":"IF(データセット1!$B727<>\"\",IF($R$1=データセット1!$B727,データセット1!$D727),\"\")","v":""},{"$f":"IF(データセット1!$B727<>\"\",IF($S$1=データセット1!$B727,データセット1!$D727),\"\")","v":""},{"$f":"IF(データセット1!$B727<>\"\",IF($T$1=データセット1!$B727,データセット1!$D727),\"\")","v":""},{"$f":"IF(データセット1!$B727<>\"\",IF($U$1=データセット1!$B727,データセット1!$D727),\"\")","v":""}]
[null,null,null,null,null,null,null,null,null,null,null,null,{"$f":"IF(データセット1!$B728<>\"\",IF($M$1=データセット1!$B728,データセット1!$D728),\"\")","v":""},{"$f":"IF(データセット1!$B728<>\"\",IF($N$1=データセット1!$B728,データセット1!$D728),\"\")","v":""},{"$f":"IF(データセット1!$B728<>\"\",IF($O$1=データセット1!$B728,データセット1!$D728),\"\")","v":""},{"$f":"IF(データセット1!$B728<>\"\",IF($P$1=データセット1!$B728,データセット1!$D728),\"\")","v":""},{"$f":"IF(データセット1!$B728<>\"\",IF($Q$1=データセット1!$B728,データセット1!$D728),\"\")","v":""},{"$f":"IF(データセット1!$B728<>\"\",IF($R$1=データセット1!$B728,データセット1!$D728),\"\")","v":""},{"$f":"IF(データセット1!$B728<>\"\",IF($S$1=データセット1!$B728,データセット1!$D728),\"\")","v":""},{"$f":"IF(データセット1!$B728<>\"\",IF($T$1=データセット1!$B728,データセット1!$D728),\"\")","v":""},{"$f":"IF(データセット1!$B728<>\"\",IF($U$1=データセット1!$B728,データセット1!$D728),\"\")","v":""}]
[null,null,null,null,null,null,null,null,null,null,null,null,{"$f":"IF(データセット1!$B729<>\"\",IF($M$1=データセット1!$B729,データセット1!$D729),\"\")","v":""},{"$f":"IF(データセット1!$B729<>\"\",IF($N$1=データセット1!$B729,データセット1!$D729),\"\")","v":""},{"$f":"IF(データセット1!$B729<>\"\",IF($O$1=データセット1!$B729,データセット1!$D729),\"\")","v":""},{"$f":"IF(データセット1!$B729<>\"\",IF($P$1=データセット1!$B729,データセット1!$D729),\"\")","v":""},{"$f":"IF(データセット1!$B729<>\"\",IF($Q$1=データセット1!$B729,データセット1!$D729),\"\")","v":""},{"$f":"IF(データセット1!$B729<>\"\",IF($R$1=データセット1!$B729,データセット1!$D729),\"\")","v":""},{"$f":"IF(データセット1!$B729<>\"\",IF($S$1=データセット1!$B729,データセット1!$D729),\"\")","v":""},{"$f":"IF(データセット1!$B729<>\"\",IF($T$1=データセット1!$B729,データセット1!$D729),\"\")","v":""},{"$f":"IF(データセット1!$B729<>\"\",IF($U$1=データセット1!$B729,データセット1!$D729),\"\")","v":""}]
[null,null,null,null,null,null,null,null,null,null,null,null,{"$f":"IF(データセット1!$B730<>\"\",IF($M$1=データセット1!$B730,データセット1!$D730),\"\")","v":""},{"$f":"IF(データセット1!$B730<>\"\",IF($N$1=データセット1!$B730,データセット1!$D730),\"\")","v":""},{"$f":"IF(データセット1!$B730<>\"\",IF($O$1=データセット1!$B730,データセット1!$D730),\"\")","v":""},{"$f":"IF(データセット1!$B730<>\"\",IF($P$1=データセット1!$B730,データセット1!$D730),\"\")","v":""},{"$f":"IF(データセット1!$B730<>\"\",IF($Q$1=データセット1!$B730,データセット1!$D730),\"\")","v":""},{"$f":"IF(データセット1!$B730<>\"\",IF($R$1=データセット1!$B730,データセット1!$D730),\"\")","v":""},{"$f":"IF(データセット1!$B730<>\"\",IF($S$1=データセット1!$B730,データセット1!$D730),\"\")","v":""},{"$f":"IF(データセット1!$B730<>\"\",IF($T$1=データセット1!$B730,データセット1!$D730),\"\")","v":""},{"$f":"IF(データセット1!$B730<>\"\",IF($U$1=データセット1!$B730,データセット1!$D730),\"\")","v":""}]
[null,null,null,null,null,null,null,null,null,null,null,null,{"$f":"IF(データセット1!$B731<>\"\",IF($M$1=データセット1!$B731,データセット1!$D731),\"\")","v":""},{"$f":"IF(データセット1!$B731<>\"\",IF($N$1=データセット1!$B731,データセット1!$D731),\"\")","v":""},{"$f":"IF(データセット1!$B731<>\"\",IF($O$1=データセット1!$B731,データセット1!$D731),\"\")","v":""},{"$f":"IF(データセット1!$B731<>\"\",IF($P$1=データセット1!$B731,データセット1!$D731),\"\")","v":""},{"$f":"IF(データセット1!$B731<>\"\",IF($Q$1=データセット1!$B731,データセット1!$D731),\"\")","v":""},{"$f":"IF(データセット1!$B731<>\"\",IF($R$1=データセット1!$B731,データセット1!$D731),\"\")","v":""},{"$f":"IF(データセット1!$B731<>\"\",IF($S$1=データセット1!$B731,データセット1!$D731),\"\")","v":""},{"$f":"IF(データセット1!$B731<>\"\",IF($T$1=データセット1!$B731,データセット1!$D731),\"\")","v":""},{"$f":"IF(データセット1!$B731<>\"\",IF($U$1=データセット1!$B731,データセット1!$D731),\"\")","v":""}]
[null,null,null,null,null,null,null,null,null,null,null,null,{"$f":"IF(データセット1!$B732<>\"\",IF($M$1=データセット1!$B732,データセット1!$D732),\"\")","v":""},{"$f":"IF(データセット1!$B732<>\"\",IF($N$1=データセット1!$B732,データセット1!$D732),\"\")","v":""},{"$f":"IF(データセット1!$B732<>\"\",IF($O$1=データセット1!$B732,データセット1!$D732),\"\")","v":""},{"$f":"IF(データセット1!$B732<>\"\",IF($P$1=データセット1!$B732,データセット1!$D732),\"\")","v":""},{"$f":"IF(データセット1!$B732<>\"\",IF($Q$1=データセット1!$B732,データセット1!$D732),\"\")","v":""},{"$f":"IF(データセット1!$B732<>\"\",IF($R$1=データセット1!$B732,データセット1!$D732),\"\")","v":""},{"$f":"IF(データセット1!$B732<>\"\",IF($S$1=データセット1!$B732,データセット1!$D732),\"\")","v":""},{"$f":"IF(データセット1!$B732<>\"\",IF($T$1=データセット1!$B732,データセット1!$D732),\"\")","v":""},{"$f":"IF(データセット1!$B732<>\"\",IF($U$1=データセット1!$B732,データセット1!$D732),\"\")","v":""}]
[null,null,null,null,null,null,null,null,null,null,null,null,{"$f":"IF(データセット1!$B733<>\"\",IF($M$1=データセット1!$B733,データセット1!$D733),\"\")","v":""},{"$f":"IF(データセット1!$B733<>\"\",IF($N$1=データセット1!$B733,データセット1!$D733),\"\")","v":""},{"$f":"IF(データセット1!$B733<>\"\",IF($O$1=データセット1!$B733,データセット1!$D733),\"\")","v":""},{"$f":"IF(データセット1!$B733<>\"\",IF($P$1=データセット1!$B733,データセット1!$D733),\"\")","v":""},{"$f":"IF(データセット1!$B733<>\"\",IF($Q$1=データセット1!$B733,データセット1!$D733),\"\")","v":""},{"$f":"IF(データセット1!$B733<>\"\",IF($R$1=データセット1!$B733,データセット1!$D733),\"\")","v":""},{"$f":"IF(データセット1!$B733<>\"\",IF($S$1=データセット1!$B733,データセット1!$D733),\"\")","v":""},{"$f":"IF(データセット1!$B733<>\"\",IF($T$1=データセット1!$B733,データセット1!$D733),\"\")","v":""},{"$f":"IF(データセット1!$B733<>\"\",IF($U$1=データセット1!$B733,データセット1!$D733),\"\")","v":""}]
[null,null,null,null,null,null,null,null,null,null,null,null,{"$f":"IF(データセット1!$B734<>\"\",IF($M$1=データセット1!$B734,データセット1!$D734),\"\")","v":""},{"$f":"IF(データセット1!$B734<>\"\",IF($N$1=データセット1!$B734,データセット1!$D734),\"\")","v":""},{"$f":"IF(データセット1!$B734<>\"\",IF($O$1=データセット1!$B734,データセット1!$D734),\"\")","v":""},{"$f":"IF(データセット1!$B734<>\"\",IF($P$1=データセット1!$B734,データセット1!$D734),\"\")","v":""},{"$f":"IF(データセット1!$B734<>\"\",IF($Q$1=データセット1!$B734,データセット1!$D734),\"\")","v":""},{"$f":"IF(データセット1!$B734<>\"\",IF($R$1=データセット1!$B734,データセット1!$D734),\"\")","v":""},{"$f":"IF(データセット1!$B734<>\"\",IF($S$1=データセット1!$B734,データセット1!$D734),\"\")","v":""},{"$f":"IF(データセット1!$B734<>\"\",IF($T$1=データセット1!$B734,データセット1!$D734),\"\")","v":""},{"$f":"IF(データセット1!$B734<>\"\",IF($U$1=データセット1!$B734,データセット1!$D734),\"\")","v":""}]
[null,null,null,null,null,null,null,null,null,null,null,null,{"$f":"IF(データセット1!$B735<>\"\",IF($M$1=データセット1!$B735,データセット1!$D735),\"\")","v":""},{"$f":"IF(データセット1!$B735<>\"\",IF($N$1=データセット1!$B735,データセット1!$D735),\"\")","v":""},{"$f":"IF(データセット1!$B735<>\"\",IF($O$1=データセット1!$B735,データセット1!$D735),\"\")","v":""},{"$f":"IF(データセット1!$B735<>\"\",IF($P$1=データセット1!$B735,データセット1!$D735),\"\")","v":""},{"$f":"IF(データセット1!$B735<>\"\",IF($Q$1=データセット1!$B735,データセット1!$D735),\"\")","v":""},{"$f":"IF(データセット1!$B735<>\"\",IF($R$1=データセット1!$B735,データセット1!$D735),\"\")","v":""},{"$f":"IF(データセット1!$B735<>\"\",IF($S$1=データセット1!$B735,データセット1!$D735),\"\")","v":""},{"$f":"IF(データセット1!$B735<>\"\",IF($T$1=データセット1!$B735,データセット1!$D735),\"\")","v":""},{"$f":"IF(データセット1!$B735<>\"\",IF($U$1=データセット1!$B735,データセット1!$D735),\"\")","v":""}]
[null,null,null,null,null,null,null,null,null,null,null,null,{"$f":"IF(データセット1!$B736<>\"\",IF($M$1=データセット1!$B736,データセット1!$D736),\"\")","v":""},{"$f":"IF(データセット1!$B736<>\"\",IF($N$1=データセット1!$B736,データセット1!$D736),\"\")","v":""},{"$f":"IF(データセット1!$B736<>\"\",IF($O$1=データセット1!$B736,データセット1!$D736),\"\")","v":""},{"$f":"IF(データセット1!$B736<>\"\",IF($P$1=データセット1!$B736,データセット1!$D736),\"\")","v":""},{"$f":"IF(データセット1!$B736<>\"\",IF($Q$1=データセット1!$B736,データセット1!$D736),\"\")","v":""},{"$f":"IF(データセット1!$B736<>\"\",IF($R$1=データセット1!$B736,データセット1!$D736),\"\")","v":""},{"$f":"IF(データセット1!$B736<>\"\",IF($S$1=データセット1!$B736,データセット1!$D736),\"\")","v":""},{"$f":"IF(データセット1!$B736<>\"\",IF($T$1=データセット1!$B736,データセット1!$D736),\"\")","v":""},{"$f":"IF(データセット1!$B736<>\"\",IF($U$1=データセット1!$B736,データセット1!$D736),\"\")","v":""}]
[null,null,null,null,null,null,null,null,null,null,null,null,{"$f":"IF(データセット1!$B737<>\"\",IF($M$1=データセット1!$B737,データセット1!$D737),\"\")","v":""},{"$f":"IF(データセット1!$B737<>\"\",IF($N$1=データセット1!$B737,データセット1!$D737),\"\")","v":""},{"$f":"IF(データセット1!$B737<>\"\",IF($O$1=データセット1!$B737,データセット1!$D737),\"\")","v":""},{"$f":"IF(データセット1!$B737<>\"\",IF($P$1=データセット1!$B737,データセット1!$D737),\"\")","v":""},{"$f":"IF(データセット1!$B737<>\"\",IF($Q$1=データセット1!$B737,データセット1!$D737),\"\")","v":""},{"$f":"IF(データセット1!$B737<>\"\",IF($R$1=データセット1!$B737,データセット1!$D737),\"\")","v":""},{"$f":"IF(データセット1!$B737<>\"\",IF($S$1=データセット1!$B737,データセット1!$D737),\"\")","v":""},{"$f":"IF(データセット1!$B737<>\"\",IF($T$1=データセット1!$B737,データセット1!$D737),\"\")","v":""},{"$f":"IF(データセット1!$B737<>\"\",IF($U$1=データセット1!$B737,データセット1!$D737),\"\")","v":""}]
[null,null,null,null,null,null,null,null,null,null,null,null,{"$f":"IF(データセット1!$B738<>\"\",IF($M$1=データセット1!$B738,データセット1!$D738),\"\")","v":""},{"$f":"IF(データセット1!$B738<>\"\",IF($N$1=データセット1!$B738,データセット1!$D738),\"\")","v":""},{"$f":"IF(データセット1!$B738<>\"\",IF($O$1=データセット1!$B738,データセット1!$D738),\"\")","v":""},{"$f":"IF(データセット1!$B738<>\"\",IF($P$1=データセット1!$B738,データセット1!$D738),\"\")","v":""},{"$f":"IF(データセット1!$B738<>\"\",IF($Q$1=データセット1!$B738,データセット1!$D738),\"\")","v":""},{"$f":"IF(データセット1!$B738<>\"\",IF($R$1=データセット1!$B738,データセット1!$D738),\"\")","v":""},{"$f":"IF(データセット1!$B738<>\"\",IF($S$1=データセット1!$B738,データセット1!$D738),\"\")","v":""},{"$f":"IF(データセット1!$B738<>\"\",IF($T$1=データセット1!$B738,データセット1!$D738),\"\")","v":""},{"$f":"IF(データセット1!$B738<>\"\",IF($U$1=データセット1!$B738,データセット1!$D738),\"\")","v":""}]
[null,null,null,null,null,null,null,null,null,null,null,null,{"$f":"IF(データセット1!$B739<>\"\",IF($M$1=データセット1!$B739,データセット1!$D739),\"\")","v":""},{"$f":"IF(データセット1!$B739<>\"\",IF($N$1=データセット1!$B739,データセット1!$D739),\"\")","v":""},{"$f":"IF(データセット1!$B739<>\"\",IF($O$1=データセット1!$B739,データセット1!$D739),\"\")","v":""},{"$f":"IF(データセット1!$B739<>\"\",IF($P$1=データセット1!$B739,データセット1!$D739),\"\")","v":""},{"$f":"IF(データセット1!$B739<>\"\",IF($Q$1=データセット1!$B739,データセット1!$D739),\"\")","v":""},{"$f":"IF(データセット1!$B739<>\"\",IF($R$1=データセット1!$B739,データセット1!$D739),\"\")","v":""},{"$f":"IF(データセット1!$B739<>\"\",IF($S$1=データセット1!$B739,データセット1!$D739),\"\")","v":""},{"$f":"IF(データセット1!$B739<>\"\",IF($T$1=データセット1!$B739,データセット1!$D739),\"\")","v":""},{"$f":"IF(データセット1!$B739<>\"\",IF($U$1=データセット1!$B739,データセット1!$D739),\"\")","v":""}]
[null,null,null,null,null,null,null,null,null,null,null,null,{"$f":"IF(データセット1!$B740<>\"\",IF($M$1=データセット1!$B740,データセット1!$D740),\"\")","v":""},{"$f":"IF(データセット1!$B740<>\"\",IF($N$1=データセット1!$B740,データセット1!$D740),\"\")","v":""},{"$f":"IF(データセット1!$B740<>\"\",IF($O$1=データセット1!$B740,データセット1!$D740),\"\")","v":""},{"$f":"IF(データセット1!$B740<>\"\",IF($P$1=データセット1!$B740,データセット1!$D740),\"\")","v":""},{"$f":"IF(データセット1!$B740<>\"\",IF($Q$1=データセット1!$B740,データセット1!$D740),\"\")","v":""},{"$f":"IF(データセット1!$B740<>\"\",IF($R$1=データセット1!$B740,データセット1!$D740),\"\")","v":""},{"$f":"IF(データセット1!$B740<>\"\",IF($S$1=データセット1!$B740,データセット1!$D740),\"\")","v":""},{"$f":"IF(データセット1!$B740<>\"\",IF($T$1=データセット1!$B740,データセット1!$D740),\"\")","v":""},{"$f":"IF(データセット1!$B740<>\"\",IF($U$1=データセット1!$B740,データセット1!$D740),\"\")","v":""}]
[null,null,null,null,null,null,null,null,null,null,null,null,{"$f":"IF(データセット1!$B741<>\"\",IF($M$1=データセット1!$B741,データセット1!$D741),\"\")","v":""},{"$f":"IF(データセット1!$B741<>\"\",IF($N$1=データセット1!$B741,データセット1!$D741),\"\")","v":""},{"$f":"IF(データセット1!$B741<>\"\",IF($O$1=データセット1!$B741,データセット1!$D741),\"\")","v":""},{"$f":"IF(データセット1!$B741<>\"\",IF($P$1=データセット1!$B741,データセット1!$D741),\"\")","v":""},{"$f":"IF(データセット1!$B741<>\"\",IF($Q$1=データセット1!$B741,データセット1!$D741),\"\")","v":""},{"$f":"IF(データセット1!$B741<>\"\",IF($R$1=データセット1!$B741,データセット1!$D741),\"\")","v":""},{"$f":"IF(データセット1!$B741<>\"\",IF($S$1=データセット1!$B741,データセット1!$D741),\"\")","v":""},{"$f":"IF(データセット1!$B741<>\"\",IF($T$1=データセット1!$B741,データセット1!$D741),\"\")","v":""},{"$f":"IF(データセット1!$B741<>\"\",IF($U$1=データセット1!$B741,データセット1!$D741),\"\")","v":""}]
[null,null,null,null,null,null,null,null,null,null,null,null,{"$f":"IF(データセット1!$B742<>\"\",IF($M$1=データセット1!$B742,データセット1!$D742),\"\")","v":""},{"$f":"IF(データセット1!$B742<>\"\",IF($N$1=データセット1!$B742,データセット1!$D742),\"\")","v":""},{"$f":"IF(データセット1!$B742<>\"\",IF($O$1=データセット1!$B742,データセット1!$D742),\"\")","v":""},{"$f":"IF(データセット1!$B742<>\"\",IF($P$1=データセット1!$B742,データセット1!$D742),\"\")","v":""},{"$f":"IF(データセット1!$B742<>\"\",IF($Q$1=データセット1!$B742,データセット1!$D742),\"\")","v":""},{"$f":"IF(データセット1!$B742<>\"\",IF($R$1=データセット1!$B742,データセット1!$D742),\"\")","v":""},{"$f":"IF(データセット1!$B742<>\"\",IF($S$1=データセット1!$B742,データセット1!$D742),\"\")","v":""},{"$f":"IF(データセット1!$B742<>\"\",IF($T$1=データセット1!$B742,データセット1!$D742),\"\")","v":""},{"$f":"IF(データセット1!$B742<>\"\",IF($U$1=データセット1!$B742,データセット1!$D742),\"\")","v":""}]
[null,null,null,null,null,null,null,null,null,null,null,null,{"$f":"IF(データセット1!$B743<>\"\",IF($M$1=データセット1!$B743,データセット1!$D743),\"\")","v":""},{"$f":"IF(データセット1!$B743<>\"\",IF($N$1=データセット1!$B743,データセット1!$D743),\"\")","v":""},{"$f":"IF(データセット1!$B743<>\"\",IF($O$1=データセット1!$B743,データセット1!$D743),\"\")","v":""},{"$f":"IF(データセット1!$B743<>\"\",IF($P$1=データセット1!$B743,データセット1!$D743),\"\")","v":""},{"$f":"IF(データセット1!$B743<>\"\",IF($Q$1=データセット1!$B743,データセット1!$D743),\"\")","v":""},{"$f":"IF(データセット1!$B743<>\"\",IF($R$1=データセット1!$B743,データセット1!$D743),\"\")","v":""},{"$f":"IF(データセット1!$B743<>\"\",IF($S$1=データセット1!$B743,データセット1!$D743),\"\")","v":""},{"$f":"IF(データセット1!$B743<>\"\",IF($T$1=データセット1!$B743,データセット1!$D743),\"\")","v":""},{"$f":"IF(データセット1!$B743<>\"\",IF($U$1=データセット1!$B743,データセット1!$D743),\"\")","v":""}]
[null,null,null,null,null,null,null,null,null,null,null,null,{"$f":"IF(データセット1!$B744<>\"\",IF($M$1=データセット1!$B744,データセット1!$D744),\"\")","v":""},{"$f":"IF(データセット1!$B744<>\"\",IF($N$1=データセット1!$B744,データセット1!$D744),\"\")","v":""},{"$f":"IF(データセット1!$B744<>\"\",IF($O$1=データセット1!$B744,データセット1!$D744),\"\")","v":""},{"$f":"IF(データセット1!$B744<>\"\",IF($P$1=データセット1!$B744,データセット1!$D744),\"\")","v":""},{"$f":"IF(データセット1!$B744<>\"\",IF($Q$1=データセット1!$B744,データセット1!$D744),\"\")","v":""},{"$f":"IF(データセット1!$B744<>\"\",IF($R$1=データセット1!$B744,データセット1!$D744),\"\")","v":""},{"$f":"IF(データセット1!$B744<>\"\",IF($S$1=データセット1!$B744,データセット1!$D744),\"\")","v":""},{"$f":"IF(データセット1!$B744<>\"\",IF($T$1=データセット1!$B744,データセット1!$D744),\"\")","v":""},{"$f":"IF(データセット1!$B744<>\"\",IF($U$1=データセット1!$B744,データセット1!$D744),\"\")","v":""}]
[null,null,null,null,null,null,null,null,null,null,null,null,{"$f":"IF(データセット1!$B745<>\"\",IF($M$1=データセット1!$B745,データセット1!$D745),\"\")","v":""},{"$f":"IF(データセット1!$B745<>\"\",IF($N$1=データセット1!$B745,データセット1!$D745),\"\")","v":""},{"$f":"IF(データセット1!$B745<>\"\",IF($O$1=データセット1!$B745,データセット1!$D745),\"\")","v":""},{"$f":"IF(データセット1!$B745<>\"\",IF($P$1=データセット1!$B745,データセット1!$D745),\"\")","v":""},{"$f":"IF(データセット1!$B745<>\"\",IF($Q$1=データセット1!$B745,データセット1!$D745),\"\")","v":""},{"$f":"IF(データセット1!$B745<>\"\",IF($R$1=データセット1!$B745,データセット1!$D745),\"\")","v":""},{"$f":"IF(データセット1!$B745<>\"\",IF($S$1=データセット1!$B745,データセット1!$D745),\"\")","v":""},{"$f":"IF(データセット1!$B745<>\"\",IF($T$1=データセット1!$B745,データセット1!$D745),\"\")","v":""},{"$f":"IF(データセット1!$B745<>\"\",IF($U$1=データセット1!$B745,データセット1!$D745),\"\")","v":""}]
[null,null,null,null,null,null,null,null,null,null,null,null,{"$f":"IF(データセット1!$B746<>\"\",IF($M$1=データセット1!$B746,データセット1!$D746),\"\")","v":""},{"$f":"IF(データセット1!$B746<>\"\",IF($N$1=データセット1!$B746,データセット1!$D746),\"\")","v":""},{"$f":"IF(データセット1!$B746<>\"\",IF($O$1=データセット1!$B746,データセット1!$D746),\"\")","v":""},{"$f":"IF(データセット1!$B746<>\"\",IF($P$1=データセット1!$B746,データセット1!$D746),\"\")","v":""},{"$f":"IF(データセット1!$B746<>\"\",IF($Q$1=データセット1!$B746,データセット1!$D746),\"\")","v":""},{"$f":"IF(データセット1!$B746<>\"\",IF($R$1=データセット1!$B746,データセット1!$D746),\"\")","v":""},{"$f":"IF(データセット1!$B746<>\"\",IF($S$1=データセット1!$B746,データセット1!$D746),\"\")","v":""},{"$f":"IF(データセット1!$B746<>\"\",IF($T$1=データセット1!$B746,データセット1!$D746),\"\")","v":""},{"$f":"IF(データセット1!$B746<>\"\",IF($U$1=データセット1!$B746,データセット1!$D746),\"\")","v":""}]
[null,null,null,null,null,null,null,null,null,null,null,null,{"$f":"IF(データセット1!$B747<>\"\",IF($M$1=データセット1!$B747,データセット1!$D747),\"\")","v":""},{"$f":"IF(データセット1!$B747<>\"\",IF($N$1=データセット1!$B747,データセット1!$D747),\"\")","v":""},{"$f":"IF(データセット1!$B747<>\"\",IF($O$1=データセット1!$B747,データセット1!$D747),\"\")","v":""},{"$f":"IF(データセット1!$B747<>\"\",IF($P$1=データセット1!$B747,データセット1!$D747),\"\")","v":""},{"$f":"IF(データセット1!$B747<>\"\",IF($Q$1=データセット1!$B747,データセット1!$D747),\"\")","v":""},{"$f":"IF(データセット1!$B747<>\"\",IF($R$1=データセット1!$B747,データセット1!$D747),\"\")","v":""},{"$f":"IF(データセット1!$B747<>\"\",IF($S$1=データセット1!$B747,データセット1!$D747),\"\")","v":""},{"$f":"IF(データセット1!$B747<>\"\",IF($T$1=データセット1!$B747,データセット1!$D747),\"\")","v":""},{"$f":"IF(データセット1!$B747<>\"\",IF($U$1=データセット1!$B747,データセット1!$D747),\"\")","v":""}]
[null,null,null,null,null,null,null,null,null,null,null,null,{"$f":"IF(データセット1!$B748<>\"\",IF($M$1=データセット1!$B748,データセット1!$D748),\"\")","v":""},{"$f":"IF(データセット1!$B748<>\"\",IF($N$1=データセット1!$B748,データセット1!$D748),\"\")","v":""},{"$f":"IF(データセット1!$B748<>\"\",IF($O$1=データセット1!$B748,データセット1!$D748),\"\")","v":""},{"$f":"IF(データセット1!$B748<>\"\",IF($P$1=データセット1!$B748,データセット1!$D748),\"\")","v":""},{"$f":"IF(データセット1!$B748<>\"\",IF($Q$1=データセット1!$B748,データセット1!$D748),\"\")","v":""},{"$f":"IF(データセット1!$B748<>\"\",IF($R$1=データセット1!$B748,データセット1!$D748),\"\")","v":""},{"$f":"IF(データセット1!$B748<>\"\",IF($S$1=データセット1!$B748,データセット1!$D748),\"\")","v":""},{"$f":"IF(データセット1!$B748<>\"\",IF($T$1=データセット1!$B748,データセット1!$D748),\"\")","v":""},{"$f":"IF(データセット1!$B748<>\"\",IF($U$1=データセット1!$B748,データセット1!$D748),\"\")","v":""}]
[null,null,null,null,null,null,null,null,null,null,null,null,{"$f":"IF(データセット1!$B749<>\"\",IF($M$1=データセット1!$B749,データセット1!$D749),\"\")","v":""},{"$f":"IF(データセット1!$B749<>\"\",IF($N$1=データセット1!$B749,データセット1!$D749),\"\")","v":""},{"$f":"IF(データセット1!$B749<>\"\",IF($O$1=データセット1!$B749,データセット1!$D749),\"\")","v":""},{"$f":"IF(データセット1!$B749<>\"\",IF($P$1=データセット1!$B749,データセット1!$D749),\"\")","v":""},{"$f":"IF(データセット1!$B749<>\"\",IF($Q$1=データセット1!$B749,データセット1!$D749),\"\")","v":""},{"$f":"IF(データセット1!$B749<>\"\",IF($R$1=データセット1!$B749,データセット1!$D749),\"\")","v":""},{"$f":"IF(データセット1!$B749<>\"\",IF($S$1=データセット1!$B749,データセット1!$D749),\"\")","v":""},{"$f":"IF(データセット1!$B749<>\"\",IF($T$1=データセット1!$B749,データセット1!$D749),\"\")","v":""},{"$f":"IF(データセット1!$B749<>\"\",IF($U$1=データセット1!$B749,データセット1!$D749),\"\")","v":""}]
[null,null,null,null,null,null,null,null,null,null,null,null,{"$f":"IF(データセット1!$B750<>\"\",IF($M$1=データセット1!$B750,データセット1!$D750),\"\")","v":""},{"$f":"IF(データセット1!$B750<>\"\",IF($N$1=データセット1!$B750,データセット1!$D750),\"\")","v":""},{"$f":"IF(データセット1!$B750<>\"\",IF($O$1=データセット1!$B750,データセット1!$D750),\"\")","v":""},{"$f":"IF(データセット1!$B750<>\"\",IF($P$1=データセット1!$B750,データセット1!$D750),\"\")","v":""},{"$f":"IF(データセット1!$B750<>\"\",IF($Q$1=データセット1!$B750,データセット1!$D750),\"\")","v":""},{"$f":"IF(データセット1!$B750<>\"\",IF($R$1=データセット1!$B750,データセット1!$D750),\"\")","v":""},{"$f":"IF(データセット1!$B750<>\"\",IF($S$1=データセット1!$B750,データセット1!$D750),\"\")","v":""},{"$f":"IF(データセット1!$B750<>\"\",IF($T$1=データセット1!$B750,データセット1!$D750),\"\")","v":""},{"$f":"IF(データセット1!$B750<>\"\",IF($U$1=データセット1!$B750,データセット1!$D750),\"\")","v":""}]
[null,null,null,null,null,null,null,null,null,null,null,null,{"$f":"IF(データセット1!$B751<>\"\",IF($M$1=データセット1!$B751,データセット1!$D751),\"\")","v":""},{"$f":"IF(データセット1!$B751<>\"\",IF($N$1=データセット1!$B751,データセット1!$D751),\"\")","v":""},{"$f":"IF(データセット1!$B751<>\"\",IF($O$1=データセット1!$B751,データセット1!$D751),\"\")","v":""},{"$f":"IF(データセット1!$B751<>\"\",IF($P$1=データセット1!$B751,データセット1!$D751),\"\")","v":""},{"$f":"IF(データセット1!$B751<>\"\",IF($Q$1=データセット1!$B751,データセット1!$D751),\"\")","v":""},{"$f":"IF(データセット1!$B751<>\"\",IF($R$1=データセット1!$B751,データセット1!$D751),\"\")","v":""},{"$f":"IF(データセット1!$B751<>\"\",IF($S$1=データセット1!$B751,データセット1!$D751),\"\")","v":""},{"$f":"IF(データセット1!$B751<>\"\",IF($T$1=データセット1!$B751,データセット1!$D751),\"\")","v":""},{"$f":"IF(データセット1!$B751<>\"\",IF($U$1=データセット1!$B751,データセット1!$D751),\"\")","v":""}]
[null,null,null,null,null,null,null,null,null,null,null,null,{"$f":"IF(データセット1!$B752<>\"\",IF($M$1=データセット1!$B752,データセット1!$D752),\"\")","v":""},{"$f":"IF(データセット1!$B752<>\"\",IF($N$1=データセット1!$B752,データセット1!$D752),\"\")","v":""},{"$f":"IF(データセット1!$B752<>\"\",IF($O$1=データセット1!$B752,データセット1!$D752),\"\")","v":""},{"$f":"IF(データセット1!$B752<>\"\",IF($P$1=データセット1!$B752,データセット1!$D752),\"\")","v":""},{"$f":"IF(データセット1!$B752<>\"\",IF($Q$1=データセット1!$B752,データセット1!$D752),\"\")","v":""},{"$f":"IF(データセット1!$B752<>\"\",IF($R$1=データセット1!$B752,データセット1!$D752),\"\")","v":""},{"$f":"IF(データセット1!$B752<>\"\",IF($S$1=データセット1!$B752,データセット1!$D752),\"\")","v":""},{"$f":"IF(データセット1!$B752<>\"\",IF($T$1=データセット1!$B752,データセット1!$D752),\"\")","v":""},{"$f":"IF(データセット1!$B752<>\"\",IF($U$1=データセット1!$B752,データセット1!$D752),\"\")","v":""}]
[null,null,null,null,null,null,null,null,null,null,null,null,{"$f":"IF(データセット1!$B753<>\"\",IF($M$1=データセット1!$B753,データセット1!$D753),\"\")","v":""},{"$f":"IF(データセット1!$B753<>\"\",IF($N$1=データセット1!$B753,データセット1!$D753),\"\")","v":""},{"$f":"IF(データセット1!$B753<>\"\",IF($O$1=データセット1!$B753,データセット1!$D753),\"\")","v":""},{"$f":"IF(データセット1!$B753<>\"\",IF($P$1=データセット1!$B753,データセット1!$D753),\"\")","v":""},{"$f":"IF(データセット1!$B753<>\"\",IF($Q$1=データセット1!$B753,データセット1!$D753),\"\")","v":""},{"$f":"IF(データセット1!$B753<>\"\",IF($R$1=データセット1!$B753,データセット1!$D753),\"\")","v":""},{"$f":"IF(データセット1!$B753<>\"\",IF($S$1=データセット1!$B753,データセット1!$D753),\"\")","v":""},{"$f":"IF(データセット1!$B753<>\"\",IF($T$1=データセット1!$B753,データセット1!$D753),\"\")","v":""},{"$f":"IF(データセット1!$B753<>\"\",IF($U$1=データセット1!$B753,データセット1!$D753),\"\")","v":""}]
[null,null,null,null,null,null,null,null,null,null,null,null,{"$f":"IF(データセット1!$B754<>\"\",IF($M$1=データセット1!$B754,データセット1!$D754),\"\")","v":""},{"$f":"IF(データセット1!$B754<>\"\",IF($N$1=データセット1!$B754,データセット1!$D754),\"\")","v":""},{"$f":"IF(データセット1!$B754<>\"\",IF($O$1=データセット1!$B754,データセット1!$D754),\"\")","v":""},{"$f":"IF(データセット1!$B754<>\"\",IF($P$1=データセット1!$B754,データセット1!$D754),\"\")","v":""},{"$f":"IF(データセット1!$B754<>\"\",IF($Q$1=データセット1!$B754,データセット1!$D754),\"\")","v":""},{"$f":"IF(データセット1!$B754<>\"\",IF($R$1=データセット1!$B754,データセット1!$D754),\"\")","v":""},{"$f":"IF(データセット1!$B754<>\"\",IF($S$1=データセット1!$B754,データセット1!$D754),\"\")","v":""},{"$f":"IF(データセット1!$B754<>\"\",IF($T$1=データセット1!$B754,データセット1!$D754),\"\")","v":""},{"$f":"IF(データセット1!$B754<>\"\",IF($U$1=データセット1!$B754,データセット1!$D754),\"\")","v":""}]
[null,null,null,null,null,null,null,null,null,null,null,null,{"$f":"IF(データセット1!$B755<>\"\",IF($M$1=データセット1!$B755,データセット1!$D755),\"\")","v":""},{"$f":"IF(データセット1!$B755<>\"\",IF($N$1=データセット1!$B755,データセット1!$D755),\"\")","v":""},{"$f":"IF(データセット1!$B755<>\"\",IF($O$1=データセット1!$B755,データセット1!$D755),\"\")","v":""},{"$f":"IF(データセット1!$B755<>\"\",IF($P$1=データセット1!$B755,データセット1!$D755),\"\")","v":""},{"$f":"IF(データセット1!$B755<>\"\",IF($Q$1=データセット1!$B755,データセット1!$D755),\"\")","v":""},{"$f":"IF(データセット1!$B755<>\"\",IF($R$1=データセット1!$B755,データセット1!$D755),\"\")","v":""},{"$f":"IF(データセット1!$B755<>\"\",IF($S$1=データセット1!$B755,データセット1!$D755),\"\")","v":""},{"$f":"IF(データセット1!$B755<>\"\",IF($T$1=データセット1!$B755,データセット1!$D755),\"\")","v":""},{"$f":"IF(データセット1!$B755<>\"\",IF($U$1=データセット1!$B755,データセット1!$D755),\"\")","v":""}]
[null,null,null,null,null,null,null,null,null,null,null,null,{"$f":"IF(データセット1!$B756<>\"\",IF($M$1=データセット1!$B756,データセット1!$D756),\"\")","v":""},{"$f":"IF(データセット1!$B756<>\"\",IF($N$1=データセット1!$B756,データセット1!$D756),\"\")","v":""},{"$f":"IF(データセット1!$B756<>\"\",IF($O$1=データセット1!$B756,データセット1!$D756),\"\")","v":""},{"$f":"IF(データセット1!$B756<>\"\",IF($P$1=データセット1!$B756,データセット1!$D756),\"\")","v":""},{"$f":"IF(データセット1!$B756<>\"\",IF($Q$1=データセット1!$B756,データセット1!$D756),\"\")","v":""},{"$f":"IF(データセット1!$B756<>\"\",IF($R$1=データセット1!$B756,データセット1!$D756),\"\")","v":""},{"$f":"IF(データセット1!$B756<>\"\",IF($S$1=データセット1!$B756,データセット1!$D756),\"\")","v":""},{"$f":"IF(データセット1!$B756<>\"\",IF($T$1=データセット1!$B756,データセット1!$D756),\"\")","v":""},{"$f":"IF(データセット1!$B756<>\"\",IF($U$1=データセット1!$B756,データセット1!$D756),\"\")","v":""}]
[null,null,null,null,null,null,null,null,null,null,null,null,{"$f":"IF(データセット1!$B757<>\"\",IF($M$1=データセット1!$B757,データセット1!$D757),\"\")","v":""},{"$f":"IF(データセット1!$B757<>\"\",IF($N$1=データセット1!$B757,データセット1!$D757),\"\")","v":""},{"$f":"IF(データセット1!$B757<>\"\",IF($O$1=データセット1!$B757,データセット1!$D757),\"\")","v":""},{"$f":"IF(データセット1!$B757<>\"\",IF($P$1=データセット1!$B757,データセット1!$D757),\"\")","v":""},{"$f":"IF(データセット1!$B757<>\"\",IF($Q$1=データセット1!$B757,データセット1!$D757),\"\")","v":""},{"$f":"IF(データセット1!$B757<>\"\",IF($R$1=データセット1!$B757,データセット1!$D757),\"\")","v":""},{"$f":"IF(データセット1!$B757<>\"\",IF($S$1=データセット1!$B757,データセット1!$D757),\"\")","v":""},{"$f":"IF(データセット1!$B757<>\"\",IF($T$1=データセット1!$B757,データセット1!$D757),\"\")","v":""},{"$f":"IF(データセット1!$B757<>\"\",IF($U$1=データセット1!$B757,データセット1!$D757),\"\")","v":""}]
[null,null,null,null,null,null,null,null,null,null,null,null,{"$f":"IF(データセット1!$B758<>\"\",IF($M$1=データセット1!$B758,データセット1!$D758),\"\")","v":""},{"$f":"IF(データセット1!$B758<>\"\",IF($N$1=データセット1!$B758,データセット1!$D758),\"\")","v":""},{"$f":"IF(データセット1!$B758<>\"\",IF($O$1=データセット1!$B758,データセット1!$D758),\"\")","v":""},{"$f":"IF(データセット1!$B758<>\"\",IF($P$1=データセット1!$B758,データセット1!$D758),\"\")","v":""},{"$f":"IF(データセット1!$B758<>\"\",IF($Q$1=データセット1!$B758,データセット1!$D758),\"\")","v":""},{"$f":"IF(データセット1!$B758<>\"\",IF($R$1=データセット1!$B758,データセット1!$D758),\"\")","v":""},{"$f":"IF(データセット1!$B758<>\"\",IF($S$1=データセット1!$B758,データセット1!$D758),\"\")","v":""},{"$f":"IF(データセット1!$B758<>\"\",IF($T$1=データセット1!$B758,データセット1!$D758),\"\")","v":""},{"$f":"IF(データセット1!$B758<>\"\",IF($U$1=データセット1!$B758,データセット1!$D758),\"\")","v":""}]
[null,null,null,null,null,null,null,null,null,null,null,null,{"$f":"IF(データセット1!$B759<>\"\",IF($M$1=データセット1!$B759,データセット1!$D759),\"\")","v":""},{"$f":"IF(データセット1!$B759<>\"\",IF($N$1=データセット1!$B759,データセット1!$D759),\"\")","v":""},{"$f":"IF(データセット1!$B759<>\"\",IF($O$1=データセット1!$B759,データセット1!$D759),\"\")","v":""},{"$f":"IF(データセット1!$B759<>\"\",IF($P$1=データセット1!$B759,データセット1!$D759),\"\")","v":""},{"$f":"IF(データセット1!$B759<>\"\",IF($Q$1=データセット1!$B759,データセット1!$D759),\"\")","v":""},{"$f":"IF(データセット1!$B759<>\"\",IF($R$1=データセット1!$B759,データセット1!$D759),\"\")","v":""},{"$f":"IF(データセット1!$B759<>\"\",IF($S$1=データセット1!$B759,データセット1!$D759),\"\")","v":""},{"$f":"IF(データセット1!$B759<>\"\",IF($T$1=データセット1!$B759,データセット1!$D759),\"\")","v":""},{"$f":"IF(データセット1!$B759<>\"\",IF($U$1=データセット1!$B759,データセット1!$D759),\"\")","v":""}]
[null,null,null,null,null,null,null,null,null,null,null,null,{"$f":"IF(データセット1!$B760<>\"\",IF($M$1=データセット1!$B760,データセット1!$D760),\"\")","v":""},{"$f":"IF(データセット1!$B760<>\"\",IF($N$1=データセット1!$B760,データセット1!$D760),\"\")","v":""},{"$f":"IF(データセット1!$B760<>\"\",IF($O$1=データセット1!$B760,データセット1!$D760),\"\")","v":""},{"$f":"IF(データセット1!$B760<>\"\",IF($P$1=データセット1!$B760,データセット1!$D760),\"\")","v":""},{"$f":"IF(データセット1!$B760<>\"\",IF($Q$1=データセット1!$B760,データセット1!$D760),\"\")","v":""},{"$f":"IF(データセット1!$B760<>\"\",IF($R$1=データセット1!$B760,データセット1!$D760),\"\")","v":""},{"$f":"IF(データセット1!$B760<>\"\",IF($S$1=データセット1!$B760,データセット1!$D760),\"\")","v":""},{"$f":"IF(データセット1!$B760<>\"\",IF($T$1=データセット1!$B760,データセット1!$D760),\"\")","v":""},{"$f":"IF(データセット1!$B760<>\"\",IF($U$1=データセット1!$B760,データセット1!$D760),\"\")","v":""}]
[null,null,null,null,null,null,null,null,null,null,null,null,{"$f":"IF(データセット1!$B761<>\"\",IF($M$1=データセット1!$B761,データセット1!$D761),\"\")","v":""},{"$f":"IF(データセット1!$B761<>\"\",IF($N$1=データセット1!$B761,データセット1!$D761),\"\")","v":""},{"$f":"IF(データセット1!$B761<>\"\",IF($O$1=データセット1!$B761,データセット1!$D761),\"\")","v":""},{"$f":"IF(データセット1!$B761<>\"\",IF($P$1=データセット1!$B761,データセット1!$D761),\"\")","v":""},{"$f":"IF(データセット1!$B761<>\"\",IF($Q$1=データセット1!$B761,データセット1!$D761),\"\")","v":""},{"$f":"IF(データセット1!$B761<>\"\",IF($R$1=データセット1!$B761,データセット1!$D761),\"\")","v":""},{"$f":"IF(データセット1!$B761<>\"\",IF($S$1=データセット1!$B761,データセット1!$D761),\"\")","v":""},{"$f":"IF(データセット1!$B761<>\"\",IF($T$1=データセット1!$B761,データセット1!$D761),\"\")","v":""},{"$f":"IF(データセット1!$B761<>\"\",IF($U$1=データセット1!$B761,データセット1!$D761),\"\")","v":""}]
[null,null,null,null,null,null,null,null,null,null,null,null,{"$f":"IF(データセット1!$B762<>\"\",IF($M$1=データセット1!$B762,データセット1!$D762),\"\")","v":""},{"$f":"IF(データセット1!$B762<>\"\",IF($N$1=データセット1!$B762,データセット1!$D762),\"\")","v":""},{"$f":"IF(データセット1!$B762<>\"\",IF($O$1=データセット1!$B762,データセット1!$D762),\"\")","v":""},{"$f":"IF(データセット1!$B762<>\"\",IF($P$1=データセット1!$B762,データセット1!$D762),\"\")","v":""},{"$f":"IF(データセット1!$B762<>\"\",IF($Q$1=データセット1!$B762,データセット1!$D762),\"\")","v":""},{"$f":"IF(データセット1!$B762<>\"\",IF($R$1=データセット1!$B762,データセット1!$D762),\"\")","v":""},{"$f":"IF(データセット1!$B762<>\"\",IF($S$1=データセット1!$B762,データセット1!$D762),\"\")","v":""},{"$f":"IF(データセット1!$B762<>\"\",IF($T$1=データセット1!$B762,データセット1!$D762),\"\")","v":""},{"$f":"IF(データセット1!$B762<>\"\",IF($U$1=データセット1!$B762,データセット1!$D762),\"\")","v":""}]
[null,null,null,null,null,null,null,null,null,null,null,null,{"$f":"IF(データセット1!$B763<>\"\",IF($M$1=データセット1!$B763,データセット1!$D763),\"\")","v":""},{"$f":"IF(データセット1!$B763<>\"\",IF($N$1=データセット1!$B763,データセット1!$D763),\"\")","v":""},{"$f":"IF(データセット1!$B763<>\"\",IF($O$1=データセット1!$B763,データセット1!$D763),\"\")","v":""},{"$f":"IF(データセット1!$B763<>\"\",IF($P$1=データセット1!$B763,データセット1!$D763),\"\")","v":""},{"$f":"IF(データセット1!$B763<>\"\",IF($Q$1=データセット1!$B763,データセット1!$D763),\"\")","v":""},{"$f":"IF(データセット1!$B763<>\"\",IF($R$1=データセット1!$B763,データセット1!$D763),\"\")","v":""},{"$f":"IF(データセット1!$B763<>\"\",IF($S$1=データセット1!$B763,データセット1!$D763),\"\")","v":""},{"$f":"IF(データセット1!$B763<>\"\",IF($T$1=データセット1!$B763,データセット1!$D763),\"\")","v":""},{"$f":"IF(データセット1!$B763<>\"\",IF($U$1=データセット1!$B763,データセット1!$D763),\"\")","v":""}]
[null,null,null,null,null,null,null,null,null,null,null,null,{"$f":"IF(データセット1!$B764<>\"\",IF($M$1=データセット1!$B764,データセット1!$D764),\"\")","v":""},{"$f":"IF(データセット1!$B764<>\"\",IF($N$1=データセット1!$B764,データセット1!$D764),\"\")","v":""},{"$f":"IF(データセット1!$B764<>\"\",IF($O$1=データセット1!$B764,データセット1!$D764),\"\")","v":""},{"$f":"IF(データセット1!$B764<>\"\",IF($P$1=データセット1!$B764,データセット1!$D764),\"\")","v":""},{"$f":"IF(データセット1!$B764<>\"\",IF($Q$1=データセット1!$B764,データセット1!$D764),\"\")","v":""},{"$f":"IF(データセット1!$B764<>\"\",IF($R$1=データセット1!$B764,データセット1!$D764),\"\")","v":""},{"$f":"IF(データセット1!$B764<>\"\",IF($S$1=データセット1!$B764,データセット1!$D764),\"\")","v":""},{"$f":"IF(データセット1!$B764<>\"\",IF($T$1=データセット1!$B764,データセット1!$D764),\"\")","v":""},{"$f":"IF(データセット1!$B764<>\"\",IF($U$1=データセット1!$B764,データセット1!$D764),\"\")","v":""}]
[null,null,null,null,null,null,null,null,null,null,null,null,{"$f":"IF(データセット1!$B765<>\"\",IF($M$1=データセット1!$B765,データセット1!$D765),\"\")","v":""},{"$f":"IF(データセット1!$B765<>\"\",IF($N$1=データセット1!$B765,データセット1!$D765),\"\")","v":""},{"$f":"IF(データセット1!$B765<>\"\",IF($O$1=データセット1!$B765,データセット1!$D765),\"\")","v":""},{"$f":"IF(データセット1!$B765<>\"\",IF($P$1=データセット1!$B765,データセット1!$D765),\"\")","v":""},{"$f":"IF(データセット1!$B765<>\"\",IF($Q$1=データセット1!$B765,データセット1!$D765),\"\")","v":""},{"$f":"IF(データセット1!$B765<>\"\",IF($R$1=データセット1!$B765,データセット1!$D765),\"\")","v":""},{"$f":"IF(データセット1!$B765<>\"\",IF($S$1=データセット1!$B765,データセット1!$D765),\"\")","v":""},{"$f":"IF(データセット1!$B765<>\"\",IF($T$1=データセット1!$B765,データセット1!$D765),\"\")","v":""},{"$f":"IF(データセット1!$B765<>\"\",IF($U$1=データセット1!$B765,データセット1!$D765),\"\")","v":""}]
[null,null,null,null,null,null,null,null,null,null,null,null,{"$f":"IF(データセット1!$B766<>\"\",IF($M$1=データセット1!$B766,データセット1!$D766),\"\")","v":""},{"$f":"IF(データセット1!$B766<>\"\",IF($N$1=データセット1!$B766,データセット1!$D766),\"\")","v":""},{"$f":"IF(データセット1!$B766<>\"\",IF($O$1=データセット1!$B766,データセット1!$D766),\"\")","v":""},{"$f":"IF(データセット1!$B766<>\"\",IF($P$1=データセット1!$B766,データセット1!$D766),\"\")","v":""},{"$f":"IF(データセット1!$B766<>\"\",IF($Q$1=データセット1!$B766,データセット1!$D766),\"\")","v":""},{"$f":"IF(データセット1!$B766<>\"\",IF($R$1=データセット1!$B766,データセット1!$D766),\"\")","v":""},{"$f":"IF(データセット1!$B766<>\"\",IF($S$1=データセット1!$B766,データセット1!$D766),\"\")","v":""},{"$f":"IF(データセット1!$B766<>\"\",IF($T$1=データセット1!$B766,データセット1!$D766),\"\")","v":""},{"$f":"IF(データセット1!$B766<>\"\",IF($U$1=データセット1!$B766,データセット1!$D766),\"\")","v":""}]
[null,null,null,null,null,null,null,null,null,null,null,null,{"$f":"IF(データセット1!$B767<>\"\",IF($M$1=データセット1!$B767,データセット1!$D767),\"\")","v":""},{"$f":"IF(データセット1!$B767<>\"\",IF($N$1=データセット1!$B767,データセット1!$D767),\"\")","v":""},{"$f":"IF(データセット1!$B767<>\"\",IF($O$1=データセット1!$B767,データセット1!$D767),\"\")","v":""},{"$f":"IF(データセット1!$B767<>\"\",IF($P$1=データセット1!$B767,データセット1!$D767),\"\")","v":""},{"$f":"IF(データセット1!$B767<>\"\",IF($Q$1=データセット1!$B767,データセット1!$D767),\"\")","v":""},{"$f":"IF(データセット1!$B767<>\"\",IF($R$1=データセット1!$B767,データセット1!$D767),\"\")","v":""},{"$f":"IF(データセット1!$B767<>\"\",IF($S$1=データセット1!$B767,データセット1!$D767),\"\")","v":""},{"$f":"IF(データセット1!$B767<>\"\",IF($T$1=データセット1!$B767,データセット1!$D767),\"\")","v":""},{"$f":"IF(データセット1!$B767<>\"\",IF($U$1=データセット1!$B767,データセット1!$D767),\"\")","v":""}]
[null,null,null,null,null,null,null,null,null,null,null,null,{"$f":"IF(データセット1!$B768<>\"\",IF($M$1=データセット1!$B768,データセット1!$D768),\"\")","v":""},{"$f":"IF(データセット1!$B768<>\"\",IF($N$1=データセット1!$B768,データセット1!$D768),\"\")","v":""},{"$f":"IF(データセット1!$B768<>\"\",IF($O$1=データセット1!$B768,データセット1!$D768),\"\")","v":""},{"$f":"IF(データセット1!$B768<>\"\",IF($P$1=データセット1!$B768,データセット1!$D768),\"\")","v":""},{"$f":"IF(データセット1!$B768<>\"\",IF($Q$1=データセット1!$B768,データセット1!$D768),\"\")","v":""},{"$f":"IF(データセット1!$B768<>\"\",IF($R$1=データセット1!$B768,データセット1!$D768),\"\")","v":""},{"$f":"IF(データセット1!$B768<>\"\",IF($S$1=データセット1!$B768,データセット1!$D768),\"\")","v":""},{"$f":"IF(データセット1!$B768<>\"\",IF($T$1=データセット1!$B768,データセット1!$D768),\"\")","v":""},{"$f":"IF(データセット1!$B768<>\"\",IF($U$1=データセット1!$B768,データセット1!$D768),\"\")","v":""}]
[null,null,null,null,null,null,null,null,null,null,null,null,{"$f":"IF(データセット1!$B769<>\"\",IF($M$1=データセット1!$B769,データセット1!$D769),\"\")","v":""},{"$f":"IF(データセット1!$B769<>\"\",IF($N$1=データセット1!$B769,データセット1!$D769),\"\")","v":""},{"$f":"IF(データセット1!$B769<>\"\",IF($O$1=データセット1!$B769,データセット1!$D769),\"\")","v":""},{"$f":"IF(データセット1!$B769<>\"\",IF($P$1=データセット1!$B769,データセット1!$D769),\"\")","v":""},{"$f":"IF(データセット1!$B769<>\"\",IF($Q$1=データセット1!$B769,データセット1!$D769),\"\")","v":""},{"$f":"IF(データセット1!$B769<>\"\",IF($R$1=データセット1!$B769,データセット1!$D769),\"\")","v":""},{"$f":"IF(データセット1!$B769<>\"\",IF($S$1=データセット1!$B769,データセット1!$D769),\"\")","v":""},{"$f":"IF(データセット1!$B769<>\"\",IF($T$1=データセット1!$B769,データセット1!$D769),\"\")","v":""},{"$f":"IF(データセット1!$B769<>\"\",IF($U$1=データセット1!$B769,データセット1!$D769),\"\")","v":""}]
[null,null,null,null,null,null,null,null,null,null,null,null,{"$f":"IF(データセット1!$B770<>\"\",IF($M$1=データセット1!$B770,データセット1!$D770),\"\")","v":""},{"$f":"IF(データセット1!$B770<>\"\",IF($N$1=データセット1!$B770,データセット1!$D770),\"\")","v":""},{"$f":"IF(データセット1!$B770<>\"\",IF($O$1=データセット1!$B770,データセット1!$D770),\"\")","v":""},{"$f":"IF(データセット1!$B770<>\"\",IF($P$1=データセット1!$B770,データセット1!$D770),\"\")","v":""},{"$f":"IF(データセット1!$B770<>\"\",IF($Q$1=データセット1!$B770,データセット1!$D770),\"\")","v":""},{"$f":"IF(データセット1!$B770<>\"\",IF($R$1=データセット1!$B770,データセット1!$D770),\"\")","v":""},{"$f":"IF(データセット1!$B770<>\"\",IF($S$1=データセット1!$B770,データセット1!$D770),\"\")","v":""},{"$f":"IF(データセット1!$B770<>\"\",IF($T$1=データセット1!$B770,データセット1!$D770),\"\")","v":""},{"$f":"IF(データセット1!$B770<>\"\",IF($U$1=データセット1!$B770,データセット1!$D770),\"\")","v":""}]
[null,null,null,null,null,null,null,null,null,null,null,null,{"$f":"IF(データセット1!$B771<>\"\",IF($M$1=データセット1!$B771,データセット1!$D771),\"\")","v":""},{"$f":"IF(データセット1!$B771<>\"\",IF($N$1=データセット1!$B771,データセット1!$D771),\"\")","v":""},{"$f":"IF(データセット1!$B771<>\"\",IF($O$1=データセット1!$B771,データセット1!$D771),\"\")","v":""},{"$f":"IF(データセット1!$B771<>\"\",IF($P$1=データセット1!$B771,データセット1!$D771),\"\")","v":""},{"$f":"IF(データセット1!$B771<>\"\",IF($Q$1=データセット1!$B771,データセット1!$D771),\"\")","v":""},{"$f":"IF(データセット1!$B771<>\"\",IF($R$1=データセット1!$B771,データセット1!$D771),\"\")","v":""},{"$f":"IF(データセット1!$B771<>\"\",IF($S$1=データセット1!$B771,データセット1!$D771),\"\")","v":""},{"$f":"IF(データセット1!$B771<>\"\",IF($T$1=データセット1!$B771,データセット1!$D771),\"\")","v":""},{"$f":"IF(データセット1!$B771<>\"\",IF($U$1=データセット1!$B771,データセット1!$D771),\"\")","v":""}]
[null,null,null,null,null,null,null,null,null,null,null,null,{"$f":"IF(データセット1!$B772<>\"\",IF($M$1=データセット1!$B772,データセット1!$D772),\"\")","v":""},{"$f":"IF(データセット1!$B772<>\"\",IF($N$1=データセット1!$B772,データセット1!$D772),\"\")","v":""},{"$f":"IF(データセット1!$B772<>\"\",IF($O$1=データセット1!$B772,データセット1!$D772),\"\")","v":""},{"$f":"IF(データセット1!$B772<>\"\",IF($P$1=データセット1!$B772,データセット1!$D772),\"\")","v":""},{"$f":"IF(データセット1!$B772<>\"\",IF($Q$1=データセット1!$B772,データセット1!$D772),\"\")","v":""},{"$f":"IF(データセット1!$B772<>\"\",IF($R$1=データセット1!$B772,データセット1!$D772),\"\")","v":""},{"$f":"IF(データセット1!$B772<>\"\",IF($S$1=データセット1!$B772,データセット1!$D772),\"\")","v":""},{"$f":"IF(データセット1!$B772<>\"\",IF($T$1=データセット1!$B772,データセット1!$D772),\"\")","v":""},{"$f":"IF(データセット1!$B772<>\"\",IF($U$1=データセット1!$B772,データセット1!$D772),\"\")","v":""}]
[null,null,null,null,null,null,null,null,null,null,null,null,{"$f":"IF(データセット1!$B773<>\"\",IF($M$1=データセット1!$B773,データセット1!$D773),\"\")","v":""},{"$f":"IF(データセット1!$B773<>\"\",IF($N$1=データセット1!$B773,データセット1!$D773),\"\")","v":""},{"$f":"IF(データセット1!$B773<>\"\",IF($O$1=データセット1!$B773,データセット1!$D773),\"\")","v":""},{"$f":"IF(データセット1!$B773<>\"\",IF($P$1=データセット1!$B773,データセット1!$D773),\"\")","v":""},{"$f":"IF(データセット1!$B773<>\"\",IF($Q$1=データセット1!$B773,データセット1!$D773),\"\")","v":""},{"$f":"IF(データセット1!$B773<>\"\",IF($R$1=データセット1!$B773,データセット1!$D773),\"\")","v":""},{"$f":"IF(データセット1!$B773<>\"\",IF($S$1=データセット1!$B773,データセット1!$D773),\"\")","v":""},{"$f":"IF(データセット1!$B773<>\"\",IF($T$1=データセット1!$B773,データセット1!$D773),\"\")","v":""},{"$f":"IF(データセット1!$B773<>\"\",IF($U$1=データセット1!$B773,データセット1!$D773),\"\")","v":""}]
[null,null,null,null,null,null,null,null,null,null,null,null,{"$f":"IF(データセット1!$B774<>\"\",IF($M$1=データセット1!$B774,データセット1!$D774),\"\")","v":""},{"$f":"IF(データセット1!$B774<>\"\",IF($N$1=データセット1!$B774,データセット1!$D774),\"\")","v":""},{"$f":"IF(データセット1!$B774<>\"\",IF($O$1=データセット1!$B774,データセット1!$D774),\"\")","v":""},{"$f":"IF(データセット1!$B774<>\"\",IF($P$1=データセット1!$B774,データセット1!$D774),\"\")","v":""},{"$f":"IF(データセット1!$B774<>\"\",IF($Q$1=データセット1!$B774,データセット1!$D774),\"\")","v":""},{"$f":"IF(データセット1!$B774<>\"\",IF($R$1=データセット1!$B774,データセット1!$D774),\"\")","v":""},{"$f":"IF(データセット1!$B774<>\"\",IF($S$1=データセット1!$B774,データセット1!$D774),\"\")","v":""},{"$f":"IF(データセット1!$B774<>\"\",IF($T$1=データセット1!$B774,データセット1!$D774),\"\")","v":""},{"$f":"IF(データセット1!$B774<>\"\",IF($U$1=データセット1!$B774,データセット1!$D774),\"\")","v":""}]
[null,null,null,null,null,null,null,null,null,null,null,null,{"$f":"IF(データセット1!$B775<>\"\",IF($M$1=データセット1!$B775,データセット1!$D775),\"\")","v":""},{"$f":"IF(データセット1!$B775<>\"\",IF($N$1=データセット1!$B775,データセット1!$D775),\"\")","v":""},{"$f":"IF(データセット1!$B775<>\"\",IF($O$1=データセット1!$B775,データセット1!$D775),\"\")","v":""},{"$f":"IF(データセット1!$B775<>\"\",IF($P$1=データセット1!$B775,データセット1!$D775),\"\")","v":""},{"$f":"IF(データセット1!$B775<>\"\",IF($Q$1=データセット1!$B775,データセット1!$D775),\"\")","v":""},{"$f":"IF(データセット1!$B775<>\"\",IF($R$1=データセット1!$B775,データセット1!$D775),\"\")","v":""},{"$f":"IF(データセット1!$B775<>\"\",IF($S$1=データセット1!$B775,データセット1!$D775),\"\")","v":""},{"$f":"IF(データセット1!$B775<>\"\",IF($T$1=データセット1!$B775,データセット1!$D775),\"\")","v":""},{"$f":"IF(データセット1!$B775<>\"\",IF($U$1=データセット1!$B775,データセット1!$D775),\"\")","v":""}]
[null,null,null,null,null,null,null,null,null,null,null,null,{"$f":"IF(データセット1!$B776<>\"\",IF($M$1=データセット1!$B776,データセット1!$D776),\"\")","v":""},{"$f":"IF(データセット1!$B776<>\"\",IF($N$1=データセット1!$B776,データセット1!$D776),\"\")","v":""},{"$f":"IF(データセット1!$B776<>\"\",IF($O$1=データセット1!$B776,データセット1!$D776),\"\")","v":""},{"$f":"IF(データセット1!$B776<>\"\",IF($P$1=データセット1!$B776,データセット1!$D776),\"\")","v":""},{"$f":"IF(データセット1!$B776<>\"\",IF($Q$1=データセット1!$B776,データセット1!$D776),\"\")","v":""},{"$f":"IF(データセット1!$B776<>\"\",IF($R$1=データセット1!$B776,データセット1!$D776),\"\")","v":""},{"$f":"IF(データセット1!$B776<>\"\",IF($S$1=データセット1!$B776,データセット1!$D776),\"\")","v":""},{"$f":"IF(データセット1!$B776<>\"\",IF($T$1=データセット1!$B776,データセット1!$D776),\"\")","v":""},{"$f":"IF(データセット1!$B776<>\"\",IF($U$1=データセット1!$B776,データセット1!$D776),\"\")","v":""}]
[null,null,null,null,null,null,null,null,null,null,null,null,{"$f":"IF(データセット1!$B777<>\"\",IF($M$1=データセット1!$B777,データセット1!$D777),\"\")","v":""},{"$f":"IF(データセット1!$B777<>\"\",IF($N$1=データセット1!$B777,データセット1!$D777),\"\")","v":""},{"$f":"IF(データセット1!$B777<>\"\",IF($O$1=データセット1!$B777,データセット1!$D777),\"\")","v":""},{"$f":"IF(データセット1!$B777<>\"\",IF($P$1=データセット1!$B777,データセット1!$D777),\"\")","v":""},{"$f":"IF(データセット1!$B777<>\"\",IF($Q$1=データセット1!$B777,データセット1!$D777),\"\")","v":""},{"$f":"IF(データセット1!$B777<>\"\",IF($R$1=データセット1!$B777,データセット1!$D777),\"\")","v":""},{"$f":"IF(データセット1!$B777<>\"\",IF($S$1=データセット1!$B777,データセット1!$D777),\"\")","v":""},{"$f":"IF(データセット1!$B777<>\"\",IF($T$1=データセット1!$B777,データセット1!$D777),\"\")","v":""},{"$f":"IF(データセット1!$B777<>\"\",IF($U$1=データセット1!$B777,データセット1!$D777),\"\")","v":""}]
[null,null,null,null,null,null,null,null,null,null,null,null,{"$f":"IF(データセット1!$B778<>\"\",IF($M$1=データセット1!$B778,データセット1!$D778),\"\")","v":""},{"$f":"IF(データセット1!$B778<>\"\",IF($N$1=データセット1!$B778,データセット1!$D778),\"\")","v":""},{"$f":"IF(データセット1!$B778<>\"\",IF($O$1=データセット1!$B778,データセット1!$D778),\"\")","v":""},{"$f":"IF(データセット1!$B778<>\"\",IF($P$1=データセット1!$B778,データセット1!$D778),\"\")","v":""},{"$f":"IF(データセット1!$B778<>\"\",IF($Q$1=データセット1!$B778,データセット1!$D778),\"\")","v":""},{"$f":"IF(データセット1!$B778<>\"\",IF($R$1=データセット1!$B778,データセット1!$D778),\"\")","v":""},{"$f":"IF(データセット1!$B778<>\"\",IF($S$1=データセット1!$B778,データセット1!$D778),\"\")","v":""},{"$f":"IF(データセット1!$B778<>\"\",IF($T$1=データセット1!$B778,データセット1!$D778),\"\")","v":""},{"$f":"IF(データセット1!$B778<>\"\",IF($U$1=データセット1!$B778,データセット1!$D778),\"\")","v":""}]
[null,null,null,null,null,null,null,null,null,null,null,null,{"$f":"IF(データセット1!$B779<>\"\",IF($M$1=データセット1!$B779,データセット1!$D779),\"\")","v":""},{"$f":"IF(データセット1!$B779<>\"\",IF($N$1=データセット1!$B779,データセット1!$D779),\"\")","v":""},{"$f":"IF(データセット1!$B779<>\"\",IF($O$1=データセット1!$B779,データセット1!$D779),\"\")","v":""},{"$f":"IF(データセット1!$B779<>\"\",IF($P$1=データセット1!$B779,データセット1!$D779),\"\")","v":""},{"$f":"IF(データセット1!$B779<>\"\",IF($Q$1=データセット1!$B779,データセット1!$D779),\"\")","v":""},{"$f":"IF(データセット1!$B779<>\"\",IF($R$1=データセット1!$B779,データセット1!$D779),\"\")","v":""},{"$f":"IF(データセット1!$B779<>\"\",IF($S$1=データセット1!$B779,データセット1!$D779),\"\")","v":""},{"$f":"IF(データセット1!$B779<>\"\",IF($T$1=データセット1!$B779,データセット1!$D779),\"\")","v":""},{"$f":"IF(データセット1!$B779<>\"\",IF($U$1=データセット1!$B779,データセット1!$D779),\"\")","v":""}]
[null,null,null,null,null,null,null,null,null,null,null,null,{"$f":"IF(データセット1!$B780<>\"\",IF($M$1=データセット1!$B780,データセット1!$D780),\"\")","v":""},{"$f":"IF(データセット1!$B780<>\"\",IF($N$1=データセット1!$B780,データセット1!$D780),\"\")","v":""},{"$f":"IF(データセット1!$B780<>\"\",IF($O$1=データセット1!$B780,データセット1!$D780),\"\")","v":""},{"$f":"IF(データセット1!$B780<>\"\",IF($P$1=データセット1!$B780,データセット1!$D780),\"\")","v":""},{"$f":"IF(データセット1!$B780<>\"\",IF($Q$1=データセット1!$B780,データセット1!$D780),\"\")","v":""},{"$f":"IF(データセット1!$B780<>\"\",IF($R$1=データセット1!$B780,データセット1!$D780),\"\")","v":""},{"$f":"IF(データセット1!$B780<>\"\",IF($S$1=データセット1!$B780,データセット1!$D780),\"\")","v":""},{"$f":"IF(データセット1!$B780<>\"\",IF($T$1=データセット1!$B780,データセット1!$D780),\"\")","v":""},{"$f":"IF(データセット1!$B780<>\"\",IF($U$1=データセット1!$B780,データセット1!$D780),\"\")","v":""}]
[null,null,null,null,null,null,null,null,null,null,null,null,{"$f":"IF(データセット1!$B781<>\"\",IF($M$1=データセット1!$B781,データセット1!$D781),\"\")","v":""},{"$f":"IF(データセット1!$B781<>\"\",IF($N$1=データセット1!$B781,データセット1!$D781),\"\")","v":""},{"$f":"IF(データセット1!$B781<>\"\",IF($O$1=データセット1!$B781,データセット1!$D781),\"\")","v":""},{"$f":"IF(データセット1!$B781<>\"\",IF($P$1=データセット1!$B781,データセット1!$D781),\"\")","v":""},{"$f":"IF(データセット1!$B781<>\"\",IF($Q$1=データセット1!$B781,データセット1!$D781),\"\")","v":""},{"$f":"IF(データセット1!$B781<>\"\",IF($R$1=データセット1!$B781,データセット1!$D781),\"\")","v":""},{"$f":"IF(データセット1!$B781<>\"\",IF($S$1=データセット1!$B781,データセット1!$D781),\"\")","v":""},{"$f":"IF(データセット1!$B781<>\"\",IF($T$1=データセット1!$B781,データセット1!$D781),\"\")","v":""},{"$f":"IF(データセット1!$B781<>\"\",IF($U$1=データセット1!$B781,データセット1!$D781),\"\")","v":""}]
[null,null,null,null,null,null,null,null,null,null,null,null,{"$f":"IF(データセット1!$B782<>\"\",IF($M$1=データセット1!$B782,データセット1!$D782),\"\")","v":""},{"$f":"IF(データセット1!$B782<>\"\",IF($N$1=データセット1!$B782,データセット1!$D782),\"\")","v":""},{"$f":"IF(データセット1!$B782<>\"\",IF($O$1=データセット1!$B782,データセット1!$D782),\"\")","v":""},{"$f":"IF(データセット1!$B782<>\"\",IF($P$1=データセット1!$B782,データセット1!$D782),\"\")","v":""},{"$f":"IF(データセット1!$B782<>\"\",IF($Q$1=データセット1!$B782,データセット1!$D782),\"\")","v":""},{"$f":"IF(データセット1!$B782<>\"\",IF($R$1=データセット1!$B782,データセット1!$D782),\"\")","v":""},{"$f":"IF(データセット1!$B782<>\"\",IF($S$1=データセット1!$B782,データセット1!$D782),\"\")","v":""},{"$f":"IF(データセット1!$B782<>\"\",IF($T$1=データセット1!$B782,データセット1!$D782),\"\")","v":""},{"$f":"IF(データセット1!$B782<>\"\",IF($U$1=データセット1!$B782,データセット1!$D782),\"\")","v":""}]
[null,null,null,null,null,null,null,null,null,null,null,null,{"$f":"IF(データセット1!$B783<>\"\",IF($M$1=データセット1!$B783,データセット1!$D783),\"\")","v":""},{"$f":"IF(データセット1!$B783<>\"\",IF($N$1=データセット1!$B783,データセット1!$D783),\"\")","v":""},{"$f":"IF(データセット1!$B783<>\"\",IF($O$1=データセット1!$B783,データセット1!$D783),\"\")","v":""},{"$f":"IF(データセット1!$B783<>\"\",IF($P$1=データセット1!$B783,データセット1!$D783),\"\")","v":""},{"$f":"IF(データセット1!$B783<>\"\",IF($Q$1=データセット1!$B783,データセット1!$D783),\"\")","v":""},{"$f":"IF(データセット1!$B783<>\"\",IF($R$1=データセット1!$B783,データセット1!$D783),\"\")","v":""},{"$f":"IF(データセット1!$B783<>\"\",IF($S$1=データセット1!$B783,データセット1!$D783),\"\")","v":""},{"$f":"IF(データセット1!$B783<>\"\",IF($T$1=データセット1!$B783,データセット1!$D783),\"\")","v":""},{"$f":"IF(データセット1!$B783<>\"\",IF($U$1=データセット1!$B783,データセット1!$D783),\"\")","v":""}]
[null,null,null,null,null,null,null,null,null,null,null,null,{"$f":"IF(データセット1!$B784<>\"\",IF($M$1=データセット1!$B784,データセット1!$D784),\"\")","v":""},{"$f":"IF(データセット1!$B784<>\"\",IF($N$1=データセット1!$B784,データセット1!$D784),\"\")","v":""},{"$f":"IF(データセット1!$B784<>\"\",IF($O$1=データセット1!$B784,データセット1!$D784),\"\")","v":""},{"$f":"IF(データセット1!$B784<>\"\",IF($P$1=データセット1!$B784,データセット1!$D784),\"\")","v":""},{"$f":"IF(データセット1!$B784<>\"\",IF($Q$1=データセット1!$B784,データセット1!$D784),\"\")","v":""},{"$f":"IF(データセット1!$B784<>\"\",IF($R$1=データセット1!$B784,データセット1!$D784),\"\")","v":""},{"$f":"IF(データセット1!$B784<>\"\",IF($S$1=データセット1!$B784,データセット1!$D784),\"\")","v":""},{"$f":"IF(データセット1!$B784<>\"\",IF($T$1=データセット1!$B784,データセット1!$D784),\"\")","v":""},{"$f":"IF(データセット1!$B784<>\"\",IF($U$1=データセット1!$B784,データセット1!$D784),\"\")","v":""}]
[null,null,null,null,null,null,null,null,null,null,null,null,{"$f":"IF(データセット1!$B785<>\"\",IF($M$1=データセット1!$B785,データセット1!$D785),\"\")","v":""},{"$f":"IF(データセット1!$B785<>\"\",IF($N$1=データセット1!$B785,データセット1!$D785),\"\")","v":""},{"$f":"IF(データセット1!$B785<>\"\",IF($O$1=データセット1!$B785,データセット1!$D785),\"\")","v":""},{"$f":"IF(データセット1!$B785<>\"\",IF($P$1=データセット1!$B785,データセット1!$D785),\"\")","v":""},{"$f":"IF(データセット1!$B785<>\"\",IF($Q$1=データセット1!$B785,データセット1!$D785),\"\")","v":""},{"$f":"IF(データセット1!$B785<>\"\",IF($R$1=データセット1!$B785,データセット1!$D785),\"\")","v":""},{"$f":"IF(データセット1!$B785<>\"\",IF($S$1=データセット1!$B785,データセット1!$D785),\"\")","v":""},{"$f":"IF(データセット1!$B785<>\"\",IF($T$1=データセット1!$B785,データセット1!$D785),\"\")","v":""},{"$f":"IF(データセット1!$B785<>\"\",IF($U$1=データセット1!$B785,データセット1!$D785),\"\")","v":""}]
[null,null,null,null,null,null,null,null,null,null,null,null,{"$f":"IF(データセット1!$B786<>\"\",IF($M$1=データセット1!$B786,データセット1!$D786),\"\")","v":""},{"$f":"IF(データセット1!$B786<>\"\",IF($N$1=データセット1!$B786,データセット1!$D786),\"\")","v":""},{"$f":"IF(データセット1!$B786<>\"\",IF($O$1=データセット1!$B786,データセット1!$D786),\"\")","v":""},{"$f":"IF(データセット1!$B786<>\"\",IF($P$1=データセット1!$B786,データセット1!$D786),\"\")","v":""},{"$f":"IF(データセット1!$B786<>\"\",IF($Q$1=データセット1!$B786,データセット1!$D786),\"\")","v":""},{"$f":"IF(データセット1!$B786<>\"\",IF($R$1=データセット1!$B786,データセット1!$D786),\"\")","v":""},{"$f":"IF(データセット1!$B786<>\"\",IF($S$1=データセット1!$B786,データセット1!$D786),\"\")","v":""},{"$f":"IF(データセット1!$B786<>\"\",IF($T$1=データセット1!$B786,データセット1!$D786),\"\")","v":""},{"$f":"IF(データセット1!$B786<>\"\",IF($U$1=データセット1!$B786,データセット1!$D786),\"\")","v":""}]
[null,null,null,null,null,null,null,null,null,null,null,null,{"$f":"IF(データセット1!$B787<>\"\",IF($M$1=データセット1!$B787,データセット1!$D787),\"\")","v":""},{"$f":"IF(データセット1!$B787<>\"\",IF($N$1=データセット1!$B787,データセット1!$D787),\"\")","v":""},{"$f":"IF(データセット1!$B787<>\"\",IF($O$1=データセット1!$B787,データセット1!$D787),\"\")","v":""},{"$f":"IF(データセット1!$B787<>\"\",IF($P$1=データセット1!$B787,データセット1!$D787),\"\")","v":""},{"$f":"IF(データセット1!$B787<>\"\",IF($Q$1=データセット1!$B787,データセット1!$D787),\"\")","v":""},{"$f":"IF(データセット1!$B787<>\"\",IF($R$1=データセット1!$B787,データセット1!$D787),\"\")","v":""},{"$f":"IF(データセット1!$B787<>\"\",IF($S$1=データセット1!$B787,データセット1!$D787),\"\")","v":""},{"$f":"IF(データセット1!$B787<>\"\",IF($T$1=データセット1!$B787,データセット1!$D787),\"\")","v":""},{"$f":"IF(データセット1!$B787<>\"\",IF($U$1=データセット1!$B787,データセット1!$D787),\"\")","v":""}]
[null,null,null,null,null,null,null,null,null,null,null,null,{"$f":"IF(データセット1!$B788<>\"\",IF($M$1=データセット1!$B788,データセット1!$D788),\"\")","v":""},{"$f":"IF(データセット1!$B788<>\"\",IF($N$1=データセット1!$B788,データセット1!$D788),\"\")","v":""},{"$f":"IF(データセット1!$B788<>\"\",IF($O$1=データセット1!$B788,データセット1!$D788),\"\")","v":""},{"$f":"IF(データセット1!$B788<>\"\",IF($P$1=データセット1!$B788,データセット1!$D788),\"\")","v":""},{"$f":"IF(データセット1!$B788<>\"\",IF($Q$1=データセット1!$B788,データセット1!$D788),\"\")","v":""},{"$f":"IF(データセット1!$B788<>\"\",IF($R$1=データセット1!$B788,データセット1!$D788),\"\")","v":""},{"$f":"IF(データセット1!$B788<>\"\",IF($S$1=データセット1!$B788,データセット1!$D788),\"\")","v":""},{"$f":"IF(データセット1!$B788<>\"\",IF($T$1=データセット1!$B788,データセット1!$D788),\"\")","v":""},{"$f":"IF(データセット1!$B788<>\"\",IF($U$1=データセット1!$B788,データセット1!$D788),\"\")","v":""}]
[null,null,null,null,null,null,null,null,null,null,null,null,{"$f":"IF(データセット1!$B789<>\"\",IF($M$1=データセット1!$B789,データセット1!$D789),\"\")","v":""},{"$f":"IF(データセット1!$B789<>\"\",IF($N$1=データセット1!$B789,データセット1!$D789),\"\")","v":""},{"$f":"IF(データセット1!$B789<>\"\",IF($O$1=データセット1!$B789,データセット1!$D789),\"\")","v":""},{"$f":"IF(データセット1!$B789<>\"\",IF($P$1=データセット1!$B789,データセット1!$D789),\"\")","v":""},{"$f":"IF(データセット1!$B789<>\"\",IF($Q$1=データセット1!$B789,データセット1!$D789),\"\")","v":""},{"$f":"IF(データセット1!$B789<>\"\",IF($R$1=データセット1!$B789,データセット1!$D789),\"\")","v":""},{"$f":"IF(データセット1!$B789<>\"\",IF($S$1=データセット1!$B789,データセット1!$D789),\"\")","v":""},{"$f":"IF(データセット1!$B789<>\"\",IF($T$1=データセット1!$B789,データセット1!$D789),\"\")","v":""},{"$f":"IF(データセット1!$B789<>\"\",IF($U$1=データセット1!$B789,データセット1!$D789),\"\")","v":""}]
[null,null,null,null,null,null,null,null,null,null,null,null,{"$f":"IF(データセット1!$B790<>\"\",IF($M$1=データセット1!$B790,データセット1!$D790),\"\")","v":""},{"$f":"IF(データセット1!$B790<>\"\",IF($N$1=データセット1!$B790,データセット1!$D790),\"\")","v":""},{"$f":"IF(データセット1!$B790<>\"\",IF($O$1=データセット1!$B790,データセット1!$D790),\"\")","v":""},{"$f":"IF(データセット1!$B790<>\"\",IF($P$1=データセット1!$B790,データセット1!$D790),\"\")","v":""},{"$f":"IF(データセット1!$B790<>\"\",IF($Q$1=データセット1!$B790,データセット1!$D790),\"\")","v":""},{"$f":"IF(データセット1!$B790<>\"\",IF($R$1=データセット1!$B790,データセット1!$D790),\"\")","v":""},{"$f":"IF(データセット1!$B790<>\"\",IF($S$1=データセット1!$B790,データセット1!$D790),\"\")","v":""},{"$f":"IF(データセット1!$B790<>\"\",IF($T$1=データセット1!$B790,データセット1!$D790),\"\")","v":""},{"$f":"IF(データセット1!$B790<>\"\",IF($U$1=データセット1!$B790,データセット1!$D790),\"\")","v":""}]
[null,null,null,null,null,null,null,null,null,null,null,null,{"$f":"IF(データセット1!$B791<>\"\",IF($M$1=データセット1!$B791,データセット1!$D791),\"\")","v":""},{"$f":"IF(データセット1!$B791<>\"\",IF($N$1=データセット1!$B791,データセット1!$D791),\"\")","v":""},{"$f":"IF(データセット1!$B791<>\"\",IF($O$1=データセット1!$B791,データセット1!$D791),\"\")","v":""},{"$f":"IF(データセット1!$B791<>\"\",IF($P$1=データセット1!$B791,データセット1!$D791),\"\")","v":""},{"$f":"IF(データセット1!$B791<>\"\",IF($Q$1=データセット1!$B791,データセット1!$D791),\"\")","v":""},{"$f":"IF(データセット1!$B791<>\"\",IF($R$1=データセット1!$B791,データセット1!$D791),\"\")","v":""},{"$f":"IF(データセット1!$B791<>\"\",IF($S$1=データセット1!$B791,データセット1!$D791),\"\")","v":""},{"$f":"IF(データセット1!$B791<>\"\",IF($T$1=データセット1!$B791,データセット1!$D791),\"\")","v":""},{"$f":"IF(データセット1!$B791<>\"\",IF($U$1=データセット1!$B791,データセット1!$D791),\"\")","v":""}]
[null,null,null,null,null,null,null,null,null,null,null,null,{"$f":"IF(データセット1!$B792<>\"\",IF($M$1=データセット1!$B792,データセット1!$D792),\"\")","v":""},{"$f":"IF(データセット1!$B792<>\"\",IF($N$1=データセット1!$B792,データセット1!$D792),\"\")","v":""},{"$f":"IF(データセット1!$B792<>\"\",IF($O$1=データセット1!$B792,データセット1!$D792),\"\")","v":""},{"$f":"IF(データセット1!$B792<>\"\",IF($P$1=データセット1!$B792,データセット1!$D792),\"\")","v":""},{"$f":"IF(データセット1!$B792<>\"\",IF($Q$1=データセット1!$B792,データセット1!$D792),\"\")","v":""},{"$f":"IF(データセット1!$B792<>\"\",IF($R$1=データセット1!$B792,データセット1!$D792),\"\")","v":""},{"$f":"IF(データセット1!$B792<>\"\",IF($S$1=データセット1!$B792,データセット1!$D792),\"\")","v":""},{"$f":"IF(データセット1!$B792<>\"\",IF($T$1=データセット1!$B792,データセット1!$D792),\"\")","v":""},{"$f":"IF(データセット1!$B792<>\"\",IF($U$1=データセット1!$B792,データセット1!$D792),\"\")","v":""}]
[null,null,null,null,null,null,null,null,null,null,null,null,{"$f":"IF(データセット1!$B793<>\"\",IF($M$1=データセット1!$B793,データセット1!$D793),\"\")","v":""},{"$f":"IF(データセット1!$B793<>\"\",IF($N$1=データセット1!$B793,データセット1!$D793),\"\")","v":""},{"$f":"IF(データセット1!$B793<>\"\",IF($O$1=データセット1!$B793,データセット1!$D793),\"\")","v":""},{"$f":"IF(データセット1!$B793<>\"\",IF($P$1=データセット1!$B793,データセット1!$D793),\"\")","v":""},{"$f":"IF(データセット1!$B793<>\"\",IF($Q$1=データセット1!$B793,データセット1!$D793),\"\")","v":""},{"$f":"IF(データセット1!$B793<>\"\",IF($R$1=データセット1!$B793,データセット1!$D793),\"\")","v":""},{"$f":"IF(データセット1!$B793<>\"\",IF($S$1=データセット1!$B793,データセット1!$D793),\"\")","v":""},{"$f":"IF(データセット1!$B793<>\"\",IF($T$1=データセット1!$B793,データセット1!$D793),\"\")","v":""},{"$f":"IF(データセット1!$B793<>\"\",IF($U$1=データセット1!$B793,データセット1!$D793),\"\")","v":""}]
[null,null,null,null,null,null,null,null,null,null,null,null,{"$f":"IF(データセット1!$B794<>\"\",IF($M$1=データセット1!$B794,データセット1!$D794),\"\")","v":""},{"$f":"IF(データセット1!$B794<>\"\",IF($N$1=データセット1!$B794,データセット1!$D794),\"\")","v":""},{"$f":"IF(データセット1!$B794<>\"\",IF($O$1=データセット1!$B794,データセット1!$D794),\"\")","v":""},{"$f":"IF(データセット1!$B794<>\"\",IF($P$1=データセット1!$B794,データセット1!$D794),\"\")","v":""},{"$f":"IF(データセット1!$B794<>\"\",IF($Q$1=データセット1!$B794,データセット1!$D794),\"\")","v":""},{"$f":"IF(データセット1!$B794<>\"\",IF($R$1=データセット1!$B794,データセット1!$D794),\"\")","v":""},{"$f":"IF(データセット1!$B794<>\"\",IF($S$1=データセット1!$B794,データセット1!$D794),\"\")","v":""},{"$f":"IF(データセット1!$B794<>\"\",IF($T$1=データセット1!$B794,データセット1!$D794),\"\")","v":""},{"$f":"IF(データセット1!$B794<>\"\",IF($U$1=データセット1!$B794,データセット1!$D794),\"\")","v":""}]
[null,null,null,null,null,null,null,null,null,null,null,null,{"$f":"IF(データセット1!$B795<>\"\",IF($M$1=データセット1!$B795,データセット1!$D795),\"\")","v":""},{"$f":"IF(データセット1!$B795<>\"\",IF($N$1=データセット1!$B795,データセット1!$D795),\"\")","v":""},{"$f":"IF(データセット1!$B795<>\"\",IF($O$1=データセット1!$B795,データセット1!$D795),\"\")","v":""},{"$f":"IF(データセット1!$B795<>\"\",IF($P$1=データセット1!$B795,データセット1!$D795),\"\")","v":""},{"$f":"IF(データセット1!$B795<>\"\",IF($Q$1=データセット1!$B795,データセット1!$D795),\"\")","v":""},{"$f":"IF(データセット1!$B795<>\"\",IF($R$1=データセット1!$B795,データセット1!$D795),\"\")","v":""},{"$f":"IF(データセット1!$B795<>\"\",IF($S$1=データセット1!$B795,データセット1!$D795),\"\")","v":""},{"$f":"IF(データセット1!$B795<>\"\",IF($T$1=データセット1!$B795,データセット1!$D795),\"\")","v":""},{"$f":"IF(データセット1!$B795<>\"\",IF($U$1=データセット1!$B795,データセット1!$D795),\"\")","v":""}]
[null,null,null,null,null,null,null,null,null,null,null,null,{"$f":"IF(データセット1!$B796<>\"\",IF($M$1=データセット1!$B796,データセット1!$D796),\"\")","v":""},{"$f":"IF(データセット1!$B796<>\"\",IF($N$1=データセット1!$B796,データセット1!$D796),\"\")","v":""},{"$f":"IF(データセット1!$B796<>\"\",IF($O$1=データセット1!$B796,データセット1!$D796),\"\")","v":""},{"$f":"IF(データセット1!$B796<>\"\",IF($P$1=データセット1!$B796,データセット1!$D796),\"\")","v":""},{"$f":"IF(データセット1!$B796<>\"\",IF($Q$1=データセット1!$B796,データセット1!$D796),\"\")","v":""},{"$f":"IF(データセット1!$B796<>\"\",IF($R$1=データセット1!$B796,データセット1!$D796),\"\")","v":""},{"$f":"IF(データセット1!$B796<>\"\",IF($S$1=データセット1!$B796,データセット1!$D796),\"\")","v":""},{"$f":"IF(データセット1!$B796<>\"\",IF($T$1=データセット1!$B796,データセット1!$D796),\"\")","v":""},{"$f":"IF(データセット1!$B796<>\"\",IF($U$1=データセット1!$B796,データセット1!$D796),\"\")","v":""}]
[null,null,null,null,null,null,null,null,null,null,null,null,{"$f":"IF(データセット1!$B797<>\"\",IF($M$1=データセット1!$B797,データセット1!$D797),\"\")","v":""},{"$f":"IF(データセット1!$B797<>\"\",IF($N$1=データセット1!$B797,データセット1!$D797),\"\")","v":""},{"$f":"IF(データセット1!$B797<>\"\",IF($O$1=データセット1!$B797,データセット1!$D797),\"\")","v":""},{"$f":"IF(データセット1!$B797<>\"\",IF($P$1=データセット1!$B797,データセット1!$D797),\"\")","v":""},{"$f":"IF(データセット1!$B797<>\"\",IF($Q$1=データセット1!$B797,データセット1!$D797),\"\")","v":""},{"$f":"IF(データセット1!$B797<>\"\",IF($R$1=データセット1!$B797,データセット1!$D797),\"\")","v":""},{"$f":"IF(データセット1!$B797<>\"\",IF($S$1=データセット1!$B797,データセット1!$D797),\"\")","v":""},{"$f":"IF(データセット1!$B797<>\"\",IF($T$1=データセット1!$B797,データセット1!$D797),\"\")","v":""},{"$f":"IF(データセット1!$B797<>\"\",IF($U$1=データセット1!$B797,データセット1!$D797),\"\")","v":""}]
[null,null,null,null,null,null,null,null,null,null,null,null,{"$f":"IF(データセット1!$B798<>\"\",IF($M$1=データセット1!$B798,データセット1!$D798),\"\")","v":""},{"$f":"IF(データセット1!$B798<>\"\",IF($N$1=データセット1!$B798,データセット1!$D798),\"\")","v":""},{"$f":"IF(データセット1!$B798<>\"\",IF($O$1=データセット1!$B798,データセット1!$D798),\"\")","v":""},{"$f":"IF(データセット1!$B798<>\"\",IF($P$1=データセット1!$B798,データセット1!$D798),\"\")","v":""},{"$f":"IF(データセット1!$B798<>\"\",IF($Q$1=データセット1!$B798,データセット1!$D798),\"\")","v":""},{"$f":"IF(データセット1!$B798<>\"\",IF($R$1=データセット1!$B798,データセット1!$D798),\"\")","v":""},{"$f":"IF(データセット1!$B798<>\"\",IF($S$1=データセット1!$B798,データセット1!$D798),\"\")","v":""},{"$f":"IF(データセット1!$B798<>\"\",IF($T$1=データセット1!$B798,データセット1!$D798),\"\")","v":""},{"$f":"IF(データセット1!$B798<>\"\",IF($U$1=データセット1!$B798,データセット1!$D798),\"\")","v":""}]
[null,null,null,null,null,null,null,null,null,null,null,null,{"$f":"IF(データセット1!$B799<>\"\",IF($M$1=データセット1!$B799,データセット1!$D799),\"\")","v":""},{"$f":"IF(データセット1!$B799<>\"\",IF($N$1=データセット1!$B799,データセット1!$D799),\"\")","v":""},{"$f":"IF(データセット1!$B799<>\"\",IF($O$1=データセット1!$B799,データセット1!$D799),\"\")","v":""},{"$f":"IF(データセット1!$B799<>\"\",IF($P$1=データセット1!$B799,データセット1!$D799),\"\")","v":""},{"$f":"IF(データセット1!$B799<>\"\",IF($Q$1=データセット1!$B799,データセット1!$D799),\"\")","v":""},{"$f":"IF(データセット1!$B799<>\"\",IF($R$1=データセット1!$B799,データセット1!$D799),\"\")","v":""},{"$f":"IF(データセット1!$B799<>\"\",IF($S$1=データセット1!$B799,データセット1!$D799),\"\")","v":""},{"$f":"IF(データセット1!$B799<>\"\",IF($T$1=データセット1!$B799,データセット1!$D799),\"\")","v":""},{"$f":"IF(データセット1!$B799<>\"\",IF($U$1=データセット1!$B799,データセット1!$D799),\"\")","v":""}]
[null,null,null,null,null,null,null,null,null,null,null,null,{"$f":"IF(データセット1!$B800<>\"\",IF($M$1=データセット1!$B800,データセット1!$D800),\"\")","v":""},{"$f":"IF(データセット1!$B800<>\"\",IF($N$1=データセット1!$B800,データセット1!$D800),\"\")","v":""},{"$f":"IF(データセット1!$B800<>\"\",IF($O$1=データセット1!$B800,データセット1!$D800),\"\")","v":""},{"$f":"IF(データセット1!$B800<>\"\",IF($P$1=データセット1!$B800,データセット1!$D800),\"\")","v":""},{"$f":"IF(データセット1!$B800<>\"\",IF($Q$1=データセット1!$B800,データセット1!$D800),\"\")","v":""},{"$f":"IF(データセット1!$B800<>\"\",IF($R$1=データセット1!$B800,データセット1!$D800),\"\")","v":""},{"$f":"IF(データセット1!$B800<>\"\",IF($S$1=データセット1!$B800,データセット1!$D800),\"\")","v":""},{"$f":"IF(データセット1!$B800<>\"\",IF($T$1=データセット1!$B800,データセット1!$D800),\"\")","v":""},{"$f":"IF(データセット1!$B800<>\"\",IF($U$1=データセット1!$B800,データセット1!$D800),\"\")","v":""}]
[null,null,null,null,null,null,null,null,null,null,null,null,{"$f":"IF(データセット1!$B801<>\"\",IF($M$1=データセット1!$B801,データセット1!$D801),\"\")","v":""},{"$f":"IF(データセット1!$B801<>\"\",IF($N$1=データセット1!$B801,データセット1!$D801),\"\")","v":""},{"$f":"IF(データセット1!$B801<>\"\",IF($O$1=データセット1!$B801,データセット1!$D801),\"\")","v":""},{"$f":"IF(データセット1!$B801<>\"\",IF($P$1=データセット1!$B801,データセット1!$D801),\"\")","v":""},{"$f":"IF(データセット1!$B801<>\"\",IF($Q$1=データセット1!$B801,データセット1!$D801),\"\")","v":""},{"$f":"IF(データセット1!$B801<>\"\",IF($R$1=データセット1!$B801,データセット1!$D801),\"\")","v":""},{"$f":"IF(データセット1!$B801<>\"\",IF($S$1=データセット1!$B801,データセット1!$D801),\"\")","v":""},{"$f":"IF(データセット1!$B801<>\"\",IF($T$1=データセット1!$B801,データセット1!$D801),\"\")","v":""},{"$f":"IF(データセット1!$B801<>\"\",IF($U$1=データセット1!$B801,データセット1!$D801),\"\")","v":""}]
[null,null,null,null,null,null,null,null,null,null,null,null,{"$f":"IF(データセット1!$B802<>\"\",IF($M$1=データセット1!$B802,データセット1!$D802),\"\")","v":""},{"$f":"IF(データセット1!$B802<>\"\",IF($N$1=データセット1!$B802,データセット1!$D802),\"\")","v":""},{"$f":"IF(データセット1!$B802<>\"\",IF($O$1=データセット1!$B802,データセット1!$D802),\"\")","v":""},{"$f":"IF(データセット1!$B802<>\"\",IF($P$1=データセット1!$B802,データセット1!$D802),\"\")","v":""},{"$f":"IF(データセット1!$B802<>\"\",IF($Q$1=データセット1!$B802,データセット1!$D802),\"\")","v":""},{"$f":"IF(データセット1!$B802<>\"\",IF($R$1=データセット1!$B802,データセット1!$D802),\"\")","v":""},{"$f":"IF(データセット1!$B802<>\"\",IF($S$1=データセット1!$B802,データセット1!$D802),\"\")","v":""},{"$f":"IF(データセット1!$B802<>\"\",IF($T$1=データセット1!$B802,データセット1!$D802),\"\")","v":""},{"$f":"IF(データセット1!$B802<>\"\",IF($U$1=データセット1!$B802,データセット1!$D802),\"\")","v":""}]
[null,null,null,null,null,null,null,null,null,null,null,null,{"$f":"IF(データセット1!$B803<>\"\",IF($M$1=データセット1!$B803,データセット1!$D803),\"\")","v":""},{"$f":"IF(データセット1!$B803<>\"\",IF($N$1=データセット1!$B803,データセット1!$D803),\"\")","v":""},{"$f":"IF(データセット1!$B803<>\"\",IF($O$1=データセット1!$B803,データセット1!$D803),\"\")","v":""},{"$f":"IF(データセット1!$B803<>\"\",IF($P$1=データセット1!$B803,データセット1!$D803),\"\")","v":""},{"$f":"IF(データセット1!$B803<>\"\",IF($Q$1=データセット1!$B803,データセット1!$D803),\"\")","v":""},{"$f":"IF(データセット1!$B803<>\"\",IF($R$1=データセット1!$B803,データセット1!$D803),\"\")","v":""},{"$f":"IF(データセット1!$B803<>\"\",IF($S$1=データセット1!$B803,データセット1!$D803),\"\")","v":""},{"$f":"IF(データセット1!$B803<>\"\",IF($T$1=データセット1!$B803,データセット1!$D803),\"\")","v":""},{"$f":"IF(データセット1!$B803<>\"\",IF($U$1=データセット1!$B803,データセット1!$D803),\"\")","v":""}]
[null,null,null,null,null,null,null,null,null,null,null,null,{"$f":"IF(データセット1!$B804<>\"\",IF($M$1=データセット1!$B804,データセット1!$D804),\"\")","v":""},{"$f":"IF(データセット1!$B804<>\"\",IF($N$1=データセット1!$B804,データセット1!$D804),\"\")","v":""},{"$f":"IF(データセット1!$B804<>\"\",IF($O$1=データセット1!$B804,データセット1!$D804),\"\")","v":""},{"$f":"IF(データセット1!$B804<>\"\",IF($P$1=データセット1!$B804,データセット1!$D804),\"\")","v":""},{"$f":"IF(データセット1!$B804<>\"\",IF($Q$1=データセット1!$B804,データセット1!$D804),\"\")","v":""},{"$f":"IF(データセット1!$B804<>\"\",IF($R$1=データセット1!$B804,データセット1!$D804),\"\")","v":""},{"$f":"IF(データセット1!$B804<>\"\",IF($S$1=データセット1!$B804,データセット1!$D804),\"\")","v":""},{"$f":"IF(データセット1!$B804<>\"\",IF($T$1=データセット1!$B804,データセット1!$D804),\"\")","v":""},{"$f":"IF(データセット1!$B804<>\"\",IF($U$1=データセット1!$B804,データセット1!$D804),\"\")","v":""}]
[null,null,null,null,null,null,null,null,null,null,null,null,{"$f":"IF(データセット1!$B805<>\"\",IF($M$1=データセット1!$B805,データセット1!$D805),\"\")","v":""},{"$f":"IF(データセット1!$B805<>\"\",IF($N$1=データセット1!$B805,データセット1!$D805),\"\")","v":""},{"$f":"IF(データセット1!$B805<>\"\",IF($O$1=データセット1!$B805,データセット1!$D805),\"\")","v":""},{"$f":"IF(データセット1!$B805<>\"\",IF($P$1=データセット1!$B805,データセット1!$D805),\"\")","v":""},{"$f":"IF(データセット1!$B805<>\"\",IF($Q$1=データセット1!$B805,データセット1!$D805),\"\")","v":""},{"$f":"IF(データセット1!$B805<>\"\",IF($R$1=データセット1!$B805,データセット1!$D805),\"\")","v":""},{"$f":"IF(データセット1!$B805<>\"\",IF($S$1=データセット1!$B805,データセット1!$D805),\"\")","v":""},{"$f":"IF(データセット1!$B805<>\"\",IF($T$1=データセット1!$B805,データセット1!$D805),\"\")","v":""},{"$f":"IF(データセット1!$B805<>\"\",IF($U$1=データセット1!$B805,データセット1!$D805),\"\")","v":""}]
[null,null,null,null,null,null,null,null,null,null,null,null,{"$f":"IF(データセット1!$B806<>\"\",IF($M$1=データセット1!$B806,データセット1!$D806),\"\")","v":""},{"$f":"IF(データセット1!$B806<>\"\",IF($N$1=データセット1!$B806,データセット1!$D806),\"\")","v":""},{"$f":"IF(データセット1!$B806<>\"\",IF($O$1=データセット1!$B806,データセット1!$D806),\"\")","v":""},{"$f":"IF(データセット1!$B806<>\"\",IF($P$1=データセット1!$B806,データセット1!$D806),\"\")","v":""},{"$f":"IF(データセット1!$B806<>\"\",IF($Q$1=データセット1!$B806,データセット1!$D806),\"\")","v":""},{"$f":"IF(データセット1!$B806<>\"\",IF($R$1=データセット1!$B806,データセット1!$D806),\"\")","v":""},{"$f":"IF(データセット1!$B806<>\"\",IF($S$1=データセット1!$B806,データセット1!$D806),\"\")","v":""},{"$f":"IF(データセット1!$B806<>\"\",IF($T$1=データセット1!$B806,データセット1!$D806),\"\")","v":""},{"$f":"IF(データセット1!$B806<>\"\",IF($U$1=データセット1!$B806,データセット1!$D806),\"\")","v":""}]
[null,null,null,null,null,null,null,null,null,null,null,null,{"$f":"IF(データセット1!$B807<>\"\",IF($M$1=データセット1!$B807,データセット1!$D807),\"\")","v":""},{"$f":"IF(データセット1!$B807<>\"\",IF($N$1=データセット1!$B807,データセット1!$D807),\"\")","v":""},{"$f":"IF(データセット1!$B807<>\"\",IF($O$1=データセット1!$B807,データセット1!$D807),\"\")","v":""},{"$f":"IF(データセット1!$B807<>\"\",IF($P$1=データセット1!$B807,データセット1!$D807),\"\")","v":""},{"$f":"IF(データセット1!$B807<>\"\",IF($Q$1=データセット1!$B807,データセット1!$D807),\"\")","v":""},{"$f":"IF(データセット1!$B807<>\"\",IF($R$1=データセット1!$B807,データセット1!$D807),\"\")","v":""},{"$f":"IF(データセット1!$B807<>\"\",IF($S$1=データセット1!$B807,データセット1!$D807),\"\")","v":""},{"$f":"IF(データセット1!$B807<>\"\",IF($T$1=データセット1!$B807,データセット1!$D807),\"\")","v":""},{"$f":"IF(データセット1!$B807<>\"\",IF($U$1=データセット1!$B807,データセット1!$D807),\"\")","v":""}]
[null,null,null,null,null,null,null,null,null,null,null,null,{"$f":"IF(データセット1!$B808<>\"\",IF($M$1=データセット1!$B808,データセット1!$D808),\"\")","v":""},{"$f":"IF(データセット1!$B808<>\"\",IF($N$1=データセット1!$B808,データセット1!$D808),\"\")","v":""},{"$f":"IF(データセット1!$B808<>\"\",IF($O$1=データセット1!$B808,データセット1!$D808),\"\")","v":""},{"$f":"IF(データセット1!$B808<>\"\",IF($P$1=データセット1!$B808,データセット1!$D808),\"\")","v":""},{"$f":"IF(データセット1!$B808<>\"\",IF($Q$1=データセット1!$B808,データセット1!$D808),\"\")","v":""},{"$f":"IF(データセット1!$B808<>\"\",IF($R$1=データセット1!$B808,データセット1!$D808),\"\")","v":""},{"$f":"IF(データセット1!$B808<>\"\",IF($S$1=データセット1!$B808,データセット1!$D808),\"\")","v":""},{"$f":"IF(データセット1!$B808<>\"\",IF($T$1=データセット1!$B808,データセット1!$D808),\"\")","v":""},{"$f":"IF(データセット1!$B808<>\"\",IF($U$1=データセット1!$B808,データセット1!$D808),\"\")","v":""}]
[null,null,null,null,null,null,null,null,null,null,null,null,{"$f":"IF(データセット1!$B809<>\"\",IF($M$1=データセット1!$B809,データセット1!$D809),\"\")","v":""},{"$f":"IF(データセット1!$B809<>\"\",IF($N$1=データセット1!$B809,データセット1!$D809),\"\")","v":""},{"$f":"IF(データセット1!$B809<>\"\",IF($O$1=データセット1!$B809,データセット1!$D809),\"\")","v":""},{"$f":"IF(データセット1!$B809<>\"\",IF($P$1=データセット1!$B809,データセット1!$D809),\"\")","v":""},{"$f":"IF(データセット1!$B809<>\"\",IF($Q$1=データセット1!$B809,データセット1!$D809),\"\")","v":""},{"$f":"IF(データセット1!$B809<>\"\",IF($R$1=データセット1!$B809,データセット1!$D809),\"\")","v":""},{"$f":"IF(データセット1!$B809<>\"\",IF($S$1=データセット1!$B809,データセット1!$D809),\"\")","v":""},{"$f":"IF(データセット1!$B809<>\"\",IF($T$1=データセット1!$B809,データセット1!$D809),\"\")","v":""},{"$f":"IF(データセット1!$B809<>\"\",IF($U$1=データセット1!$B809,データセット1!$D809),\"\")","v":""}]
[null,null,null,null,null,null,null,null,null,null,null,null,{"$f":"IF(データセット1!$B810<>\"\",IF($M$1=データセット1!$B810,データセット1!$D810),\"\")","v":""},{"$f":"IF(データセット1!$B810<>\"\",IF($N$1=データセット1!$B810,データセット1!$D810),\"\")","v":""},{"$f":"IF(データセット1!$B810<>\"\",IF($O$1=データセット1!$B810,データセット1!$D810),\"\")","v":""},{"$f":"IF(データセット1!$B810<>\"\",IF($P$1=データセット1!$B810,データセット1!$D810),\"\")","v":""},{"$f":"IF(データセット1!$B810<>\"\",IF($Q$1=データセット1!$B810,データセット1!$D810),\"\")","v":""},{"$f":"IF(データセット1!$B810<>\"\",IF($R$1=データセット1!$B810,データセット1!$D810),\"\")","v":""},{"$f":"IF(データセット1!$B810<>\"\",IF($S$1=データセット1!$B810,データセット1!$D810),\"\")","v":""},{"$f":"IF(データセット1!$B810<>\"\",IF($T$1=データセット1!$B810,データセット1!$D810),\"\")","v":""},{"$f":"IF(データセット1!$B810<>\"\",IF($U$1=データセット1!$B810,データセット1!$D810),\"\")","v":""}]
[null,null,null,null,null,null,null,null,null,null,null,null,{"$f":"IF(データセット1!$B811<>\"\",IF($M$1=データセット1!$B811,データセット1!$D811),\"\")","v":""},{"$f":"IF(データセット1!$B811<>\"\",IF($N$1=データセット1!$B811,データセット1!$D811),\"\")","v":""},{"$f":"IF(データセット1!$B811<>\"\",IF($O$1=データセット1!$B811,データセット1!$D811),\"\")","v":""},{"$f":"IF(データセット1!$B811<>\"\",IF($P$1=データセット1!$B811,データセット1!$D811),\"\")","v":""},{"$f":"IF(データセット1!$B811<>\"\",IF($Q$1=データセット1!$B811,データセット1!$D811),\"\")","v":""},{"$f":"IF(データセット1!$B811<>\"\",IF($R$1=データセット1!$B811,データセット1!$D811),\"\")","v":""},{"$f":"IF(データセット1!$B811<>\"\",IF($S$1=データセット1!$B811,データセット1!$D811),\"\")","v":""},{"$f":"IF(データセット1!$B811<>\"\",IF($T$1=データセット1!$B811,データセット1!$D811),\"\")","v":""},{"$f":"IF(データセット1!$B811<>\"\",IF($U$1=データセット1!$B811,データセット1!$D811),\"\")","v":""}]
[null,null,null,null,null,null,null,null,null,null,null,null,{"$f":"IF(データセット1!$B812<>\"\",IF($M$1=データセット1!$B812,データセット1!$D812),\"\")","v":""},{"$f":"IF(データセット1!$B812<>\"\",IF($N$1=データセット1!$B812,データセット1!$D812),\"\")","v":""},{"$f":"IF(データセット1!$B812<>\"\",IF($O$1=データセット1!$B812,データセット1!$D812),\"\")","v":""},{"$f":"IF(データセット1!$B812<>\"\",IF($P$1=データセット1!$B812,データセット1!$D812),\"\")","v":""},{"$f":"IF(データセット1!$B812<>\"\",IF($Q$1=データセット1!$B812,データセット1!$D812),\"\")","v":""},{"$f":"IF(データセット1!$B812<>\"\",IF($R$1=データセット1!$B812,データセット1!$D812),\"\")","v":""},{"$f":"IF(データセット1!$B812<>\"\",IF($S$1=データセット1!$B812,データセット1!$D812),\"\")","v":""},{"$f":"IF(データセット1!$B812<>\"\",IF($T$1=データセット1!$B812,データセット1!$D812),\"\")","v":""},{"$f":"IF(データセット1!$B812<>\"\",IF($U$1=データセット1!$B812,データセット1!$D812),\"\")","v":""}]
[null,null,null,null,null,null,null,null,null,null,null,null,{"$f":"IF(データセット1!$B813<>\"\",IF($M$1=データセット1!$B813,データセット1!$D813),\"\")","v":""},{"$f":"IF(データセット1!$B813<>\"\",IF($N$1=データセット1!$B813,データセット1!$D813),\"\")","v":""},{"$f":"IF(データセット1!$B813<>\"\",IF($O$1=データセット1!$B813,データセット1!$D813),\"\")","v":""},{"$f":"IF(データセット1!$B813<>\"\",IF($P$1=データセット1!$B813,データセット1!$D813),\"\")","v":""},{"$f":"IF(データセット1!$B813<>\"\",IF($Q$1=データセット1!$B813,データセット1!$D813),\"\")","v":""},{"$f":"IF(データセット1!$B813<>\"\",IF($R$1=データセット1!$B813,データセット1!$D813),\"\")","v":""},{"$f":"IF(データセット1!$B813<>\"\",IF($S$1=データセット1!$B813,データセット1!$D813),\"\")","v":""},{"$f":"IF(データセット1!$B813<>\"\",IF($T$1=データセット1!$B813,データセット1!$D813),\"\")","v":""},{"$f":"IF(データセット1!$B813<>\"\",IF($U$1=データセット1!$B813,データセット1!$D813),\"\")","v":""}]
[null,null,null,null,null,null,null,null,null,null,null,null,{"$f":"IF(データセット1!$B814<>\"\",IF($M$1=データセット1!$B814,データセット1!$D814),\"\")","v":""},{"$f":"IF(データセット1!$B814<>\"\",IF($N$1=データセット1!$B814,データセット1!$D814),\"\")","v":""},{"$f":"IF(データセット1!$B814<>\"\",IF($O$1=データセット1!$B814,データセット1!$D814),\"\")","v":""},{"$f":"IF(データセット1!$B814<>\"\",IF($P$1=データセット1!$B814,データセット1!$D814),\"\")","v":""},{"$f":"IF(データセット1!$B814<>\"\",IF($Q$1=データセット1!$B814,データセット1!$D814),\"\")","v":""},{"$f":"IF(データセット1!$B814<>\"\",IF($R$1=データセット1!$B814,データセット1!$D814),\"\")","v":""},{"$f":"IF(データセット1!$B814<>\"\",IF($S$1=データセット1!$B814,データセット1!$D814),\"\")","v":""},{"$f":"IF(データセット1!$B814<>\"\",IF($T$1=データセット1!$B814,データセット1!$D814),\"\")","v":""},{"$f":"IF(データセット1!$B814<>\"\",IF($U$1=データセット1!$B814,データセット1!$D814),\"\")","v":""}]
[null,null,null,null,null,null,null,null,null,null,null,null,{"$f":"IF(データセット1!$B815<>\"\",IF($M$1=データセット1!$B815,データセット1!$D815),\"\")","v":""},{"$f":"IF(データセット1!$B815<>\"\",IF($N$1=データセット1!$B815,データセット1!$D815),\"\")","v":""},{"$f":"IF(データセット1!$B815<>\"\",IF($O$1=データセット1!$B815,データセット1!$D815),\"\")","v":""},{"$f":"IF(データセット1!$B815<>\"\",IF($P$1=データセット1!$B815,データセット1!$D815),\"\")","v":""},{"$f":"IF(データセット1!$B815<>\"\",IF($Q$1=データセット1!$B815,データセット1!$D815),\"\")","v":""},{"$f":"IF(データセット1!$B815<>\"\",IF($R$1=データセット1!$B815,データセット1!$D815),\"\")","v":""},{"$f":"IF(データセット1!$B815<>\"\",IF($S$1=データセット1!$B815,データセット1!$D815),\"\")","v":""},{"$f":"IF(データセット1!$B815<>\"\",IF($T$1=データセット1!$B815,データセット1!$D815),\"\")","v":""},{"$f":"IF(データセット1!$B815<>\"\",IF($U$1=データセット1!$B815,データセット1!$D815),\"\")","v":""}]
[null,null,null,null,null,null,null,null,null,null,null,null,{"$f":"IF(データセット1!$B816<>\"\",IF($M$1=データセット1!$B816,データセット1!$D816),\"\")","v":""},{"$f":"IF(データセット1!$B816<>\"\",IF($N$1=データセット1!$B816,データセット1!$D816),\"\")","v":""},{"$f":"IF(データセット1!$B816<>\"\",IF($O$1=データセット1!$B816,データセット1!$D816),\"\")","v":""},{"$f":"IF(データセット1!$B816<>\"\",IF($P$1=データセット1!$B816,データセット1!$D816),\"\")","v":""},{"$f":"IF(データセット1!$B816<>\"\",IF($Q$1=データセット1!$B816,データセット1!$D816),\"\")","v":""},{"$f":"IF(データセット1!$B816<>\"\",IF($R$1=データセット1!$B816,データセット1!$D816),\"\")","v":""},{"$f":"IF(データセット1!$B816<>\"\",IF($S$1=データセット1!$B816,データセット1!$D816),\"\")","v":""},{"$f":"IF(データセット1!$B816<>\"\",IF($T$1=データセット1!$B816,データセット1!$D816),\"\")","v":""},{"$f":"IF(データセット1!$B816<>\"\",IF($U$1=データセット1!$B816,データセット1!$D816),\"\")","v":""}]
[null,null,null,null,null,null,null,null,null,null,null,null,{"$f":"IF(データセット1!$B817<>\"\",IF($M$1=データセット1!$B817,データセット1!$D817),\"\")","v":""},{"$f":"IF(データセット1!$B817<>\"\",IF($N$1=データセット1!$B817,データセット1!$D817),\"\")","v":""},{"$f":"IF(データセット1!$B817<>\"\",IF($O$1=データセット1!$B817,データセット1!$D817),\"\")","v":""},{"$f":"IF(データセット1!$B817<>\"\",IF($P$1=データセット1!$B817,データセット1!$D817),\"\")","v":""},{"$f":"IF(データセット1!$B817<>\"\",IF($Q$1=データセット1!$B817,データセット1!$D817),\"\")","v":""},{"$f":"IF(データセット1!$B817<>\"\",IF($R$1=データセット1!$B817,データセット1!$D817),\"\")","v":""},{"$f":"IF(データセット1!$B817<>\"\",IF($S$1=データセット1!$B817,データセット1!$D817),\"\")","v":""},{"$f":"IF(データセット1!$B817<>\"\",IF($T$1=データセット1!$B817,データセット1!$D817),\"\")","v":""},{"$f":"IF(データセット1!$B817<>\"\",IF($U$1=データセット1!$B817,データセット1!$D817),\"\")","v":""}]
[null,null,null,null,null,null,null,null,null,null,null,null,{"$f":"IF(データセット1!$B818<>\"\",IF($M$1=データセット1!$B818,データセット1!$D818),\"\")","v":""},{"$f":"IF(データセット1!$B818<>\"\",IF($N$1=データセット1!$B818,データセット1!$D818),\"\")","v":""},{"$f":"IF(データセット1!$B818<>\"\",IF($O$1=データセット1!$B818,データセット1!$D818),\"\")","v":""},{"$f":"IF(データセット1!$B818<>\"\",IF($P$1=データセット1!$B818,データセット1!$D818),\"\")","v":""},{"$f":"IF(データセット1!$B818<>\"\",IF($Q$1=データセット1!$B818,データセット1!$D818),\"\")","v":""},{"$f":"IF(データセット1!$B818<>\"\",IF($R$1=データセット1!$B818,データセット1!$D818),\"\")","v":""},{"$f":"IF(データセット1!$B818<>\"\",IF($S$1=データセット1!$B818,データセット1!$D818),\"\")","v":""},{"$f":"IF(データセット1!$B818<>\"\",IF($T$1=データセット1!$B818,データセット1!$D818),\"\")","v":""},{"$f":"IF(データセット1!$B818<>\"\",IF($U$1=データセット1!$B818,データセット1!$D818),\"\")","v":""}]
[null,null,null,null,null,null,null,null,null,null,null,null,{"$f":"IF(データセット1!$B819<>\"\",IF($M$1=データセット1!$B819,データセット1!$D819),\"\")","v":""},{"$f":"IF(データセット1!$B819<>\"\",IF($N$1=データセット1!$B819,データセット1!$D819),\"\")","v":""},{"$f":"IF(データセット1!$B819<>\"\",IF($O$1=データセット1!$B819,データセット1!$D819),\"\")","v":""},{"$f":"IF(データセット1!$B819<>\"\",IF($P$1=データセット1!$B819,データセット1!$D819),\"\")","v":""},{"$f":"IF(データセット1!$B819<>\"\",IF($Q$1=データセット1!$B819,データセット1!$D819),\"\")","v":""},{"$f":"IF(データセット1!$B819<>\"\",IF($R$1=データセット1!$B819,データセット1!$D819),\"\")","v":""},{"$f":"IF(データセット1!$B819<>\"\",IF($S$1=データセット1!$B819,データセット1!$D819),\"\")","v":""},{"$f":"IF(データセット1!$B819<>\"\",IF($T$1=データセット1!$B819,データセット1!$D819),\"\")","v":""},{"$f":"IF(データセット1!$B819<>\"\",IF($U$1=データセット1!$B819,データセット1!$D819),\"\")","v":""}]
[null,null,null,null,null,null,null,null,null,null,null,null,{"$f":"IF(データセット1!$B820<>\"\",IF($M$1=データセット1!$B820,データセット1!$D820),\"\")","v":""},{"$f":"IF(データセット1!$B820<>\"\",IF($N$1=データセット1!$B820,データセット1!$D820),\"\")","v":""},{"$f":"IF(データセット1!$B820<>\"\",IF($O$1=データセット1!$B820,データセット1!$D820),\"\")","v":""},{"$f":"IF(データセット1!$B820<>\"\",IF($P$1=データセット1!$B820,データセット1!$D820),\"\")","v":""},{"$f":"IF(データセット1!$B820<>\"\",IF($Q$1=データセット1!$B820,データセット1!$D820),\"\")","v":""},{"$f":"IF(データセット1!$B820<>\"\",IF($R$1=データセット1!$B820,データセット1!$D820),\"\")","v":""},{"$f":"IF(データセット1!$B820<>\"\",IF($S$1=データセット1!$B820,データセット1!$D820),\"\")","v":""},{"$f":"IF(データセット1!$B820<>\"\",IF($T$1=データセット1!$B820,データセット1!$D820),\"\")","v":""},{"$f":"IF(データセット1!$B820<>\"\",IF($U$1=データセット1!$B820,データセット1!$D820),\"\")","v":""}]
[null,null,null,null,null,null,null,null,null,null,null,null,{"$f":"IF(データセット1!$B821<>\"\",IF($M$1=データセット1!$B821,データセット1!$D821),\"\")","v":""},{"$f":"IF(データセット1!$B821<>\"\",IF($N$1=データセット1!$B821,データセット1!$D821),\"\")","v":""},{"$f":"IF(データセット1!$B821<>\"\",IF($O$1=データセット1!$B821,データセット1!$D821),\"\")","v":""},{"$f":"IF(データセット1!$B821<>\"\",IF($P$1=データセット1!$B821,データセット1!$D821),\"\")","v":""},{"$f":"IF(データセット1!$B821<>\"\",IF($Q$1=データセット1!$B821,データセット1!$D821),\"\")","v":""},{"$f":"IF(データセット1!$B821<>\"\",IF($R$1=データセット1!$B821,データセット1!$D821),\"\")","v":""},{"$f":"IF(データセット1!$B821<>\"\",IF($S$1=データセット1!$B821,データセット1!$D821),\"\")","v":""},{"$f":"IF(データセット1!$B821<>\"\",IF($T$1=データセット1!$B821,データセット1!$D821),\"\")","v":""},{"$f":"IF(データセット1!$B821<>\"\",IF($U$1=データセット1!$B821,データセット1!$D821),\"\")","v":""}]
[null,null,null,null,null,null,null,null,null,null,null,null,{"$f":"IF(データセット1!$B822<>\"\",IF($M$1=データセット1!$B822,データセット1!$D822),\"\")","v":""},{"$f":"IF(データセット1!$B822<>\"\",IF($N$1=データセット1!$B822,データセット1!$D822),\"\")","v":""},{"$f":"IF(データセット1!$B822<>\"\",IF($O$1=データセット1!$B822,データセット1!$D822),\"\")","v":""},{"$f":"IF(データセット1!$B822<>\"\",IF($P$1=データセット1!$B822,データセット1!$D822),\"\")","v":""},{"$f":"IF(データセット1!$B822<>\"\",IF($Q$1=データセット1!$B822,データセット1!$D822),\"\")","v":""},{"$f":"IF(データセット1!$B822<>\"\",IF($R$1=データセット1!$B822,データセット1!$D822),\"\")","v":""},{"$f":"IF(データセット1!$B822<>\"\",IF($S$1=データセット1!$B822,データセット1!$D822),\"\")","v":""},{"$f":"IF(データセット1!$B822<>\"\",IF($T$1=データセット1!$B822,データセット1!$D822),\"\")","v":""},{"$f":"IF(データセット1!$B822<>\"\",IF($U$1=データセット1!$B822,データセット1!$D822),\"\")","v":""}]
[null,null,null,null,null,null,null,null,null,null,null,null,{"$f":"IF(データセット1!$B823<>\"\",IF($M$1=データセット1!$B823,データセット1!$D823),\"\")","v":""},{"$f":"IF(データセット1!$B823<>\"\",IF($N$1=データセット1!$B823,データセット1!$D823),\"\")","v":""},{"$f":"IF(データセット1!$B823<>\"\",IF($O$1=データセット1!$B823,データセット1!$D823),\"\")","v":""},{"$f":"IF(データセット1!$B823<>\"\",IF($P$1=データセット1!$B823,データセット1!$D823),\"\")","v":""},{"$f":"IF(データセット1!$B823<>\"\",IF($Q$1=データセット1!$B823,データセット1!$D823),\"\")","v":""},{"$f":"IF(データセット1!$B823<>\"\",IF($R$1=データセット1!$B823,データセット1!$D823),\"\")","v":""},{"$f":"IF(データセット1!$B823<>\"\",IF($S$1=データセット1!$B823,データセット1!$D823),\"\")","v":""},{"$f":"IF(データセット1!$B823<>\"\",IF($T$1=データセット1!$B823,データセット1!$D823),\"\")","v":""},{"$f":"IF(データセット1!$B823<>\"\",IF($U$1=データセット1!$B823,データセット1!$D823),\"\")","v":""}]
[null,null,null,null,null,null,null,null,null,null,null,null,{"$f":"IF(データセット1!$B824<>\"\",IF($M$1=データセット1!$B824,データセット1!$D824),\"\")","v":""},{"$f":"IF(データセット1!$B824<>\"\",IF($N$1=データセット1!$B824,データセット1!$D824),\"\")","v":""},{"$f":"IF(データセット1!$B824<>\"\",IF($O$1=データセット1!$B824,データセット1!$D824),\"\")","v":""},{"$f":"IF(データセット1!$B824<>\"\",IF($P$1=データセット1!$B824,データセット1!$D824),\"\")","v":""},{"$f":"IF(データセット1!$B824<>\"\",IF($Q$1=データセット1!$B824,データセット1!$D824),\"\")","v":""},{"$f":"IF(データセット1!$B824<>\"\",IF($R$1=データセット1!$B824,データセット1!$D824),\"\")","v":""},{"$f":"IF(データセット1!$B824<>\"\",IF($S$1=データセット1!$B824,データセット1!$D824),\"\")","v":""},{"$f":"IF(データセット1!$B824<>\"\",IF($T$1=データセット1!$B824,データセット1!$D824),\"\")","v":""},{"$f":"IF(データセット1!$B824<>\"\",IF($U$1=データセット1!$B824,データセット1!$D824),\"\")","v":""}]
[null,null,null,null,null,null,null,null,null,null,null,null,{"$f":"IF(データセット1!$B825<>\"\",IF($M$1=データセット1!$B825,データセット1!$D825),\"\")","v":""},{"$f":"IF(データセット1!$B825<>\"\",IF($N$1=データセット1!$B825,データセット1!$D825),\"\")","v":""},{"$f":"IF(データセット1!$B825<>\"\",IF($O$1=データセット1!$B825,データセット1!$D825),\"\")","v":""},{"$f":"IF(データセット1!$B825<>\"\",IF($P$1=データセット1!$B825,データセット1!$D825),\"\")","v":""},{"$f":"IF(データセット1!$B825<>\"\",IF($Q$1=データセット1!$B825,データセット1!$D825),\"\")","v":""},{"$f":"IF(データセット1!$B825<>\"\",IF($R$1=データセット1!$B825,データセット1!$D825),\"\")","v":""},{"$f":"IF(データセット1!$B825<>\"\",IF($S$1=データセット1!$B825,データセット1!$D825),\"\")","v":""},{"$f":"IF(データセット1!$B825<>\"\",IF($T$1=データセット1!$B825,データセット1!$D825),\"\")","v":""},{"$f":"IF(データセット1!$B825<>\"\",IF($U$1=データセット1!$B825,データセット1!$D825),\"\")","v":""}]
[null,null,null,null,null,null,null,null,null,null,null,null,{"$f":"IF(データセット1!$B826<>\"\",IF($M$1=データセット1!$B826,データセット1!$D826),\"\")","v":""},{"$f":"IF(データセット1!$B826<>\"\",IF($N$1=データセット1!$B826,データセット1!$D826),\"\")","v":""},{"$f":"IF(データセット1!$B826<>\"\",IF($O$1=データセット1!$B826,データセット1!$D826),\"\")","v":""},{"$f":"IF(データセット1!$B826<>\"\",IF($P$1=データセット1!$B826,データセット1!$D826),\"\")","v":""},{"$f":"IF(データセット1!$B826<>\"\",IF($Q$1=データセット1!$B826,データセット1!$D826),\"\")","v":""},{"$f":"IF(データセット1!$B826<>\"\",IF($R$1=データセット1!$B826,データセット1!$D826),\"\")","v":""},{"$f":"IF(データセット1!$B826<>\"\",IF($S$1=データセット1!$B826,データセット1!$D826),\"\")","v":""},{"$f":"IF(データセット1!$B826<>\"\",IF($T$1=データセット1!$B826,データセット1!$D826),\"\")","v":""},{"$f":"IF(データセット1!$B826<>\"\",IF($U$1=データセット1!$B826,データセット1!$D826),\"\")","v":""}]
[null,null,null,null,null,null,null,null,null,null,null,null,{"$f":"IF(データセット1!$B827<>\"\",IF($M$1=データセット1!$B827,データセット1!$D827),\"\")","v":""},{"$f":"IF(データセット1!$B827<>\"\",IF($N$1=データセット1!$B827,データセット1!$D827),\"\")","v":""},{"$f":"IF(データセット1!$B827<>\"\",IF($O$1=データセット1!$B827,データセット1!$D827),\"\")","v":""},{"$f":"IF(データセット1!$B827<>\"\",IF($P$1=データセット1!$B827,データセット1!$D827),\"\")","v":""},{"$f":"IF(データセット1!$B827<>\"\",IF($Q$1=データセット1!$B827,データセット1!$D827),\"\")","v":""},{"$f":"IF(データセット1!$B827<>\"\",IF($R$1=データセット1!$B827,データセット1!$D827),\"\")","v":""},{"$f":"IF(データセット1!$B827<>\"\",IF($S$1=データセット1!$B827,データセット1!$D827),\"\")","v":""},{"$f":"IF(データセット1!$B827<>\"\",IF($T$1=データセット1!$B827,データセット1!$D827),\"\")","v":""},{"$f":"IF(データセット1!$B827<>\"\",IF($U$1=データセット1!$B827,データセット1!$D827),\"\")","v":""}]
[null,null,null,null,null,null,null,null,null,null,null,null,{"$f":"IF(データセット1!$B828<>\"\",IF($M$1=データセット1!$B828,データセット1!$D828),\"\")","v":""},{"$f":"IF(データセット1!$B828<>\"\",IF($N$1=データセット1!$B828,データセット1!$D828),\"\")","v":""},{"$f":"IF(データセット1!$B828<>\"\",IF($O$1=データセット1!$B828,データセット1!$D828),\"\")","v":""},{"$f":"IF(データセット1!$B828<>\"\",IF($P$1=データセット1!$B828,データセット1!$D828),\"\")","v":""},{"$f":"IF(データセット1!$B828<>\"\",IF($Q$1=データセット1!$B828,データセット1!$D828),\"\")","v":""},{"$f":"IF(データセット1!$B828<>\"\",IF($R$1=データセット1!$B828,データセット1!$D828),\"\")","v":""},{"$f":"IF(データセット1!$B828<>\"\",IF($S$1=データセット1!$B828,データセット1!$D828),\"\")","v":""},{"$f":"IF(データセット1!$B828<>\"\",IF($T$1=データセット1!$B828,データセット1!$D828),\"\")","v":""},{"$f":"IF(データセット1!$B828<>\"\",IF($U$1=データセット1!$B828,データセット1!$D828),\"\")","v":""}]
[null,null,null,null,null,null,null,null,null,null,null,null,{"$f":"IF(データセット1!$B829<>\"\",IF($M$1=データセット1!$B829,データセット1!$D829),\"\")","v":""},{"$f":"IF(データセット1!$B829<>\"\",IF($N$1=データセット1!$B829,データセット1!$D829),\"\")","v":""},{"$f":"IF(データセット1!$B829<>\"\",IF($O$1=データセット1!$B829,データセット1!$D829),\"\")","v":""},{"$f":"IF(データセット1!$B829<>\"\",IF($P$1=データセット1!$B829,データセット1!$D829),\"\")","v":""},{"$f":"IF(データセット1!$B829<>\"\",IF($Q$1=データセット1!$B829,データセット1!$D829),\"\")","v":""},{"$f":"IF(データセット1!$B829<>\"\",IF($R$1=データセット1!$B829,データセット1!$D829),\"\")","v":""},{"$f":"IF(データセット1!$B829<>\"\",IF($S$1=データセット1!$B829,データセット1!$D829),\"\")","v":""},{"$f":"IF(データセット1!$B829<>\"\",IF($T$1=データセット1!$B829,データセット1!$D829),\"\")","v":""},{"$f":"IF(データセット1!$B829<>\"\",IF($U$1=データセット1!$B829,データセット1!$D829),\"\")","v":""}]
[null,null,null,null,null,null,null,null,null,null,null,null,{"$f":"IF(データセット1!$B830<>\"\",IF($M$1=データセット1!$B830,データセット1!$D830),\"\")","v":""},{"$f":"IF(データセット1!$B830<>\"\",IF($N$1=データセット1!$B830,データセット1!$D830),\"\")","v":""},{"$f":"IF(データセット1!$B830<>\"\",IF($O$1=データセット1!$B830,データセット1!$D830),\"\")","v":""},{"$f":"IF(データセット1!$B830<>\"\",IF($P$1=データセット1!$B830,データセット1!$D830),\"\")","v":""},{"$f":"IF(データセット1!$B830<>\"\",IF($Q$1=データセット1!$B830,データセット1!$D830),\"\")","v":""},{"$f":"IF(データセット1!$B830<>\"\",IF($R$1=データセット1!$B830,データセット1!$D830),\"\")","v":""},{"$f":"IF(データセット1!$B830<>\"\",IF($S$1=データセット1!$B830,データセット1!$D830),\"\")","v":""},{"$f":"IF(データセット1!$B830<>\"\",IF($T$1=データセット1!$B830,データセット1!$D830),\"\")","v":""},{"$f":"IF(データセット1!$B830<>\"\",IF($U$1=データセット1!$B830,データセット1!$D830),\"\")","v":""}]
[null,null,null,null,null,null,null,null,null,null,null,null,{"$f":"IF(データセット1!$B831<>\"\",IF($M$1=データセット1!$B831,データセット1!$D831),\"\")","v":""},{"$f":"IF(データセット1!$B831<>\"\",IF($N$1=データセット1!$B831,データセット1!$D831),\"\")","v":""},{"$f":"IF(データセット1!$B831<>\"\",IF($O$1=データセット1!$B831,データセット1!$D831),\"\")","v":""},{"$f":"IF(データセット1!$B831<>\"\",IF($P$1=データセット1!$B831,データセット1!$D831),\"\")","v":""},{"$f":"IF(データセット1!$B831<>\"\",IF($Q$1=データセット1!$B831,データセット1!$D831),\"\")","v":""},{"$f":"IF(データセット1!$B831<>\"\",IF($R$1=データセット1!$B831,データセット1!$D831),\"\")","v":""},{"$f":"IF(データセット1!$B831<>\"\",IF($S$1=データセット1!$B831,データセット1!$D831),\"\")","v":""},{"$f":"IF(データセット1!$B831<>\"\",IF($T$1=データセット1!$B831,データセット1!$D831),\"\")","v":""},{"$f":"IF(データセット1!$B831<>\"\",IF($U$1=データセット1!$B831,データセット1!$D831),\"\")","v":""}]
[null,null,null,null,null,null,null,null,null,null,null,null,{"$f":"IF(データセット1!$B832<>\"\",IF($M$1=データセット1!$B832,データセット1!$D832),\"\")","v":""},{"$f":"IF(データセット1!$B832<>\"\",IF($N$1=データセット1!$B832,データセット1!$D832),\"\")","v":""},{"$f":"IF(データセット1!$B832<>\"\",IF($O$1=データセット1!$B832,データセット1!$D832),\"\")","v":""},{"$f":"IF(データセット1!$B832<>\"\",IF($P$1=データセット1!$B832,データセット1!$D832),\"\")","v":""},{"$f":"IF(データセット1!$B832<>\"\",IF($Q$1=データセット1!$B832,データセット1!$D832),\"\")","v":""},{"$f":"IF(データセット1!$B832<>\"\",IF($R$1=データセット1!$B832,データセット1!$D832),\"\")","v":""},{"$f":"IF(データセット1!$B832<>\"\",IF($S$1=データセット1!$B832,データセット1!$D832),\"\")","v":""},{"$f":"IF(データセット1!$B832<>\"\",IF($T$1=データセット1!$B832,データセット1!$D832),\"\")","v":""},{"$f":"IF(データセット1!$B832<>\"\",IF($U$1=データセット1!$B832,データセット1!$D832),\"\")","v":""}]
[null,null,null,null,null,null,null,null,null,null,null,null,{"$f":"IF(データセット1!$B833<>\"\",IF($M$1=データセット1!$B833,データセット1!$D833),\"\")","v":""},{"$f":"IF(データセット1!$B833<>\"\",IF($N$1=データセット1!$B833,データセット1!$D833),\"\")","v":""},{"$f":"IF(データセット1!$B833<>\"\",IF($O$1=データセット1!$B833,データセット1!$D833),\"\")","v":""},{"$f":"IF(データセット1!$B833<>\"\",IF($P$1=データセット1!$B833,データセット1!$D833),\"\")","v":""},{"$f":"IF(データセット1!$B833<>\"\",IF($Q$1=データセット1!$B833,データセット1!$D833),\"\")","v":""},{"$f":"IF(データセット1!$B833<>\"\",IF($R$1=データセット1!$B833,データセット1!$D833),\"\")","v":""},{"$f":"IF(データセット1!$B833<>\"\",IF($S$1=データセット1!$B833,データセット1!$D833),\"\")","v":""},{"$f":"IF(データセット1!$B833<>\"\",IF($T$1=データセット1!$B833,データセット1!$D833),\"\")","v":""},{"$f":"IF(データセット1!$B833<>\"\",IF($U$1=データセット1!$B833,データセット1!$D833),\"\")","v":""}]
[null,null,null,null,null,null,null,null,null,null,null,null,{"$f":"IF(データセット1!$B834<>\"\",IF($M$1=データセット1!$B834,データセット1!$D834),\"\")","v":""},{"$f":"IF(データセット1!$B834<>\"\",IF($N$1=データセット1!$B834,データセット1!$D834),\"\")","v":""},{"$f":"IF(データセット1!$B834<>\"\",IF($O$1=データセット1!$B834,データセット1!$D834),\"\")","v":""},{"$f":"IF(データセット1!$B834<>\"\",IF($P$1=データセット1!$B834,データセット1!$D834),\"\")","v":""},{"$f":"IF(データセット1!$B834<>\"\",IF($Q$1=データセット1!$B834,データセット1!$D834),\"\")","v":""},{"$f":"IF(データセット1!$B834<>\"\",IF($R$1=データセット1!$B834,データセット1!$D834),\"\")","v":""},{"$f":"IF(データセット1!$B834<>\"\",IF($S$1=データセット1!$B834,データセット1!$D834),\"\")","v":""},{"$f":"IF(データセット1!$B834<>\"\",IF($T$1=データセット1!$B834,データセット1!$D834),\"\")","v":""},{"$f":"IF(データセット1!$B834<>\"\",IF($U$1=データセット1!$B834,データセット1!$D834),\"\")","v":""}]
[null,null,null,null,null,null,null,null,null,null,null,null,{"$f":"IF(データセット1!$B835<>\"\",IF($M$1=データセット1!$B835,データセット1!$D835),\"\")","v":""},{"$f":"IF(データセット1!$B835<>\"\",IF($N$1=データセット1!$B835,データセット1!$D835),\"\")","v":""},{"$f":"IF(データセット1!$B835<>\"\",IF($O$1=データセット1!$B835,データセット1!$D835),\"\")","v":""},{"$f":"IF(データセット1!$B835<>\"\",IF($P$1=データセット1!$B835,データセット1!$D835),\"\")","v":""},{"$f":"IF(データセット1!$B835<>\"\",IF($Q$1=データセット1!$B835,データセット1!$D835),\"\")","v":""},{"$f":"IF(データセット1!$B835<>\"\",IF($R$1=データセット1!$B835,データセット1!$D835),\"\")","v":""},{"$f":"IF(データセット1!$B835<>\"\",IF($S$1=データセット1!$B835,データセット1!$D835),\"\")","v":""},{"$f":"IF(データセット1!$B835<>\"\",IF($T$1=データセット1!$B835,データセット1!$D835),\"\")","v":""},{"$f":"IF(データセット1!$B835<>\"\",IF($U$1=データセット1!$B835,データセット1!$D835),\"\")","v":""}]
[null,null,null,null,null,null,null,null,null,null,null,null,{"$f":"IF(データセット1!$B836<>\"\",IF($M$1=データセット1!$B836,データセット1!$D836),\"\")","v":""},{"$f":"IF(データセット1!$B836<>\"\",IF($N$1=データセット1!$B836,データセット1!$D836),\"\")","v":""},{"$f":"IF(データセット1!$B836<>\"\",IF($O$1=データセット1!$B836,データセット1!$D836),\"\")","v":""},{"$f":"IF(データセット1!$B836<>\"\",IF($P$1=データセット1!$B836,データセット1!$D836),\"\")","v":""},{"$f":"IF(データセット1!$B836<>\"\",IF($Q$1=データセット1!$B836,データセット1!$D836),\"\")","v":""},{"$f":"IF(データセット1!$B836<>\"\",IF($R$1=データセット1!$B836,データセット1!$D836),\"\")","v":""},{"$f":"IF(データセット1!$B836<>\"\",IF($S$1=データセット1!$B836,データセット1!$D836),\"\")","v":""},{"$f":"IF(データセット1!$B836<>\"\",IF($T$1=データセット1!$B836,データセット1!$D836),\"\")","v":""},{"$f":"IF(データセット1!$B836<>\"\",IF($U$1=データセット1!$B836,データセット1!$D836),\"\")","v":""}]
[null,null,null,null,null,null,null,null,null,null,null,null,{"$f":"IF(データセット1!$B837<>\"\",IF($M$1=データセット1!$B837,データセット1!$D837),\"\")","v":""},{"$f":"IF(データセット1!$B837<>\"\",IF($N$1=データセット1!$B837,データセット1!$D837),\"\")","v":""},{"$f":"IF(データセット1!$B837<>\"\",IF($O$1=データセット1!$B837,データセット1!$D837),\"\")","v":""},{"$f":"IF(データセット1!$B837<>\"\",IF($P$1=データセット1!$B837,データセット1!$D837),\"\")","v":""},{"$f":"IF(データセット1!$B837<>\"\",IF($Q$1=データセット1!$B837,データセット1!$D837),\"\")","v":""},{"$f":"IF(データセット1!$B837<>\"\",IF($R$1=データセット1!$B837,データセット1!$D837),\"\")","v":""},{"$f":"IF(データセット1!$B837<>\"\",IF($S$1=データセット1!$B837,データセット1!$D837),\"\")","v":""},{"$f":"IF(データセット1!$B837<>\"\",IF($T$1=データセット1!$B837,データセット1!$D837),\"\")","v":""},{"$f":"IF(データセット1!$B837<>\"\",IF($U$1=データセット1!$B837,データセット1!$D837),\"\")","v":""}]
[null,null,null,null,null,null,null,null,null,null,null,null,{"$f":"IF(データセット1!$B838<>\"\",IF($M$1=データセット1!$B838,データセット1!$D838),\"\")","v":""},{"$f":"IF(データセット1!$B838<>\"\",IF($N$1=データセット1!$B838,データセット1!$D838),\"\")","v":""},{"$f":"IF(データセット1!$B838<>\"\",IF($O$1=データセット1!$B838,データセット1!$D838),\"\")","v":""},{"$f":"IF(データセット1!$B838<>\"\",IF($P$1=データセット1!$B838,データセット1!$D838),\"\")","v":""},{"$f":"IF(データセット1!$B838<>\"\",IF($Q$1=データセット1!$B838,データセット1!$D838),\"\")","v":""},{"$f":"IF(データセット1!$B838<>\"\",IF($R$1=データセット1!$B838,データセット1!$D838),\"\")","v":""},{"$f":"IF(データセット1!$B838<>\"\",IF($S$1=データセット1!$B838,データセット1!$D838),\"\")","v":""},{"$f":"IF(データセット1!$B838<>\"\",IF($T$1=データセット1!$B838,データセット1!$D838),\"\")","v":""},{"$f":"IF(データセット1!$B838<>\"\",IF($U$1=データセット1!$B838,データセット1!$D838),\"\")","v":""}]
[null,null,null,null,null,null,null,null,null,null,null,null,{"$f":"IF(データセット1!$B839<>\"\",IF($M$1=データセット1!$B839,データセット1!$D839),\"\")","v":""},{"$f":"IF(データセット1!$B839<>\"\",IF($N$1=データセット1!$B839,データセット1!$D839),\"\")","v":""},{"$f":"IF(データセット1!$B839<>\"\",IF($O$1=データセット1!$B839,データセット1!$D839),\"\")","v":""},{"$f":"IF(データセット1!$B839<>\"\",IF($P$1=データセット1!$B839,データセット1!$D839),\"\")","v":""},{"$f":"IF(データセット1!$B839<>\"\",IF($Q$1=データセット1!$B839,データセット1!$D839),\"\")","v":""},{"$f":"IF(データセット1!$B839<>\"\",IF($R$1=データセット1!$B839,データセット1!$D839),\"\")","v":""},{"$f":"IF(データセット1!$B839<>\"\",IF($S$1=データセット1!$B839,データセット1!$D839),\"\")","v":""},{"$f":"IF(データセット1!$B839<>\"\",IF($T$1=データセット1!$B839,データセット1!$D839),\"\")","v":""},{"$f":"IF(データセット1!$B839<>\"\",IF($U$1=データセット1!$B839,データセット1!$D839),\"\")","v":""}]
[null,null,null,null,null,null,null,null,null,null,null,null,{"$f":"IF(データセット1!$B840<>\"\",IF($M$1=データセット1!$B840,データセット1!$D840),\"\")","v":""},{"$f":"IF(データセット1!$B840<>\"\",IF($N$1=データセット1!$B840,データセット1!$D840),\"\")","v":""},{"$f":"IF(データセット1!$B840<>\"\",IF($O$1=データセット1!$B840,データセット1!$D840),\"\")","v":""},{"$f":"IF(データセット1!$B840<>\"\",IF($P$1=データセット1!$B840,データセット1!$D840),\"\")","v":""},{"$f":"IF(データセット1!$B840<>\"\",IF($Q$1=データセット1!$B840,データセット1!$D840),\"\")","v":""},{"$f":"IF(データセット1!$B840<>\"\",IF($R$1=データセット1!$B840,データセット1!$D840),\"\")","v":""},{"$f":"IF(データセット1!$B840<>\"\",IF($S$1=データセット1!$B840,データセット1!$D840),\"\")","v":""},{"$f":"IF(データセット1!$B840<>\"\",IF($T$1=データセット1!$B840,データセット1!$D840),\"\")","v":""},{"$f":"IF(データセット1!$B840<>\"\",IF($U$1=データセット1!$B840,データセット1!$D840),\"\")","v":""}]
[null,null,null,null,null,null,null,null,null,null,null,null,{"$f":"IF(データセット1!$B841<>\"\",IF($M$1=データセット1!$B841,データセット1!$D841),\"\")","v":""},{"$f":"IF(データセット1!$B841<>\"\",IF($N$1=データセット1!$B841,データセット1!$D841),\"\")","v":""},{"$f":"IF(データセット1!$B841<>\"\",IF($O$1=データセット1!$B841,データセット1!$D841),\"\")","v":""},{"$f":"IF(データセット1!$B841<>\"\",IF($P$1=データセット1!$B841,データセット1!$D841),\"\")","v":""},{"$f":"IF(データセット1!$B841<>\"\",IF($Q$1=データセット1!$B841,データセット1!$D841),\"\")","v":""},{"$f":"IF(データセット1!$B841<>\"\",IF($R$1=データセット1!$B841,データセット1!$D841),\"\")","v":""},{"$f":"IF(データセット1!$B841<>\"\",IF($S$1=データセット1!$B841,データセット1!$D841),\"\")","v":""},{"$f":"IF(データセット1!$B841<>\"\",IF($T$1=データセット1!$B841,データセット1!$D841),\"\")","v":""},{"$f":"IF(データセット1!$B841<>\"\",IF($U$1=データセット1!$B841,データセット1!$D841),\"\")","v":""}]
[null,null,null,null,null,null,null,null,null,null,null,null,{"$f":"IF(データセット1!$B842<>\"\",IF($M$1=データセット1!$B842,データセット1!$D842),\"\")","v":""},{"$f":"IF(データセット1!$B842<>\"\",IF($N$1=データセット1!$B842,データセット1!$D842),\"\")","v":""},{"$f":"IF(データセット1!$B842<>\"\",IF($O$1=データセット1!$B842,データセット1!$D842),\"\")","v":""},{"$f":"IF(データセット1!$B842<>\"\",IF($P$1=データセット1!$B842,データセット1!$D842),\"\")","v":""},{"$f":"IF(データセット1!$B842<>\"\",IF($Q$1=データセット1!$B842,データセット1!$D842),\"\")","v":""},{"$f":"IF(データセット1!$B842<>\"\",IF($R$1=データセット1!$B842,データセット1!$D842),\"\")","v":""},{"$f":"IF(データセット1!$B842<>\"\",IF($S$1=データセット1!$B842,データセット1!$D842),\"\")","v":""},{"$f":"IF(データセット1!$B842<>\"\",IF($T$1=データセット1!$B842,データセット1!$D842),\"\")","v":""},{"$f":"IF(データセット1!$B842<>\"\",IF($U$1=データセット1!$B842,データセット1!$D842),\"\")","v":""}]
[null,null,null,null,null,null,null,null,null,null,null,null,{"$f":"IF(データセット1!$B843<>\"\",IF($M$1=データセット1!$B843,データセット1!$D843),\"\")","v":""},{"$f":"IF(データセット1!$B843<>\"\",IF($N$1=データセット1!$B843,データセット1!$D843),\"\")","v":""},{"$f":"IF(データセット1!$B843<>\"\",IF($O$1=データセット1!$B843,データセット1!$D843),\"\")","v":""},{"$f":"IF(データセット1!$B843<>\"\",IF($P$1=データセット1!$B843,データセット1!$D843),\"\")","v":""},{"$f":"IF(データセット1!$B843<>\"\",IF($Q$1=データセット1!$B843,データセット1!$D843),\"\")","v":""},{"$f":"IF(データセット1!$B843<>\"\",IF($R$1=データセット1!$B843,データセット1!$D843),\"\")","v":""},{"$f":"IF(データセット1!$B843<>\"\",IF($S$1=データセット1!$B843,データセット1!$D843),\"\")","v":""},{"$f":"IF(データセット1!$B843<>\"\",IF($T$1=データセット1!$B843,データセット1!$D843),\"\")","v":""},{"$f":"IF(データセット1!$B843<>\"\",IF($U$1=データセット1!$B843,データセット1!$D843),\"\")","v":""}]
[null,null,null,null,null,null,null,null,null,null,null,null,{"$f":"IF(データセット1!$B844<>\"\",IF($M$1=データセット1!$B844,データセット1!$D844),\"\")","v":""},{"$f":"IF(データセット1!$B844<>\"\",IF($N$1=データセット1!$B844,データセット1!$D844),\"\")","v":""},{"$f":"IF(データセット1!$B844<>\"\",IF($O$1=データセット1!$B844,データセット1!$D844),\"\")","v":""},{"$f":"IF(データセット1!$B844<>\"\",IF($P$1=データセット1!$B844,データセット1!$D844),\"\")","v":""},{"$f":"IF(データセット1!$B844<>\"\",IF($Q$1=データセット1!$B844,データセット1!$D844),\"\")","v":""},{"$f":"IF(データセット1!$B844<>\"\",IF($R$1=データセット1!$B844,データセット1!$D844),\"\")","v":""},{"$f":"IF(データセット1!$B844<>\"\",IF($S$1=データセット1!$B844,データセット1!$D844),\"\")","v":""},{"$f":"IF(データセット1!$B844<>\"\",IF($T$1=データセット1!$B844,データセット1!$D844),\"\")","v":""},{"$f":"IF(データセット1!$B844<>\"\",IF($U$1=データセット1!$B844,データセット1!$D844),\"\")","v":""}]
[null,null,null,null,null,null,null,null,null,null,null,null,{"$f":"IF(データセット1!$B845<>\"\",IF($M$1=データセット1!$B845,データセット1!$D845),\"\")","v":""},{"$f":"IF(データセット1!$B845<>\"\",IF($N$1=データセット1!$B845,データセット1!$D845),\"\")","v":""},{"$f":"IF(データセット1!$B845<>\"\",IF($O$1=データセット1!$B845,データセット1!$D845),\"\")","v":""},{"$f":"IF(データセット1!$B845<>\"\",IF($P$1=データセット1!$B845,データセット1!$D845),\"\")","v":""},{"$f":"IF(データセット1!$B845<>\"\",IF($Q$1=データセット1!$B845,データセット1!$D845),\"\")","v":""},{"$f":"IF(データセット1!$B845<>\"\",IF($R$1=データセット1!$B845,データセット1!$D845),\"\")","v":""},{"$f":"IF(データセット1!$B845<>\"\",IF($S$1=データセット1!$B845,データセット1!$D845),\"\")","v":""},{"$f":"IF(データセット1!$B845<>\"\",IF($T$1=データセット1!$B845,データセット1!$D845),\"\")","v":""},{"$f":"IF(データセット1!$B845<>\"\",IF($U$1=データセット1!$B845,データセット1!$D845),\"\")","v":""}]
[null,null,null,null,null,null,null,null,null,null,null,null,{"$f":"IF(データセット1!$B846<>\"\",IF($M$1=データセット1!$B846,データセット1!$D846),\"\")","v":""},{"$f":"IF(データセット1!$B846<>\"\",IF($N$1=データセット1!$B846,データセット1!$D846),\"\")","v":""},{"$f":"IF(データセット1!$B846<>\"\",IF($O$1=データセット1!$B846,データセット1!$D846),\"\")","v":""},{"$f":"IF(データセット1!$B846<>\"\",IF($P$1=データセット1!$B846,データセット1!$D846),\"\")","v":""},{"$f":"IF(データセット1!$B846<>\"\",IF($Q$1=データセット1!$B846,データセット1!$D846),\"\")","v":""},{"$f":"IF(データセット1!$B846<>\"\",IF($R$1=データセット1!$B846,データセット1!$D846),\"\")","v":""},{"$f":"IF(データセット1!$B846<>\"\",IF($S$1=データセット1!$B846,データセット1!$D846),\"\")","v":""},{"$f":"IF(データセット1!$B846<>\"\",IF($T$1=データセット1!$B846,データセット1!$D846),\"\")","v":""},{"$f":"IF(データセット1!$B846<>\"\",IF($U$1=データセット1!$B846,データセット1!$D846),\"\")","v":""}]
[null,null,null,null,null,null,null,null,null,null,null,null,{"$f":"IF(データセット1!$B847<>\"\",IF($M$1=データセット1!$B847,データセット1!$D847),\"\")","v":""},{"$f":"IF(データセット1!$B847<>\"\",IF($N$1=データセット1!$B847,データセット1!$D847),\"\")","v":""},{"$f":"IF(データセット1!$B847<>\"\",IF($O$1=データセット1!$B847,データセット1!$D847),\"\")","v":""},{"$f":"IF(データセット1!$B847<>\"\",IF($P$1=データセット1!$B847,データセット1!$D847),\"\")","v":""},{"$f":"IF(データセット1!$B847<>\"\",IF($Q$1=データセット1!$B847,データセット1!$D847),\"\")","v":""},{"$f":"IF(データセット1!$B847<>\"\",IF($R$1=データセット1!$B847,データセット1!$D847),\"\")","v":""},{"$f":"IF(データセット1!$B847<>\"\",IF($S$1=データセット1!$B847,データセット1!$D847),\"\")","v":""},{"$f":"IF(データセット1!$B847<>\"\",IF($T$1=データセット1!$B847,データセット1!$D847),\"\")","v":""},{"$f":"IF(データセット1!$B847<>\"\",IF($U$1=データセット1!$B847,データセット1!$D847),\"\")","v":""}]
[null,null,null,null,null,null,null,null,null,null,null,null,{"$f":"IF(データセット1!$B848<>\"\",IF($M$1=データセット1!$B848,データセット1!$D848),\"\")","v":""},{"$f":"IF(データセット1!$B848<>\"\",IF($N$1=データセット1!$B848,データセット1!$D848),\"\")","v":""},{"$f":"IF(データセット1!$B848<>\"\",IF($O$1=データセット1!$B848,データセット1!$D848),\"\")","v":""},{"$f":"IF(データセット1!$B848<>\"\",IF($P$1=データセット1!$B848,データセット1!$D848),\"\")","v":""},{"$f":"IF(データセット1!$B848<>\"\",IF($Q$1=データセット1!$B848,データセット1!$D848),\"\")","v":""},{"$f":"IF(データセット1!$B848<>\"\",IF($R$1=データセット1!$B848,データセット1!$D848),\"\")","v":""},{"$f":"IF(データセット1!$B848<>\"\",IF($S$1=データセット1!$B848,データセット1!$D848),\"\")","v":""},{"$f":"IF(データセット1!$B848<>\"\",IF($T$1=データセット1!$B848,データセット1!$D848),\"\")","v":""},{"$f":"IF(データセット1!$B848<>\"\",IF($U$1=データセット1!$B848,データセット1!$D848),\"\")","v":""}]
[null,null,null,null,null,null,null,null,null,null,null,null,{"$f":"IF(データセット1!$B849<>\"\",IF($M$1=データセット1!$B849,データセット1!$D849),\"\")","v":""},{"$f":"IF(データセット1!$B849<>\"\",IF($N$1=データセット1!$B849,データセット1!$D849),\"\")","v":""},{"$f":"IF(データセット1!$B849<>\"\",IF($O$1=データセット1!$B849,データセット1!$D849),\"\")","v":""},{"$f":"IF(データセット1!$B849<>\"\",IF($P$1=データセット1!$B849,データセット1!$D849),\"\")","v":""},{"$f":"IF(データセット1!$B849<>\"\",IF($Q$1=データセット1!$B849,データセット1!$D849),\"\")","v":""},{"$f":"IF(データセット1!$B849<>\"\",IF($R$1=データセット1!$B849,データセット1!$D849),\"\")","v":""},{"$f":"IF(データセット1!$B849<>\"\",IF($S$1=データセット1!$B849,データセット1!$D849),\"\")","v":""},{"$f":"IF(データセット1!$B849<>\"\",IF($T$1=データセット1!$B849,データセット1!$D849),\"\")","v":""},{"$f":"IF(データセット1!$B849<>\"\",IF($U$1=データセット1!$B849,データセット1!$D849),\"\")","v":""}]
[null,null,null,null,null,null,null,null,null,null,null,null,{"$f":"IF(データセット1!$B850<>\"\",IF($M$1=データセット1!$B850,データセット1!$D850),\"\")","v":""},{"$f":"IF(データセット1!$B850<>\"\",IF($N$1=データセット1!$B850,データセット1!$D850),\"\")","v":""},{"$f":"IF(データセット1!$B850<>\"\",IF($O$1=データセット1!$B850,データセット1!$D850),\"\")","v":""},{"$f":"IF(データセット1!$B850<>\"\",IF($P$1=データセット1!$B850,データセット1!$D850),\"\")","v":""},{"$f":"IF(データセット1!$B850<>\"\",IF($Q$1=データセット1!$B850,データセット1!$D850),\"\")","v":""},{"$f":"IF(データセット1!$B850<>\"\",IF($R$1=データセット1!$B850,データセット1!$D850),\"\")","v":""},{"$f":"IF(データセット1!$B850<>\"\",IF($S$1=データセット1!$B850,データセット1!$D850),\"\")","v":""},{"$f":"IF(データセット1!$B850<>\"\",IF($T$1=データセット1!$B850,データセット1!$D850),\"\")","v":""},{"$f":"IF(データセット1!$B850<>\"\",IF($U$1=データセット1!$B850,データセット1!$D850),\"\")","v":""}]
[null,null,null,null,null,null,null,null,null,null,null,null,{"$f":"IF(データセット1!$B851<>\"\",IF($M$1=データセット1!$B851,データセット1!$D851),\"\")","v":""},{"$f":"IF(データセット1!$B851<>\"\",IF($N$1=データセット1!$B851,データセット1!$D851),\"\")","v":""},{"$f":"IF(データセット1!$B851<>\"\",IF($O$1=データセット1!$B851,データセット1!$D851),\"\")","v":""},{"$f":"IF(データセット1!$B851<>\"\",IF($P$1=データセット1!$B851,データセット1!$D851),\"\")","v":""},{"$f":"IF(データセット1!$B851<>\"\",IF($Q$1=データセット1!$B851,データセット1!$D851),\"\")","v":""},{"$f":"IF(データセット1!$B851<>\"\",IF($R$1=データセット1!$B851,データセット1!$D851),\"\")","v":""},{"$f":"IF(データセット1!$B851<>\"\",IF($S$1=データセット1!$B851,データセット1!$D851),\"\")","v":""},{"$f":"IF(データセット1!$B851<>\"\",IF($T$1=データセット1!$B851,データセット1!$D851),\"\")","v":""},{"$f":"IF(データセット1!$B851<>\"\",IF($U$1=データセット1!$B851,データセット1!$D851),\"\")","v":""}]
[null,null,null,null,null,null,null,null,null,null,null,null,{"$f":"IF(データセット1!$B852<>\"\",IF($M$1=データセット1!$B852,データセット1!$D852),\"\")","v":""},{"$f":"IF(データセット1!$B852<>\"\",IF($N$1=データセット1!$B852,データセット1!$D852),\"\")","v":""},{"$f":"IF(データセット1!$B852<>\"\",IF($O$1=データセット1!$B852,データセット1!$D852),\"\")","v":""},{"$f":"IF(データセット1!$B852<>\"\",IF($P$1=データセット1!$B852,データセット1!$D852),\"\")","v":""},{"$f":"IF(データセット1!$B852<>\"\",IF($Q$1=データセット1!$B852,データセット1!$D852),\"\")","v":""},{"$f":"IF(データセット1!$B852<>\"\",IF($R$1=データセット1!$B852,データセット1!$D852),\"\")","v":""},{"$f":"IF(データセット1!$B852<>\"\",IF($S$1=データセット1!$B852,データセット1!$D852),\"\")","v":""},{"$f":"IF(データセット1!$B852<>\"\",IF($T$1=データセット1!$B852,データセット1!$D852),\"\")","v":""},{"$f":"IF(データセット1!$B852<>\"\",IF($U$1=データセット1!$B852,データセット1!$D852),\"\")","v":""}]
[null,null,null,null,null,null,null,null,null,null,null,null,{"$f":"IF(データセット1!$B853<>\"\",IF($M$1=データセット1!$B853,データセット1!$D853),\"\")","v":""},{"$f":"IF(データセット1!$B853<>\"\",IF($N$1=データセット1!$B853,データセット1!$D853),\"\")","v":""},{"$f":"IF(データセット1!$B853<>\"\",IF($O$1=データセット1!$B853,データセット1!$D853),\"\")","v":""},{"$f":"IF(データセット1!$B853<>\"\",IF($P$1=データセット1!$B853,データセット1!$D853),\"\")","v":""},{"$f":"IF(データセット1!$B853<>\"\",IF($Q$1=データセット1!$B853,データセット1!$D853),\"\")","v":""},{"$f":"IF(データセット1!$B853<>\"\",IF($R$1=データセット1!$B853,データセット1!$D853),\"\")","v":""},{"$f":"IF(データセット1!$B853<>\"\",IF($S$1=データセット1!$B853,データセット1!$D853),\"\")","v":""},{"$f":"IF(データセット1!$B853<>\"\",IF($T$1=データセット1!$B853,データセット1!$D853),\"\")","v":""},{"$f":"IF(データセット1!$B853<>\"\",IF($U$1=データセット1!$B853,データセット1!$D853),\"\")","v":""}]
[null,null,null,null,null,null,null,null,null,null,null,null,{"$f":"IF(データセット1!$B854<>\"\",IF($M$1=データセット1!$B854,データセット1!$D854),\"\")","v":""},{"$f":"IF(データセット1!$B854<>\"\",IF($N$1=データセット1!$B854,データセット1!$D854),\"\")","v":""},{"$f":"IF(データセット1!$B854<>\"\",IF($O$1=データセット1!$B854,データセット1!$D854),\"\")","v":""},{"$f":"IF(データセット1!$B854<>\"\",IF($P$1=データセット1!$B854,データセット1!$D854),\"\")","v":""},{"$f":"IF(データセット1!$B854<>\"\",IF($Q$1=データセット1!$B854,データセット1!$D854),\"\")","v":""},{"$f":"IF(データセット1!$B854<>\"\",IF($R$1=データセット1!$B854,データセット1!$D854),\"\")","v":""},{"$f":"IF(データセット1!$B854<>\"\",IF($S$1=データセット1!$B854,データセット1!$D854),\"\")","v":""},{"$f":"IF(データセット1!$B854<>\"\",IF($T$1=データセット1!$B854,データセット1!$D854),\"\")","v":""},{"$f":"IF(データセット1!$B854<>\"\",IF($U$1=データセット1!$B854,データセット1!$D854),\"\")","v":""}]
[null,null,null,null,null,null,null,null,null,null,null,null,{"$f":"IF(データセット1!$B855<>\"\",IF($M$1=データセット1!$B855,データセット1!$D855),\"\")","v":""},{"$f":"IF(データセット1!$B855<>\"\",IF($N$1=データセット1!$B855,データセット1!$D855),\"\")","v":""},{"$f":"IF(データセット1!$B855<>\"\",IF($O$1=データセット1!$B855,データセット1!$D855),\"\")","v":""},{"$f":"IF(データセット1!$B855<>\"\",IF($P$1=データセット1!$B855,データセット1!$D855),\"\")","v":""},{"$f":"IF(データセット1!$B855<>\"\",IF($Q$1=データセット1!$B855,データセット1!$D855),\"\")","v":""},{"$f":"IF(データセット1!$B855<>\"\",IF($R$1=データセット1!$B855,データセット1!$D855),\"\")","v":""},{"$f":"IF(データセット1!$B855<>\"\",IF($S$1=データセット1!$B855,データセット1!$D855),\"\")","v":""},{"$f":"IF(データセット1!$B855<>\"\",IF($T$1=データセット1!$B855,データセット1!$D855),\"\")","v":""},{"$f":"IF(データセット1!$B855<>\"\",IF($U$1=データセット1!$B855,データセット1!$D855),\"\")","v":""}]
[null,null,null,null,null,null,null,null,null,null,null,null,{"$f":"IF(データセット1!$B856<>\"\",IF($M$1=データセット1!$B856,データセット1!$D856),\"\")","v":""},{"$f":"IF(データセット1!$B856<>\"\",IF($N$1=データセット1!$B856,データセット1!$D856),\"\")","v":""},{"$f":"IF(データセット1!$B856<>\"\",IF($O$1=データセット1!$B856,データセット1!$D856),\"\")","v":""},{"$f":"IF(データセット1!$B856<>\"\",IF($P$1=データセット1!$B856,データセット1!$D856),\"\")","v":""},{"$f":"IF(データセット1!$B856<>\"\",IF($Q$1=データセット1!$B856,データセット1!$D856),\"\")","v":""},{"$f":"IF(データセット1!$B856<>\"\",IF($R$1=データセット1!$B856,データセット1!$D856),\"\")","v":""},{"$f":"IF(データセット1!$B856<>\"\",IF($S$1=データセット1!$B856,データセット1!$D856),\"\")","v":""},{"$f":"IF(データセット1!$B856<>\"\",IF($T$1=データセット1!$B856,データセット1!$D856),\"\")","v":""},{"$f":"IF(データセット1!$B856<>\"\",IF($U$1=データセット1!$B856,データセット1!$D856),\"\")","v":""}]
[null,null,null,null,null,null,null,null,null,null,null,null,{"$f":"IF(データセット1!$B857<>\"\",IF($M$1=データセット1!$B857,データセット1!$D857),\"\")","v":""},{"$f":"IF(データセット1!$B857<>\"\",IF($N$1=データセット1!$B857,データセット1!$D857),\"\")","v":""},{"$f":"IF(データセット1!$B857<>\"\",IF($O$1=データセット1!$B857,データセット1!$D857),\"\")","v":""},{"$f":"IF(データセット1!$B857<>\"\",IF($P$1=データセット1!$B857,データセット1!$D857),\"\")","v":""},{"$f":"IF(データセット1!$B857<>\"\",IF($Q$1=データセット1!$B857,データセット1!$D857),\"\")","v":""},{"$f":"IF(データセット1!$B857<>\"\",IF($R$1=データセット1!$B857,データセット1!$D857),\"\")","v":""},{"$f":"IF(データセット1!$B857<>\"\",IF($S$1=データセット1!$B857,データセット1!$D857),\"\")","v":""},{"$f":"IF(データセット1!$B857<>\"\",IF($T$1=データセット1!$B857,データセット1!$D857),\"\")","v":""},{"$f":"IF(データセット1!$B857<>\"\",IF($U$1=データセット1!$B857,データセット1!$D857),\"\")","v":""}]
[null,null,null,null,null,null,null,null,null,null,null,null,{"$f":"IF(データセット1!$B858<>\"\",IF($M$1=データセット1!$B858,データセット1!$D858),\"\")","v":""},{"$f":"IF(データセット1!$B858<>\"\",IF($N$1=データセット1!$B858,データセット1!$D858),\"\")","v":""},{"$f":"IF(データセット1!$B858<>\"\",IF($O$1=データセット1!$B858,データセット1!$D858),\"\")","v":""},{"$f":"IF(データセット1!$B858<>\"\",IF($P$1=データセット1!$B858,データセット1!$D858),\"\")","v":""},{"$f":"IF(データセット1!$B858<>\"\",IF($Q$1=データセット1!$B858,データセット1!$D858),\"\")","v":""},{"$f":"IF(データセット1!$B858<>\"\",IF($R$1=データセット1!$B858,データセット1!$D858),\"\")","v":""},{"$f":"IF(データセット1!$B858<>\"\",IF($S$1=データセット1!$B858,データセット1!$D858),\"\")","v":""},{"$f":"IF(データセット1!$B858<>\"\",IF($T$1=データセット1!$B858,データセット1!$D858),\"\")","v":""},{"$f":"IF(データセット1!$B858<>\"\",IF($U$1=データセット1!$B858,データセット1!$D858),\"\")","v":""}]
[null,null,null,null,null,null,null,null,null,null,null,null,{"$f":"IF(データセット1!$B859<>\"\",IF($M$1=データセット1!$B859,データセット1!$D859),\"\")","v":""},{"$f":"IF(データセット1!$B859<>\"\",IF($N$1=データセット1!$B859,データセット1!$D859),\"\")","v":""},{"$f":"IF(データセット1!$B859<>\"\",IF($O$1=データセット1!$B859,データセット1!$D859),\"\")","v":""},{"$f":"IF(データセット1!$B859<>\"\",IF($P$1=データセット1!$B859,データセット1!$D859),\"\")","v":""},{"$f":"IF(データセット1!$B859<>\"\",IF($Q$1=データセット1!$B859,データセット1!$D859),\"\")","v":""},{"$f":"IF(データセット1!$B859<>\"\",IF($R$1=データセット1!$B859,データセット1!$D859),\"\")","v":""},{"$f":"IF(データセット1!$B859<>\"\",IF($S$1=データセット1!$B859,データセット1!$D859),\"\")","v":""},{"$f":"IF(データセット1!$B859<>\"\",IF($T$1=データセット1!$B859,データセット1!$D859),\"\")","v":""},{"$f":"IF(データセット1!$B859<>\"\",IF($U$1=データセット1!$B859,データセット1!$D859),\"\")","v":""}]
[null,null,null,null,null,null,null,null,null,null,null,null,{"$f":"IF(データセット1!$B860<>\"\",IF($M$1=データセット1!$B860,データセット1!$D860),\"\")","v":""},{"$f":"IF(データセット1!$B860<>\"\",IF($N$1=データセット1!$B860,データセット1!$D860),\"\")","v":""},{"$f":"IF(データセット1!$B860<>\"\",IF($O$1=データセット1!$B860,データセット1!$D860),\"\")","v":""},{"$f":"IF(データセット1!$B860<>\"\",IF($P$1=データセット1!$B860,データセット1!$D860),\"\")","v":""},{"$f":"IF(データセット1!$B860<>\"\",IF($Q$1=データセット1!$B860,データセット1!$D860),\"\")","v":""},{"$f":"IF(データセット1!$B860<>\"\",IF($R$1=データセット1!$B860,データセット1!$D860),\"\")","v":""},{"$f":"IF(データセット1!$B860<>\"\",IF($S$1=データセット1!$B860,データセット1!$D860),\"\")","v":""},{"$f":"IF(データセット1!$B860<>\"\",IF($T$1=データセット1!$B860,データセット1!$D860),\"\")","v":""},{"$f":"IF(データセット1!$B860<>\"\",IF($U$1=データセット1!$B860,データセット1!$D860),\"\")","v":""}]
[null,null,null,null,null,null,null,null,null,null,null,null,{"$f":"IF(データセット1!$B861<>\"\",IF($M$1=データセット1!$B861,データセット1!$D861),\"\")","v":""},{"$f":"IF(データセット1!$B861<>\"\",IF($N$1=データセット1!$B861,データセット1!$D861),\"\")","v":""},{"$f":"IF(データセット1!$B861<>\"\",IF($O$1=データセット1!$B861,データセット1!$D861),\"\")","v":""},{"$f":"IF(データセット1!$B861<>\"\",IF($P$1=データセット1!$B861,データセット1!$D861),\"\")","v":""},{"$f":"IF(データセット1!$B861<>\"\",IF($Q$1=データセット1!$B861,データセット1!$D861),\"\")","v":""},{"$f":"IF(データセット1!$B861<>\"\",IF($R$1=データセット1!$B861,データセット1!$D861),\"\")","v":""},{"$f":"IF(データセット1!$B861<>\"\",IF($S$1=データセット1!$B861,データセット1!$D861),\"\")","v":""},{"$f":"IF(データセット1!$B861<>\"\",IF($T$1=データセット1!$B861,データセット1!$D861),\"\")","v":""},{"$f":"IF(データセット1!$B861<>\"\",IF($U$1=データセット1!$B861,データセット1!$D861),\"\")","v":""}]
[null,null,null,null,null,null,null,null,null,null,null,null,{"$f":"IF(データセット1!$B862<>\"\",IF($M$1=データセット1!$B862,データセット1!$D862),\"\")","v":""},{"$f":"IF(データセット1!$B862<>\"\",IF($N$1=データセット1!$B862,データセット1!$D862),\"\")","v":""},{"$f":"IF(データセット1!$B862<>\"\",IF($O$1=データセット1!$B862,データセット1!$D862),\"\")","v":""},{"$f":"IF(データセット1!$B862<>\"\",IF($P$1=データセット1!$B862,データセット1!$D862),\"\")","v":""},{"$f":"IF(データセット1!$B862<>\"\",IF($Q$1=データセット1!$B862,データセット1!$D862),\"\")","v":""},{"$f":"IF(データセット1!$B862<>\"\",IF($R$1=データセット1!$B862,データセット1!$D862),\"\")","v":""},{"$f":"IF(データセット1!$B862<>\"\",IF($S$1=データセット1!$B862,データセット1!$D862),\"\")","v":""},{"$f":"IF(データセット1!$B862<>\"\",IF($T$1=データセット1!$B862,データセット1!$D862),\"\")","v":""},{"$f":"IF(データセット1!$B862<>\"\",IF($U$1=データセット1!$B862,データセット1!$D862),\"\")","v":""}]
[null,null,null,null,null,null,null,null,null,null,null,null,{"$f":"IF(データセット1!$B863<>\"\",IF($M$1=データセット1!$B863,データセット1!$D863),\"\")","v":""},{"$f":"IF(データセット1!$B863<>\"\",IF($N$1=データセット1!$B863,データセット1!$D863),\"\")","v":""},{"$f":"IF(データセット1!$B863<>\"\",IF($O$1=データセット1!$B863,データセット1!$D863),\"\")","v":""},{"$f":"IF(データセット1!$B863<>\"\",IF($P$1=データセット1!$B863,データセット1!$D863),\"\")","v":""},{"$f":"IF(データセット1!$B863<>\"\",IF($Q$1=データセット1!$B863,データセット1!$D863),\"\")","v":""},{"$f":"IF(データセット1!$B863<>\"\",IF($R$1=データセット1!$B863,データセット1!$D863),\"\")","v":""},{"$f":"IF(データセット1!$B863<>\"\",IF($S$1=データセット1!$B863,データセット1!$D863),\"\")","v":""},{"$f":"IF(データセット1!$B863<>\"\",IF($T$1=データセット1!$B863,データセット1!$D863),\"\")","v":""},{"$f":"IF(データセット1!$B863<>\"\",IF($U$1=データセット1!$B863,データセット1!$D863),\"\")","v":""}]
[null,null,null,null,null,null,null,null,null,null,null,null,{"$f":"IF(データセット1!$B864<>\"\",IF($M$1=データセット1!$B864,データセット1!$D864),\"\")","v":""},{"$f":"IF(データセット1!$B864<>\"\",IF($N$1=データセット1!$B864,データセット1!$D864),\"\")","v":""},{"$f":"IF(データセット1!$B864<>\"\",IF($O$1=データセット1!$B864,データセット1!$D864),\"\")","v":""},{"$f":"IF(データセット1!$B864<>\"\",IF($P$1=データセット1!$B864,データセット1!$D864),\"\")","v":""},{"$f":"IF(データセット1!$B864<>\"\",IF($Q$1=データセット1!$B864,データセット1!$D864),\"\")","v":""},{"$f":"IF(データセット1!$B864<>\"\",IF($R$1=データセット1!$B864,データセット1!$D864),\"\")","v":""},{"$f":"IF(データセット1!$B864<>\"\",IF($S$1=データセット1!$B864,データセット1!$D864),\"\")","v":""},{"$f":"IF(データセット1!$B864<>\"\",IF($T$1=データセット1!$B864,データセット1!$D864),\"\")","v":""},{"$f":"IF(データセット1!$B864<>\"\",IF($U$1=データセット1!$B864,データセット1!$D864),\"\")","v":""}]
[null,null,null,null,null,null,null,null,null,null,null,null,{"$f":"IF(データセット1!$B865<>\"\",IF($M$1=データセット1!$B865,データセット1!$D865),\"\")","v":""},{"$f":"IF(データセット1!$B865<>\"\",IF($N$1=データセット1!$B865,データセット1!$D865),\"\")","v":""},{"$f":"IF(データセット1!$B865<>\"\",IF($O$1=データセット1!$B865,データセット1!$D865),\"\")","v":""},{"$f":"IF(データセット1!$B865<>\"\",IF($P$1=データセット1!$B865,データセット1!$D865),\"\")","v":""},{"$f":"IF(データセット1!$B865<>\"\",IF($Q$1=データセット1!$B865,データセット1!$D865),\"\")","v":""},{"$f":"IF(データセット1!$B865<>\"\",IF($R$1=データセット1!$B865,データセット1!$D865),\"\")","v":""},{"$f":"IF(データセット1!$B865<>\"\",IF($S$1=データセット1!$B865,データセット1!$D865),\"\")","v":""},{"$f":"IF(データセット1!$B865<>\"\",IF($T$1=データセット1!$B865,データセット1!$D865),\"\")","v":""},{"$f":"IF(データセット1!$B865<>\"\",IF($U$1=データセット1!$B865,データセット1!$D865),\"\")","v":""}]
[null,null,null,null,null,null,null,null,null,null,null,null,{"$f":"IF(データセット1!$B866<>\"\",IF($M$1=データセット1!$B866,データセット1!$D866),\"\")","v":""},{"$f":"IF(データセット1!$B866<>\"\",IF($N$1=データセット1!$B866,データセット1!$D866),\"\")","v":""},{"$f":"IF(データセット1!$B866<>\"\",IF($O$1=データセット1!$B866,データセット1!$D866),\"\")","v":""},{"$f":"IF(データセット1!$B866<>\"\",IF($P$1=データセット1!$B866,データセット1!$D866),\"\")","v":""},{"$f":"IF(データセット1!$B866<>\"\",IF($Q$1=データセット1!$B866,データセット1!$D866),\"\")","v":""},{"$f":"IF(データセット1!$B866<>\"\",IF($R$1=データセット1!$B866,データセット1!$D866),\"\")","v":""},{"$f":"IF(データセット1!$B866<>\"\",IF($S$1=データセット1!$B866,データセット1!$D866),\"\")","v":""},{"$f":"IF(データセット1!$B866<>\"\",IF($T$1=データセット1!$B866,データセット1!$D866),\"\")","v":""},{"$f":"IF(データセット1!$B866<>\"\",IF($U$1=データセット1!$B866,データセット1!$D866),\"\")","v":""}]
[null,null,null,null,null,null,null,null,null,null,null,null,{"$f":"IF(データセット1!$B867<>\"\",IF($M$1=データセット1!$B867,データセット1!$D867),\"\")","v":""},{"$f":"IF(データセット1!$B867<>\"\",IF($N$1=データセット1!$B867,データセット1!$D867),\"\")","v":""},{"$f":"IF(データセット1!$B867<>\"\",IF($O$1=データセット1!$B867,データセット1!$D867),\"\")","v":""},{"$f":"IF(データセット1!$B867<>\"\",IF($P$1=データセット1!$B867,データセット1!$D867),\"\")","v":""},{"$f":"IF(データセット1!$B867<>\"\",IF($Q$1=データセット1!$B867,データセット1!$D867),\"\")","v":""},{"$f":"IF(データセット1!$B867<>\"\",IF($R$1=データセット1!$B867,データセット1!$D867),\"\")","v":""},{"$f":"IF(データセット1!$B867<>\"\",IF($S$1=データセット1!$B867,データセット1!$D867),\"\")","v":""},{"$f":"IF(データセット1!$B867<>\"\",IF($T$1=データセット1!$B867,データセット1!$D867),\"\")","v":""},{"$f":"IF(データセット1!$B867<>\"\",IF($U$1=データセット1!$B867,データセット1!$D867),\"\")","v":""}]
[null,null,null,null,null,null,null,null,null,null,null,null,{"$f":"IF(データセット1!$B868<>\"\",IF($M$1=データセット1!$B868,データセット1!$D868),\"\")","v":""},{"$f":"IF(データセット1!$B868<>\"\",IF($N$1=データセット1!$B868,データセット1!$D868),\"\")","v":""},{"$f":"IF(データセット1!$B868<>\"\",IF($O$1=データセット1!$B868,データセット1!$D868),\"\")","v":""},{"$f":"IF(データセット1!$B868<>\"\",IF($P$1=データセット1!$B868,データセット1!$D868),\"\")","v":""},{"$f":"IF(データセット1!$B868<>\"\",IF($Q$1=データセット1!$B868,データセット1!$D868),\"\")","v":""},{"$f":"IF(データセット1!$B868<>\"\",IF($R$1=データセット1!$B868,データセット1!$D868),\"\")","v":""},{"$f":"IF(データセット1!$B868<>\"\",IF($S$1=データセット1!$B868,データセット1!$D868),\"\")","v":""},{"$f":"IF(データセット1!$B868<>\"\",IF($T$1=データセット1!$B868,データセット1!$D868),\"\")","v":""},{"$f":"IF(データセット1!$B868<>\"\",IF($U$1=データセット1!$B868,データセット1!$D868),\"\")","v":""}]
[null,null,null,null,null,null,null,null,null,null,null,null,{"$f":"IF(データセット1!$B869<>\"\",IF($M$1=データセット1!$B869,データセット1!$D869),\"\")","v":""},{"$f":"IF(データセット1!$B869<>\"\",IF($N$1=データセット1!$B869,データセット1!$D869),\"\")","v":""},{"$f":"IF(データセット1!$B869<>\"\",IF($O$1=データセット1!$B869,データセット1!$D869),\"\")","v":""},{"$f":"IF(データセット1!$B869<>\"\",IF($P$1=データセット1!$B869,データセット1!$D869),\"\")","v":""},{"$f":"IF(データセット1!$B869<>\"\",IF($Q$1=データセット1!$B869,データセット1!$D869),\"\")","v":""},{"$f":"IF(データセット1!$B869<>\"\",IF($R$1=データセット1!$B869,データセット1!$D869),\"\")","v":""},{"$f":"IF(データセット1!$B869<>\"\",IF($S$1=データセット1!$B869,データセット1!$D869),\"\")","v":""},{"$f":"IF(データセット1!$B869<>\"\",IF($T$1=データセット1!$B869,データセット1!$D869),\"\")","v":""},{"$f":"IF(データセット1!$B869<>\"\",IF($U$1=データセット1!$B869,データセット1!$D869),\"\")","v":""}]
[null,null,null,null,null,null,null,null,null,null,null,null,{"$f":"IF(データセット1!$B870<>\"\",IF($M$1=データセット1!$B870,データセット1!$D870),\"\")","v":""},{"$f":"IF(データセット1!$B870<>\"\",IF($N$1=データセット1!$B870,データセット1!$D870),\"\")","v":""},{"$f":"IF(データセット1!$B870<>\"\",IF($O$1=データセット1!$B870,データセット1!$D870),\"\")","v":""},{"$f":"IF(データセット1!$B870<>\"\",IF($P$1=データセット1!$B870,データセット1!$D870),\"\")","v":""},{"$f":"IF(データセット1!$B870<>\"\",IF($Q$1=データセット1!$B870,データセット1!$D870),\"\")","v":""},{"$f":"IF(データセット1!$B870<>\"\",IF($R$1=データセット1!$B870,データセット1!$D870),\"\")","v":""},{"$f":"IF(データセット1!$B870<>\"\",IF($S$1=データセット1!$B870,データセット1!$D870),\"\")","v":""},{"$f":"IF(データセット1!$B870<>\"\",IF($T$1=データセット1!$B870,データセット1!$D870),\"\")","v":""},{"$f":"IF(データセット1!$B870<>\"\",IF($U$1=データセット1!$B870,データセット1!$D870),\"\")","v":""}]
[null,null,null,null,null,null,null,null,null,null,null,null,{"$f":"IF(データセット1!$B871<>\"\",IF($M$1=データセット1!$B871,データセット1!$D871),\"\")","v":""},{"$f":"IF(データセット1!$B871<>\"\",IF($N$1=データセット1!$B871,データセット1!$D871),\"\")","v":""},{"$f":"IF(データセット1!$B871<>\"\",IF($O$1=データセット1!$B871,データセット1!$D871),\"\")","v":""},{"$f":"IF(データセット1!$B871<>\"\",IF($P$1=データセット1!$B871,データセット1!$D871),\"\")","v":""},{"$f":"IF(データセット1!$B871<>\"\",IF($Q$1=データセット1!$B871,データセット1!$D871),\"\")","v":""},{"$f":"IF(データセット1!$B871<>\"\",IF($R$1=データセット1!$B871,データセット1!$D871),\"\")","v":""},{"$f":"IF(データセット1!$B871<>\"\",IF($S$1=データセット1!$B871,データセット1!$D871),\"\")","v":""},{"$f":"IF(データセット1!$B871<>\"\",IF($T$1=データセット1!$B871,データセット1!$D871),\"\")","v":""},{"$f":"IF(データセット1!$B871<>\"\",IF($U$1=データセット1!$B871,データセット1!$D871),\"\")","v":""}]
[null,null,null,null,null,null,null,null,null,null,null,null,{"$f":"IF(データセット1!$B872<>\"\",IF($M$1=データセット1!$B872,データセット1!$D872),\"\")","v":""},{"$f":"IF(データセット1!$B872<>\"\",IF($N$1=データセット1!$B872,データセット1!$D872),\"\")","v":""},{"$f":"IF(データセット1!$B872<>\"\",IF($O$1=データセット1!$B872,データセット1!$D872),\"\")","v":""},{"$f":"IF(データセット1!$B872<>\"\",IF($P$1=データセット1!$B872,データセット1!$D872),\"\")","v":""},{"$f":"IF(データセット1!$B872<>\"\",IF($Q$1=データセット1!$B872,データセット1!$D872),\"\")","v":""},{"$f":"IF(データセット1!$B872<>\"\",IF($R$1=データセット1!$B872,データセット1!$D872),\"\")","v":""},{"$f":"IF(データセット1!$B872<>\"\",IF($S$1=データセット1!$B872,データセット1!$D872),\"\")","v":""},{"$f":"IF(データセット1!$B872<>\"\",IF($T$1=データセット1!$B872,データセット1!$D872),\"\")","v":""},{"$f":"IF(データセット1!$B872<>\"\",IF($U$1=データセット1!$B872,データセット1!$D872),\"\")","v":""}]
[null,null,null,null,null,null,null,null,null,null,null,null,{"$f":"IF(データセット1!$B873<>\"\",IF($M$1=データセット1!$B873,データセット1!$D873),\"\")","v":""},{"$f":"IF(データセット1!$B873<>\"\",IF($N$1=データセット1!$B873,データセット1!$D873),\"\")","v":""},{"$f":"IF(データセット1!$B873<>\"\",IF($O$1=データセット1!$B873,データセット1!$D873),\"\")","v":""},{"$f":"IF(データセット1!$B873<>\"\",IF($P$1=データセット1!$B873,データセット1!$D873),\"\")","v":""},{"$f":"IF(データセット1!$B873<>\"\",IF($Q$1=データセット1!$B873,データセット1!$D873),\"\")","v":""},{"$f":"IF(データセット1!$B873<>\"\",IF($R$1=データセット1!$B873,データセット1!$D873),\"\")","v":""},{"$f":"IF(データセット1!$B873<>\"\",IF($S$1=データセット1!$B873,データセット1!$D873),\"\")","v":""},{"$f":"IF(データセット1!$B873<>\"\",IF($T$1=データセット1!$B873,データセット1!$D873),\"\")","v":""},{"$f":"IF(データセット1!$B873<>\"\",IF($U$1=データセット1!$B873,データセット1!$D873),\"\")","v":""}]
[null,null,null,null,null,null,null,null,null,null,null,null,{"$f":"IF(データセット1!$B874<>\"\",IF($M$1=データセット1!$B874,データセット1!$D874),\"\")","v":""},{"$f":"IF(データセット1!$B874<>\"\",IF($N$1=データセット1!$B874,データセット1!$D874),\"\")","v":""},{"$f":"IF(データセット1!$B874<>\"\",IF($O$1=データセット1!$B874,データセット1!$D874),\"\")","v":""},{"$f":"IF(データセット1!$B874<>\"\",IF($P$1=データセット1!$B874,データセット1!$D874),\"\")","v":""},{"$f":"IF(データセット1!$B874<>\"\",IF($Q$1=データセット1!$B874,データセット1!$D874),\"\")","v":""},{"$f":"IF(データセット1!$B874<>\"\",IF($R$1=データセット1!$B874,データセット1!$D874),\"\")","v":""},{"$f":"IF(データセット1!$B874<>\"\",IF($S$1=データセット1!$B874,データセット1!$D874),\"\")","v":""},{"$f":"IF(データセット1!$B874<>\"\",IF($T$1=データセット1!$B874,データセット1!$D874),\"\")","v":""},{"$f":"IF(データセット1!$B874<>\"\",IF($U$1=データセット1!$B874,データセット1!$D874),\"\")","v":""}]
[null,null,null,null,null,null,null,null,null,null,null,null,{"$f":"IF(データセット1!$B875<>\"\",IF($M$1=データセット1!$B875,データセット1!$D875),\"\")","v":""},{"$f":"IF(データセット1!$B875<>\"\",IF($N$1=データセット1!$B875,データセット1!$D875),\"\")","v":""},{"$f":"IF(データセット1!$B875<>\"\",IF($O$1=データセット1!$B875,データセット1!$D875),\"\")","v":""},{"$f":"IF(データセット1!$B875<>\"\",IF($P$1=データセット1!$B875,データセット1!$D875),\"\")","v":""},{"$f":"IF(データセット1!$B875<>\"\",IF($Q$1=データセット1!$B875,データセット1!$D875),\"\")","v":""},{"$f":"IF(データセット1!$B875<>\"\",IF($R$1=データセット1!$B875,データセット1!$D875),\"\")","v":""},{"$f":"IF(データセット1!$B875<>\"\",IF($S$1=データセット1!$B875,データセット1!$D875),\"\")","v":""},{"$f":"IF(データセット1!$B875<>\"\",IF($T$1=データセット1!$B875,データセット1!$D875),\"\")","v":""},{"$f":"IF(データセット1!$B875<>\"\",IF($U$1=データセット1!$B875,データセット1!$D875),\"\")","v":""}]
[null,null,null,null,null,null,null,null,null,null,null,null,{"$f":"IF(データセット1!$B876<>\"\",IF($M$1=データセット1!$B876,データセット1!$D876),\"\")","v":""},{"$f":"IF(データセット1!$B876<>\"\",IF($N$1=データセット1!$B876,データセット1!$D876),\"\")","v":""},{"$f":"IF(データセット1!$B876<>\"\",IF($O$1=データセット1!$B876,データセット1!$D876),\"\")","v":""},{"$f":"IF(データセット1!$B876<>\"\",IF($P$1=データセット1!$B876,データセット1!$D876),\"\")","v":""},{"$f":"IF(データセット1!$B876<>\"\",IF($Q$1=データセット1!$B876,データセット1!$D876),\"\")","v":""},{"$f":"IF(データセット1!$B876<>\"\",IF($R$1=データセット1!$B876,データセット1!$D876),\"\")","v":""},{"$f":"IF(データセット1!$B876<>\"\",IF($S$1=データセット1!$B876,データセット1!$D876),\"\")","v":""},{"$f":"IF(データセット1!$B876<>\"\",IF($T$1=データセット1!$B876,データセット1!$D876),\"\")","v":""},{"$f":"IF(データセット1!$B876<>\"\",IF($U$1=データセット1!$B876,データセット1!$D876),\"\")","v":""}]
[null,null,null,null,null,null,null,null,null,null,null,null,{"$f":"IF(データセット1!$B877<>\"\",IF($M$1=データセット1!$B877,データセット1!$D877),\"\")","v":""},{"$f":"IF(データセット1!$B877<>\"\",IF($N$1=データセット1!$B877,データセット1!$D877),\"\")","v":""},{"$f":"IF(データセット1!$B877<>\"\",IF($O$1=データセット1!$B877,データセット1!$D877),\"\")","v":""},{"$f":"IF(データセット1!$B877<>\"\",IF($P$1=データセット1!$B877,データセット1!$D877),\"\")","v":""},{"$f":"IF(データセット1!$B877<>\"\",IF($Q$1=データセット1!$B877,データセット1!$D877),\"\")","v":""},{"$f":"IF(データセット1!$B877<>\"\",IF($R$1=データセット1!$B877,データセット1!$D877),\"\")","v":""},{"$f":"IF(データセット1!$B877<>\"\",IF($S$1=データセット1!$B877,データセット1!$D877),\"\")","v":""},{"$f":"IF(データセット1!$B877<>\"\",IF($T$1=データセット1!$B877,データセット1!$D877),\"\")","v":""},{"$f":"IF(データセット1!$B877<>\"\",IF($U$1=データセット1!$B877,データセット1!$D877),\"\")","v":""}]
[null,null,null,null,null,null,null,null,null,null,null,null,{"$f":"IF(データセット1!$B878<>\"\",IF($M$1=データセット1!$B878,データセット1!$D878),\"\")","v":""},{"$f":"IF(データセット1!$B878<>\"\",IF($N$1=データセット1!$B878,データセット1!$D878),\"\")","v":""},{"$f":"IF(データセット1!$B878<>\"\",IF($O$1=データセット1!$B878,データセット1!$D878),\"\")","v":""},{"$f":"IF(データセット1!$B878<>\"\",IF($P$1=データセット1!$B878,データセット1!$D878),\"\")","v":""},{"$f":"IF(データセット1!$B878<>\"\",IF($Q$1=データセット1!$B878,データセット1!$D878),\"\")","v":""},{"$f":"IF(データセット1!$B878<>\"\",IF($R$1=データセット1!$B878,データセット1!$D878),\"\")","v":""},{"$f":"IF(データセット1!$B878<>\"\",IF($S$1=データセット1!$B878,データセット1!$D878),\"\")","v":""},{"$f":"IF(データセット1!$B878<>\"\",IF($T$1=データセット1!$B878,データセット1!$D878),\"\")","v":""},{"$f":"IF(データセット1!$B878<>\"\",IF($U$1=データセット1!$B878,データセット1!$D878),\"\")","v":""}]
[null,null,null,null,null,null,null,null,null,null,null,null,{"$f":"IF(データセット1!$B879<>\"\",IF($M$1=データセット1!$B879,データセット1!$D879),\"\")","v":""},{"$f":"IF(データセット1!$B879<>\"\",IF($N$1=データセット1!$B879,データセット1!$D879),\"\")","v":""},{"$f":"IF(データセット1!$B879<>\"\",IF($O$1=データセット1!$B879,データセット1!$D879),\"\")","v":""},{"$f":"IF(データセット1!$B879<>\"\",IF($P$1=データセット1!$B879,データセット1!$D879),\"\")","v":""},{"$f":"IF(データセット1!$B879<>\"\",IF($Q$1=データセット1!$B879,データセット1!$D879),\"\")","v":""},{"$f":"IF(データセット1!$B879<>\"\",IF($R$1=データセット1!$B879,データセット1!$D879),\"\")","v":""},{"$f":"IF(データセット1!$B879<>\"\",IF($S$1=データセット1!$B879,データセット1!$D879),\"\")","v":""},{"$f":"IF(データセット1!$B879<>\"\",IF($T$1=データセット1!$B879,データセット1!$D879),\"\")","v":""},{"$f":"IF(データセット1!$B879<>\"\",IF($U$1=データセット1!$B879,データセット1!$D879),\"\")","v":""}]
[null,null,null,null,null,null,null,null,null,null,null,null,{"$f":"IF(データセット1!$B880<>\"\",IF($M$1=データセット1!$B880,データセット1!$D880),\"\")","v":""},{"$f":"IF(データセット1!$B880<>\"\",IF($N$1=データセット1!$B880,データセット1!$D880),\"\")","v":""},{"$f":"IF(データセット1!$B880<>\"\",IF($O$1=データセット1!$B880,データセット1!$D880),\"\")","v":""},{"$f":"IF(データセット1!$B880<>\"\",IF($P$1=データセット1!$B880,データセット1!$D880),\"\")","v":""},{"$f":"IF(データセット1!$B880<>\"\",IF($Q$1=データセット1!$B880,データセット1!$D880),\"\")","v":""},{"$f":"IF(データセット1!$B880<>\"\",IF($R$1=データセット1!$B880,データセット1!$D880),\"\")","v":""},{"$f":"IF(データセット1!$B880<>\"\",IF($S$1=データセット1!$B880,データセット1!$D880),\"\")","v":""},{"$f":"IF(データセット1!$B880<>\"\",IF($T$1=データセット1!$B880,データセット1!$D880),\"\")","v":""},{"$f":"IF(データセット1!$B880<>\"\",IF($U$1=データセット1!$B880,データセット1!$D880),\"\")","v":""}]
[null,null,null,null,null,null,null,null,null,null,null,null,{"$f":"IF(データセット1!$B881<>\"\",IF($M$1=データセット1!$B881,データセット1!$D881),\"\")","v":""},{"$f":"IF(データセット1!$B881<>\"\",IF($N$1=データセット1!$B881,データセット1!$D881),\"\")","v":""},{"$f":"IF(データセット1!$B881<>\"\",IF($O$1=データセット1!$B881,データセット1!$D881),\"\")","v":""},{"$f":"IF(データセット1!$B881<>\"\",IF($P$1=データセット1!$B881,データセット1!$D881),\"\")","v":""},{"$f":"IF(データセット1!$B881<>\"\",IF($Q$1=データセット1!$B881,データセット1!$D881),\"\")","v":""},{"$f":"IF(データセット1!$B881<>\"\",IF($R$1=データセット1!$B881,データセット1!$D881),\"\")","v":""},{"$f":"IF(データセット1!$B881<>\"\",IF($S$1=データセット1!$B881,データセット1!$D881),\"\")","v":""},{"$f":"IF(データセット1!$B881<>\"\",IF($T$1=データセット1!$B881,データセット1!$D881),\"\")","v":""},{"$f":"IF(データセット1!$B881<>\"\",IF($U$1=データセット1!$B881,データセット1!$D881),\"\")","v":""}]
[null,null,null,null,null,null,null,null,null,null,null,null,{"$f":"IF(データセット1!$B882<>\"\",IF($M$1=データセット1!$B882,データセット1!$D882),\"\")","v":""},{"$f":"IF(データセット1!$B882<>\"\",IF($N$1=データセット1!$B882,データセット1!$D882),\"\")","v":""},{"$f":"IF(データセット1!$B882<>\"\",IF($O$1=データセット1!$B882,データセット1!$D882),\"\")","v":""},{"$f":"IF(データセット1!$B882<>\"\",IF($P$1=データセット1!$B882,データセット1!$D882),\"\")","v":""},{"$f":"IF(データセット1!$B882<>\"\",IF($Q$1=データセット1!$B882,データセット1!$D882),\"\")","v":""},{"$f":"IF(データセット1!$B882<>\"\",IF($R$1=データセット1!$B882,データセット1!$D882),\"\")","v":""},{"$f":"IF(データセット1!$B882<>\"\",IF($S$1=データセット1!$B882,データセット1!$D882),\"\")","v":""},{"$f":"IF(データセット1!$B882<>\"\",IF($T$1=データセット1!$B882,データセット1!$D882),\"\")","v":""},{"$f":"IF(データセット1!$B882<>\"\",IF($U$1=データセット1!$B882,データセット1!$D882),\"\")","v":""}]
[null,null,null,null,null,null,null,null,null,null,null,null,{"$f":"IF(データセット1!$B883<>\"\",IF($M$1=データセット1!$B883,データセット1!$D883),\"\")","v":""},{"$f":"IF(データセット1!$B883<>\"\",IF($N$1=データセット1!$B883,データセット1!$D883),\"\")","v":""},{"$f":"IF(データセット1!$B883<>\"\",IF($O$1=データセット1!$B883,データセット1!$D883),\"\")","v":""},{"$f":"IF(データセット1!$B883<>\"\",IF($P$1=データセット1!$B883,データセット1!$D883),\"\")","v":""},{"$f":"IF(データセット1!$B883<>\"\",IF($Q$1=データセット1!$B883,データセット1!$D883),\"\")","v":""},{"$f":"IF(データセット1!$B883<>\"\",IF($R$1=データセット1!$B883,データセット1!$D883),\"\")","v":""},{"$f":"IF(データセット1!$B883<>\"\",IF($S$1=データセット1!$B883,データセット1!$D883),\"\")","v":""},{"$f":"IF(データセット1!$B883<>\"\",IF($T$1=データセット1!$B883,データセット1!$D883),\"\")","v":""},{"$f":"IF(データセット1!$B883<>\"\",IF($U$1=データセット1!$B883,データセット1!$D883),\"\")","v":""}]
[null,null,null,null,null,null,null,null,null,null,null,null,{"$f":"IF(データセット1!$B884<>\"\",IF($M$1=データセット1!$B884,データセット1!$D884),\"\")","v":""},{"$f":"IF(データセット1!$B884<>\"\",IF($N$1=データセット1!$B884,データセット1!$D884),\"\")","v":""},{"$f":"IF(データセット1!$B884<>\"\",IF($O$1=データセット1!$B884,データセット1!$D884),\"\")","v":""},{"$f":"IF(データセット1!$B884<>\"\",IF($P$1=データセット1!$B884,データセット1!$D884),\"\")","v":""},{"$f":"IF(データセット1!$B884<>\"\",IF($Q$1=データセット1!$B884,データセット1!$D884),\"\")","v":""},{"$f":"IF(データセット1!$B884<>\"\",IF($R$1=データセット1!$B884,データセット1!$D884),\"\")","v":""},{"$f":"IF(データセット1!$B884<>\"\",IF($S$1=データセット1!$B884,データセット1!$D884),\"\")","v":""},{"$f":"IF(データセット1!$B884<>\"\",IF($T$1=データセット1!$B884,データセット1!$D884),\"\")","v":""},{"$f":"IF(データセット1!$B884<>\"\",IF($U$1=データセット1!$B884,データセット1!$D884),\"\")","v":""}]
[null,null,null,null,null,null,null,null,null,null,null,null,{"$f":"IF(データセット1!$B885<>\"\",IF($M$1=データセット1!$B885,データセット1!$D885),\"\")","v":""},{"$f":"IF(データセット1!$B885<>\"\",IF($N$1=データセット1!$B885,データセット1!$D885),\"\")","v":""},{"$f":"IF(データセット1!$B885<>\"\",IF($O$1=データセット1!$B885,データセット1!$D885),\"\")","v":""},{"$f":"IF(データセット1!$B885<>\"\",IF($P$1=データセット1!$B885,データセット1!$D885),\"\")","v":""},{"$f":"IF(データセット1!$B885<>\"\",IF($Q$1=データセット1!$B885,データセット1!$D885),\"\")","v":""},{"$f":"IF(データセット1!$B885<>\"\",IF($R$1=データセット1!$B885,データセット1!$D885),\"\")","v":""},{"$f":"IF(データセット1!$B885<>\"\",IF($S$1=データセット1!$B885,データセット1!$D885),\"\")","v":""},{"$f":"IF(データセット1!$B885<>\"\",IF($T$1=データセット1!$B885,データセット1!$D885),\"\")","v":""},{"$f":"IF(データセット1!$B885<>\"\",IF($U$1=データセット1!$B885,データセット1!$D885),\"\")","v":""}]
[null,null,null,null,null,null,null,null,null,null,null,null,{"$f":"IF(データセット1!$B886<>\"\",IF($M$1=データセット1!$B886,データセット1!$D886),\"\")","v":""},{"$f":"IF(データセット1!$B886<>\"\",IF($N$1=データセット1!$B886,データセット1!$D886),\"\")","v":""},{"$f":"IF(データセット1!$B886<>\"\",IF($O$1=データセット1!$B886,データセット1!$D886),\"\")","v":""},{"$f":"IF(データセット1!$B886<>\"\",IF($P$1=データセット1!$B886,データセット1!$D886),\"\")","v":""},{"$f":"IF(データセット1!$B886<>\"\",IF($Q$1=データセット1!$B886,データセット1!$D886),\"\")","v":""},{"$f":"IF(データセット1!$B886<>\"\",IF($R$1=データセット1!$B886,データセット1!$D886),\"\")","v":""},{"$f":"IF(データセット1!$B886<>\"\",IF($S$1=データセット1!$B886,データセット1!$D886),\"\")","v":""},{"$f":"IF(データセット1!$B886<>\"\",IF($T$1=データセット1!$B886,データセット1!$D886),\"\")","v":""},{"$f":"IF(データセット1!$B886<>\"\",IF($U$1=データセット1!$B886,データセット1!$D886),\"\")","v":""}]
[null,null,null,null,null,null,null,null,null,null,null,null,{"$f":"IF(データセット1!$B887<>\"\",IF($M$1=データセット1!$B887,データセット1!$D887),\"\")","v":""},{"$f":"IF(データセット1!$B887<>\"\",IF($N$1=データセット1!$B887,データセット1!$D887),\"\")","v":""},{"$f":"IF(データセット1!$B887<>\"\",IF($O$1=データセット1!$B887,データセット1!$D887),\"\")","v":""},{"$f":"IF(データセット1!$B887<>\"\",IF($P$1=データセット1!$B887,データセット1!$D887),\"\")","v":""},{"$f":"IF(データセット1!$B887<>\"\",IF($Q$1=データセット1!$B887,データセット1!$D887),\"\")","v":""},{"$f":"IF(データセット1!$B887<>\"\",IF($R$1=データセット1!$B887,データセット1!$D887),\"\")","v":""},{"$f":"IF(データセット1!$B887<>\"\",IF($S$1=データセット1!$B887,データセット1!$D887),\"\")","v":""},{"$f":"IF(データセット1!$B887<>\"\",IF($T$1=データセット1!$B887,データセット1!$D887),\"\")","v":""},{"$f":"IF(データセット1!$B887<>\"\",IF($U$1=データセット1!$B887,データセット1!$D887),\"\")","v":""}]
[null,null,null,null,null,null,null,null,null,null,null,null,{"$f":"IF(データセット1!$B888<>\"\",IF($M$1=データセット1!$B888,データセット1!$D888),\"\")","v":""},{"$f":"IF(データセット1!$B888<>\"\",IF($N$1=データセット1!$B888,データセット1!$D888),\"\")","v":""},{"$f":"IF(データセット1!$B888<>\"\",IF($O$1=データセット1!$B888,データセット1!$D888),\"\")","v":""},{"$f":"IF(データセット1!$B888<>\"\",IF($P$1=データセット1!$B888,データセット1!$D888),\"\")","v":""},{"$f":"IF(データセット1!$B888<>\"\",IF($Q$1=データセット1!$B888,データセット1!$D888),\"\")","v":""},{"$f":"IF(データセット1!$B888<>\"\",IF($R$1=データセット1!$B888,データセット1!$D888),\"\")","v":""},{"$f":"IF(データセット1!$B888<>\"\",IF($S$1=データセット1!$B888,データセット1!$D888),\"\")","v":""},{"$f":"IF(データセット1!$B888<>\"\",IF($T$1=データセット1!$B888,データセット1!$D888),\"\")","v":""},{"$f":"IF(データセット1!$B888<>\"\",IF($U$1=データセット1!$B888,データセット1!$D888),\"\")","v":""}]
[null,null,null,null,null,null,null,null,null,null,null,null,{"$f":"IF(データセット1!$B889<>\"\",IF($M$1=データセット1!$B889,データセット1!$D889),\"\")","v":""},{"$f":"IF(データセット1!$B889<>\"\",IF($N$1=データセット1!$B889,データセット1!$D889),\"\")","v":""},{"$f":"IF(データセット1!$B889<>\"\",IF($O$1=データセット1!$B889,データセット1!$D889),\"\")","v":""},{"$f":"IF(データセット1!$B889<>\"\",IF($P$1=データセット1!$B889,データセット1!$D889),\"\")","v":""},{"$f":"IF(データセット1!$B889<>\"\",IF($Q$1=データセット1!$B889,データセット1!$D889),\"\")","v":""},{"$f":"IF(データセット1!$B889<>\"\",IF($R$1=データセット1!$B889,データセット1!$D889),\"\")","v":""},{"$f":"IF(データセット1!$B889<>\"\",IF($S$1=データセット1!$B889,データセット1!$D889),\"\")","v":""},{"$f":"IF(データセット1!$B889<>\"\",IF($T$1=データセット1!$B889,データセット1!$D889),\"\")","v":""},{"$f":"IF(データセット1!$B889<>\"\",IF($U$1=データセット1!$B889,データセット1!$D889),\"\")","v":""}]
[null,null,null,null,null,null,null,null,null,null,null,null,{"$f":"IF(データセット1!$B890<>\"\",IF($M$1=データセット1!$B890,データセット1!$D890),\"\")","v":""},{"$f":"IF(データセット1!$B890<>\"\",IF($N$1=データセット1!$B890,データセット1!$D890),\"\")","v":""},{"$f":"IF(データセット1!$B890<>\"\",IF($O$1=データセット1!$B890,データセット1!$D890),\"\")","v":""},{"$f":"IF(データセット1!$B890<>\"\",IF($P$1=データセット1!$B890,データセット1!$D890),\"\")","v":""},{"$f":"IF(データセット1!$B890<>\"\",IF($Q$1=データセット1!$B890,データセット1!$D890),\"\")","v":""},{"$f":"IF(データセット1!$B890<>\"\",IF($R$1=データセット1!$B890,データセット1!$D890),\"\")","v":""},{"$f":"IF(データセット1!$B890<>\"\",IF($S$1=データセット1!$B890,データセット1!$D890),\"\")","v":""},{"$f":"IF(データセット1!$B890<>\"\",IF($T$1=データセット1!$B890,データセット1!$D890),\"\")","v":""},{"$f":"IF(データセット1!$B890<>\"\",IF($U$1=データセット1!$B890,データセット1!$D890),\"\")","v":""}]
[null,null,null,null,null,null,null,null,null,null,null,null,{"$f":"IF(データセット1!$B891<>\"\",IF($M$1=データセット1!$B891,データセット1!$D891),\"\")","v":""},{"$f":"IF(データセット1!$B891<>\"\",IF($N$1=データセット1!$B891,データセット1!$D891),\"\")","v":""},{"$f":"IF(データセット1!$B891<>\"\",IF($O$1=データセット1!$B891,データセット1!$D891),\"\")","v":""},{"$f":"IF(データセット1!$B891<>\"\",IF($P$1=データセット1!$B891,データセット1!$D891),\"\")","v":""},{"$f":"IF(データセット1!$B891<>\"\",IF($Q$1=データセット1!$B891,データセット1!$D891),\"\")","v":""},{"$f":"IF(データセット1!$B891<>\"\",IF($R$1=データセット1!$B891,データセット1!$D891),\"\")","v":""},{"$f":"IF(データセット1!$B891<>\"\",IF($S$1=データセット1!$B891,データセット1!$D891),\"\")","v":""},{"$f":"IF(データセット1!$B891<>\"\",IF($T$1=データセット1!$B891,データセット1!$D891),\"\")","v":""},{"$f":"IF(データセット1!$B891<>\"\",IF($U$1=データセット1!$B891,データセット1!$D891),\"\")","v":""}]
[null,null,null,null,null,null,null,null,null,null,null,null,{"$f":"IF(データセット1!$B892<>\"\",IF($M$1=データセット1!$B892,データセット1!$D892),\"\")","v":""},{"$f":"IF(データセット1!$B892<>\"\",IF($N$1=データセット1!$B892,データセット1!$D892),\"\")","v":""},{"$f":"IF(データセット1!$B892<>\"\",IF($O$1=データセット1!$B892,データセット1!$D892),\"\")","v":""},{"$f":"IF(データセット1!$B892<>\"\",IF($P$1=データセット1!$B892,データセット1!$D892),\"\")","v":""},{"$f":"IF(データセット1!$B892<>\"\",IF($Q$1=データセット1!$B892,データセット1!$D892),\"\")","v":""},{"$f":"IF(データセット1!$B892<>\"\",IF($R$1=データセット1!$B892,データセット1!$D892),\"\")","v":""},{"$f":"IF(データセット1!$B892<>\"\",IF($S$1=データセット1!$B892,データセット1!$D892),\"\")","v":""},{"$f":"IF(データセット1!$B892<>\"\",IF($T$1=データセット1!$B892,データセット1!$D892),\"\")","v":""},{"$f":"IF(データセット1!$B892<>\"\",IF($U$1=データセット1!$B892,データセット1!$D892),\"\")","v":""}]
[null,null,null,null,null,null,null,null,null,null,null,null,{"$f":"IF(データセット1!$B893<>\"\",IF($M$1=データセット1!$B893,データセット1!$D893),\"\")","v":""},{"$f":"IF(データセット1!$B893<>\"\",IF($N$1=データセット1!$B893,データセット1!$D893),\"\")","v":""},{"$f":"IF(データセット1!$B893<>\"\",IF($O$1=データセット1!$B893,データセット1!$D893),\"\")","v":""},{"$f":"IF(データセット1!$B893<>\"\",IF($P$1=データセット1!$B893,データセット1!$D893),\"\")","v":""},{"$f":"IF(データセット1!$B893<>\"\",IF($Q$1=データセット1!$B893,データセット1!$D893),\"\")","v":""},{"$f":"IF(データセット1!$B893<>\"\",IF($R$1=データセット1!$B893,データセット1!$D893),\"\")","v":""},{"$f":"IF(データセット1!$B893<>\"\",IF($S$1=データセット1!$B893,データセット1!$D893),\"\")","v":""},{"$f":"IF(データセット1!$B893<>\"\",IF($T$1=データセット1!$B893,データセット1!$D893),\"\")","v":""},{"$f":"IF(データセット1!$B893<>\"\",IF($U$1=データセット1!$B893,データセット1!$D893),\"\")","v":""}]
[null,null,null,null,null,null,null,null,null,null,null,null,{"$f":"IF(データセット1!$B894<>\"\",IF($M$1=データセット1!$B894,データセット1!$D894),\"\")","v":""},{"$f":"IF(データセット1!$B894<>\"\",IF($N$1=データセット1!$B894,データセット1!$D894),\"\")","v":""},{"$f":"IF(データセット1!$B894<>\"\",IF($O$1=データセット1!$B894,データセット1!$D894),\"\")","v":""},{"$f":"IF(データセット1!$B894<>\"\",IF($P$1=データセット1!$B894,データセット1!$D894),\"\")","v":""},{"$f":"IF(データセット1!$B894<>\"\",IF($Q$1=データセット1!$B894,データセット1!$D894),\"\")","v":""},{"$f":"IF(データセット1!$B894<>\"\",IF($R$1=データセット1!$B894,データセット1!$D894),\"\")","v":""},{"$f":"IF(データセット1!$B894<>\"\",IF($S$1=データセット1!$B894,データセット1!$D894),\"\")","v":""},{"$f":"IF(データセット1!$B894<>\"\",IF($T$1=データセット1!$B894,データセット1!$D894),\"\")","v":""},{"$f":"IF(データセット1!$B894<>\"\",IF($U$1=データセット1!$B894,データセット1!$D894),\"\")","v":""}]
[null,null,null,null,null,null,null,null,null,null,null,null,{"$f":"IF(データセット1!$B895<>\"\",IF($M$1=データセット1!$B895,データセット1!$D895),\"\")","v":""},{"$f":"IF(データセット1!$B895<>\"\",IF($N$1=データセット1!$B895,データセット1!$D895),\"\")","v":""},{"$f":"IF(データセット1!$B895<>\"\",IF($O$1=データセット1!$B895,データセット1!$D895),\"\")","v":""},{"$f":"IF(データセット1!$B895<>\"\",IF($P$1=データセット1!$B895,データセット1!$D895),\"\")","v":""},{"$f":"IF(データセット1!$B895<>\"\",IF($Q$1=データセット1!$B895,データセット1!$D895),\"\")","v":""},{"$f":"IF(データセット1!$B895<>\"\",IF($R$1=データセット1!$B895,データセット1!$D895),\"\")","v":""},{"$f":"IF(データセット1!$B895<>\"\",IF($S$1=データセット1!$B895,データセット1!$D895),\"\")","v":""},{"$f":"IF(データセット1!$B895<>\"\",IF($T$1=データセット1!$B895,データセット1!$D895),\"\")","v":""},{"$f":"IF(データセット1!$B895<>\"\",IF($U$1=データセット1!$B895,データセット1!$D895),\"\")","v":""}]
[null,null,null,null,null,null,null,null,null,null,null,null,{"$f":"IF(データセット1!$B896<>\"\",IF($M$1=データセット1!$B896,データセット1!$D896),\"\")","v":""},{"$f":"IF(データセット1!$B896<>\"\",IF($N$1=データセット1!$B896,データセット1!$D896),\"\")","v":""},{"$f":"IF(データセット1!$B896<>\"\",IF($O$1=データセット1!$B896,データセット1!$D896),\"\")","v":""},{"$f":"IF(データセット1!$B896<>\"\",IF($P$1=データセット1!$B896,データセット1!$D896),\"\")","v":""},{"$f":"IF(データセット1!$B896<>\"\",IF($Q$1=データセット1!$B896,データセット1!$D896),\"\")","v":""},{"$f":"IF(データセット1!$B896<>\"\",IF($R$1=データセット1!$B896,データセット1!$D896),\"\")","v":""},{"$f":"IF(データセット1!$B896<>\"\",IF($S$1=データセット1!$B896,データセット1!$D896),\"\")","v":""},{"$f":"IF(データセット1!$B896<>\"\",IF($T$1=データセット1!$B896,データセット1!$D896),\"\")","v":""},{"$f":"IF(データセット1!$B896<>\"\",IF($U$1=データセット1!$B896,データセット1!$D896),\"\")","v":""}]
[null,null,null,null,null,null,null,null,null,null,null,null,{"$f":"IF(データセット1!$B897<>\"\",IF($M$1=データセット1!$B897,データセット1!$D897),\"\")","v":""},{"$f":"IF(データセット1!$B897<>\"\",IF($N$1=データセット1!$B897,データセット1!$D897),\"\")","v":""},{"$f":"IF(データセット1!$B897<>\"\",IF($O$1=データセット1!$B897,データセット1!$D897),\"\")","v":""},{"$f":"IF(データセット1!$B897<>\"\",IF($P$1=データセット1!$B897,データセット1!$D897),\"\")","v":""},{"$f":"IF(データセット1!$B897<>\"\",IF($Q$1=データセット1!$B897,データセット1!$D897),\"\")","v":""},{"$f":"IF(データセット1!$B897<>\"\",IF($R$1=データセット1!$B897,データセット1!$D897),\"\")","v":""},{"$f":"IF(データセット1!$B897<>\"\",IF($S$1=データセット1!$B897,データセット1!$D897),\"\")","v":""},{"$f":"IF(データセット1!$B897<>\"\",IF($T$1=データセット1!$B897,データセット1!$D897),\"\")","v":""},{"$f":"IF(データセット1!$B897<>\"\",IF($U$1=データセット1!$B897,データセット1!$D897),\"\")","v":""}]
[null,null,null,null,null,null,null,null,null,null,null,null,{"$f":"IF(データセット1!$B898<>\"\",IF($M$1=データセット1!$B898,データセット1!$D898),\"\")","v":""},{"$f":"IF(データセット1!$B898<>\"\",IF($N$1=データセット1!$B898,データセット1!$D898),\"\")","v":""},{"$f":"IF(データセット1!$B898<>\"\",IF($O$1=データセット1!$B898,データセット1!$D898),\"\")","v":""},{"$f":"IF(データセット1!$B898<>\"\",IF($P$1=データセット1!$B898,データセット1!$D898),\"\")","v":""},{"$f":"IF(データセット1!$B898<>\"\",IF($Q$1=データセット1!$B898,データセット1!$D898),\"\")","v":""},{"$f":"IF(データセット1!$B898<>\"\",IF($R$1=データセット1!$B898,データセット1!$D898),\"\")","v":""},{"$f":"IF(データセット1!$B898<>\"\",IF($S$1=データセット1!$B898,データセット1!$D898),\"\")","v":""},{"$f":"IF(データセット1!$B898<>\"\",IF($T$1=データセット1!$B898,データセット1!$D898),\"\")","v":""},{"$f":"IF(データセット1!$B898<>\"\",IF($U$1=データセット1!$B898,データセット1!$D898),\"\")","v":""}]
[null,null,null,null,null,null,null,null,null,null,null,null,{"$f":"IF(データセット1!$B899<>\"\",IF($M$1=データセット1!$B899,データセット1!$D899),\"\")","v":""},{"$f":"IF(データセット1!$B899<>\"\",IF($N$1=データセット1!$B899,データセット1!$D899),\"\")","v":""},{"$f":"IF(データセット1!$B899<>\"\",IF($O$1=データセット1!$B899,データセット1!$D899),\"\")","v":""},{"$f":"IF(データセット1!$B899<>\"\",IF($P$1=データセット1!$B899,データセット1!$D899),\"\")","v":""},{"$f":"IF(データセット1!$B899<>\"\",IF($Q$1=データセット1!$B899,データセット1!$D899),\"\")","v":""},{"$f":"IF(データセット1!$B899<>\"\",IF($R$1=データセット1!$B899,データセット1!$D899),\"\")","v":""},{"$f":"IF(データセット1!$B899<>\"\",IF($S$1=データセット1!$B899,データセット1!$D899),\"\")","v":""},{"$f":"IF(データセット1!$B899<>\"\",IF($T$1=データセット1!$B899,データセット1!$D899),\"\")","v":""},{"$f":"IF(データセット1!$B899<>\"\",IF($U$1=データセット1!$B899,データセット1!$D899),\"\")","v":""}]
[null,null,null,null,null,null,null,null,null,null,null,null,{"$f":"IF(データセット1!$B900<>\"\",IF($M$1=データセット1!$B900,データセット1!$D900),\"\")","v":""},{"$f":"IF(データセット1!$B900<>\"\",IF($N$1=データセット1!$B900,データセット1!$D900),\"\")","v":""},{"$f":"IF(データセット1!$B900<>\"\",IF($O$1=データセット1!$B900,データセット1!$D900),\"\")","v":""},{"$f":"IF(データセット1!$B900<>\"\",IF($P$1=データセット1!$B900,データセット1!$D900),\"\")","v":""},{"$f":"IF(データセット1!$B900<>\"\",IF($Q$1=データセット1!$B900,データセット1!$D900),\"\")","v":""},{"$f":"IF(データセット1!$B900<>\"\",IF($R$1=データセット1!$B900,データセット1!$D900),\"\")","v":""},{"$f":"IF(データセット1!$B900<>\"\",IF($S$1=データセット1!$B900,データセット1!$D900),\"\")","v":""},{"$f":"IF(データセット1!$B900<>\"\",IF($T$1=データセット1!$B900,データセット1!$D900),\"\")","v":""},{"$f":"IF(データセット1!$B900<>\"\",IF($U$1=データセット1!$B900,データセット1!$D900),\"\")","v":""}]
[null,null,null,null,null,null,null,null,null,null,null,null,{"$f":"IF(データセット1!$B901<>\"\",IF($M$1=データセット1!$B901,データセット1!$D901),\"\")","v":""},{"$f":"IF(データセット1!$B901<>\"\",IF($N$1=データセット1!$B901,データセット1!$D901),\"\")","v":""},{"$f":"IF(データセット1!$B901<>\"\",IF($O$1=データセット1!$B901,データセット1!$D901),\"\")","v":""},{"$f":"IF(データセット1!$B901<>\"\",IF($P$1=データセット1!$B901,データセット1!$D901),\"\")","v":""},{"$f":"IF(データセット1!$B901<>\"\",IF($Q$1=データセット1!$B901,データセット1!$D901),\"\")","v":""},{"$f":"IF(データセット1!$B901<>\"\",IF($R$1=データセット1!$B901,データセット1!$D901),\"\")","v":""},{"$f":"IF(データセット1!$B901<>\"\",IF($S$1=データセット1!$B901,データセット1!$D901),\"\")","v":""},{"$f":"IF(データセット1!$B901<>\"\",IF($T$1=データセット1!$B901,データセット1!$D901),\"\")","v":""},{"$f":"IF(データセット1!$B901<>\"\",IF($U$1=データセット1!$B901,データセット1!$D901),\"\")","v":""}]
[null,null,null,null,null,null,null,null,null,null,null,null,{"$f":"IF(データセット1!$B902<>\"\",IF($M$1=データセット1!$B902,データセット1!$D902),\"\")","v":""},{"$f":"IF(データセット1!$B902<>\"\",IF($N$1=データセット1!$B902,データセット1!$D902),\"\")","v":""},{"$f":"IF(データセット1!$B902<>\"\",IF($O$1=データセット1!$B902,データセット1!$D902),\"\")","v":""},{"$f":"IF(データセット1!$B902<>\"\",IF($P$1=データセット1!$B902,データセット1!$D902),\"\")","v":""},{"$f":"IF(データセット1!$B902<>\"\",IF($Q$1=データセット1!$B902,データセット1!$D902),\"\")","v":""},{"$f":"IF(データセット1!$B902<>\"\",IF($R$1=データセット1!$B902,データセット1!$D902),\"\")","v":""},{"$f":"IF(データセット1!$B902<>\"\",IF($S$1=データセット1!$B902,データセット1!$D902),\"\")","v":""},{"$f":"IF(データセット1!$B902<>\"\",IF($T$1=データセット1!$B902,データセット1!$D902),\"\")","v":""},{"$f":"IF(データセット1!$B902<>\"\",IF($U$1=データセット1!$B902,データセット1!$D902),\"\")","v":""}]
[null,null,null,null,null,null,null,null,null,null,null,null,{"$f":"IF(データセット1!$B903<>\"\",IF($M$1=データセット1!$B903,データセット1!$D903),\"\")","v":""},{"$f":"IF(データセット1!$B903<>\"\",IF($N$1=データセット1!$B903,データセット1!$D903),\"\")","v":""},{"$f":"IF(データセット1!$B903<>\"\",IF($O$1=データセット1!$B903,データセット1!$D903),\"\")","v":""},{"$f":"IF(データセット1!$B903<>\"\",IF($P$1=データセット1!$B903,データセット1!$D903),\"\")","v":""},{"$f":"IF(データセット1!$B903<>\"\",IF($Q$1=データセット1!$B903,データセット1!$D903),\"\")","v":""},{"$f":"IF(データセット1!$B903<>\"\",IF($R$1=データセット1!$B903,データセット1!$D903),\"\")","v":""},{"$f":"IF(データセット1!$B903<>\"\",IF($S$1=データセット1!$B903,データセット1!$D903),\"\")","v":""},{"$f":"IF(データセット1!$B903<>\"\",IF($T$1=データセット1!$B903,データセット1!$D903),\"\")","v":""},{"$f":"IF(データセット1!$B903<>\"\",IF($U$1=データセット1!$B903,データセット1!$D903),\"\")","v":""}]
[null,null,null,null,null,null,null,null,null,null,null,null,{"$f":"IF(データセット1!$B904<>\"\",IF($M$1=データセット1!$B904,データセット1!$D904),\"\")","v":""},{"$f":"IF(データセット1!$B904<>\"\",IF($N$1=データセット1!$B904,データセット1!$D904),\"\")","v":""},{"$f":"IF(データセット1!$B904<>\"\",IF($O$1=データセット1!$B904,データセット1!$D904),\"\")","v":""},{"$f":"IF(データセット1!$B904<>\"\",IF($P$1=データセット1!$B904,データセット1!$D904),\"\")","v":""},{"$f":"IF(データセット1!$B904<>\"\",IF($Q$1=データセット1!$B904,データセット1!$D904),\"\")","v":""},{"$f":"IF(データセット1!$B904<>\"\",IF($R$1=データセット1!$B904,データセット1!$D904),\"\")","v":""},{"$f":"IF(データセット1!$B904<>\"\",IF($S$1=データセット1!$B904,データセット1!$D904),\"\")","v":""},{"$f":"IF(データセット1!$B904<>\"\",IF($T$1=データセット1!$B904,データセット1!$D904),\"\")","v":""},{"$f":"IF(データセット1!$B904<>\"\",IF($U$1=データセット1!$B904,データセット1!$D904),\"\")","v":""}]
[null,null,null,null,null,null,null,null,null,null,null,null,{"$f":"IF(データセット1!$B905<>\"\",IF($M$1=データセット1!$B905,データセット1!$D905),\"\")","v":""},{"$f":"IF(データセット1!$B905<>\"\",IF($N$1=データセット1!$B905,データセット1!$D905),\"\")","v":""},{"$f":"IF(データセット1!$B905<>\"\",IF($O$1=データセット1!$B905,データセット1!$D905),\"\")","v":""},{"$f":"IF(データセット1!$B905<>\"\",IF($P$1=データセット1!$B905,データセット1!$D905),\"\")","v":""},{"$f":"IF(データセット1!$B905<>\"\",IF($Q$1=データセット1!$B905,データセット1!$D905),\"\")","v":""},{"$f":"IF(データセット1!$B905<>\"\",IF($R$1=データセット1!$B905,データセット1!$D905),\"\")","v":""},{"$f":"IF(データセット1!$B905<>\"\",IF($S$1=データセット1!$B905,データセット1!$D905),\"\")","v":""},{"$f":"IF(データセット1!$B905<>\"\",IF($T$1=データセット1!$B905,データセット1!$D905),\"\")","v":""},{"$f":"IF(データセット1!$B905<>\"\",IF($U$1=データセット1!$B905,データセット1!$D905),\"\")","v":""}]
[null,null,null,null,null,null,null,null,null,null,null,null,{"$f":"IF(データセット1!$B906<>\"\",IF($M$1=データセット1!$B906,データセット1!$D906),\"\")","v":""},{"$f":"IF(データセット1!$B906<>\"\",IF($N$1=データセット1!$B906,データセット1!$D906),\"\")","v":""},{"$f":"IF(データセット1!$B906<>\"\",IF($O$1=データセット1!$B906,データセット1!$D906),\"\")","v":""},{"$f":"IF(データセット1!$B906<>\"\",IF($P$1=データセット1!$B906,データセット1!$D906),\"\")","v":""},{"$f":"IF(データセット1!$B906<>\"\",IF($Q$1=データセット1!$B906,データセット1!$D906),\"\")","v":""},{"$f":"IF(データセット1!$B906<>\"\",IF($R$1=データセット1!$B906,データセット1!$D906),\"\")","v":""},{"$f":"IF(データセット1!$B906<>\"\",IF($S$1=データセット1!$B906,データセット1!$D906),\"\")","v":""},{"$f":"IF(データセット1!$B906<>\"\",IF($T$1=データセット1!$B906,データセット1!$D906),\"\")","v":""},{"$f":"IF(データセット1!$B906<>\"\",IF($U$1=データセット1!$B906,データセット1!$D906),\"\")","v":""}]
[null,null,null,null,null,null,null,null,null,null,null,null,{"$f":"IF(データセット1!$B907<>\"\",IF($M$1=データセット1!$B907,データセット1!$D907),\"\")","v":""},{"$f":"IF(データセット1!$B907<>\"\",IF($N$1=データセット1!$B907,データセット1!$D907),\"\")","v":""},{"$f":"IF(データセット1!$B907<>\"\",IF($O$1=データセット1!$B907,データセット1!$D907),\"\")","v":""},{"$f":"IF(データセット1!$B907<>\"\",IF($P$1=データセット1!$B907,データセット1!$D907),\"\")","v":""},{"$f":"IF(データセット1!$B907<>\"\",IF($Q$1=データセット1!$B907,データセット1!$D907),\"\")","v":""},{"$f":"IF(データセット1!$B907<>\"\",IF($R$1=データセット1!$B907,データセット1!$D907),\"\")","v":""},{"$f":"IF(データセット1!$B907<>\"\",IF($S$1=データセット1!$B907,データセット1!$D907),\"\")","v":""},{"$f":"IF(データセット1!$B907<>\"\",IF($T$1=データセット1!$B907,データセット1!$D907),\"\")","v":""},{"$f":"IF(データセット1!$B907<>\"\",IF($U$1=データセット1!$B907,データセット1!$D907),\"\")","v":""}]
[null,null,null,null,null,null,null,null,null,null,null,null,{"$f":"IF(データセット1!$B908<>\"\",IF($M$1=データセット1!$B908,データセット1!$D908),\"\")","v":""},{"$f":"IF(データセット1!$B908<>\"\",IF($N$1=データセット1!$B908,データセット1!$D908),\"\")","v":""},{"$f":"IF(データセット1!$B908<>\"\",IF($O$1=データセット1!$B908,データセット1!$D908),\"\")","v":""},{"$f":"IF(データセット1!$B908<>\"\",IF($P$1=データセット1!$B908,データセット1!$D908),\"\")","v":""},{"$f":"IF(データセット1!$B908<>\"\",IF($Q$1=データセット1!$B908,データセット1!$D908),\"\")","v":""},{"$f":"IF(データセット1!$B908<>\"\",IF($R$1=データセット1!$B908,データセット1!$D908),\"\")","v":""},{"$f":"IF(データセット1!$B908<>\"\",IF($S$1=データセット1!$B908,データセット1!$D908),\"\")","v":""},{"$f":"IF(データセット1!$B908<>\"\",IF($T$1=データセット1!$B908,データセット1!$D908),\"\")","v":""},{"$f":"IF(データセット1!$B908<>\"\",IF($U$1=データセット1!$B908,データセット1!$D908),\"\")","v":""}]
[null,null,null,null,null,null,null,null,null,null,null,null,{"$f":"IF(データセット1!$B909<>\"\",IF($M$1=データセット1!$B909,データセット1!$D909),\"\")","v":""},{"$f":"IF(データセット1!$B909<>\"\",IF($N$1=データセット1!$B909,データセット1!$D909),\"\")","v":""},{"$f":"IF(データセット1!$B909<>\"\",IF($O$1=データセット1!$B909,データセット1!$D909),\"\")","v":""},{"$f":"IF(データセット1!$B909<>\"\",IF($P$1=データセット1!$B909,データセット1!$D909),\"\")","v":""},{"$f":"IF(データセット1!$B909<>\"\",IF($Q$1=データセット1!$B909,データセット1!$D909),\"\")","v":""},{"$f":"IF(データセット1!$B909<>\"\",IF($R$1=データセット1!$B909,データセット1!$D909),\"\")","v":""},{"$f":"IF(データセット1!$B909<>\"\",IF($S$1=データセット1!$B909,データセット1!$D909),\"\")","v":""},{"$f":"IF(データセット1!$B909<>\"\",IF($T$1=データセット1!$B909,データセット1!$D909),\"\")","v":""},{"$f":"IF(データセット1!$B909<>\"\",IF($U$1=データセット1!$B909,データセット1!$D909),\"\")","v":""}]
[null,null,null,null,null,null,null,null,null,null,null,null,{"$f":"IF(データセット1!$B910<>\"\",IF($M$1=データセット1!$B910,データセット1!$D910),\"\")","v":""},{"$f":"IF(データセット1!$B910<>\"\",IF($N$1=データセット1!$B910,データセット1!$D910),\"\")","v":""},{"$f":"IF(データセット1!$B910<>\"\",IF($O$1=データセット1!$B910,データセット1!$D910),\"\")","v":""},{"$f":"IF(データセット1!$B910<>\"\",IF($P$1=データセット1!$B910,データセット1!$D910),\"\")","v":""},{"$f":"IF(データセット1!$B910<>\"\",IF($Q$1=データセット1!$B910,データセット1!$D910),\"\")","v":""},{"$f":"IF(データセット1!$B910<>\"\",IF($R$1=データセット1!$B910,データセット1!$D910),\"\")","v":""},{"$f":"IF(データセット1!$B910<>\"\",IF($S$1=データセット1!$B910,データセット1!$D910),\"\")","v":""},{"$f":"IF(データセット1!$B910<>\"\",IF($T$1=データセット1!$B910,データセット1!$D910),\"\")","v":""},{"$f":"IF(データセット1!$B910<>\"\",IF($U$1=データセット1!$B910,データセット1!$D910),\"\")","v":""}]
[null,null,null,null,null,null,null,null,null,null,null,null,{"$f":"IF(データセット1!$B911<>\"\",IF($M$1=データセット1!$B911,データセット1!$D911),\"\")","v":""},{"$f":"IF(データセット1!$B911<>\"\",IF($N$1=データセット1!$B911,データセット1!$D911),\"\")","v":""},{"$f":"IF(データセット1!$B911<>\"\",IF($O$1=データセット1!$B911,データセット1!$D911),\"\")","v":""},{"$f":"IF(データセット1!$B911<>\"\",IF($P$1=データセット1!$B911,データセット1!$D911),\"\")","v":""},{"$f":"IF(データセット1!$B911<>\"\",IF($Q$1=データセット1!$B911,データセット1!$D911),\"\")","v":""},{"$f":"IF(データセット1!$B911<>\"\",IF($R$1=データセット1!$B911,データセット1!$D911),\"\")","v":""},{"$f":"IF(データセット1!$B911<>\"\",IF($S$1=データセット1!$B911,データセット1!$D911),\"\")","v":""},{"$f":"IF(データセット1!$B911<>\"\",IF($T$1=データセット1!$B911,データセット1!$D911),\"\")","v":""},{"$f":"IF(データセット1!$B911<>\"\",IF($U$1=データセット1!$B911,データセット1!$D911),\"\")","v":""}]
[null,null,null,null,null,null,null,null,null,null,null,null,{"$f":"IF(データセット1!$B912<>\"\",IF($M$1=データセット1!$B912,データセット1!$D912),\"\")","v":""},{"$f":"IF(データセット1!$B912<>\"\",IF($N$1=データセット1!$B912,データセット1!$D912),\"\")","v":""},{"$f":"IF(データセット1!$B912<>\"\",IF($O$1=データセット1!$B912,データセット1!$D912),\"\")","v":""},{"$f":"IF(データセット1!$B912<>\"\",IF($P$1=データセット1!$B912,データセット1!$D912),\"\")","v":""},{"$f":"IF(データセット1!$B912<>\"\",IF($Q$1=データセット1!$B912,データセット1!$D912),\"\")","v":""},{"$f":"IF(データセット1!$B912<>\"\",IF($R$1=データセット1!$B912,データセット1!$D912),\"\")","v":""},{"$f":"IF(データセット1!$B912<>\"\",IF($S$1=データセット1!$B912,データセット1!$D912),\"\")","v":""},{"$f":"IF(データセット1!$B912<>\"\",IF($T$1=データセット1!$B912,データセット1!$D912),\"\")","v":""},{"$f":"IF(データセット1!$B912<>\"\",IF($U$1=データセット1!$B912,データセット1!$D912),\"\")","v":""}]
[null,null,null,null,null,null,null,null,null,null,null,null,{"$f":"IF(データセット1!$B913<>\"\",IF($M$1=データセット1!$B913,データセット1!$D913),\"\")","v":""},{"$f":"IF(データセット1!$B913<>\"\",IF($N$1=データセット1!$B913,データセット1!$D913),\"\")","v":""},{"$f":"IF(データセット1!$B913<>\"\",IF($O$1=データセット1!$B913,データセット1!$D913),\"\")","v":""},{"$f":"IF(データセット1!$B913<>\"\",IF($P$1=データセット1!$B913,データセット1!$D913),\"\")","v":""},{"$f":"IF(データセット1!$B913<>\"\",IF($Q$1=データセット1!$B913,データセット1!$D913),\"\")","v":""},{"$f":"IF(データセット1!$B913<>\"\",IF($R$1=データセット1!$B913,データセット1!$D913),\"\")","v":""},{"$f":"IF(データセット1!$B913<>\"\",IF($S$1=データセット1!$B913,データセット1!$D913),\"\")","v":""},{"$f":"IF(データセット1!$B913<>\"\",IF($T$1=データセット1!$B913,データセット1!$D913),\"\")","v":""},{"$f":"IF(データセット1!$B913<>\"\",IF($U$1=データセット1!$B913,データセット1!$D913),\"\")","v":""}]
[null,null,null,null,null,null,null,null,null,null,null,null,{"$f":"IF(データセット1!$B914<>\"\",IF($M$1=データセット1!$B914,データセット1!$D914),\"\")","v":""},{"$f":"IF(データセット1!$B914<>\"\",IF($N$1=データセット1!$B914,データセット1!$D914),\"\")","v":""},{"$f":"IF(データセット1!$B914<>\"\",IF($O$1=データセット1!$B914,データセット1!$D914),\"\")","v":""},{"$f":"IF(データセット1!$B914<>\"\",IF($P$1=データセット1!$B914,データセット1!$D914),\"\")","v":""},{"$f":"IF(データセット1!$B914<>\"\",IF($Q$1=データセット1!$B914,データセット1!$D914),\"\")","v":""},{"$f":"IF(データセット1!$B914<>\"\",IF($R$1=データセット1!$B914,データセット1!$D914),\"\")","v":""},{"$f":"IF(データセット1!$B914<>\"\",IF($S$1=データセット1!$B914,データセット1!$D914),\"\")","v":""},{"$f":"IF(データセット1!$B914<>\"\",IF($T$1=データセット1!$B914,データセット1!$D914),\"\")","v":""},{"$f":"IF(データセット1!$B914<>\"\",IF($U$1=データセット1!$B914,データセット1!$D914),\"\")","v":""}]
[null,null,null,null,null,null,null,null,null,null,null,null,{"$f":"IF(データセット1!$B915<>\"\",IF($M$1=データセット1!$B915,データセット1!$D915),\"\")","v":""},{"$f":"IF(データセット1!$B915<>\"\",IF($N$1=データセット1!$B915,データセット1!$D915),\"\")","v":""},{"$f":"IF(データセット1!$B915<>\"\",IF($O$1=データセット1!$B915,データセット1!$D915),\"\")","v":""},{"$f":"IF(データセット1!$B915<>\"\",IF($P$1=データセット1!$B915,データセット1!$D915),\"\")","v":""},{"$f":"IF(データセット1!$B915<>\"\",IF($Q$1=データセット1!$B915,データセット1!$D915),\"\")","v":""},{"$f":"IF(データセット1!$B915<>\"\",IF($R$1=データセット1!$B915,データセット1!$D915),\"\")","v":""},{"$f":"IF(データセット1!$B915<>\"\",IF($S$1=データセット1!$B915,データセット1!$D915),\"\")","v":""},{"$f":"IF(データセット1!$B915<>\"\",IF($T$1=データセット1!$B915,データセット1!$D915),\"\")","v":""},{"$f":"IF(データセット1!$B915<>\"\",IF($U$1=データセット1!$B915,データセット1!$D915),\"\")","v":""}]
[null,null,null,null,null,null,null,null,null,null,null,null,{"$f":"IF(データセット1!$B916<>\"\",IF($M$1=データセット1!$B916,データセット1!$D916),\"\")","v":""},{"$f":"IF(データセット1!$B916<>\"\",IF($N$1=データセット1!$B916,データセット1!$D916),\"\")","v":""},{"$f":"IF(データセット1!$B916<>\"\",IF($O$1=データセット1!$B916,データセット1!$D916),\"\")","v":""},{"$f":"IF(データセット1!$B916<>\"\",IF($P$1=データセット1!$B916,データセット1!$D916),\"\")","v":""},{"$f":"IF(データセット1!$B916<>\"\",IF($Q$1=データセット1!$B916,データセット1!$D916),\"\")","v":""},{"$f":"IF(データセット1!$B916<>\"\",IF($R$1=データセット1!$B916,データセット1!$D916),\"\")","v":""},{"$f":"IF(データセット1!$B916<>\"\",IF($S$1=データセット1!$B916,データセット1!$D916),\"\")","v":""},{"$f":"IF(データセット1!$B916<>\"\",IF($T$1=データセット1!$B916,データセット1!$D916),\"\")","v":""},{"$f":"IF(データセット1!$B916<>\"\",IF($U$1=データセット1!$B916,データセット1!$D916),\"\")","v":""}]
[null,null,null,null,null,null,null,null,null,null,null,null,{"$f":"IF(データセット1!$B917<>\"\",IF($M$1=データセット1!$B917,データセット1!$D917),\"\")","v":""},{"$f":"IF(データセット1!$B917<>\"\",IF($N$1=データセット1!$B917,データセット1!$D917),\"\")","v":""},{"$f":"IF(データセット1!$B917<>\"\",IF($O$1=データセット1!$B917,データセット1!$D917),\"\")","v":""},{"$f":"IF(データセット1!$B917<>\"\",IF($P$1=データセット1!$B917,データセット1!$D917),\"\")","v":""},{"$f":"IF(データセット1!$B917<>\"\",IF($Q$1=データセット1!$B917,データセット1!$D917),\"\")","v":""},{"$f":"IF(データセット1!$B917<>\"\",IF($R$1=データセット1!$B917,データセット1!$D917),\"\")","v":""},{"$f":"IF(データセット1!$B917<>\"\",IF($S$1=データセット1!$B917,データセット1!$D917),\"\")","v":""},{"$f":"IF(データセット1!$B917<>\"\",IF($T$1=データセット1!$B917,データセット1!$D917),\"\")","v":""},{"$f":"IF(データセット1!$B917<>\"\",IF($U$1=データセット1!$B917,データセット1!$D917),\"\")","v":""}]
[null,null,null,null,null,null,null,null,null,null,null,null,{"$f":"IF(データセット1!$B918<>\"\",IF($M$1=データセット1!$B918,データセット1!$D918),\"\")","v":""},{"$f":"IF(データセット1!$B918<>\"\",IF($N$1=データセット1!$B918,データセット1!$D918),\"\")","v":""},{"$f":"IF(データセット1!$B918<>\"\",IF($O$1=データセット1!$B918,データセット1!$D918),\"\")","v":""},{"$f":"IF(データセット1!$B918<>\"\",IF($P$1=データセット1!$B918,データセット1!$D918),\"\")","v":""},{"$f":"IF(データセット1!$B918<>\"\",IF($Q$1=データセット1!$B918,データセット1!$D918),\"\")","v":""},{"$f":"IF(データセット1!$B918<>\"\",IF($R$1=データセット1!$B918,データセット1!$D918),\"\")","v":""},{"$f":"IF(データセット1!$B918<>\"\",IF($S$1=データセット1!$B918,データセット1!$D918),\"\")","v":""},{"$f":"IF(データセット1!$B918<>\"\",IF($T$1=データセット1!$B918,データセット1!$D918),\"\")","v":""},{"$f":"IF(データセット1!$B918<>\"\",IF($U$1=データセット1!$B918,データセット1!$D918),\"\")","v":""}]
[null,null,null,null,null,null,null,null,null,null,null,null,{"$f":"IF(データセット1!$B919<>\"\",IF($M$1=データセット1!$B919,データセット1!$D919),\"\")","v":""},{"$f":"IF(データセット1!$B919<>\"\",IF($N$1=データセット1!$B919,データセット1!$D919),\"\")","v":""},{"$f":"IF(データセット1!$B919<>\"\",IF($O$1=データセット1!$B919,データセット1!$D919),\"\")","v":""},{"$f":"IF(データセット1!$B919<>\"\",IF($P$1=データセット1!$B919,データセット1!$D919),\"\")","v":""},{"$f":"IF(データセット1!$B919<>\"\",IF($Q$1=データセット1!$B919,データセット1!$D919),\"\")","v":""},{"$f":"IF(データセット1!$B919<>\"\",IF($R$1=データセット1!$B919,データセット1!$D919),\"\")","v":""},{"$f":"IF(データセット1!$B919<>\"\",IF($S$1=データセット1!$B919,データセット1!$D919),\"\")","v":""},{"$f":"IF(データセット1!$B919<>\"\",IF($T$1=データセット1!$B919,データセット1!$D919),\"\")","v":""},{"$f":"IF(データセット1!$B919<>\"\",IF($U$1=データセット1!$B919,データセット1!$D919),\"\")","v":""}]
[null,null,null,null,null,null,null,null,null,null,null,null,{"$f":"IF(データセット1!$B920<>\"\",IF($M$1=データセット1!$B920,データセット1!$D920),\"\")","v":""},{"$f":"IF(データセット1!$B920<>\"\",IF($N$1=データセット1!$B920,データセット1!$D920),\"\")","v":""},{"$f":"IF(データセット1!$B920<>\"\",IF($O$1=データセット1!$B920,データセット1!$D920),\"\")","v":""},{"$f":"IF(データセット1!$B920<>\"\",IF($P$1=データセット1!$B920,データセット1!$D920),\"\")","v":""},{"$f":"IF(データセット1!$B920<>\"\",IF($Q$1=データセット1!$B920,データセット1!$D920),\"\")","v":""},{"$f":"IF(データセット1!$B920<>\"\",IF($R$1=データセット1!$B920,データセット1!$D920),\"\")","v":""},{"$f":"IF(データセット1!$B920<>\"\",IF($S$1=データセット1!$B920,データセット1!$D920),\"\")","v":""},{"$f":"IF(データセット1!$B920<>\"\",IF($T$1=データセット1!$B920,データセット1!$D920),\"\")","v":""},{"$f":"IF(データセット1!$B920<>\"\",IF($U$1=データセット1!$B920,データセット1!$D920),\"\")","v":""}]
[null,null,null,null,null,null,null,null,null,null,null,null,{"$f":"IF(データセット1!$B921<>\"\",IF($M$1=データセット1!$B921,データセット1!$D921),\"\")","v":""},{"$f":"IF(データセット1!$B921<>\"\",IF($N$1=データセット1!$B921,データセット1!$D921),\"\")","v":""},{"$f":"IF(データセット1!$B921<>\"\",IF($O$1=データセット1!$B921,データセット1!$D921),\"\")","v":""},{"$f":"IF(データセット1!$B921<>\"\",IF($P$1=データセット1!$B921,データセット1!$D921),\"\")","v":""},{"$f":"IF(データセット1!$B921<>\"\",IF($Q$1=データセット1!$B921,データセット1!$D921),\"\")","v":""},{"$f":"IF(データセット1!$B921<>\"\",IF($R$1=データセット1!$B921,データセット1!$D921),\"\")","v":""},{"$f":"IF(データセット1!$B921<>\"\",IF($S$1=データセット1!$B921,データセット1!$D921),\"\")","v":""},{"$f":"IF(データセット1!$B921<>\"\",IF($T$1=データセット1!$B921,データセット1!$D921),\"\")","v":""},{"$f":"IF(データセット1!$B921<>\"\",IF($U$1=データセット1!$B921,データセット1!$D921),\"\")","v":""}]
[null,null,null,null,null,null,null,null,null,null,null,null,{"$f":"IF(データセット1!$B922<>\"\",IF($M$1=データセット1!$B922,データセット1!$D922),\"\")","v":""},{"$f":"IF(データセット1!$B922<>\"\",IF($N$1=データセット1!$B922,データセット1!$D922),\"\")","v":""},{"$f":"IF(データセット1!$B922<>\"\",IF($O$1=データセット1!$B922,データセット1!$D922),\"\")","v":""},{"$f":"IF(データセット1!$B922<>\"\",IF($P$1=データセット1!$B922,データセット1!$D922),\"\")","v":""},{"$f":"IF(データセット1!$B922<>\"\",IF($Q$1=データセット1!$B922,データセット1!$D922),\"\")","v":""},{"$f":"IF(データセット1!$B922<>\"\",IF($R$1=データセット1!$B922,データセット1!$D922),\"\")","v":""},{"$f":"IF(データセット1!$B922<>\"\",IF($S$1=データセット1!$B922,データセット1!$D922),\"\")","v":""},{"$f":"IF(データセット1!$B922<>\"\",IF($T$1=データセット1!$B922,データセット1!$D922),\"\")","v":""},{"$f":"IF(データセット1!$B922<>\"\",IF($U$1=データセット1!$B922,データセット1!$D922),\"\")","v":""}]
[null,null,null,null,null,null,null,null,null,null,null,null,{"$f":"IF(データセット1!$B923<>\"\",IF($M$1=データセット1!$B923,データセット1!$D923),\"\")","v":""},{"$f":"IF(データセット1!$B923<>\"\",IF($N$1=データセット1!$B923,データセット1!$D923),\"\")","v":""},{"$f":"IF(データセット1!$B923<>\"\",IF($O$1=データセット1!$B923,データセット1!$D923),\"\")","v":""},{"$f":"IF(データセット1!$B923<>\"\",IF($P$1=データセット1!$B923,データセット1!$D923),\"\")","v":""},{"$f":"IF(データセット1!$B923<>\"\",IF($Q$1=データセット1!$B923,データセット1!$D923),\"\")","v":""},{"$f":"IF(データセット1!$B923<>\"\",IF($R$1=データセット1!$B923,データセット1!$D923),\"\")","v":""},{"$f":"IF(データセット1!$B923<>\"\",IF($S$1=データセット1!$B923,データセット1!$D923),\"\")","v":""},{"$f":"IF(データセット1!$B923<>\"\",IF($T$1=データセット1!$B923,データセット1!$D923),\"\")","v":""},{"$f":"IF(データセット1!$B923<>\"\",IF($U$1=データセット1!$B923,データセット1!$D923),\"\")","v":""}]
[null,null,null,null,null,null,null,null,null,null,null,null,{"$f":"IF(データセット1!$B924<>\"\",IF($M$1=データセット1!$B924,データセット1!$D924),\"\")","v":""},{"$f":"IF(データセット1!$B924<>\"\",IF($N$1=データセット1!$B924,データセット1!$D924),\"\")","v":""},{"$f":"IF(データセット1!$B924<>\"\",IF($O$1=データセット1!$B924,データセット1!$D924),\"\")","v":""},{"$f":"IF(データセット1!$B924<>\"\",IF($P$1=データセット1!$B924,データセット1!$D924),\"\")","v":""},{"$f":"IF(データセット1!$B924<>\"\",IF($Q$1=データセット1!$B924,データセット1!$D924),\"\")","v":""},{"$f":"IF(データセット1!$B924<>\"\",IF($R$1=データセット1!$B924,データセット1!$D924),\"\")","v":""},{"$f":"IF(データセット1!$B924<>\"\",IF($S$1=データセット1!$B924,データセット1!$D924),\"\")","v":""},{"$f":"IF(データセット1!$B924<>\"\",IF($T$1=データセット1!$B924,データセット1!$D924),\"\")","v":""},{"$f":"IF(データセット1!$B924<>\"\",IF($U$1=データセット1!$B924,データセット1!$D924),\"\")","v":""}]
[null,null,null,null,null,null,null,null,null,null,null,null,{"$f":"IF(データセット1!$B925<>\"\",IF($M$1=データセット1!$B925,データセット1!$D925),\"\")","v":""},{"$f":"IF(データセット1!$B925<>\"\",IF($N$1=データセット1!$B925,データセット1!$D925),\"\")","v":""},{"$f":"IF(データセット1!$B925<>\"\",IF($O$1=データセット1!$B925,データセット1!$D925),\"\")","v":""},{"$f":"IF(データセット1!$B925<>\"\",IF($P$1=データセット1!$B925,データセット1!$D925),\"\")","v":""},{"$f":"IF(データセット1!$B925<>\"\",IF($Q$1=データセット1!$B925,データセット1!$D925),\"\")","v":""},{"$f":"IF(データセット1!$B925<>\"\",IF($R$1=データセット1!$B925,データセット1!$D925),\"\")","v":""},{"$f":"IF(データセット1!$B925<>\"\",IF($S$1=データセット1!$B925,データセット1!$D925),\"\")","v":""},{"$f":"IF(データセット1!$B925<>\"\",IF($T$1=データセット1!$B925,データセット1!$D925),\"\")","v":""},{"$f":"IF(データセット1!$B925<>\"\",IF($U$1=データセット1!$B925,データセット1!$D925),\"\")","v":""}]
[null,null,null,null,null,null,null,null,null,null,null,null,{"$f":"IF(データセット1!$B926<>\"\",IF($M$1=データセット1!$B926,データセット1!$D926),\"\")","v":""},{"$f":"IF(データセット1!$B926<>\"\",IF($N$1=データセット1!$B926,データセット1!$D926),\"\")","v":""},{"$f":"IF(データセット1!$B926<>\"\",IF($O$1=データセット1!$B926,データセット1!$D926),\"\")","v":""},{"$f":"IF(データセット1!$B926<>\"\",IF($P$1=データセット1!$B926,データセット1!$D926),\"\")","v":""},{"$f":"IF(データセット1!$B926<>\"\",IF($Q$1=データセット1!$B926,データセット1!$D926),\"\")","v":""},{"$f":"IF(データセット1!$B926<>\"\",IF($R$1=データセット1!$B926,データセット1!$D926),\"\")","v":""},{"$f":"IF(データセット1!$B926<>\"\",IF($S$1=データセット1!$B926,データセット1!$D926),\"\")","v":""},{"$f":"IF(データセット1!$B926<>\"\",IF($T$1=データセット1!$B926,データセット1!$D926),\"\")","v":""},{"$f":"IF(データセット1!$B926<>\"\",IF($U$1=データセット1!$B926,データセット1!$D926),\"\")","v":""}]
[null,null,null,null,null,null,null,null,null,null,null,null,{"$f":"IF(データセット1!$B927<>\"\",IF($M$1=データセット1!$B927,データセット1!$D927),\"\")","v":""},{"$f":"IF(データセット1!$B927<>\"\",IF($N$1=データセット1!$B927,データセット1!$D927),\"\")","v":""},{"$f":"IF(データセット1!$B927<>\"\",IF($O$1=データセット1!$B927,データセット1!$D927),\"\")","v":""},{"$f":"IF(データセット1!$B927<>\"\",IF($P$1=データセット1!$B927,データセット1!$D927),\"\")","v":""},{"$f":"IF(データセット1!$B927<>\"\",IF($Q$1=データセット1!$B927,データセット1!$D927),\"\")","v":""},{"$f":"IF(データセット1!$B927<>\"\",IF($R$1=データセット1!$B927,データセット1!$D927),\"\")","v":""},{"$f":"IF(データセット1!$B927<>\"\",IF($S$1=データセット1!$B927,データセット1!$D927),\"\")","v":""},{"$f":"IF(データセット1!$B927<>\"\",IF($T$1=データセット1!$B927,データセット1!$D927),\"\")","v":""},{"$f":"IF(データセット1!$B927<>\"\",IF($U$1=データセット1!$B927,データセット1!$D927),\"\")","v":""}]
[null,null,null,null,null,null,null,null,null,null,null,null,{"$f":"IF(データセット1!$B928<>\"\",IF($M$1=データセット1!$B928,データセット1!$D928),\"\")","v":""},{"$f":"IF(データセット1!$B928<>\"\",IF($N$1=データセット1!$B928,データセット1!$D928),\"\")","v":""},{"$f":"IF(データセット1!$B928<>\"\",IF($O$1=データセット1!$B928,データセット1!$D928),\"\")","v":""},{"$f":"IF(データセット1!$B928<>\"\",IF($P$1=データセット1!$B928,データセット1!$D928),\"\")","v":""},{"$f":"IF(データセット1!$B928<>\"\",IF($Q$1=データセット1!$B928,データセット1!$D928),\"\")","v":""},{"$f":"IF(データセット1!$B928<>\"\",IF($R$1=データセット1!$B928,データセット1!$D928),\"\")","v":""},{"$f":"IF(データセット1!$B928<>\"\",IF($S$1=データセット1!$B928,データセット1!$D928),\"\")","v":""},{"$f":"IF(データセット1!$B928<>\"\",IF($T$1=データセット1!$B928,データセット1!$D928),\"\")","v":""},{"$f":"IF(データセット1!$B928<>\"\",IF($U$1=データセット1!$B928,データセット1!$D928),\"\")","v":""}]
[null,null,null,null,null,null,null,null,null,null,null,null,{"$f":"IF(データセット1!$B929<>\"\",IF($M$1=データセット1!$B929,データセット1!$D929),\"\")","v":""},{"$f":"IF(データセット1!$B929<>\"\",IF($N$1=データセット1!$B929,データセット1!$D929),\"\")","v":""},{"$f":"IF(データセット1!$B929<>\"\",IF($O$1=データセット1!$B929,データセット1!$D929),\"\")","v":""},{"$f":"IF(データセット1!$B929<>\"\",IF($P$1=データセット1!$B929,データセット1!$D929),\"\")","v":""},{"$f":"IF(データセット1!$B929<>\"\",IF($Q$1=データセット1!$B929,データセット1!$D929),\"\")","v":""},{"$f":"IF(データセット1!$B929<>\"\",IF($R$1=データセット1!$B929,データセット1!$D929),\"\")","v":""},{"$f":"IF(データセット1!$B929<>\"\",IF($S$1=データセット1!$B929,データセット1!$D929),\"\")","v":""},{"$f":"IF(データセット1!$B929<>\"\",IF($T$1=データセット1!$B929,データセット1!$D929),\"\")","v":""},{"$f":"IF(データセット1!$B929<>\"\",IF($U$1=データセット1!$B929,データセット1!$D929),\"\")","v":""}]
[null,null,null,null,null,null,null,null,null,null,null,null,{"$f":"IF(データセット1!$B930<>\"\",IF($M$1=データセット1!$B930,データセット1!$D930),\"\")","v":""},{"$f":"IF(データセット1!$B930<>\"\",IF($N$1=データセット1!$B930,データセット1!$D930),\"\")","v":""},{"$f":"IF(データセット1!$B930<>\"\",IF($O$1=データセット1!$B930,データセット1!$D930),\"\")","v":""},{"$f":"IF(データセット1!$B930<>\"\",IF($P$1=データセット1!$B930,データセット1!$D930),\"\")","v":""},{"$f":"IF(データセット1!$B930<>\"\",IF($Q$1=データセット1!$B930,データセット1!$D930),\"\")","v":""},{"$f":"IF(データセット1!$B930<>\"\",IF($R$1=データセット1!$B930,データセット1!$D930),\"\")","v":""},{"$f":"IF(データセット1!$B930<>\"\",IF($S$1=データセット1!$B930,データセット1!$D930),\"\")","v":""},{"$f":"IF(データセット1!$B930<>\"\",IF($T$1=データセット1!$B930,データセット1!$D930),\"\")","v":""},{"$f":"IF(データセット1!$B930<>\"\",IF($U$1=データセット1!$B930,データセット1!$D930),\"\")","v":""}]
[null,null,null,null,null,null,null,null,null,null,null,null,{"$f":"IF(データセット1!$B931<>\"\",IF($M$1=データセット1!$B931,データセット1!$D931),\"\")","v":""},{"$f":"IF(データセット1!$B931<>\"\",IF($N$1=データセット1!$B931,データセット1!$D931),\"\")","v":""},{"$f":"IF(データセット1!$B931<>\"\",IF($O$1=データセット1!$B931,データセット1!$D931),\"\")","v":""},{"$f":"IF(データセット1!$B931<>\"\",IF($P$1=データセット1!$B931,データセット1!$D931),\"\")","v":""},{"$f":"IF(データセット1!$B931<>\"\",IF($Q$1=データセット1!$B931,データセット1!$D931),\"\")","v":""},{"$f":"IF(データセット1!$B931<>\"\",IF($R$1=データセット1!$B931,データセット1!$D931),\"\")","v":""},{"$f":"IF(データセット1!$B931<>\"\",IF($S$1=データセット1!$B931,データセット1!$D931),\"\")","v":""},{"$f":"IF(データセット1!$B931<>\"\",IF($T$1=データセット1!$B931,データセット1!$D931),\"\")","v":""},{"$f":"IF(データセット1!$B931<>\"\",IF($U$1=データセット1!$B931,データセット1!$D931),\"\")","v":""}]
[null,null,null,null,null,null,null,null,null,null,null,null,{"$f":"IF(データセット1!$B932<>\"\",IF($M$1=データセット1!$B932,データセット1!$D932),\"\")","v":""},{"$f":"IF(データセット1!$B932<>\"\",IF($N$1=データセット1!$B932,データセット1!$D932),\"\")","v":""},{"$f":"IF(データセット1!$B932<>\"\",IF($O$1=データセット1!$B932,データセット1!$D932),\"\")","v":""},{"$f":"IF(データセット1!$B932<>\"\",IF($P$1=データセット1!$B932,データセット1!$D932),\"\")","v":""},{"$f":"IF(データセット1!$B932<>\"\",IF($Q$1=データセット1!$B932,データセット1!$D932),\"\")","v":""},{"$f":"IF(データセット1!$B932<>\"\",IF($R$1=データセット1!$B932,データセット1!$D932),\"\")","v":""},{"$f":"IF(データセット1!$B932<>\"\",IF($S$1=データセット1!$B932,データセット1!$D932),\"\")","v":""},{"$f":"IF(データセット1!$B932<>\"\",IF($T$1=データセット1!$B932,データセット1!$D932),\"\")","v":""},{"$f":"IF(データセット1!$B932<>\"\",IF($U$1=データセット1!$B932,データセット1!$D932),\"\")","v":""}]
[null,null,null,null,null,null,null,null,null,null,null,null,{"$f":"IF(データセット1!$B933<>\"\",IF($M$1=データセット1!$B933,データセット1!$D933),\"\")","v":""},{"$f":"IF(データセット1!$B933<>\"\",IF($N$1=データセット1!$B933,データセット1!$D933),\"\")","v":""},{"$f":"IF(データセット1!$B933<>\"\",IF($O$1=データセット1!$B933,データセット1!$D933),\"\")","v":""},{"$f":"IF(データセット1!$B933<>\"\",IF($P$1=データセット1!$B933,データセット1!$D933),\"\")","v":""},{"$f":"IF(データセット1!$B933<>\"\",IF($Q$1=データセット1!$B933,データセット1!$D933),\"\")","v":""},{"$f":"IF(データセット1!$B933<>\"\",IF($R$1=データセット1!$B933,データセット1!$D933),\"\")","v":""},{"$f":"IF(データセット1!$B933<>\"\",IF($S$1=データセット1!$B933,データセット1!$D933),\"\")","v":""},{"$f":"IF(データセット1!$B933<>\"\",IF($T$1=データセット1!$B933,データセット1!$D933),\"\")","v":""},{"$f":"IF(データセット1!$B933<>\"\",IF($U$1=データセット1!$B933,データセット1!$D933),\"\")","v":""}]
[null,null,null,null,null,null,null,null,null,null,null,null,{"$f":"IF(データセット1!$B934<>\"\",IF($M$1=データセット1!$B934,データセット1!$D934),\"\")","v":""},{"$f":"IF(データセット1!$B934<>\"\",IF($N$1=データセット1!$B934,データセット1!$D934),\"\")","v":""},{"$f":"IF(データセット1!$B934<>\"\",IF($O$1=データセット1!$B934,データセット1!$D934),\"\")","v":""},{"$f":"IF(データセット1!$B934<>\"\",IF($P$1=データセット1!$B934,データセット1!$D934),\"\")","v":""},{"$f":"IF(データセット1!$B934<>\"\",IF($Q$1=データセット1!$B934,データセット1!$D934),\"\")","v":""},{"$f":"IF(データセット1!$B934<>\"\",IF($R$1=データセット1!$B934,データセット1!$D934),\"\")","v":""},{"$f":"IF(データセット1!$B934<>\"\",IF($S$1=データセット1!$B934,データセット1!$D934),\"\")","v":""},{"$f":"IF(データセット1!$B934<>\"\",IF($T$1=データセット1!$B934,データセット1!$D934),\"\")","v":""},{"$f":"IF(データセット1!$B934<>\"\",IF($U$1=データセット1!$B934,データセット1!$D934),\"\")","v":""}]
[null,null,null,null,null,null,null,null,null,null,null,null,{"$f":"IF(データセット1!$B935<>\"\",IF($M$1=データセット1!$B935,データセット1!$D935),\"\")","v":""},{"$f":"IF(データセット1!$B935<>\"\",IF($N$1=データセット1!$B935,データセット1!$D935),\"\")","v":""},{"$f":"IF(データセット1!$B935<>\"\",IF($O$1=データセット1!$B935,データセット1!$D935),\"\")","v":""},{"$f":"IF(データセット1!$B935<>\"\",IF($P$1=データセット1!$B935,データセット1!$D935),\"\")","v":""},{"$f":"IF(データセット1!$B935<>\"\",IF($Q$1=データセット1!$B935,データセット1!$D935),\"\")","v":""},{"$f":"IF(データセット1!$B935<>\"\",IF($R$1=データセット1!$B935,データセット1!$D935),\"\")","v":""},{"$f":"IF(データセット1!$B935<>\"\",IF($S$1=データセット1!$B935,データセット1!$D935),\"\")","v":""},{"$f":"IF(データセット1!$B935<>\"\",IF($T$1=データセット1!$B935,データセット1!$D935),\"\")","v":""},{"$f":"IF(データセット1!$B935<>\"\",IF($U$1=データセット1!$B935,データセット1!$D935),\"\")","v":""}]
[null,null,null,null,null,null,null,null,null,null,null,null,{"$f":"IF(データセット1!$B936<>\"\",IF($M$1=データセット1!$B936,データセット1!$D936),\"\")","v":""},{"$f":"IF(データセット1!$B936<>\"\",IF($N$1=データセット1!$B936,データセット1!$D936),\"\")","v":""},{"$f":"IF(データセット1!$B936<>\"\",IF($O$1=データセット1!$B936,データセット1!$D936),\"\")","v":""},{"$f":"IF(データセット1!$B936<>\"\",IF($P$1=データセット1!$B936,データセット1!$D936),\"\")","v":""},{"$f":"IF(データセット1!$B936<>\"\",IF($Q$1=データセット1!$B936,データセット1!$D936),\"\")","v":""},{"$f":"IF(データセット1!$B936<>\"\",IF($R$1=データセット1!$B936,データセット1!$D936),\"\")","v":""},{"$f":"IF(データセット1!$B936<>\"\",IF($S$1=データセット1!$B936,データセット1!$D936),\"\")","v":""},{"$f":"IF(データセット1!$B936<>\"\",IF($T$1=データセット1!$B936,データセット1!$D936),\"\")","v":""},{"$f":"IF(データセット1!$B936<>\"\",IF($U$1=データセット1!$B936,データセット1!$D936),\"\")","v":""}]
[null,null,null,null,null,null,null,null,null,null,null,null,{"$f":"IF(データセット1!$B937<>\"\",IF($M$1=データセット1!$B937,データセット1!$D937),\"\")","v":""},{"$f":"IF(データセット1!$B937<>\"\",IF($N$1=データセット1!$B937,データセット1!$D937),\"\")","v":""},{"$f":"IF(データセット1!$B937<>\"\",IF($O$1=データセット1!$B937,データセット1!$D937),\"\")","v":""},{"$f":"IF(データセット1!$B937<>\"\",IF($P$1=データセット1!$B937,データセット1!$D937),\"\")","v":""},{"$f":"IF(データセット1!$B937<>\"\",IF($Q$1=データセット1!$B937,データセット1!$D937),\"\")","v":""},{"$f":"IF(データセット1!$B937<>\"\",IF($R$1=データセット1!$B937,データセット1!$D937),\"\")","v":""},{"$f":"IF(データセット1!$B937<>\"\",IF($S$1=データセット1!$B937,データセット1!$D937),\"\")","v":""},{"$f":"IF(データセット1!$B937<>\"\",IF($T$1=データセット1!$B937,データセット1!$D937),\"\")","v":""},{"$f":"IF(データセット1!$B937<>\"\",IF($U$1=データセット1!$B937,データセット1!$D937),\"\")","v":""}]
[null,null,null,null,null,null,null,null,null,null,null,null,{"$f":"IF(データセット1!$B938<>\"\",IF($M$1=データセット1!$B938,データセット1!$D938),\"\")","v":""},{"$f":"IF(データセット1!$B938<>\"\",IF($N$1=データセット1!$B938,データセット1!$D938),\"\")","v":""},{"$f":"IF(データセット1!$B938<>\"\",IF($O$1=データセット1!$B938,データセット1!$D938),\"\")","v":""},{"$f":"IF(データセット1!$B938<>\"\",IF($P$1=データセット1!$B938,データセット1!$D938),\"\")","v":""},{"$f":"IF(データセット1!$B938<>\"\",IF($Q$1=データセット1!$B938,データセット1!$D938),\"\")","v":""},{"$f":"IF(データセット1!$B938<>\"\",IF($R$1=データセット1!$B938,データセット1!$D938),\"\")","v":""},{"$f":"IF(データセット1!$B938<>\"\",IF($S$1=データセット1!$B938,データセット1!$D938),\"\")","v":""},{"$f":"IF(データセット1!$B938<>\"\",IF($T$1=データセット1!$B938,データセット1!$D938),\"\")","v":""},{"$f":"IF(データセット1!$B938<>\"\",IF($U$1=データセット1!$B938,データセット1!$D938),\"\")","v":""}]
[null,null,null,null,null,null,null,null,null,null,null,null,{"$f":"IF(データセット1!$B939<>\"\",IF($M$1=データセット1!$B939,データセット1!$D939),\"\")","v":""},{"$f":"IF(データセット1!$B939<>\"\",IF($N$1=データセット1!$B939,データセット1!$D939),\"\")","v":""},{"$f":"IF(データセット1!$B939<>\"\",IF($O$1=データセット1!$B939,データセット1!$D939),\"\")","v":""},{"$f":"IF(データセット1!$B939<>\"\",IF($P$1=データセット1!$B939,データセット1!$D939),\"\")","v":""},{"$f":"IF(データセット1!$B939<>\"\",IF($Q$1=データセット1!$B939,データセット1!$D939),\"\")","v":""},{"$f":"IF(データセット1!$B939<>\"\",IF($R$1=データセット1!$B939,データセット1!$D939),\"\")","v":""},{"$f":"IF(データセット1!$B939<>\"\",IF($S$1=データセット1!$B939,データセット1!$D939),\"\")","v":""},{"$f":"IF(データセット1!$B939<>\"\",IF($T$1=データセット1!$B939,データセット1!$D939),\"\")","v":""},{"$f":"IF(データセット1!$B939<>\"\",IF($U$1=データセット1!$B939,データセット1!$D939),\"\")","v":""}]
[null,null,null,null,null,null,null,null,null,null,null,null,{"$f":"IF(データセット1!$B940<>\"\",IF($M$1=データセット1!$B940,データセット1!$D940),\"\")","v":""},{"$f":"IF(データセット1!$B940<>\"\",IF($N$1=データセット1!$B940,データセット1!$D940),\"\")","v":""},{"$f":"IF(データセット1!$B940<>\"\",IF($O$1=データセット1!$B940,データセット1!$D940),\"\")","v":""},{"$f":"IF(データセット1!$B940<>\"\",IF($P$1=データセット1!$B940,データセット1!$D940),\"\")","v":""},{"$f":"IF(データセット1!$B940<>\"\",IF($Q$1=データセット1!$B940,データセット1!$D940),\"\")","v":""},{"$f":"IF(データセット1!$B940<>\"\",IF($R$1=データセット1!$B940,データセット1!$D940),\"\")","v":""},{"$f":"IF(データセット1!$B940<>\"\",IF($S$1=データセット1!$B940,データセット1!$D940),\"\")","v":""},{"$f":"IF(データセット1!$B940<>\"\",IF($T$1=データセット1!$B940,データセット1!$D940),\"\")","v":""},{"$f":"IF(データセット1!$B940<>\"\",IF($U$1=データセット1!$B940,データセット1!$D940),\"\")","v":""}]
[null,null,null,null,null,null,null,null,null,null,null,null,{"$f":"IF(データセット1!$B941<>\"\",IF($M$1=データセット1!$B941,データセット1!$D941),\"\")","v":""},{"$f":"IF(データセット1!$B941<>\"\",IF($N$1=データセット1!$B941,データセット1!$D941),\"\")","v":""},{"$f":"IF(データセット1!$B941<>\"\",IF($O$1=データセット1!$B941,データセット1!$D941),\"\")","v":""},{"$f":"IF(データセット1!$B941<>\"\",IF($P$1=データセット1!$B941,データセット1!$D941),\"\")","v":""},{"$f":"IF(データセット1!$B941<>\"\",IF($Q$1=データセット1!$B941,データセット1!$D941),\"\")","v":""},{"$f":"IF(データセット1!$B941<>\"\",IF($R$1=データセット1!$B941,データセット1!$D941),\"\")","v":""},{"$f":"IF(データセット1!$B941<>\"\",IF($S$1=データセット1!$B941,データセット1!$D941),\"\")","v":""},{"$f":"IF(データセット1!$B941<>\"\",IF($T$1=データセット1!$B941,データセット1!$D941),\"\")","v":""},{"$f":"IF(データセット1!$B941<>\"\",IF($U$1=データセット1!$B941,データセット1!$D941),\"\")","v":""}]
[null,null,null,null,null,null,null,null,null,null,null,null,{"$f":"IF(データセット1!$B942<>\"\",IF($M$1=データセット1!$B942,データセット1!$D942),\"\")","v":""},{"$f":"IF(データセット1!$B942<>\"\",IF($N$1=データセット1!$B942,データセット1!$D942),\"\")","v":""},{"$f":"IF(データセット1!$B942<>\"\",IF($O$1=データセット1!$B942,データセット1!$D942),\"\")","v":""},{"$f":"IF(データセット1!$B942<>\"\",IF($P$1=データセット1!$B942,データセット1!$D942),\"\")","v":""},{"$f":"IF(データセット1!$B942<>\"\",IF($Q$1=データセット1!$B942,データセット1!$D942),\"\")","v":""},{"$f":"IF(データセット1!$B942<>\"\",IF($R$1=データセット1!$B942,データセット1!$D942),\"\")","v":""},{"$f":"IF(データセット1!$B942<>\"\",IF($S$1=データセット1!$B942,データセット1!$D942),\"\")","v":""},{"$f":"IF(データセット1!$B942<>\"\",IF($T$1=データセット1!$B942,データセット1!$D942),\"\")","v":""},{"$f":"IF(データセット1!$B942<>\"\",IF($U$1=データセット1!$B942,データセット1!$D942),\"\")","v":""}]
[null,null,null,null,null,null,null,null,null,null,null,null,{"$f":"IF(データセット1!$B943<>\"\",IF($M$1=データセット1!$B943,データセット1!$D943),\"\")","v":""},{"$f":"IF(データセット1!$B943<>\"\",IF($N$1=データセット1!$B943,データセット1!$D943),\"\")","v":""},{"$f":"IF(データセット1!$B943<>\"\",IF($O$1=データセット1!$B943,データセット1!$D943),\"\")","v":""},{"$f":"IF(データセット1!$B943<>\"\",IF($P$1=データセット1!$B943,データセット1!$D943),\"\")","v":""},{"$f":"IF(データセット1!$B943<>\"\",IF($Q$1=データセット1!$B943,データセット1!$D943),\"\")","v":""},{"$f":"IF(データセット1!$B943<>\"\",IF($R$1=データセット1!$B943,データセット1!$D943),\"\")","v":""},{"$f":"IF(データセット1!$B943<>\"\",IF($S$1=データセット1!$B943,データセット1!$D943),\"\")","v":""},{"$f":"IF(データセット1!$B943<>\"\",IF($T$1=データセット1!$B943,データセット1!$D943),\"\")","v":""},{"$f":"IF(データセット1!$B943<>\"\",IF($U$1=データセット1!$B943,データセット1!$D943),\"\")","v":""}]
[null,null,null,null,null,null,null,null,null,null,null,null,{"$f":"IF(データセット1!$B944<>\"\",IF($M$1=データセット1!$B944,データセット1!$D944),\"\")","v":""},{"$f":"IF(データセット1!$B944<>\"\",IF($N$1=データセット1!$B944,データセット1!$D944),\"\")","v":""},{"$f":"IF(データセット1!$B944<>\"\",IF($O$1=データセット1!$B944,データセット1!$D944),\"\")","v":""},{"$f":"IF(データセット1!$B944<>\"\",IF($P$1=データセット1!$B944,データセット1!$D944),\"\")","v":""},{"$f":"IF(データセット1!$B944<>\"\",IF($Q$1=データセット1!$B944,データセット1!$D944),\"\")","v":""},{"$f":"IF(データセット1!$B944<>\"\",IF($R$1=データセット1!$B944,データセット1!$D944),\"\")","v":""},{"$f":"IF(データセット1!$B944<>\"\",IF($S$1=データセット1!$B944,データセット1!$D944),\"\")","v":""},{"$f":"IF(データセット1!$B944<>\"\",IF($T$1=データセット1!$B944,データセット1!$D944),\"\")","v":""},{"$f":"IF(データセット1!$B944<>\"\",IF($U$1=データセット1!$B944,データセット1!$D944),\"\")","v":""}]
[null,null,null,null,null,null,null,null,null,null,null,null,{"$f":"IF(データセット1!$B945<>\"\",IF($M$1=データセット1!$B945,データセット1!$D945),\"\")","v":""},{"$f":"IF(データセット1!$B945<>\"\",IF($N$1=データセット1!$B945,データセット1!$D945),\"\")","v":""},{"$f":"IF(データセット1!$B945<>\"\",IF($O$1=データセット1!$B945,データセット1!$D945),\"\")","v":""},{"$f":"IF(データセット1!$B945<>\"\",IF($P$1=データセット1!$B945,データセット1!$D945),\"\")","v":""},{"$f":"IF(データセット1!$B945<>\"\",IF($Q$1=データセット1!$B945,データセット1!$D945),\"\")","v":""},{"$f":"IF(データセット1!$B945<>\"\",IF($R$1=データセット1!$B945,データセット1!$D945),\"\")","v":""},{"$f":"IF(データセット1!$B945<>\"\",IF($S$1=データセット1!$B945,データセット1!$D945),\"\")","v":""},{"$f":"IF(データセット1!$B945<>\"\",IF($T$1=データセット1!$B945,データセット1!$D945),\"\")","v":""},{"$f":"IF(データセット1!$B945<>\"\",IF($U$1=データセット1!$B945,データセット1!$D945),\"\")","v":""}]
[null,null,null,null,null,null,null,null,null,null,null,null,{"$f":"IF(データセット1!$B946<>\"\",IF($M$1=データセット1!$B946,データセット1!$D946),\"\")","v":""},{"$f":"IF(データセット1!$B946<>\"\",IF($N$1=データセット1!$B946,データセット1!$D946),\"\")","v":""},{"$f":"IF(データセット1!$B946<>\"\",IF($O$1=データセット1!$B946,データセット1!$D946),\"\")","v":""},{"$f":"IF(データセット1!$B946<>\"\",IF($P$1=データセット1!$B946,データセット1!$D946),\"\")","v":""},{"$f":"IF(データセット1!$B946<>\"\",IF($Q$1=データセット1!$B946,データセット1!$D946),\"\")","v":""},{"$f":"IF(データセット1!$B946<>\"\",IF($R$1=データセット1!$B946,データセット1!$D946),\"\")","v":""},{"$f":"IF(データセット1!$B946<>\"\",IF($S$1=データセット1!$B946,データセット1!$D946),\"\")","v":""},{"$f":"IF(データセット1!$B946<>\"\",IF($T$1=データセット1!$B946,データセット1!$D946),\"\")","v":""},{"$f":"IF(データセット1!$B946<>\"\",IF($U$1=データセット1!$B946,データセット1!$D946),\"\")","v":""}]
[null,null,null,null,null,null,null,null,null,null,null,null,{"$f":"IF(データセット1!$B947<>\"\",IF($M$1=データセット1!$B947,データセット1!$D947),\"\")","v":""},{"$f":"IF(データセット1!$B947<>\"\",IF($N$1=データセット1!$B947,データセット1!$D947),\"\")","v":""},{"$f":"IF(データセット1!$B947<>\"\",IF($O$1=データセット1!$B947,データセット1!$D947),\"\")","v":""},{"$f":"IF(データセット1!$B947<>\"\",IF($P$1=データセット1!$B947,データセット1!$D947),\"\")","v":""},{"$f":"IF(データセット1!$B947<>\"\",IF($Q$1=データセット1!$B947,データセット1!$D947),\"\")","v":""},{"$f":"IF(データセット1!$B947<>\"\",IF($R$1=データセット1!$B947,データセット1!$D947),\"\")","v":""},{"$f":"IF(データセット1!$B947<>\"\",IF($S$1=データセット1!$B947,データセット1!$D947),\"\")","v":""},{"$f":"IF(データセット1!$B947<>\"\",IF($T$1=データセット1!$B947,データセット1!$D947),\"\")","v":""},{"$f":"IF(データセット1!$B947<>\"\",IF($U$1=データセット1!$B947,データセット1!$D947),\"\")","v":""}]
[null,null,null,null,null,null,null,null,null,null,null,null,{"$f":"IF(データセット1!$B948<>\"\",IF($M$1=データセット1!$B948,データセット1!$D948),\"\")","v":""},{"$f":"IF(データセット1!$B948<>\"\",IF($N$1=データセット1!$B948,データセット1!$D948),\"\")","v":""},{"$f":"IF(データセット1!$B948<>\"\",IF($O$1=データセット1!$B948,データセット1!$D948),\"\")","v":""},{"$f":"IF(データセット1!$B948<>\"\",IF($P$1=データセット1!$B948,データセット1!$D948),\"\")","v":""},{"$f":"IF(データセット1!$B948<>\"\",IF($Q$1=データセット1!$B948,データセット1!$D948),\"\")","v":""},{"$f":"IF(データセット1!$B948<>\"\",IF($R$1=データセット1!$B948,データセット1!$D948),\"\")","v":""},{"$f":"IF(データセット1!$B948<>\"\",IF($S$1=データセット1!$B948,データセット1!$D948),\"\")","v":""},{"$f":"IF(データセット1!$B948<>\"\",IF($T$1=データセット1!$B948,データセット1!$D948),\"\")","v":""},{"$f":"IF(データセット1!$B948<>\"\",IF($U$1=データセット1!$B948,データセット1!$D948),\"\")","v":""}]
[null,null,null,null,null,null,null,null,null,null,null,null,{"$f":"IF(データセット1!$B949<>\"\",IF($M$1=データセット1!$B949,データセット1!$D949),\"\")","v":""},{"$f":"IF(データセット1!$B949<>\"\",IF($N$1=データセット1!$B949,データセット1!$D949),\"\")","v":""},{"$f":"IF(データセット1!$B949<>\"\",IF($O$1=データセット1!$B949,データセット1!$D949),\"\")","v":""},{"$f":"IF(データセット1!$B949<>\"\",IF($P$1=データセット1!$B949,データセット1!$D949),\"\")","v":""},{"$f":"IF(データセット1!$B949<>\"\",IF($Q$1=データセット1!$B949,データセット1!$D949),\"\")","v":""},{"$f":"IF(データセット1!$B949<>\"\",IF($R$1=データセット1!$B949,データセット1!$D949),\"\")","v":""},{"$f":"IF(データセット1!$B949<>\"\",IF($S$1=データセット1!$B949,データセット1!$D949),\"\")","v":""},{"$f":"IF(データセット1!$B949<>\"\",IF($T$1=データセット1!$B949,データセット1!$D949),\"\")","v":""},{"$f":"IF(データセット1!$B949<>\"\",IF($U$1=データセット1!$B949,データセット1!$D949),\"\")","v":""}]
[null,null,null,null,null,null,null,null,null,null,null,null,{"$f":"IF(データセット1!$B950<>\"\",IF($M$1=データセット1!$B950,データセット1!$D950),\"\")","v":""},{"$f":"IF(データセット1!$B950<>\"\",IF($N$1=データセット1!$B950,データセット1!$D950),\"\")","v":""},{"$f":"IF(データセット1!$B950<>\"\",IF($O$1=データセット1!$B950,データセット1!$D950),\"\")","v":""},{"$f":"IF(データセット1!$B950<>\"\",IF($P$1=データセット1!$B950,データセット1!$D950),\"\")","v":""},{"$f":"IF(データセット1!$B950<>\"\",IF($Q$1=データセット1!$B950,データセット1!$D950),\"\")","v":""},{"$f":"IF(データセット1!$B950<>\"\",IF($R$1=データセット1!$B950,データセット1!$D950),\"\")","v":""},{"$f":"IF(データセット1!$B950<>\"\",IF($S$1=データセット1!$B950,データセット1!$D950),\"\")","v":""},{"$f":"IF(データセット1!$B950<>\"\",IF($T$1=データセット1!$B950,データセット1!$D950),\"\")","v":""},{"$f":"IF(データセット1!$B950<>\"\",IF($U$1=データセット1!$B950,データセット1!$D950),\"\")","v":""}]
[null,null,null,null,null,null,null,null,null,null,null,null,{"$f":"IF(データセット1!$B951<>\"\",IF($M$1=データセット1!$B951,データセット1!$D951),\"\")","v":""},{"$f":"IF(データセット1!$B951<>\"\",IF($N$1=データセット1!$B951,データセット1!$D951),\"\")","v":""},{"$f":"IF(データセット1!$B951<>\"\",IF($O$1=データセット1!$B951,データセット1!$D951),\"\")","v":""},{"$f":"IF(データセット1!$B951<>\"\",IF($P$1=データセット1!$B951,データセット1!$D951),\"\")","v":""},{"$f":"IF(データセット1!$B951<>\"\",IF($Q$1=データセット1!$B951,データセット1!$D951),\"\")","v":""},{"$f":"IF(データセット1!$B951<>\"\",IF($R$1=データセット1!$B951,データセット1!$D951),\"\")","v":""},{"$f":"IF(データセット1!$B951<>\"\",IF($S$1=データセット1!$B951,データセット1!$D951),\"\")","v":""},{"$f":"IF(データセット1!$B951<>\"\",IF($T$1=データセット1!$B951,データセット1!$D951),\"\")","v":""},{"$f":"IF(データセット1!$B951<>\"\",IF($U$1=データセット1!$B951,データセット1!$D951),\"\")","v":""}]
[null,null,null,null,null,null,null,null,null,null,null,null,{"$f":"IF(データセット1!$B952<>\"\",IF($M$1=データセット1!$B952,データセット1!$D952),\"\")","v":""},{"$f":"IF(データセット1!$B952<>\"\",IF($N$1=データセット1!$B952,データセット1!$D952),\"\")","v":""},{"$f":"IF(データセット1!$B952<>\"\",IF($O$1=データセット1!$B952,データセット1!$D952),\"\")","v":""},{"$f":"IF(データセット1!$B952<>\"\",IF($P$1=データセット1!$B952,データセット1!$D952),\"\")","v":""},{"$f":"IF(データセット1!$B952<>\"\",IF($Q$1=データセット1!$B952,データセット1!$D952),\"\")","v":""},{"$f":"IF(データセット1!$B952<>\"\",IF($R$1=データセット1!$B952,データセット1!$D952),\"\")","v":""},{"$f":"IF(データセット1!$B952<>\"\",IF($S$1=データセット1!$B952,データセット1!$D952),\"\")","v":""},{"$f":"IF(データセット1!$B952<>\"\",IF($T$1=データセット1!$B952,データセット1!$D952),\"\")","v":""},{"$f":"IF(データセット1!$B952<>\"\",IF($U$1=データセット1!$B952,データセット1!$D952),\"\")","v":""}]
[null,null,null,null,null,null,null,null,null,null,null,null,{"$f":"IF(データセット1!$B953<>\"\",IF($M$1=データセット1!$B953,データセット1!$D953),\"\")","v":""},{"$f":"IF(データセット1!$B953<>\"\",IF($N$1=データセット1!$B953,データセット1!$D953),\"\")","v":""},{"$f":"IF(データセット1!$B953<>\"\",IF($O$1=データセット1!$B953,データセット1!$D953),\"\")","v":""},{"$f":"IF(データセット1!$B953<>\"\",IF($P$1=データセット1!$B953,データセット1!$D953),\"\")","v":""},{"$f":"IF(データセット1!$B953<>\"\",IF($Q$1=データセット1!$B953,データセット1!$D953),\"\")","v":""},{"$f":"IF(データセット1!$B953<>\"\",IF($R$1=データセット1!$B953,データセット1!$D953),\"\")","v":""},{"$f":"IF(データセット1!$B953<>\"\",IF($S$1=データセット1!$B953,データセット1!$D953),\"\")","v":""},{"$f":"IF(データセット1!$B953<>\"\",IF($T$1=データセット1!$B953,データセット1!$D953),\"\")","v":""},{"$f":"IF(データセット1!$B953<>\"\",IF($U$1=データセット1!$B953,データセット1!$D953),\"\")","v":""}]
[null,null,null,null,null,null,null,null,null,null,null,null,{"$f":"IF(データセット1!$B954<>\"\",IF($M$1=データセット1!$B954,データセット1!$D954),\"\")","v":""},{"$f":"IF(データセット1!$B954<>\"\",IF($N$1=データセット1!$B954,データセット1!$D954),\"\")","v":""},{"$f":"IF(データセット1!$B954<>\"\",IF($O$1=データセット1!$B954,データセット1!$D954),\"\")","v":""},{"$f":"IF(データセット1!$B954<>\"\",IF($P$1=データセット1!$B954,データセット1!$D954),\"\")","v":""},{"$f":"IF(データセット1!$B954<>\"\",IF($Q$1=データセット1!$B954,データセット1!$D954),\"\")","v":""},{"$f":"IF(データセット1!$B954<>\"\",IF($R$1=データセット1!$B954,データセット1!$D954),\"\")","v":""},{"$f":"IF(データセット1!$B954<>\"\",IF($S$1=データセット1!$B954,データセット1!$D954),\"\")","v":""},{"$f":"IF(データセット1!$B954<>\"\",IF($T$1=データセット1!$B954,データセット1!$D954),\"\")","v":""},{"$f":"IF(データセット1!$B954<>\"\",IF($U$1=データセット1!$B954,データセット1!$D954),\"\")","v":""}]
[null,null,null,null,null,null,null,null,null,null,null,null,{"$f":"IF(データセット1!$B955<>\"\",IF($M$1=データセット1!$B955,データセット1!$D955),\"\")","v":""},{"$f":"IF(データセット1!$B955<>\"\",IF($N$1=データセット1!$B955,データセット1!$D955),\"\")","v":""},{"$f":"IF(データセット1!$B955<>\"\",IF($O$1=データセット1!$B955,データセット1!$D955),\"\")","v":""},{"$f":"IF(データセット1!$B955<>\"\",IF($P$1=データセット1!$B955,データセット1!$D955),\"\")","v":""},{"$f":"IF(データセット1!$B955<>\"\",IF($Q$1=データセット1!$B955,データセット1!$D955),\"\")","v":""},{"$f":"IF(データセット1!$B955<>\"\",IF($R$1=データセット1!$B955,データセット1!$D955),\"\")","v":""},{"$f":"IF(データセット1!$B955<>\"\",IF($S$1=データセット1!$B955,データセット1!$D955),\"\")","v":""},{"$f":"IF(データセット1!$B955<>\"\",IF($T$1=データセット1!$B955,データセット1!$D955),\"\")","v":""},{"$f":"IF(データセット1!$B955<>\"\",IF($U$1=データセット1!$B955,データセット1!$D955),\"\")","v":""}]
[null,null,null,null,null,null,null,null,null,null,null,null,{"$f":"IF(データセット1!$B956<>\"\",IF($M$1=データセット1!$B956,データセット1!$D956),\"\")","v":""},{"$f":"IF(データセット1!$B956<>\"\",IF($N$1=データセット1!$B956,データセット1!$D956),\"\")","v":""},{"$f":"IF(データセット1!$B956<>\"\",IF($O$1=データセット1!$B956,データセット1!$D956),\"\")","v":""},{"$f":"IF(データセット1!$B956<>\"\",IF($P$1=データセット1!$B956,データセット1!$D956),\"\")","v":""},{"$f":"IF(データセット1!$B956<>\"\",IF($Q$1=データセット1!$B956,データセット1!$D956),\"\")","v":""},{"$f":"IF(データセット1!$B956<>\"\",IF($R$1=データセット1!$B956,データセット1!$D956),\"\")","v":""},{"$f":"IF(データセット1!$B956<>\"\",IF($S$1=データセット1!$B956,データセット1!$D956),\"\")","v":""},{"$f":"IF(データセット1!$B956<>\"\",IF($T$1=データセット1!$B956,データセット1!$D956),\"\")","v":""},{"$f":"IF(データセット1!$B956<>\"\",IF($U$1=データセット1!$B956,データセット1!$D956),\"\")","v":""}]
[null,null,null,null,null,null,null,null,null,null,null,null,{"$f":"IF(データセット1!$B957<>\"\",IF($M$1=データセット1!$B957,データセット1!$D957),\"\")","v":""},{"$f":"IF(データセット1!$B957<>\"\",IF($N$1=データセット1!$B957,データセット1!$D957),\"\")","v":""},{"$f":"IF(データセット1!$B957<>\"\",IF($O$1=データセット1!$B957,データセット1!$D957),\"\")","v":""},{"$f":"IF(データセット1!$B957<>\"\",IF($P$1=データセット1!$B957,データセット1!$D957),\"\")","v":""},{"$f":"IF(データセット1!$B957<>\"\",IF($Q$1=データセット1!$B957,データセット1!$D957),\"\")","v":""},{"$f":"IF(データセット1!$B957<>\"\",IF($R$1=データセット1!$B957,データセット1!$D957),\"\")","v":""},{"$f":"IF(データセット1!$B957<>\"\",IF($S$1=データセット1!$B957,データセット1!$D957),\"\")","v":""},{"$f":"IF(データセット1!$B957<>\"\",IF($T$1=データセット1!$B957,データセット1!$D957),\"\")","v":""},{"$f":"IF(データセット1!$B957<>\"\",IF($U$1=データセット1!$B957,データセット1!$D957),\"\")","v":""}]
[null,null,null,null,null,null,null,null,null,null,null,null,{"$f":"IF(データセット1!$B958<>\"\",IF($M$1=データセット1!$B958,データセット1!$D958),\"\")","v":""},{"$f":"IF(データセット1!$B958<>\"\",IF($N$1=データセット1!$B958,データセット1!$D958),\"\")","v":""},{"$f":"IF(データセット1!$B958<>\"\",IF($O$1=データセット1!$B958,データセット1!$D958),\"\")","v":""},{"$f":"IF(データセット1!$B958<>\"\",IF($P$1=データセット1!$B958,データセット1!$D958),\"\")","v":""},{"$f":"IF(データセット1!$B958<>\"\",IF($Q$1=データセット1!$B958,データセット1!$D958),\"\")","v":""},{"$f":"IF(データセット1!$B958<>\"\",IF($R$1=データセット1!$B958,データセット1!$D958),\"\")","v":""},{"$f":"IF(データセット1!$B958<>\"\",IF($S$1=データセット1!$B958,データセット1!$D958),\"\")","v":""},{"$f":"IF(データセット1!$B958<>\"\",IF($T$1=データセット1!$B958,データセット1!$D958),\"\")","v":""},{"$f":"IF(データセット1!$B958<>\"\",IF($U$1=データセット1!$B958,データセット1!$D958),\"\")","v":""}]
[null,null,null,null,null,null,null,null,null,null,null,null,{"$f":"IF(データセット1!$B959<>\"\",IF($M$1=データセット1!$B959,データセット1!$D959),\"\")","v":""},{"$f":"IF(データセット1!$B959<>\"\",IF($N$1=データセット1!$B959,データセット1!$D959),\"\")","v":""},{"$f":"IF(データセット1!$B959<>\"\",IF($O$1=データセット1!$B959,データセット1!$D959),\"\")","v":""},{"$f":"IF(データセット1!$B959<>\"\",IF($P$1=データセット1!$B959,データセット1!$D959),\"\")","v":""},{"$f":"IF(データセット1!$B959<>\"\",IF($Q$1=データセット1!$B959,データセット1!$D959),\"\")","v":""},{"$f":"IF(データセット1!$B959<>\"\",IF($R$1=データセット1!$B959,データセット1!$D959),\"\")","v":""},{"$f":"IF(データセット1!$B959<>\"\",IF($S$1=データセット1!$B959,データセット1!$D959),\"\")","v":""},{"$f":"IF(データセット1!$B959<>\"\",IF($T$1=データセット1!$B959,データセット1!$D959),\"\")","v":""},{"$f":"IF(データセット1!$B959<>\"\",IF($U$1=データセット1!$B959,データセット1!$D959),\"\")","v":""}]
[null,null,null,null,null,null,null,null,null,null,null,null,{"$f":"IF(データセット1!$B960<>\"\",IF($M$1=データセット1!$B960,データセット1!$D960),\"\")","v":""},{"$f":"IF(データセット1!$B960<>\"\",IF($N$1=データセット1!$B960,データセット1!$D960),\"\")","v":""},{"$f":"IF(データセット1!$B960<>\"\",IF($O$1=データセット1!$B960,データセット1!$D960),\"\")","v":""},{"$f":"IF(データセット1!$B960<>\"\",IF($P$1=データセット1!$B960,データセット1!$D960),\"\")","v":""},{"$f":"IF(データセット1!$B960<>\"\",IF($Q$1=データセット1!$B960,データセット1!$D960),\"\")","v":""},{"$f":"IF(データセット1!$B960<>\"\",IF($R$1=データセット1!$B960,データセット1!$D960),\"\")","v":""},{"$f":"IF(データセット1!$B960<>\"\",IF($S$1=データセット1!$B960,データセット1!$D960),\"\")","v":""},{"$f":"IF(データセット1!$B960<>\"\",IF($T$1=データセット1!$B960,データセット1!$D960),\"\")","v":""},{"$f":"IF(データセット1!$B960<>\"\",IF($U$1=データセット1!$B960,データセット1!$D960),\"\")","v":""}]
[null,null,null,null,null,null,null,null,null,null,null,null,{"$f":"IF(データセット1!$B961<>\"\",IF($M$1=データセット1!$B961,データセット1!$D961),\"\")","v":""},{"$f":"IF(データセット1!$B961<>\"\",IF($N$1=データセット1!$B961,データセット1!$D961),\"\")","v":""},{"$f":"IF(データセット1!$B961<>\"\",IF($O$1=データセット1!$B961,データセット1!$D961),\"\")","v":""},{"$f":"IF(データセット1!$B961<>\"\",IF($P$1=データセット1!$B961,データセット1!$D961),\"\")","v":""},{"$f":"IF(データセット1!$B961<>\"\",IF($Q$1=データセット1!$B961,データセット1!$D961),\"\")","v":""},{"$f":"IF(データセット1!$B961<>\"\",IF($R$1=データセット1!$B961,データセット1!$D961),\"\")","v":""},{"$f":"IF(データセット1!$B961<>\"\",IF($S$1=データセット1!$B961,データセット1!$D961),\"\")","v":""},{"$f":"IF(データセット1!$B961<>\"\",IF($T$1=データセット1!$B961,データセット1!$D961),\"\")","v":""},{"$f":"IF(データセット1!$B961<>\"\",IF($U$1=データセット1!$B961,データセット1!$D961),\"\")","v":""}]
[null,null,null,null,null,null,null,null,null,null,null,null,{"$f":"IF(データセット1!$B962<>\"\",IF($M$1=データセット1!$B962,データセット1!$D962),\"\")","v":""},{"$f":"IF(データセット1!$B962<>\"\",IF($N$1=データセット1!$B962,データセット1!$D962),\"\")","v":""},{"$f":"IF(データセット1!$B962<>\"\",IF($O$1=データセット1!$B962,データセット1!$D962),\"\")","v":""},{"$f":"IF(データセット1!$B962<>\"\",IF($P$1=データセット1!$B962,データセット1!$D962),\"\")","v":""},{"$f":"IF(データセット1!$B962<>\"\",IF($Q$1=データセット1!$B962,データセット1!$D962),\"\")","v":""},{"$f":"IF(データセット1!$B962<>\"\",IF($R$1=データセット1!$B962,データセット1!$D962),\"\")","v":""},{"$f":"IF(データセット1!$B962<>\"\",IF($S$1=データセット1!$B962,データセット1!$D962),\"\")","v":""},{"$f":"IF(データセット1!$B962<>\"\",IF($T$1=データセット1!$B962,データセット1!$D962),\"\")","v":""},{"$f":"IF(データセット1!$B962<>\"\",IF($U$1=データセット1!$B962,データセット1!$D962),\"\")","v":""}]
[null,null,null,null,null,null,null,null,null,null,null,null,{"$f":"IF(データセット1!$B963<>\"\",IF($M$1=データセット1!$B963,データセット1!$D963),\"\")","v":""},{"$f":"IF(データセット1!$B963<>\"\",IF($N$1=データセット1!$B963,データセット1!$D963),\"\")","v":""},{"$f":"IF(データセット1!$B963<>\"\",IF($O$1=データセット1!$B963,データセット1!$D963),\"\")","v":""},{"$f":"IF(データセット1!$B963<>\"\",IF($P$1=データセット1!$B963,データセット1!$D963),\"\")","v":""},{"$f":"IF(データセット1!$B963<>\"\",IF($Q$1=データセット1!$B963,データセット1!$D963),\"\")","v":""},{"$f":"IF(データセット1!$B963<>\"\",IF($R$1=データセット1!$B963,データセット1!$D963),\"\")","v":""},{"$f":"IF(データセット1!$B963<>\"\",IF($S$1=データセット1!$B963,データセット1!$D963),\"\")","v":""},{"$f":"IF(データセット1!$B963<>\"\",IF($T$1=データセット1!$B963,データセット1!$D963),\"\")","v":""},{"$f":"IF(データセット1!$B963<>\"\",IF($U$1=データセット1!$B963,データセット1!$D963),\"\")","v":""}]
[null,null,null,null,null,null,null,null,null,null,null,null,{"$f":"IF(データセット1!$B964<>\"\",IF($M$1=データセット1!$B964,データセット1!$D964),\"\")","v":""},{"$f":"IF(データセット1!$B964<>\"\",IF($N$1=データセット1!$B964,データセット1!$D964),\"\")","v":""},{"$f":"IF(データセット1!$B964<>\"\",IF($O$1=データセット1!$B964,データセット1!$D964),\"\")","v":""},{"$f":"IF(データセット1!$B964<>\"\",IF($P$1=データセット1!$B964,データセット1!$D964),\"\")","v":""},{"$f":"IF(データセット1!$B964<>\"\",IF($Q$1=データセット1!$B964,データセット1!$D964),\"\")","v":""},{"$f":"IF(データセット1!$B964<>\"\",IF($R$1=データセット1!$B964,データセット1!$D964),\"\")","v":""},{"$f":"IF(データセット1!$B964<>\"\",IF($S$1=データセット1!$B964,データセット1!$D964),\"\")","v":""},{"$f":"IF(データセット1!$B964<>\"\",IF($T$1=データセット1!$B964,データセット1!$D964),\"\")","v":""},{"$f":"IF(データセット1!$B964<>\"\",IF($U$1=データセット1!$B964,データセット1!$D964),\"\")","v":""}]
[null,null,null,null,null,null,null,null,null,null,null,null,{"$f":"IF(データセット1!$B965<>\"\",IF($M$1=データセット1!$B965,データセット1!$D965),\"\")","v":""},{"$f":"IF(データセット1!$B965<>\"\",IF($N$1=データセット1!$B965,データセット1!$D965),\"\")","v":""},{"$f":"IF(データセット1!$B965<>\"\",IF($O$1=データセット1!$B965,データセット1!$D965),\"\")","v":""},{"$f":"IF(データセット1!$B965<>\"\",IF($P$1=データセット1!$B965,データセット1!$D965),\"\")","v":""},{"$f":"IF(データセット1!$B965<>\"\",IF($Q$1=データセット1!$B965,データセット1!$D965),\"\")","v":""},{"$f":"IF(データセット1!$B965<>\"\",IF($R$1=データセット1!$B965,データセット1!$D965),\"\")","v":""},{"$f":"IF(データセット1!$B965<>\"\",IF($S$1=データセット1!$B965,データセット1!$D965),\"\")","v":""},{"$f":"IF(データセット1!$B965<>\"\",IF($T$1=データセット1!$B965,データセット1!$D965),\"\")","v":""},{"$f":"IF(データセット1!$B965<>\"\",IF($U$1=データセット1!$B965,データセット1!$D965),\"\")","v":""}]
[null,null,null,null,null,null,null,null,null,null,null,null,{"$f":"IF(データセット1!$B966<>\"\",IF($M$1=データセット1!$B966,データセット1!$D966),\"\")","v":""},{"$f":"IF(データセット1!$B966<>\"\",IF($N$1=データセット1!$B966,データセット1!$D966),\"\")","v":""},{"$f":"IF(データセット1!$B966<>\"\",IF($O$1=データセット1!$B966,データセット1!$D966),\"\")","v":""},{"$f":"IF(データセット1!$B966<>\"\",IF($P$1=データセット1!$B966,データセット1!$D966),\"\")","v":""},{"$f":"IF(データセット1!$B966<>\"\",IF($Q$1=データセット1!$B966,データセット1!$D966),\"\")","v":""},{"$f":"IF(データセット1!$B966<>\"\",IF($R$1=データセット1!$B966,データセット1!$D966),\"\")","v":""},{"$f":"IF(データセット1!$B966<>\"\",IF($S$1=データセット1!$B966,データセット1!$D966),\"\")","v":""},{"$f":"IF(データセット1!$B966<>\"\",IF($T$1=データセット1!$B966,データセット1!$D966),\"\")","v":""},{"$f":"IF(データセット1!$B966<>\"\",IF($U$1=データセット1!$B966,データセット1!$D966),\"\")","v":""}]
[null,null,null,null,null,null,null,null,null,null,null,null,{"$f":"IF(データセット1!$B967<>\"\",IF($M$1=データセット1!$B967,データセット1!$D967),\"\")","v":""},{"$f":"IF(データセット1!$B967<>\"\",IF($N$1=データセット1!$B967,データセット1!$D967),\"\")","v":""},{"$f":"IF(データセット1!$B967<>\"\",IF($O$1=データセット1!$B967,データセット1!$D967),\"\")","v":""},{"$f":"IF(データセット1!$B967<>\"\",IF($P$1=データセット1!$B967,データセット1!$D967),\"\")","v":""},{"$f":"IF(データセット1!$B967<>\"\",IF($Q$1=データセット1!$B967,データセット1!$D967),\"\")","v":""},{"$f":"IF(データセット1!$B967<>\"\",IF($R$1=データセット1!$B967,データセット1!$D967),\"\")","v":""},{"$f":"IF(データセット1!$B967<>\"\",IF($S$1=データセット1!$B967,データセット1!$D967),\"\")","v":""},{"$f":"IF(データセット1!$B967<>\"\",IF($T$1=データセット1!$B967,データセット1!$D967),\"\")","v":""},{"$f":"IF(データセット1!$B967<>\"\",IF($U$1=データセット1!$B967,データセット1!$D967),\"\")","v":""}]
[null,null,null,null,null,null,null,null,null,null,null,null,{"$f":"IF(データセット1!$B968<>\"\",IF($M$1=データセット1!$B968,データセット1!$D968),\"\")","v":""},{"$f":"IF(データセット1!$B968<>\"\",IF($N$1=データセット1!$B968,データセット1!$D968),\"\")","v":""},{"$f":"IF(データセット1!$B968<>\"\",IF($O$1=データセット1!$B968,データセット1!$D968),\"\")","v":""},{"$f":"IF(データセット1!$B968<>\"\",IF($P$1=データセット1!$B968,データセット1!$D968),\"\")","v":""},{"$f":"IF(データセット1!$B968<>\"\",IF($Q$1=データセット1!$B968,データセット1!$D968),\"\")","v":""},{"$f":"IF(データセット1!$B968<>\"\",IF($R$1=データセット1!$B968,データセット1!$D968),\"\")","v":""},{"$f":"IF(データセット1!$B968<>\"\",IF($S$1=データセット1!$B968,データセット1!$D968),\"\")","v":""},{"$f":"IF(データセット1!$B968<>\"\",IF($T$1=データセット1!$B968,データセット1!$D968),\"\")","v":""},{"$f":"IF(データセット1!$B968<>\"\",IF($U$1=データセット1!$B968,データセット1!$D968),\"\")","v":""}]
[null,null,null,null,null,null,null,null,null,null,null,null,{"$f":"IF(データセット1!$B969<>\"\",IF($M$1=データセット1!$B969,データセット1!$D969),\"\")","v":""},{"$f":"IF(データセット1!$B969<>\"\",IF($N$1=データセット1!$B969,データセット1!$D969),\"\")","v":""},{"$f":"IF(データセット1!$B969<>\"\",IF($O$1=データセット1!$B969,データセット1!$D969),\"\")","v":""},{"$f":"IF(データセット1!$B969<>\"\",IF($P$1=データセット1!$B969,データセット1!$D969),\"\")","v":""},{"$f":"IF(データセット1!$B969<>\"\",IF($Q$1=データセット1!$B969,データセット1!$D969),\"\")","v":""},{"$f":"IF(データセット1!$B969<>\"\",IF($R$1=データセット1!$B969,データセット1!$D969),\"\")","v":""},{"$f":"IF(データセット1!$B969<>\"\",IF($S$1=データセット1!$B969,データセット1!$D969),\"\")","v":""},{"$f":"IF(データセット1!$B969<>\"\",IF($T$1=データセット1!$B969,データセット1!$D969),\"\")","v":""},{"$f":"IF(データセット1!$B969<>\"\",IF($U$1=データセット1!$B969,データセット1!$D969),\"\")","v":""}]
[null,null,null,null,null,null,null,null,null,null,null,null,{"$f":"IF(データセット1!$B970<>\"\",IF($M$1=データセット1!$B970,データセット1!$D970),\"\")","v":""},{"$f":"IF(データセット1!$B970<>\"\",IF($N$1=データセット1!$B970,データセット1!$D970),\"\")","v":""},{"$f":"IF(データセット1!$B970<>\"\",IF($O$1=データセット1!$B970,データセット1!$D970),\"\")","v":""},{"$f":"IF(データセット1!$B970<>\"\",IF($P$1=データセット1!$B970,データセット1!$D970),\"\")","v":""},{"$f":"IF(データセット1!$B970<>\"\",IF($Q$1=データセット1!$B970,データセット1!$D970),\"\")","v":""},{"$f":"IF(データセット1!$B970<>\"\",IF($R$1=データセット1!$B970,データセット1!$D970),\"\")","v":""},{"$f":"IF(データセット1!$B970<>\"\",IF($S$1=データセット1!$B970,データセット1!$D970),\"\")","v":""},{"$f":"IF(データセット1!$B970<>\"\",IF($T$1=データセット1!$B970,データセット1!$D970),\"\")","v":""},{"$f":"IF(データセット1!$B970<>\"\",IF($U$1=データセット1!$B970,データセット1!$D970),\"\")","v":""}]
[null,null,null,null,null,null,null,null,null,null,null,null,{"$f":"IF(データセット1!$B971<>\"\",IF($M$1=データセット1!$B971,データセット1!$D971),\"\")","v":""},{"$f":"IF(データセット1!$B971<>\"\",IF($N$1=データセット1!$B971,データセット1!$D971),\"\")","v":""},{"$f":"IF(データセット1!$B971<>\"\",IF($O$1=データセット1!$B971,データセット1!$D971),\"\")","v":""},{"$f":"IF(データセット1!$B971<>\"\",IF($P$1=データセット1!$B971,データセット1!$D971),\"\")","v":""},{"$f":"IF(データセット1!$B971<>\"\",IF($Q$1=データセット1!$B971,データセット1!$D971),\"\")","v":""},{"$f":"IF(データセット1!$B971<>\"\",IF($R$1=データセット1!$B971,データセット1!$D971),\"\")","v":""},{"$f":"IF(データセット1!$B971<>\"\",IF($S$1=データセット1!$B971,データセット1!$D971),\"\")","v":""},{"$f":"IF(データセット1!$B971<>\"\",IF($T$1=データセット1!$B971,データセット1!$D971),\"\")","v":""},{"$f":"IF(データセット1!$B971<>\"\",IF($U$1=データセット1!$B971,データセット1!$D971),\"\")","v":""}]
[null,null,null,null,null,null,null,null,null,null,null,null,{"$f":"IF(データセット1!$B972<>\"\",IF($M$1=データセット1!$B972,データセット1!$D972),\"\")","v":""},{"$f":"IF(データセット1!$B972<>\"\",IF($N$1=データセット1!$B972,データセット1!$D972),\"\")","v":""},{"$f":"IF(データセット1!$B972<>\"\",IF($O$1=データセット1!$B972,データセット1!$D972),\"\")","v":""},{"$f":"IF(データセット1!$B972<>\"\",IF($P$1=データセット1!$B972,データセット1!$D972),\"\")","v":""},{"$f":"IF(データセット1!$B972<>\"\",IF($Q$1=データセット1!$B972,データセット1!$D972),\"\")","v":""},{"$f":"IF(データセット1!$B972<>\"\",IF($R$1=データセット1!$B972,データセット1!$D972),\"\")","v":""},{"$f":"IF(データセット1!$B972<>\"\",IF($S$1=データセット1!$B972,データセット1!$D972),\"\")","v":""},{"$f":"IF(データセット1!$B972<>\"\",IF($T$1=データセット1!$B972,データセット1!$D972),\"\")","v":""},{"$f":"IF(データセット1!$B972<>\"\",IF($U$1=データセット1!$B972,データセット1!$D972),\"\")","v":""}]
[null,null,null,null,null,null,null,null,null,null,null,null,{"$f":"IF(データセット1!$B973<>\"\",IF($M$1=データセット1!$B973,データセット1!$D973),\"\")","v":""},{"$f":"IF(データセット1!$B973<>\"\",IF($N$1=データセット1!$B973,データセット1!$D973),\"\")","v":""},{"$f":"IF(データセット1!$B973<>\"\",IF($O$1=データセット1!$B973,データセット1!$D973),\"\")","v":""},{"$f":"IF(データセット1!$B973<>\"\",IF($P$1=データセット1!$B973,データセット1!$D973),\"\")","v":""},{"$f":"IF(データセット1!$B973<>\"\",IF($Q$1=データセット1!$B973,データセット1!$D973),\"\")","v":""},{"$f":"IF(データセット1!$B973<>\"\",IF($R$1=データセット1!$B973,データセット1!$D973),\"\")","v":""},{"$f":"IF(データセット1!$B973<>\"\",IF($S$1=データセット1!$B973,データセット1!$D973),\"\")","v":""},{"$f":"IF(データセット1!$B973<>\"\",IF($T$1=データセット1!$B973,データセット1!$D973),\"\")","v":""},{"$f":"IF(データセット1!$B973<>\"\",IF($U$1=データセット1!$B973,データセット1!$D973),\"\")","v":""}]
[null,null,null,null,null,null,null,null,null,null,null,null,{"$f":"IF(データセット1!$B974<>\"\",IF($M$1=データセット1!$B974,データセット1!$D974),\"\")","v":""},{"$f":"IF(データセット1!$B974<>\"\",IF($N$1=データセット1!$B974,データセット1!$D974),\"\")","v":""},{"$f":"IF(データセット1!$B974<>\"\",IF($O$1=データセット1!$B974,データセット1!$D974),\"\")","v":""},{"$f":"IF(データセット1!$B974<>\"\",IF($P$1=データセット1!$B974,データセット1!$D974),\"\")","v":""},{"$f":"IF(データセット1!$B974<>\"\",IF($Q$1=データセット1!$B974,データセット1!$D974),\"\")","v":""},{"$f":"IF(データセット1!$B974<>\"\",IF($R$1=データセット1!$B974,データセット1!$D974),\"\")","v":""},{"$f":"IF(データセット1!$B974<>\"\",IF($S$1=データセット1!$B974,データセット1!$D974),\"\")","v":""},{"$f":"IF(データセット1!$B974<>\"\",IF($T$1=データセット1!$B974,データセット1!$D974),\"\")","v":""},{"$f":"IF(データセット1!$B974<>\"\",IF($U$1=データセット1!$B974,データセット1!$D974),\"\")","v":""}]
[null,null,null,null,null,null,null,null,null,null,null,null,{"$f":"IF(データセット1!$B975<>\"\",IF($M$1=データセット1!$B975,データセット1!$D975),\"\")","v":""},{"$f":"IF(データセット1!$B975<>\"\",IF($N$1=データセット1!$B975,データセット1!$D975),\"\")","v":""},{"$f":"IF(データセット1!$B975<>\"\",IF($O$1=データセット1!$B975,データセット1!$D975),\"\")","v":""},{"$f":"IF(データセット1!$B975<>\"\",IF($P$1=データセット1!$B975,データセット1!$D975),\"\")","v":""},{"$f":"IF(データセット1!$B975<>\"\",IF($Q$1=データセット1!$B975,データセット1!$D975),\"\")","v":""},{"$f":"IF(データセット1!$B975<>\"\",IF($R$1=データセット1!$B975,データセット1!$D975),\"\")","v":""},{"$f":"IF(データセット1!$B975<>\"\",IF($S$1=データセット1!$B975,データセット1!$D975),\"\")","v":""},{"$f":"IF(データセット1!$B975<>\"\",IF($T$1=データセット1!$B975,データセット1!$D975),\"\")","v":""},{"$f":"IF(データセット1!$B975<>\"\",IF($U$1=データセット1!$B975,データセット1!$D975),\"\")","v":""}]
[null,null,null,null,null,null,null,null,null,null,null,null,{"$f":"IF(データセット1!$B976<>\"\",IF($M$1=データセット1!$B976,データセット1!$D976),\"\")","v":""},{"$f":"IF(データセット1!$B976<>\"\",IF($N$1=データセット1!$B976,データセット1!$D976),\"\")","v":""},{"$f":"IF(データセット1!$B976<>\"\",IF($O$1=データセット1!$B976,データセット1!$D976),\"\")","v":""},{"$f":"IF(データセット1!$B976<>\"\",IF($P$1=データセット1!$B976,データセット1!$D976),\"\")","v":""},{"$f":"IF(データセット1!$B976<>\"\",IF($Q$1=データセット1!$B976,データセット1!$D976),\"\")","v":""},{"$f":"IF(データセット1!$B976<>\"\",IF($R$1=データセット1!$B976,データセット1!$D976),\"\")","v":""},{"$f":"IF(データセット1!$B976<>\"\",IF($S$1=データセット1!$B976,データセット1!$D976),\"\")","v":""},{"$f":"IF(データセット1!$B976<>\"\",IF($T$1=データセット1!$B976,データセット1!$D976),\"\")","v":""},{"$f":"IF(データセット1!$B976<>\"\",IF($U$1=データセット1!$B976,データセット1!$D976),\"\")","v":""}]
[null,null,null,null,null,null,null,null,null,null,null,null,{"$f":"IF(データセット1!$B977<>\"\",IF($M$1=データセット1!$B977,データセット1!$D977),\"\")","v":""},{"$f":"IF(データセット1!$B977<>\"\",IF($N$1=データセット1!$B977,データセット1!$D977),\"\")","v":""},{"$f":"IF(データセット1!$B977<>\"\",IF($O$1=データセット1!$B977,データセット1!$D977),\"\")","v":""},{"$f":"IF(データセット1!$B977<>\"\",IF($P$1=データセット1!$B977,データセット1!$D977),\"\")","v":""},{"$f":"IF(データセット1!$B977<>\"\",IF($Q$1=データセット1!$B977,データセット1!$D977),\"\")","v":""},{"$f":"IF(データセット1!$B977<>\"\",IF($R$1=データセット1!$B977,データセット1!$D977),\"\")","v":""},{"$f":"IF(データセット1!$B977<>\"\",IF($S$1=データセット1!$B977,データセット1!$D977),\"\")","v":""},{"$f":"IF(データセット1!$B977<>\"\",IF($T$1=データセット1!$B977,データセット1!$D977),\"\")","v":""},{"$f":"IF(データセット1!$B977<>\"\",IF($U$1=データセット1!$B977,データセット1!$D977),\"\")","v":""}]
[null,null,null,null,null,null,null,null,null,null,null,null,{"$f":"IF(データセット1!$B978<>\"\",IF($M$1=データセット1!$B978,データセット1!$D978),\"\")","v":""},{"$f":"IF(データセット1!$B978<>\"\",IF($N$1=データセット1!$B978,データセット1!$D978),\"\")","v":""},{"$f":"IF(データセット1!$B978<>\"\",IF($O$1=データセット1!$B978,データセット1!$D978),\"\")","v":""},{"$f":"IF(データセット1!$B978<>\"\",IF($P$1=データセット1!$B978,データセット1!$D978),\"\")","v":""},{"$f":"IF(データセット1!$B978<>\"\",IF($Q$1=データセット1!$B978,データセット1!$D978),\"\")","v":""},{"$f":"IF(データセット1!$B978<>\"\",IF($R$1=データセット1!$B978,データセット1!$D978),\"\")","v":""},{"$f":"IF(データセット1!$B978<>\"\",IF($S$1=データセット1!$B978,データセット1!$D978),\"\")","v":""},{"$f":"IF(データセット1!$B978<>\"\",IF($T$1=データセット1!$B978,データセット1!$D978),\"\")","v":""},{"$f":"IF(データセット1!$B978<>\"\",IF($U$1=データセット1!$B978,データセット1!$D978),\"\")","v":""}]
[null,null,null,null,null,null,null,null,null,null,null,null,{"$f":"IF(データセット1!$B979<>\"\",IF($M$1=データセット1!$B979,データセット1!$D979),\"\")","v":""},{"$f":"IF(データセット1!$B979<>\"\",IF($N$1=データセット1!$B979,データセット1!$D979),\"\")","v":""},{"$f":"IF(データセット1!$B979<>\"\",IF($O$1=データセット1!$B979,データセット1!$D979),\"\")","v":""},{"$f":"IF(データセット1!$B979<>\"\",IF($P$1=データセット1!$B979,データセット1!$D979),\"\")","v":""},{"$f":"IF(データセット1!$B979<>\"\",IF($Q$1=データセット1!$B979,データセット1!$D979),\"\")","v":""},{"$f":"IF(データセット1!$B979<>\"\",IF($R$1=データセット1!$B979,データセット1!$D979),\"\")","v":""},{"$f":"IF(データセット1!$B979<>\"\",IF($S$1=データセット1!$B979,データセット1!$D979),\"\")","v":""},{"$f":"IF(データセット1!$B979<>\"\",IF($T$1=データセット1!$B979,データセット1!$D979),\"\")","v":""},{"$f":"IF(データセット1!$B979<>\"\",IF($U$1=データセット1!$B979,データセット1!$D979),\"\")","v":""}]
[null,null,null,null,null,null,null,null,null,null,null,null,{"$f":"IF(データセット1!$B980<>\"\",IF($M$1=データセット1!$B980,データセット1!$D980),\"\")","v":""},{"$f":"IF(データセット1!$B980<>\"\",IF($N$1=データセット1!$B980,データセット1!$D980),\"\")","v":""},{"$f":"IF(データセット1!$B980<>\"\",IF($O$1=データセット1!$B980,データセット1!$D980),\"\")","v":""},{"$f":"IF(データセット1!$B980<>\"\",IF($P$1=データセット1!$B980,データセット1!$D980),\"\")","v":""},{"$f":"IF(データセット1!$B980<>\"\",IF($Q$1=データセット1!$B980,データセット1!$D980),\"\")","v":""},{"$f":"IF(データセット1!$B980<>\"\",IF($R$1=データセット1!$B980,データセット1!$D980),\"\")","v":""},{"$f":"IF(データセット1!$B980<>\"\",IF($S$1=データセット1!$B980,データセット1!$D980),\"\")","v":""},{"$f":"IF(データセット1!$B980<>\"\",IF($T$1=データセット1!$B980,データセット1!$D980),\"\")","v":""},{"$f":"IF(データセット1!$B980<>\"\",IF($U$1=データセット1!$B980,データセット1!$D980),\"\")","v":""}]
[null,null,null,null,null,null,null,null,null,null,null,null,{"$f":"IF(データセット1!$B981<>\"\",IF($M$1=データセット1!$B981,データセット1!$D981),\"\")","v":""},{"$f":"IF(データセット1!$B981<>\"\",IF($N$1=データセット1!$B981,データセット1!$D981),\"\")","v":""},{"$f":"IF(データセット1!$B981<>\"\",IF($O$1=データセット1!$B981,データセット1!$D981),\"\")","v":""},{"$f":"IF(データセット1!$B981<>\"\",IF($P$1=データセット1!$B981,データセット1!$D981),\"\")","v":""},{"$f":"IF(データセット1!$B981<>\"\",IF($Q$1=データセット1!$B981,データセット1!$D981),\"\")","v":""},{"$f":"IF(データセット1!$B981<>\"\",IF($R$1=データセット1!$B981,データセット1!$D981),\"\")","v":""},{"$f":"IF(データセット1!$B981<>\"\",IF($S$1=データセット1!$B981,データセット1!$D981),\"\")","v":""},{"$f":"IF(データセット1!$B981<>\"\",IF($T$1=データセット1!$B981,データセット1!$D981),\"\")","v":""},{"$f":"IF(データセット1!$B981<>\"\",IF($U$1=データセット1!$B981,データセット1!$D981),\"\")","v":""}]
[null,null,null,null,null,null,null,null,null,null,null,null,{"$f":"IF(データセット1!$B982<>\"\",IF($M$1=データセット1!$B982,データセット1!$D982),\"\")","v":""},{"$f":"IF(データセット1!$B982<>\"\",IF($N$1=データセット1!$B982,データセット1!$D982),\"\")","v":""},{"$f":"IF(データセット1!$B982<>\"\",IF($O$1=データセット1!$B982,データセット1!$D982),\"\")","v":""},{"$f":"IF(データセット1!$B982<>\"\",IF($P$1=データセット1!$B982,データセット1!$D982),\"\")","v":""},{"$f":"IF(データセット1!$B982<>\"\",IF($Q$1=データセット1!$B982,データセット1!$D982),\"\")","v":""},{"$f":"IF(データセット1!$B982<>\"\",IF($R$1=データセット1!$B982,データセット1!$D982),\"\")","v":""},{"$f":"IF(データセット1!$B982<>\"\",IF($S$1=データセット1!$B982,データセット1!$D982),\"\")","v":""},{"$f":"IF(データセット1!$B982<>\"\",IF($T$1=データセット1!$B982,データセット1!$D982),\"\")","v":""},{"$f":"IF(データセット1!$B982<>\"\",IF($U$1=データセット1!$B982,データセット1!$D982),\"\")","v":""}]
[null,null,null,null,null,null,null,null,null,null,null,null,{"$f":"IF(データセット1!$B983<>\"\",IF($M$1=データセット1!$B983,データセット1!$D983),\"\")","v":""},{"$f":"IF(データセット1!$B983<>\"\",IF($N$1=データセット1!$B983,データセット1!$D983),\"\")","v":""},{"$f":"IF(データセット1!$B983<>\"\",IF($O$1=データセット1!$B983,データセット1!$D983),\"\")","v":""},{"$f":"IF(データセット1!$B983<>\"\",IF($P$1=データセット1!$B983,データセット1!$D983),\"\")","v":""},{"$f":"IF(データセット1!$B983<>\"\",IF($Q$1=データセット1!$B983,データセット1!$D983),\"\")","v":""},{"$f":"IF(データセット1!$B983<>\"\",IF($R$1=データセット1!$B983,データセット1!$D983),\"\")","v":""},{"$f":"IF(データセット1!$B983<>\"\",IF($S$1=データセット1!$B983,データセット1!$D983),\"\")","v":""},{"$f":"IF(データセット1!$B983<>\"\",IF($T$1=データセット1!$B983,データセット1!$D983),\"\")","v":""},{"$f":"IF(データセット1!$B983<>\"\",IF($U$1=データセット1!$B983,データセット1!$D983),\"\")","v":""}]
[null,null,null,null,null,null,null,null,null,null,null,null,{"$f":"IF(データセット1!$B984<>\"\",IF($M$1=データセット1!$B984,データセット1!$D984),\"\")","v":""},{"$f":"IF(データセット1!$B984<>\"\",IF($N$1=データセット1!$B984,データセット1!$D984),\"\")","v":""},{"$f":"IF(データセット1!$B984<>\"\",IF($O$1=データセット1!$B984,データセット1!$D984),\"\")","v":""},{"$f":"IF(データセット1!$B984<>\"\",IF($P$1=データセット1!$B984,データセット1!$D984),\"\")","v":""},{"$f":"IF(データセット1!$B984<>\"\",IF($Q$1=データセット1!$B984,データセット1!$D984),\"\")","v":""},{"$f":"IF(データセット1!$B984<>\"\",IF($R$1=データセット1!$B984,データセット1!$D984),\"\")","v":""},{"$f":"IF(データセット1!$B984<>\"\",IF($S$1=データセット1!$B984,データセット1!$D984),\"\")","v":""},{"$f":"IF(データセット1!$B984<>\"\",IF($T$1=データセット1!$B984,データセット1!$D984),\"\")","v":""},{"$f":"IF(データセット1!$B984<>\"\",IF($U$1=データセット1!$B984,データセット1!$D984),\"\")","v":""}]
[null,null,null,null,null,null,null,null,null,null,null,null,{"$f":"IF(データセット1!$B985<>\"\",IF($M$1=データセット1!$B985,データセット1!$D985),\"\")","v":""},{"$f":"IF(データセット1!$B985<>\"\",IF($N$1=データセット1!$B985,データセット1!$D985),\"\")","v":""},{"$f":"IF(データセット1!$B985<>\"\",IF($O$1=データセット1!$B985,データセット1!$D985),\"\")","v":""},{"$f":"IF(データセット1!$B985<>\"\",IF($P$1=データセット1!$B985,データセット1!$D985),\"\")","v":""},{"$f":"IF(データセット1!$B985<>\"\",IF($Q$1=データセット1!$B985,データセット1!$D985),\"\")","v":""},{"$f":"IF(データセット1!$B985<>\"\",IF($R$1=データセット1!$B985,データセット1!$D985),\"\")","v":""},{"$f":"IF(データセット1!$B985<>\"\",IF($S$1=データセット1!$B985,データセット1!$D985),\"\")","v":""},{"$f":"IF(データセット1!$B985<>\"\",IF($T$1=データセット1!$B985,データセット1!$D985),\"\")","v":""},{"$f":"IF(データセット1!$B985<>\"\",IF($U$1=データセット1!$B985,データセット1!$D985),\"\")","v":""}]
[null,null,null,null,null,null,null,null,null,null,null,null,{"$f":"IF(データセット1!$B986<>\"\",IF($M$1=データセット1!$B986,データセット1!$D986),\"\")","v":""},{"$f":"IF(データセット1!$B986<>\"\",IF($N$1=データセット1!$B986,データセット1!$D986),\"\")","v":""},{"$f":"IF(データセット1!$B986<>\"\",IF($O$1=データセット1!$B986,データセット1!$D986),\"\")","v":""},{"$f":"IF(データセット1!$B986<>\"\",IF($P$1=データセット1!$B986,データセット1!$D986),\"\")","v":""},{"$f":"IF(データセット1!$B986<>\"\",IF($Q$1=データセット1!$B986,データセット1!$D986),\"\")","v":""},{"$f":"IF(データセット1!$B986<>\"\",IF($R$1=データセット1!$B986,データセット1!$D986),\"\")","v":""},{"$f":"IF(データセット1!$B986<>\"\",IF($S$1=データセット1!$B986,データセット1!$D986),\"\")","v":""},{"$f":"IF(データセット1!$B986<>\"\",IF($T$1=データセット1!$B986,データセット1!$D986),\"\")","v":""},{"$f":"IF(データセット1!$B986<>\"\",IF($U$1=データセット1!$B986,データセット1!$D986),\"\")","v":""}]
[null,null,null,null,null,null,null,null,null,null,null,null,{"$f":"IF(データセット1!$B987<>\"\",IF($M$1=データセット1!$B987,データセット1!$D987),\"\")","v":""},{"$f":"IF(データセット1!$B987<>\"\",IF($N$1=データセット1!$B987,データセット1!$D987),\"\")","v":""},{"$f":"IF(データセット1!$B987<>\"\",IF($O$1=データセット1!$B987,データセット1!$D987),\"\")","v":""},{"$f":"IF(データセット1!$B987<>\"\",IF($P$1=データセット1!$B987,データセット1!$D987),\"\")","v":""},{"$f":"IF(データセット1!$B987<>\"\",IF($Q$1=データセット1!$B987,データセット1!$D987),\"\")","v":""},{"$f":"IF(データセット1!$B987<>\"\",IF($R$1=データセット1!$B987,データセット1!$D987),\"\")","v":""},{"$f":"IF(データセット1!$B987<>\"\",IF($S$1=データセット1!$B987,データセット1!$D987),\"\")","v":""},{"$f":"IF(データセット1!$B987<>\"\",IF($T$1=データセット1!$B987,データセット1!$D987),\"\")","v":""},{"$f":"IF(データセット1!$B987<>\"\",IF($U$1=データセット1!$B987,データセット1!$D987),\"\")","v":""}]
[null,null,null,null,null,null,null,null,null,null,null,null,{"$f":"IF(データセット1!$B988<>\"\",IF($M$1=データセット1!$B988,データセット1!$D988),\"\")","v":""},{"$f":"IF(データセット1!$B988<>\"\",IF($N$1=データセット1!$B988,データセット1!$D988),\"\")","v":""},{"$f":"IF(データセット1!$B988<>\"\",IF($O$1=データセット1!$B988,データセット1!$D988),\"\")","v":""},{"$f":"IF(データセット1!$B988<>\"\",IF($P$1=データセット1!$B988,データセット1!$D988),\"\")","v":""},{"$f":"IF(データセット1!$B988<>\"\",IF($Q$1=データセット1!$B988,データセット1!$D988),\"\")","v":""},{"$f":"IF(データセット1!$B988<>\"\",IF($R$1=データセット1!$B988,データセット1!$D988),\"\")","v":""},{"$f":"IF(データセット1!$B988<>\"\",IF($S$1=データセット1!$B988,データセット1!$D988),\"\")","v":""},{"$f":"IF(データセット1!$B988<>\"\",IF($T$1=データセット1!$B988,データセット1!$D988),\"\")","v":""},{"$f":"IF(データセット1!$B988<>\"\",IF($U$1=データセット1!$B988,データセット1!$D988),\"\")","v":""}]
[null,null,null,null,null,null,null,null,null,null,null,null,{"$f":"IF(データセット1!$B989<>\"\",IF($M$1=データセット1!$B989,データセット1!$D989),\"\")","v":""},{"$f":"IF(データセット1!$B989<>\"\",IF($N$1=データセット1!$B989,データセット1!$D989),\"\")","v":""},{"$f":"IF(データセット1!$B989<>\"\",IF($O$1=データセット1!$B989,データセット1!$D989),\"\")","v":""},{"$f":"IF(データセット1!$B989<>\"\",IF($P$1=データセット1!$B989,データセット1!$D989),\"\")","v":""},{"$f":"IF(データセット1!$B989<>\"\",IF($Q$1=データセット1!$B989,データセット1!$D989),\"\")","v":""},{"$f":"IF(データセット1!$B989<>\"\",IF($R$1=データセット1!$B989,データセット1!$D989),\"\")","v":""},{"$f":"IF(データセット1!$B989<>\"\",IF($S$1=データセット1!$B989,データセット1!$D989),\"\")","v":""},{"$f":"IF(データセット1!$B989<>\"\",IF($T$1=データセット1!$B989,データセット1!$D989),\"\")","v":""},{"$f":"IF(データセット1!$B989<>\"\",IF($U$1=データセット1!$B989,データセット1!$D989),\"\")","v":""}]
[null,null,null,null,null,null,null,null,null,null,null,null,{"$f":"IF(データセット1!$B990<>\"\",IF($M$1=データセット1!$B990,データセット1!$D990),\"\")","v":""},{"$f":"IF(データセット1!$B990<>\"\",IF($N$1=データセット1!$B990,データセット1!$D990),\"\")","v":""},{"$f":"IF(データセット1!$B990<>\"\",IF($O$1=データセット1!$B990,データセット1!$D990),\"\")","v":""},{"$f":"IF(データセット1!$B990<>\"\",IF($P$1=データセット1!$B990,データセット1!$D990),\"\")","v":""},{"$f":"IF(データセット1!$B990<>\"\",IF($Q$1=データセット1!$B990,データセット1!$D990),\"\")","v":""},{"$f":"IF(データセット1!$B990<>\"\",IF($R$1=データセット1!$B990,データセット1!$D990),\"\")","v":""},{"$f":"IF(データセット1!$B990<>\"\",IF($S$1=データセット1!$B990,データセット1!$D990),\"\")","v":""},{"$f":"IF(データセット1!$B990<>\"\",IF($T$1=データセット1!$B990,データセット1!$D990),\"\")","v":""},{"$f":"IF(データセット1!$B990<>\"\",IF($U$1=データセット1!$B990,データセット1!$D990),\"\")","v":""}]
[null,null,null,null,null,null,null,null,null,null,null,null,{"$f":"IF(データセット1!$B991<>\"\",IF($M$1=データセット1!$B991,データセット1!$D991),\"\")","v":""},{"$f":"IF(データセット1!$B991<>\"\",IF($N$1=データセット1!$B991,データセット1!$D991),\"\")","v":""},{"$f":"IF(データセット1!$B991<>\"\",IF($O$1=データセット1!$B991,データセット1!$D991),\"\")","v":""},{"$f":"IF(データセット1!$B991<>\"\",IF($P$1=データセット1!$B991,データセット1!$D991),\"\")","v":""},{"$f":"IF(データセット1!$B991<>\"\",IF($Q$1=データセット1!$B991,データセット1!$D991),\"\")","v":""},{"$f":"IF(データセット1!$B991<>\"\",IF($R$1=データセット1!$B991,データセット1!$D991),\"\")","v":""},{"$f":"IF(データセット1!$B991<>\"\",IF($S$1=データセット1!$B991,データセット1!$D991),\"\")","v":""},{"$f":"IF(データセット1!$B991<>\"\",IF($T$1=データセット1!$B991,データセット1!$D991),\"\")","v":""},{"$f":"IF(データセット1!$B991<>\"\",IF($U$1=データセット1!$B991,データセット1!$D991),\"\")","v":""}]
[null,null,null,null,null,null,null,null,null,null,null,null,{"$f":"IF(データセット1!$B992<>\"\",IF($M$1=データセット1!$B992,データセット1!$D992),\"\")","v":""},{"$f":"IF(データセット1!$B992<>\"\",IF($N$1=データセット1!$B992,データセット1!$D992),\"\")","v":""},{"$f":"IF(データセット1!$B992<>\"\",IF($O$1=データセット1!$B992,データセット1!$D992),\"\")","v":""},{"$f":"IF(データセット1!$B992<>\"\",IF($P$1=データセット1!$B992,データセット1!$D992),\"\")","v":""},{"$f":"IF(データセット1!$B992<>\"\",IF($Q$1=データセット1!$B992,データセット1!$D992),\"\")","v":""},{"$f":"IF(データセット1!$B992<>\"\",IF($R$1=データセット1!$B992,データセット1!$D992),\"\")","v":""},{"$f":"IF(データセット1!$B992<>\"\",IF($S$1=データセット1!$B992,データセット1!$D992),\"\")","v":""},{"$f":"IF(データセット1!$B992<>\"\",IF($T$1=データセット1!$B992,データセット1!$D992),\"\")","v":""},{"$f":"IF(データセット1!$B992<>\"\",IF($U$1=データセット1!$B992,データセット1!$D992),\"\")","v":""}]
[null,null,null,null,null,null,null,null,null,null,null,null,{"$f":"IF(データセット1!$B993<>\"\",IF($M$1=データセット1!$B993,データセット1!$D993),\"\")","v":""},{"$f":"IF(データセット1!$B993<>\"\",IF($N$1=データセット1!$B993,データセット1!$D993),\"\")","v":""},{"$f":"IF(データセット1!$B993<>\"\",IF($O$1=データセット1!$B993,データセット1!$D993),\"\")","v":""},{"$f":"IF(データセット1!$B993<>\"\",IF($P$1=データセット1!$B993,データセット1!$D993),\"\")","v":""},{"$f":"IF(データセット1!$B993<>\"\",IF($Q$1=データセット1!$B993,データセット1!$D993),\"\")","v":""},{"$f":"IF(データセット1!$B993<>\"\",IF($R$1=データセット1!$B993,データセット1!$D993),\"\")","v":""},{"$f":"IF(データセット1!$B993<>\"\",IF($S$1=データセット1!$B993,データセット1!$D993),\"\")","v":""},{"$f":"IF(データセット1!$B993<>\"\",IF($T$1=データセット1!$B993,データセット1!$D993),\"\")","v":""},{"$f":"IF(データセット1!$B993<>\"\",IF($U$1=データセット1!$B993,データセット1!$D993),\"\")","v":""}]
[null,null,null,null,null,null,null,null,null,null,null,null,{"$f":"IF(データセット1!$B994<>\"\",IF($M$1=データセット1!$B994,データセット1!$D994),\"\")","v":""},{"$f":"IF(データセット1!$B994<>\"\",IF($N$1=データセット1!$B994,データセット1!$D994),\"\")","v":""},{"$f":"IF(データセット1!$B994<>\"\",IF($O$1=データセット1!$B994,データセット1!$D994),\"\")","v":""},{"$f":"IF(データセット1!$B994<>\"\",IF($P$1=データセット1!$B994,データセット1!$D994),\"\")","v":""},{"$f":"IF(データセット1!$B994<>\"\",IF($Q$1=データセット1!$B994,データセット1!$D994),\"\")","v":""},{"$f":"IF(データセット1!$B994<>\"\",IF($R$1=データセット1!$B994,データセット1!$D994),\"\")","v":""},{"$f":"IF(データセット1!$B994<>\"\",IF($S$1=データセット1!$B994,データセット1!$D994),\"\")","v":""},{"$f":"IF(データセット1!$B994<>\"\",IF($T$1=データセット1!$B994,データセット1!$D994),\"\")","v":""},{"$f":"IF(データセット1!$B994<>\"\",IF($U$1=データセット1!$B994,データセット1!$D994),\"\")","v":""}]
[null,null,null,null,null,null,null,null,null,null,null,null,{"$f":"IF(データセット1!$B995<>\"\",IF($M$1=データセット1!$B995,データセット1!$D995),\"\")","v":""},{"$f":"IF(データセット1!$B995<>\"\",IF($N$1=データセット1!$B995,データセット1!$D995),\"\")","v":""},{"$f":"IF(データセット1!$B995<>\"\",IF($O$1=データセット1!$B995,データセット1!$D995),\"\")","v":""},{"$f":"IF(データセット1!$B995<>\"\",IF($P$1=データセット1!$B995,データセット1!$D995),\"\")","v":""},{"$f":"IF(データセット1!$B995<>\"\",IF($Q$1=データセット1!$B995,データセット1!$D995),\"\")","v":""},{"$f":"IF(データセット1!$B995<>\"\",IF($R$1=データセット1!$B995,データセット1!$D995),\"\")","v":""},{"$f":"IF(データセット1!$B995<>\"\",IF($S$1=データセット1!$B995,データセット1!$D995),\"\")","v":""},{"$f":"IF(データセット1!$B995<>\"\",IF($T$1=データセット1!$B995,データセット1!$D995),\"\")","v":""},{"$f":"IF(データセット1!$B995<>\"\",IF($U$1=データセット1!$B995,データセット1!$D995),\"\")","v":""}]
[null,null,null,null,null,null,null,null,null,null,null,null,{"$f":"IF(データセット1!$B996<>\"\",IF($M$1=データセット1!$B996,データセット1!$D996),\"\")","v":""},{"$f":"IF(データセット1!$B996<>\"\",IF($N$1=データセット1!$B996,データセット1!$D996),\"\")","v":""},{"$f":"IF(データセット1!$B996<>\"\",IF($O$1=データセット1!$B996,データセット1!$D996),\"\")","v":""},{"$f":"IF(データセット1!$B996<>\"\",IF($P$1=データセット1!$B996,データセット1!$D996),\"\")","v":""},{"$f":"IF(データセット1!$B996<>\"\",IF($Q$1=データセット1!$B996,データセット1!$D996),\"\")","v":""},{"$f":"IF(データセット1!$B996<>\"\",IF($R$1=データセット1!$B996,データセット1!$D996),\"\")","v":""},{"$f":"IF(データセット1!$B996<>\"\",IF($S$1=データセット1!$B996,データセット1!$D996),\"\")","v":""},{"$f":"IF(データセット1!$B996<>\"\",IF($T$1=データセット1!$B996,データセット1!$D996),\"\")","v":""},{"$f":"IF(データセット1!$B996<>\"\",IF($U$1=データセット1!$B996,データセット1!$D996),\"\")","v":""}]
[null,null,null,null,null,null,null,null,null,null,null,null,{"$f":"IF(データセット1!$B997<>\"\",IF($M$1=データセット1!$B997,データセット1!$D997),\"\")","v":""},{"$f":"IF(データセット1!$B997<>\"\",IF($N$1=データセット1!$B997,データセット1!$D997),\"\")","v":""},{"$f":"IF(データセット1!$B997<>\"\",IF($O$1=データセット1!$B997,データセット1!$D997),\"\")","v":""},{"$f":"IF(データセット1!$B997<>\"\",IF($P$1=データセット1!$B997,データセット1!$D997),\"\")","v":""},{"$f":"IF(データセット1!$B997<>\"\",IF($Q$1=データセット1!$B997,データセット1!$D997),\"\")","v":""},{"$f":"IF(データセット1!$B997<>\"\",IF($R$1=データセット1!$B997,データセット1!$D997),\"\")","v":""},{"$f":"IF(データセット1!$B997<>\"\",IF($S$1=データセット1!$B997,データセット1!$D997),\"\")","v":""},{"$f":"IF(データセット1!$B997<>\"\",IF($T$1=データセット1!$B997,データセット1!$D997),\"\")","v":""},{"$f":"IF(データセット1!$B997<>\"\",IF($U$1=データセット1!$B997,データセット1!$D997),\"\")","v":""}]
[null,null,null,null,null,null,null,null,null,null,null,null,{"$f":"IF(データセット1!$B998<>\"\",IF($M$1=データセット1!$B998,データセット1!$D998),\"\")","v":""},{"$f":"IF(データセット1!$B998<>\"\",IF($N$1=データセット1!$B998,データセット1!$D998),\"\")","v":""},{"$f":"IF(データセット1!$B998<>\"\",IF($O$1=データセット1!$B998,データセット1!$D998),\"\")","v":""},{"$f":"IF(データセット1!$B998<>\"\",IF($P$1=データセット1!$B998,データセット1!$D998),\"\")","v":""},{"$f":"IF(データセット1!$B998<>\"\",IF($Q$1=データセット1!$B998,データセット1!$D998),\"\")","v":""},{"$f":"IF(データセット1!$B998<>\"\",IF($R$1=データセット1!$B998,データセット1!$D998),\"\")","v":""},{"$f":"IF(データセット1!$B998<>\"\",IF($S$1=データセット1!$B998,データセット1!$D998),\"\")","v":""},{"$f":"IF(データセット1!$B998<>\"\",IF($T$1=データセット1!$B998,データセット1!$D998),\"\")","v":""},{"$f":"IF(データセット1!$B998<>\"\",IF($U$1=データセット1!$B998,データセット1!$D998),\"\")","v":""}]
[null,null,null,null,null,null,null,null,null,null,null,null,{"$f":"IF(データセット1!$B999<>\"\",IF($M$1=データセット1!$B999,データセット1!$D999),\"\")","v":""},{"$f":"IF(データセット1!$B999<>\"\",IF($N$1=データセット1!$B999,データセット1!$D999),\"\")","v":""},{"$f":"IF(データセット1!$B999<>\"\",IF($O$1=データセット1!$B999,データセット1!$D999),\"\")","v":""},{"$f":"IF(データセット1!$B999<>\"\",IF($P$1=データセット1!$B999,データセット1!$D999),\"\")","v":""},{"$f":"IF(データセット1!$B999<>\"\",IF($Q$1=データセット1!$B999,データセット1!$D999),\"\")","v":""},{"$f":"IF(データセット1!$B999<>\"\",IF($R$1=データセット1!$B999,データセット1!$D999),\"\")","v":""},{"$f":"IF(データセット1!$B999<>\"\",IF($S$1=データセット1!$B999,データセット1!$D999),\"\")","v":""},{"$f":"IF(データセット1!$B999<>\"\",IF($T$1=データセット1!$B999,データセット1!$D999),\"\")","v":""},{"$f":"IF(データセット1!$B999<>\"\",IF($U$1=データセット1!$B999,データセット1!$D999),\"\")","v":""}]
[null,null,null,null,null,null,null,null,null,null,null,null,{"$f":"IF(データセット1!$B1000<>\"\",IF($M$1=データセット1!$B1000,データセット1!$D1000),\"\")","v":""},{"$f":"IF(データセット1!$B1000<>\"\",IF($N$1=データセット1!$B1000,データセット1!$D1000),\"\")","v":""},{"$f":"IF(データセット1!$B1000<>\"\",IF($O$1=データセット1!$B1000,データセット1!$D1000),\"\")","v":""},{"$f":"IF(データセット1!$B1000<>\"\",IF($P$1=データセット1!$B1000,データセット1!$D1000),\"\")","v":""},{"$f":"IF(データセット1!$B1000<>\"\",IF($Q$1=データセット1!$B1000,データセット1!$D1000),\"\")","v":""},{"$f":"IF(データセット1!$B1000<>\"\",IF($R$1=データセット1!$B1000,データセット1!$D1000),\"\")","v":""},{"$f":"IF(データセット1!$B1000<>\"\",IF($S$1=データセット1!$B1000,データセット1!$D1000),\"\")","v":""},{"$f":"IF(データセット1!$B1000<>\"\",IF($T$1=データセット1!$B1000,データセット1!$D1000),\"\")","v":""},{"$f":"IF(データセット1!$B1000<>\"\",IF($U$1=データセット1!$B1000,データセット1!$D1000),\"\")","v":""}]

{"sheet":"Sheet1","index":3,"n_rows":24,"n_cols":9,"rows_kept":24,"cut":false,"hidden":false,"merged":[]}
["概要"]
[]
["回帰統計"]
["重相関 R",0.89672212249629391]
["重決定 R2",0.80411056497425826]
["補正 R2",0.79195784648177525]
["標準誤差",822.72567595482008]
["観測数",186]
[]
["分散分析表"]
[null,"自由度","変動","分散","観測された分散比","有意 F"]
["回帰",7,497356602.71659219,71050943.245227456,122.46346271088896,1.3159555156337931E-64]
["残差",179,121161079.27968147,676877.53787531552]
["合計",186,618517681.99627364]
[]
[null,"係数","標準誤差","t ","P-値","下限 95%","上限 95%","下限 95.0%","上限 95.0%"]
["切片",865.03105633995096,210.80344702779837,4.1034957849900833,6.1739833174976873E-5,449.05146884748382,1281.0106438324181,449.05146884748382,1281.0106438324181]
["セッション",3.2226410101849061,0.57510681319551427,5.6035521336961311,7.8164195651852102E-8,2.0877796106669462,4.3575024097028656,2.0877796106669462,4.3575024097028656]
["18-24",-778.78395486616375,312.89479261071438,-2.4889642565419163,1.3724690875711027E-2,-1396.2209493455864,-161.3469603867411,-1396.2209493455864,-161.3469603867411]
["25-34",1755.2146976760814,437.5414357290511,4.0115393751256132,8.8519472850480434E-5,891.81180502114626,2618.6175903310168,891.81180502114626,2618.6175903310168]
["35-44",2344.6722346068777,292.28034877757278,8.021997525366265,1.3169044663783463E-13,1767.9138341590133,2921.4306350547422,1767.9138341590133,2921.4306350547422]
["45-54",453.70685943034675,218.30060394131996,2.0783582419785924,3.9102817608039089E-2,22.933091462065306,884.48062739862826,22.933091462065306,884.48062739862826]
["55-64",17.346083177666305,209.68660740603661,8.2723848662768398E-2,0.93416355430686604,-396.42963862044894,431.12180497578152,-396.42963862044894,431.12180497578152]
["65+",0,0,65535,{"$error":"#NUM!"},0,0,0,0]

{"sheet":"説明変数のダミー化","index":4,"n_rows":1000,"n_cols":13,"rows_kept":1000,"cut":false,"hidden":false,"merged":[]}
[{"$f":"IF(データセット1!C1<>\"\",データセット1!C1,\"\")","v":"収益"},{"$f":"IF(データセット1!D1<>\"\",データセット1!D1,\"\")","v":"セッション"},{"$f":"カテゴリースコア!M1","v":"18-24"},{"$f":"カテゴリースコア!N1","v":"25-34"},{"$f":"カテゴリースコア!O1","v":"35-44"},{"$f":"カテゴリースコア!P1","v":"45-54"},{"$f":"カテゴリースコア!Q1","v":"55-64"},{"$f":"カテゴリースコア!R1","v":"65+"},{"$f":"カテゴリースコア!S1","v":""},{"$f":"カテゴリースコア!T1","v":""},{"$f":"カテゴリースコア!U1","v":""}]
[{"$f":"IF(データセット1!C2<>\"\",データセット1!C2,\"\")","v":8349.49},{"$f":"IF(データセット1!C2<>\"\",データセット1!D2-カテゴリースコア!$E$11,\"\")","v":534.45161290322585},{"$f":"IF(C$1<>\"\",IF($A2<>\"\",COUNT(カテゴリースコア!M2),\"\"),\"\")","v":0},{"$f":"IF(D$1<>\"\",IF($A2<>\"\",COUNT(カテゴリースコア!N2),\"\"),\"\")","v":1},{"$f":"IF(E$1<>\"\",IF($A2<>\"\",COUNT(カテゴリースコア!O2),\"\"),\"\")","v":0},{"$f":"IF(F$1<>\"\",IF($A2<>\"\",COUNT(カテゴリースコア!P2),\"\"),\"\")","v":0},{"$f":"IF(G$1<>\"\",IF($A2<>\"\",COUNT(カテゴリースコア!Q2),\"\"),\"\")","v":0},{"$f":"IF(H$1<>\"\",IF($A2<>\"\",COUNT(カテゴリースコア!R2),\"\"),\"\")","v":0},{"$f":"IF(I$1<>\"\",IF($A2<>\"\",COUNT(カテゴリースコア!S2),\"\"),\"\")","v":""},{"$f":"IF(J$1<>\"\",IF($A2<>\"\",COUNT(カテゴリースコア!T2),\"\"),\"\")","v":""},{"$f":"IF(K$1<>\"\",IF($A2<>\"\",COUNT(カテゴリースコア!U2),\"\"),\"\")","v":""},null,"①データ＞データ分析＞回帰分析　を選択する"]
[{"$f":"IF(データセット1!C3<>\"\",データセット1!C3,\"\")","v":6725.62},{"$f":"IF(データセット1!C3<>\"\",データセット1!D3-カテゴリースコア!$E$11,\"\")","v":985.45161290322585},{"$f":"IF(C$1<>\"\",IF($A3<>\"\",COUNT(カテゴリースコア!M3),\"\"),\"\")","v":0},{"$f":"IF(D$1<>\"\",IF($A3<>\"\",COUNT(カテゴリースコア!N3),\"\"),\"\")","v":1},{"$f":"IF(E$1<>\"\",IF($A3<>\"\",COUNT(カテゴリースコア!O3),\"\"),\"\")","v":0},{"$f":"IF(F$1<>\"\",IF($A3<>\"\",COUNT(カテゴリースコア!P3),\"\"),\"\")","v":0},{"$f":"IF(G$1<>\"\",IF($A3<>\"\",COUNT(カテゴリースコア!Q3),\"\"),\"\")","v":0},{"$f":"IF(H$1<>\"\",IF($A3<>\"\",COUNT(カテゴリースコア!R3),\"\"),\"\")","v":0},{"$f":"IF(I$1<>\"\",IF($A3<>\"\",COUNT(カテゴリースコア!S3),\"\"),\"\")","v":""},{"$f":"IF(J$1<>\"\",IF($A3<>\"\",COUNT(カテゴリースコア!T3),\"\"),\"\")","v":""},{"$f":"IF(K$1<>\"\",IF($A3<>\"\",COUNT(カテゴリースコア!U3),\"\"),\"\")","v":""},null,"②入力範囲YにA列の数値すべてを設定"]
[{"$f":"IF(データセット1!C4<>\"\",データセット1!C4,\"\")","v":6677.38},{"$f":"IF(データセット1!C4<>\"\",データセット1!D4-カテゴリースコア!$E$11,\"\")","v":521.45161290322585},{"$f":"IF(C$1<>\"\",IF($A4<>\"\",COUNT(カテゴリースコア!M4),\"\"),\"\")","v":0},{"$f":"IF(D$1<>\"\",IF($A4<>\"\",COUNT(カテゴリースコア!N4),\"\"),\"\")","v":1},{"$f":"IF(E$1<>\"\",IF($A4<>\"\",COUNT(カテゴリースコア!O4),\"\"),\"\")","v":0},{"$f":"IF(F$1<>\"\",IF($A4<>\"\",COUNT(カテゴリースコア!P4),\"\"),\"\")","v":0},{"$f":"IF(G$1<>\"\",IF($A4<>\"\",COUNT(カテゴリースコア!Q4),\"\"),\"\")","v":0},{"$f":"IF(H$1<>\"\",IF($A4<>\"\",COUNT(カテゴリースコア!R4),\"\"),\"\")","v":0},{"$f":"IF(I$1<>\"\",IF($A4<>\"\",COUNT(カテゴリースコア!S4),\"\"),\"\")","v":""},{"$f":"IF(J$1<>\"\",IF($A4<>\"\",COUNT(カテゴリースコア!T4),\"\"),\"\")","v":""},{"$f":"IF(K$1<>\"\",IF($A4<>\"\",COUNT(カテゴリースコア!U4),\"\"),\"\")","v":""},null,"③入力範囲XにB～K列から最後の一列を除いて、残りの数値すべてを設定"]
[{"$f":"IF(データセット1!C5<>\"\",データセット1!C5,\"\")","v":5773.21},{"$f":"IF(データセット1!C5<>\"\",データセット1!D5-カテゴリースコア!$E$11,\"\")","v":405.45161290322579},{"$f":"IF(C$1<>\"\",IF($A5<>\"\",COUNT(カテゴリースコア!M5),\"\"),\"\")","v":0},{"$f":"IF(D$1<>\"\",IF($A5<>\"\",COUNT(カテゴリースコア!N5),\"\"),\"\")","v":0},{"$f":"IF(E$1<>\"\",IF($A5<>\"\",COUNT(カテゴリースコア!O5),\"\"),\"\")","v":1},{"$f":"IF(F$1<>\"\",IF($A5<>\"\",COUNT(カテゴリースコア!P5),\"\"),\"\")","v":0},{"$f":"IF(G$1<>\"\",IF($A5<>\"\",COUNT(カテゴリースコア!Q5),\"\"),\"\")","v":0},{"$f":"IF(H$1<>\"\",IF($A5<>\"\",COUNT(カテゴリースコア!R5),\"\"),\"\")","v":0},{"$f":"IF(I$1<>\"\",IF($A5<>\"\",COUNT(カテゴリースコア!S5),\"\"),\"\")","v":""},{"$f":"IF(J$1<>\"\",IF($A5<>\"\",COUNT(カテゴリースコア!T5),\"\"),\"\")","v":""},{"$f":"IF(K$1<>\"\",IF($A5<>\"\",COUNT(カテゴリースコア!U5),\"\"),\"\")","v":""},null,"④ラベルにチェックを入れる"]
[{"$f":"IF(データセット1!C6<>\"\",データセット1!C6,\"\")","v":5571.51},{"$f":"IF(データセット1!C6<>\"\",データセット1!D6-カテゴリースコア!$E$11,\"\")","v":495.45161290322579},{"$f":"IF(C$1<>\"\",IF($A6<>\"\",COUNT(カテゴリースコア!M6),\"\"),\"\")","v":0},{"$f":"IF(D$1<>\"\",IF($A6<>\"\",COUNT(カテゴリースコア!N6),\"\"),\"\")","v":1},{"$f":"IF(E$1<>\"\",IF($A6<>\"\",COUNT(カテゴリースコア!O6),\"\"),\"\")","v":0},{"$f":"IF(F$1<>\"\",IF($A6<>\"\",COUNT(カテゴリースコア!P6),\"\"),\"\")","v":0},{"$f":"IF(G$1<>\"\",IF($A6<>\"\",COUNT(カテゴリースコア!Q6),\"\"),\"\")","v":0},{"$f":"IF(H$1<>\"\",IF($A6<>\"\",COUNT(カテゴリースコア!R6),\"\"),\"\")","v":0},{"$f":"IF(I$1<>\"\",IF($A6<>\"\",COUNT(カテゴリースコア!S6),\"\"),\"\")","v":""},{"$f":"IF(J$1<>\"\",IF($A6<>\"\",COUNT(カテゴリースコア!T6),\"\"),\"\")","v":""},{"$f":"IF(K$1<>\"\",IF($A6<>\"\",COUNT(カテゴリースコア!U6),\"\"),\"\")","v":""},null,"⑤別シートで回帰分析を実行する"]
[{"$f":"IF(データセット1!C7<>\"\",データセット1!C7,\"\")","v":5533.83},{"$f":"IF(データセット1!C7<>\"\",データセット1!D7-カテゴリースコア!$E$11,\"\")","v":153.45161290322579},{"$f":"IF(C$1<>\"\",IF($A7<>\"\",COUNT(カテゴリースコア!M7),\"\"),\"\")","v":0},{"$f":"IF(D$1<>\"\",IF($A7<>\"\",COUNT(カテゴリースコア!N7),\"\"),\"\")","v":0},{"$f":"IF(E$1<>\"\",IF($A7<>\"\",COUNT(カテゴリースコア!O7),\"\"),\"\")","v":1},{"$f":"IF(F$1<>\"\",IF($A7<>\"\",COUNT(カテゴリースコア!P7),\"\"),\"\")","v":0},{"$f":"IF(G$1<>\"\",IF($A7<>\"\",COUNT(カテゴリースコア!Q7),\"\"),\"\")","v":0},{"$f":"IF(H$1<>\"\",IF($A7<>\"\",COUNT(カテゴリースコア!R7),\"\"),\"\")","v":0},{"$f":"IF(I$1<>\"\",IF($A7<>\"\",COUNT(カテゴリースコア!S7),\"\"),\"\")","v":""},{"$f":"IF(J$1<>\"\",IF($A7<>\"\",COUNT(カテゴリースコア!T7),\"\"),\"\")","v":""},{"$f":"IF(K$1<>\"\",IF($A7<>\"\",COUNT(カテゴリースコア!U7),\"\"),\"\")","v":""},null,"⑥新しくできたシートの名前をSheet1にする。"]
[{"$f":"IF(データセット1!C8<>\"\",データセット1!C8,\"\")","v":5370.78},{"$f":"IF(データセット1!C8<>\"\",データセット1!D8-カテゴリースコア!$E$11,\"\")","v":118.45161290322579},{"$f":"IF(C$1<>\"\",IF($A8<>\"\",COUNT(カテゴリースコア!M8),\"\"),\"\")","v":0},{"$f":"IF(D$1<>\"\",IF($A8<>\"\",COUNT(カテゴリースコア!N8),\"\"),\"\")","v":0},{"$f":"IF(E$1<>\"\",IF($A8<>\"\",COUNT(カテゴリースコア!O8),\"\"),\"\")","v":1},{"$f":"IF(F$1<>\"\",IF($A8<>\"\",COUNT(カテゴリースコア!P8),\"\"),\"\")","v":0},{"$f":"IF(G$1<>\"\",IF($A8<>\"\",COUNT(カテゴリースコア!Q8),\"\"),\"\")","v":0},{"$f":"IF(H$1<>\"\",IF($A8<>\"\",COUNT(カテゴリースコア!R8),\"\"),\"\")","v":0},{"$f":"IF(I$1<>\"\",IF($A8<>\"\",COUNT(カテゴリースコア!S8),\"\"),\"\")","v":""},{"$f":"IF(J$1<>\"\",IF($A8<>\"\",COUNT(カテゴリースコア!T8),\"\"),\"\")","v":""},{"$f":"IF(K$1<>\"\",IF($A8<>\"\",COUNT(カテゴリースコア!U8),\"\"),\"\")","v":""},null,"⑦カテゴリースコアシートへ移動する"]
[{"$f":"IF(データセット1!C9<>\"\",データセット1!C9,\"\")","v":5278.24},{"$f":"IF(データセット1!C9<>\"\",データセット1!D9-カテゴリースコア!$E$11,\"\")","v":452.45161290322579},{"$f":"IF(C$1<>\"\",IF($A9<>\"\",COUNT(カテゴリースコア!M9),\"\"),\"\")","v":0},{"$f":"IF(D$1<>\"\",IF($A9<>\"\",COUNT(カテゴリースコア!N9),\"\"),\"\")","v":1},{"$f":"IF(E$1<>\"\",IF($A9<>\"\",COUNT(カテゴリースコア!O9),\"\"),\"\")","v":0},{"$f":"IF(F$1<>\"\",IF($A9<>\"\",COUNT(カテゴリースコア!P9),\"\"),\"\")","v":0},{"$f":"IF(G$1<>\"\",IF($A9<>\"\",COUNT(カテゴリースコア!Q9),\"\"),\"\")","v":0},{"$f":"IF(H$1<>\"\",IF($A9<>\"\",COUNT(カテゴリースコア!R9),\"\"),\"\")","v":0},{"$f":"IF(I$1<>\"\",IF($A9<>\"\",COUNT(カテゴリースコア!S9),\"\"),\"\")","v":""},{"$f":"IF(J$1<>\"\",IF($A9<>\"\",COUNT(カテゴリースコア!T9),\"\"),\"\")","v":""},{"$f":"IF(K$1<>\"\",IF($A9<>\"\",COUNT(カテゴリースコア!U9),\"\"),\"\")","v":""}]
[{"$f":"IF(データセット1!C10<>\"\",データセット1!C10,\"\")","v":5238.51},{"$f":"IF(データセット1!C10<>\"\",データセット1!D10-カテゴリースコア!$E$11,\"\")","v":171.45161290322579},{"$f":"IF(C$1<>\"\",IF($A10<>\"\",COUNT(カテゴリースコア!M10),\"\"),\"\")","v":0},{"$f":"IF(D$1<>\"\",IF($A10<>\"\",COUNT(カテゴリースコア!N10),\"\"),\"\")","v":0},{"$f":"IF(E$1<>\"\",IF($A10<>\"\",COUNT(カテゴリースコア!O10),\"\"),\"\")","v":1},{"$f":"IF(F$1<>\"\",IF($A10<>\"\",COUNT(カテゴリースコア!P10),\"\"),\"\")","v":0},{"$f":"IF(G$1<>\"\",IF($A10<>\"\",COUNT(カテゴリースコア!Q10),\"\"),\"\")","v":0},{"$f":"IF(H$1<>\"\",IF($A10<>\"\",COUNT(カテゴリースコア!R10),\"\"),\"\")","v":0},{"$f":"IF(I$1<>\"\",IF($A10<>\"\",COUNT(カテゴリースコア!S10),\"\"),\"\")","v":""},{"$f":"IF(J$1<>\"\",IF($A10<>\"\",COUNT(カテゴリースコア!T10),\"\"),\"\")","v":""},{"$f":"IF(K$1<>\"\",IF($A10<>\"\",COUNT(カテゴリースコア!U10),\"\"),\"\")","v":""}]
[{"$f":"IF(データセット1!C11<>\"\",データセット1!C11,\"\")","v":5220.3599999999997},{"$f":"IF(データセット1!C11<>\"\",データセット1!D11-カテゴリースコア!$E$11,\"\")","v":152.45161290322579},{"$f":"IF(C$1<>\"\",IF($A11<>\"\",COUNT(カテゴリースコア!M11),\"\"),\"\")","v":0},{"$f":"IF(D$1<>\"\",IF($A11<>\"\",COUNT(カテゴリースコア!N11),\"\"),\"\")","v":0},{"$f":"IF(E$1<>\"\",IF($A11<>\"\",COUNT(カテゴリースコア!O11),\"\"),\"\")","v":1},{"$f":"IF(F$1<>\"\",IF($A11<>\"\",COUNT(カテゴリースコア!P11),\"\"),\"\")","v":0},{"$f":"IF(G$1<>\"\",IF($A11<>\"\",COUNT(カテゴリースコア!Q11),\"\"),\"\")","v":0},{"$f":"IF(H$1<>\"\",IF($A11<>\"\",COUNT(カテゴリースコア!R11),\"\"),\"\")","v":0},{"$f":"IF(I$1<>\"\",IF($A11<>\"\",COUNT(カテゴリースコア!S11),\"\"),\"\")","v":""},{"$f":"IF(J$1<>\"\",IF($A11<>\"\",COUNT(カテゴリースコア!T11),\"\"),\"\")","v":""},{"$f":"IF(K$1<>\"\",IF($A11<>\"\",COUNT(カテゴリースコア!U11),\"\"),\"\")","v":""}]
[{"$f":"IF(データセット1!C12<>\"\",データセット1!C12,\"\")","v":5136.9399999999996},{"$f":"IF(データセット1!C12<>\"\",データセット1!D12-カテゴリースコア!$E$11,\"\")","v":574.45161290322585},{"$f":"IF(C$1<>\"\",IF($A12<>\"\",COUNT(カテゴリースコア!M12),\"\"),\"\")","v":0},{"$f":"IF(D$1<>\"\",IF($A12<>\"\",COUNT(カテゴリースコア!N12),\"\"),\"\")","v":1},{"$f":"IF(E$1<>\"\",IF($A12<>\"\",COUNT(カテゴリースコア!O12),\"\"),\"\")","v":0},{"$f":"IF(F$1<>\"\",IF($A12<>\"\",COUNT(カテゴリースコア!P12),\"\"),\"\")","v":0},{"$f":"IF(G$1<>\"\",IF($A12<>\"\",COUNT(カテゴリースコア!Q12),\"\"),\"\")","v":0},{"$f":"IF(H$1<>\"\",IF($A12<>\"\",COUNT(カテゴリースコア!R12),\"\"),\"\")","v":0},{"$f":"IF(I$1<>\"\",IF($A12<>\"\",COUNT(カテゴリースコア!S12),\"\"),\"\")","v":""},{"$f":"IF(J$1<>\"\",IF($A12<>\"\",COUNT(カテゴリースコア!T12),\"\"),\"\")","v":""},{"$f":"IF(K$1<>\"\",IF($A12<>\"\",COUNT(カテゴリースコア!U12),\"\"),\"\")","v":""}]
[{"$f":"IF(データセット1!C13<>\"\",データセット1!C13,\"\")","v":4790.1000000000004},{"$f":"IF(データセット1!C13<>\"\",データセット1!D13-カテゴリースコア!$E$11,\"\")","v":419.45161290322579},{"$f":"IF(C$1<>\"\",IF($A13<>\"\",COUNT(カテゴリースコア!M13),\"\"),\"\")","v":0},{"$f":"IF(D$1<>\"\",IF($A13<>\"\",COUNT(カテゴリースコア!N13),\"\"),\"\")","v":1},{"$f":"IF(E$1<>\"\",IF($A13<>\"\",COUNT(カテゴリースコア!O13),\"\"),\"\")","v":0},{"$f":"IF(F$1<>\"\",IF($A13<>\"\",COUNT(カテゴリースコア!P13),\"\"),\"\")","v":0},{"$f":"IF(G$1<>\"\",IF($A13<>\"\",COUNT(カテゴリースコア!Q13),\"\"),\"\")","v":0},{"$f":"IF(H$1<>\"\",IF($A13<>\"\",COUNT(カテゴリースコア!R13),\"\"),\"\")","v":0},{"$f":"IF(I$1<>\"\",IF($A13<>\"\",COUNT(カテゴリースコア!S13),\"\"),\"\")","v":""},{"$f":"IF(J$1<>\"\",IF($A13<>\"\",COUNT(カテゴリースコア!T13),\"\"),\"\")","v":""},{"$f":"IF(K$1<>\"\",IF($A13<>\"\",COUNT(カテゴリースコア!U13),\"\"),\"\")","v":""}]
[{"$f":"IF(データセット1!C14<>\"\",データセット1!C14,\"\")","v":4767.3500000000004},{"$f":"IF(データセット1!C14<>\"\",データセット1!D14-カテゴリースコア!$E$11,\"\")","v":212.45161290322579},{"$f":"IF(C$1<>\"\",IF($A14<>\"\",COUNT(カテゴリースコア!M14),\"\"),\"\")","v":0},{"$f":"IF(D$1<>\"\",IF($A14<>\"\",COUNT(カテゴリースコア!N14),\"\"),\"\")","v":0},{"$f":"IF(E$1<>\"\",IF($A14<>\"\",COUNT(カテゴリースコア!O14),\"\"),\"\")","v":1},{"$f":"IF(F$1<>\"\",IF($A14<>\"\",COUNT(カテゴリースコア!P14),\"\"),\"\")","v":0},{"$f":"IF(G$1<>\"\",IF($A14<>\"\",COUNT(カテゴリースコア!Q14),\"\"),\"\")","v":0},{"$f":"IF(H$1<>\"\",IF($A14<>\"\",COUNT(カテゴリースコア!R14),\"\"),\"\")","v":0},{"$f":"IF(I$1<>\"\",IF($A14<>\"\",COUNT(カテゴリースコア!S14),\"\"),\"\")","v":""},{"$f":"IF(J$1<>\"\",IF($A14<>\"\",COUNT(カテゴリースコア!T14),\"\"),\"\")","v":""},{"$f":"IF(K$1<>\"\",IF($A14<>\"\",COUNT(カテゴリースコア!U14),\"\"),\"\")","v":""}]
[{"$f":"IF(データセット1!C15<>\"\",データセット1!C15,\"\")","v":4663.1499999999996},{"$f":"IF(データセット1!C15<>\"\",データセット1!D15-カテゴリースコア!$E$11,\"\")","v":362.45161290322579},{"$f":"IF(C$1<>\"\",IF($A15<>\"\",COUNT(カテゴリースコア!M15),\"\"),\"\")","v":0},{"$f":"IF(D$1<>\"\",IF($A15<>\"\",COUNT(カテゴリースコア!N15),\"\"),\"\")","v":1},{"$f":"IF(E$1<>\"\",IF($A15<>\"\",COUNT(カテゴリースコア!O15),\"\"),\"\")","v":0},{"$f":"IF(F$1<>\"\",IF($A15<>\"\",COUNT(カテゴリースコア!P15),\"\"),\"\")","v":0},{"$f":"IF(G$1<>\"\",IF($A15<>\"\",COUNT(カテゴリースコア!Q15),\"\"),\"\")","v":0},{"$f":"IF(H$1<>\"\",IF($A15<>\"\",COUNT(カテゴリースコア!R15),\"\"),\"\")","v":0},{"$f":"IF(I$1<>\"\",IF($A15<>\"\",COUNT(カテゴリースコア!S15),\"\"),\"\")","v":""},{"$f":"IF(J$1<>\"\",IF($A15<>\"\",COUNT(カテゴリースコア!T15),\"\"),\"\")","v":""},{"$f":"IF(K$1<>\"\",IF($A15<>\"\",COUNT(カテゴリースコア!U15),\"\"),\"\")","v":""}]
[{"$f":"IF(データセット1!C16<>\"\",データセット1!C16,\"\")","v":4543.6899999999996},{"$f":"IF(データセット1!C16<>\"\",データセット1!D16-カテゴリースコア!$E$11,\"\")","v":80.451612903225794},{"$f":"IF(C$1<>\"\",IF($A16<>\"\",COUNT(カテゴリースコア!M16),\"\"),\"\")","v":0},{"$f":"IF(D$1<>\"\",IF($A16<>\"\",COUNT(カテゴリースコア!N16),\"\"),\"\")","v":0},{"$f":"IF(E$1<>\"\",IF($A16<>\"\",COUNT(カテゴリースコア!O16),\"\"),\"\")","v":1},{"$f":"IF(F$1<>\"\",IF($A16<>\"\",COUNT(カテゴリースコア!P16),\"\"),\"\")","v":0},{"$f":"IF(G$1<>\"\",IF($A16<>\"\",COUNT(カテゴリースコア!Q16),\"\"),\"\")","v":0},{"$f":"IF(H$1<>\"\",IF($A16<>\"\",COUNT(カテゴリースコア!R16),\"\"),\"\")","v":0},{"$f":"IF(I$1<>\"\",IF($A16<>\"\",COUNT(カテゴリースコア!S16),\"\"),\"\")","v":""},{"$f":"IF(J$1<>\"\",IF($A16<>\"\",COUNT(カテゴリースコア!T16),\"\"),\"\")","v":""},{"$f":"IF(K$1<>\"\",IF($A16<>\"\",COUNT(カテゴリースコア!U16),\"\"),\"\")","v":""}]
[{"$f":"IF(データセット1!C17<>\"\",データセット1!C17,\"\")","v":4541.46},{"$f":"IF(データセット1!C17<>\"\",データセット1!D17-カテゴリースコア!$E$11,\"\")","v":-51.548387096774206},{"$f":"IF(C$1<>\"\",IF($A17<>\"\",COUNT(カテゴリースコア!M17),\"\"),\"\")","v":0},{"$f":"IF(D$1<>\"\",IF($A17<>\"\",COUNT(カテゴリースコア!N17),\"\"),\"\")","v":0},{"$f":"IF(E$1<>\"\",IF($A17<>\"\",COUNT(カテゴリースコア!O17),\"\"),\"\")","v":1},{"$f":"IF(F$1<>\"\",IF($A17<>\"\",COUNT(カテゴリースコア!P17),\"\"),\"\")","v":0},{"$f":"IF(G$1<>\"\",IF($A17<>\"\",COUNT(カテゴリースコア!Q17),\"\"),\"\")","v":0},{"$f":"IF(H$1<>\"\",IF($A17<>\"\",COUNT(カテゴリースコア!R17),\"\"),\"\")","v":0},{"$f":"IF(I$1<>\"\",IF($A17<>\"\",COUNT(カテゴリースコア!S17),\"\"),\"\")","v":""},{"$f":"IF(J$1<>\"\",IF($A17<>\"\",COUNT(カテゴリースコア!T17),\"\"),\"\")","v":""},{"$f":"IF(K$1<>\"\",IF($A17<>\"\",COUNT(カテゴリースコア!U17),\"\"),\"\")","v":""}]
[{"$f":"IF(データセット1!C18<>\"\",データセット1!C18,\"\")","v":4533.8500000000004},{"$f":"IF(データセット1!C18<>\"\",データセット1!D18-カテゴリースコア!$E$11,\"\")","v":97.451612903225794},{"$f":"IF(C$1<>\"\",IF($A18<>\"\",COUNT(カテゴリースコア!M18),\"\"),\"\")","v":0},{"$f":"IF(D$1<>\"\",IF($A18<>\"\",COUNT(カテゴリースコア!N18),\"\"),\"\")","v":1},{"$f":"IF(E$1<>\"\",IF($A18<>\"\",COUNT(カテゴリースコア!O18),\"\"),\"\")","v":0},{"$f":"IF(F$1<>\"\",IF($A18<>\"\",COUNT(カテゴリースコア!P18),\"\"),\"\")","v":0},{"$f":"IF(G$1<>\"\",IF($A18<>\"\",COUNT(カテゴリースコア!Q18),\"\"),\"\")","v":0},{"$f":"IF(H$1<>\"\",IF($A18<>\"\",COUNT(カテゴリースコア!R18),\"\"),\"\")","v":0},{"$f":"IF(I$1<>\"\",IF($A18<>\"\",COUNT(カテゴリースコア!S18),\"\"),\"\")","v":""},{"$f":"IF(J$1<>\"\",IF($A18<>\"\",COUNT(カテゴリースコア!T18),\"\"),\"\")","v":""},{"$f":"IF(K$1<>\"\",IF($A18<>\"\",COUNT(カテゴリースコア!U18),\"\"),\"\")","v":""}]
[{"$f":"IF(データセット1!C19<>\"\",データセット1!C19,\"\")","v":4496.0200000000004},{"$f":"IF(データセット1!C19<>\"\",データセット1!D19-カテゴリースコア!$E$11,\"\")","v":558.45161290322585},{"$f":"IF(C$1<>\"\",IF($A19<>\"\",COUNT(カテゴリースコア!M19),\"\"),\"\")","v":0},{"$f":"IF(D$1<>\"\",IF($A19<>\"\",COUNT(カテゴリースコア!N19),\"\"),\"\")","v":1},{"$f":"IF(E$1<>\"\",IF($A19<>\"\",COUNT(カテゴリースコア!O19),\"\"),\"\")","v":0},{"$f":"IF(F$1<>\"\",IF($A19<>\"\",COUNT(カテゴリースコア!P19),\"\"),\"\")","v":0},{"$f":"IF(G$1<>\"\",IF($A19<>\"\",COUNT(カテゴリースコア!Q19),\"\"),\"\")","v":0},{"$f":"IF(H$1<>\"\",IF($A19<>\"\",COUNT(カテゴリースコア!R19),\"\"),\"\")","v":0},{"$f":"IF(I$1<>\"\",IF($A19<>\"\",COUNT(カテゴリースコア!S19),\"\"),\"\")","v":""},{"$f":"IF(J$1<>\"\",IF($A19<>\"\",COUNT(カテゴリースコア!T19),\"\"),\"\")","v":""},{"$f":"IF(K$1<>\"\",IF($A19<>\"\",COUNT(カテゴリースコア!U19),\"\"),\"\")","v":""}]
[{"$f":"IF(データセット1!C20<>\"\",データセット1!C20,\"\")","v":4434.78},{"$f":"IF(データセット1!C20<>\"\",データセット1!D20-カテゴリースコア!$E$11,\"\")","v":112.45161290322579},{"$f":"IF(C$1<>\"\",IF($A20<>\"\",COUNT(カテゴリースコア!M20),\"\"),\"\")","v":0},{"$f":"IF(D$1<>\"\",IF($A20<>\"\",COUNT(カテゴリースコア!N20),\"\"),\"\")","v":0},{"$f":"IF(E$1<>\"\",IF($A20<>\"\",COUNT(カテゴリースコア!O20),\"\"),\"\")","v":1},{"$f":"IF(F$1<>\"\",IF($A20<>\"\",COUNT(カテゴリースコア!P20),\"\"),\"\")","v":0},{"$f":"IF(G$1<>\"\",IF($A20<>\"\",COUNT(カテゴリースコア!Q20),\"\"),\"\")","v":0},{"$f":"IF(H$1<>\"\",IF($A20<>\"\",COUNT(カテゴリースコア!R20),\"\"),\"\")","v":0},{"$f":"IF(I$1<>\"\",IF($A20<>\"\",COUNT(カテゴリースコア!S20),\"\"),\"\")","v":""},{"$f":"IF(J$1<>\"\",IF($A20<>\"\",COUNT(カテゴリースコア!T20),\"\"),\"\")","v":""},{"$f":"IF(K$1<>\"\",IF($A20<>\"\",COUNT(カテゴリースコア!U20),\"\"),\"\")","v":""}]
[{"$f":"IF(データセット1!C21<>\"\",データセット1!C21,\"\")","v":4220.74},{"$f":"IF(データセット1!C21<>\"\",データセット1!D21-カテゴリースコア!$E$11,\"\")","v":505.45161290322579},{"$f":"IF(C$1<>\"\",IF($A21<>\"\",COUNT(カテゴリースコア!M21),\"\"),\"\")","v":0},{"$f":"IF(D$1<>\"\",IF($A21<>\"\",COUNT(カテゴリースコア!N21),\"\"),\"\")","v":1},{"$f":"IF(E$1<>\"\",IF($A21<>\"\",COUNT(カテゴリースコア!O21),\"\"),\"\")","v":0},{"$f":"IF(F$1<>\"\",IF($A21<>\"\",COUNT(カテゴリースコア!P21),\"\"),\"\")","v":0},{"$f":"IF(G$1<>\"\",IF($A21<>\"\",COUNT(カテゴリースコア!Q21),\"\"),\"\")","v":0},{"$f":"IF(H$1<>\"\",IF($A21<>\"\",COUNT(カテゴリースコア!R21),\"\"),\"\")","v":0},{"$f":"IF(I$1<>\"\",IF($A21<>\"\",COUNT(カテゴリースコア!S21),\"\"),\"\")","v":""},{"$f":"IF(J$1<>\"\",IF($A21<>\"\",COUNT(カテゴリースコア!T21),\"\"),\"\")","v":""},{"$f":"IF(K$1<>\"\",IF($A21<>\"\",COUNT(カテゴリースコア!U21),\"\"),\"\")","v":""}]
[{"$f":"IF(データセット1!C22<>\"\",データセット1!C22,\"\")","v":4212.37},{"$f":"IF(データセット1!C22<>\"\",データセット1!D22-カテゴリースコア!$E$11,\"\")","v":74.451612903225794},{"$f":"IF(C$1<>\"\",IF($A22<>\"\",COUNT(カテゴリースコア!M22),\"\"),\"\")","v":0},{"$f":"IF(D$1<>\"\",IF($A22<>\"\",COUNT(カテゴリースコア!N22),\"\"),\"\")","v":0},{"$f":"IF(E$1<>\"\",IF($A22<>\"\",COUNT(カテゴリースコア!O22),\"\"),\"\")","v":1},{"$f":"IF(F$1<>\"\",IF($A22<>\"\",COUNT(カテゴリースコア!P22),\"\"),\"\")","v":0},{"$f":"IF(G$1<>\"\",IF($A22<>\"\",COUNT(カテゴリースコア!Q22),\"\"),\"\")","v":0},{"$f":"IF(H$1<>\"\",IF($A22<>\"\",COUNT(カテゴリースコア!R22),\"\"),\"\")","v":0},{"$f":"IF(I$1<>\"\",IF($A22<>\"\",COUNT(カテゴリースコア!S22),\"\"),\"\")","v":""},{"$f":"IF(J$1<>\"\",IF($A22<>\"\",COUNT(カテゴリースコア!T22),\"\"),\"\")","v":""},{"$f":"IF(K$1<>\"\",IF($A22<>\"\",COUNT(カテゴリースコア!U22),\"\"),\"\")","v":""}]
[{"$f":"IF(データセット1!C23<>\"\",データセット1!C23,\"\")","v":4156.8500000000004},{"$f":"IF(データセット1!C23<>\"\",データセット1!D23-カテゴリースコア!$E$11,\"\")","v":320.45161290322579},{"$f":"IF(C$1<>\"\",IF($A23<>\"\",COUNT(カテゴリースコア!M23),\"\"),\"\")","v":0},{"$f":"IF(D$1<>\"\",IF($A23<>\"\",COUNT(カテゴリースコア!N23),\"\"),\"\")","v":1},{"$f":"IF(E$1<>\"\",IF($A23<>\"\",COUNT(カテゴリースコア!O23),\"\"),\"\")","v":0},{"$f":"IF(F$1<>\"\",IF($A23<>\"\",COUNT(カテゴリースコア!P23),\"\"),\"\")","v":0},{"$f":"IF(G$1<>\"\",IF($A23<>\"\",COUNT(カテゴリースコア!Q23),\"\"),\"\")","v":0},{"$f":"IF(H$1<>\"\",IF($A23<>\"\",COUNT(カテゴリースコア!R23),\"\"),\"\")","v":0},{"$f":"IF(I$1<>\"\",IF($A23<>\"\",COUNT(カテゴリースコア!S23),\"\"),\"\")","v":""},{"$f":"IF(J$1<>\"\",IF($A23<>\"\",COUNT(カテゴリースコア!T23),\"\"),\"\")","v":""},{"$f":"IF(K$1<>\"\",IF($A23<>\"\",COUNT(カテゴリースコア!U23),\"\"),\"\")","v":""}]
[{"$f":"IF(データセット1!C24<>\"\",データセット1!C24,\"\")","v":4156.29},{"$f":"IF(データセット1!C24<>\"\",データセット1!D24-カテゴリースコア!$E$11,\"\")","v":136.45161290322579},{"$f":"IF(C$1<>\"\",IF($A24<>\"\",COUNT(カテゴリースコア!M24),\"\"),\"\")","v":0},{"$f":"IF(D$1<>\"\",IF($A24<>\"\",COUNT(カテゴリースコア!N24),\"\"),\"\")","v":1},{"$f":"IF(E$1<>\"\",IF($A24<>\"\",COUNT(カテゴリースコア!O24),\"\"),\"\")","v":0},{"$f":"IF(F$1<>\"\",IF($A24<>\"\",COUNT(カテゴリースコア!P24),\"\"),\"\")","v":0},{"$f":"IF(G$1<>\"\",IF($A24<>\"\",COUNT(カテゴリースコア!Q24),\"\"),\"\")","v":0},{"$f":"IF(H$1<>\"\",IF($A24<>\"\",COUNT(カテゴリースコア!R24),\"\"),\"\")","v":0},{"$f":"IF(I$1<>\"\",IF($A24<>\"\",COUNT(カテゴリースコア!S24),\"\"),\"\")","v":""},{"$f":"IF(J$1<>\"\",IF($A24<>\"\",COUNT(カテゴリースコア!T24),\"\"),\"\")","v":""},{"$f":"IF(K$1<>\"\",IF($A24<>\"\",COUNT(カテゴリースコア!U24),\"\"),\"\")","v":""}]
[{"$f":"IF(データセット1!C25<>\"\",データセット1!C25,\"\")","v":4080.02},{"$f":"IF(データセット1!C25<>\"\",データセット1!D25-カテゴリースコア!$E$11,\"\")","v":291.45161290322579},{"$f":"IF(C$1<>\"\",IF($A25<>\"\",COUNT(カテゴリースコア!M25),\"\"),\"\")","v":0},{"$f":"IF(D$1<>\"\",IF($A25<>\"\",COUNT(カテゴリースコア!N25),\"\"),\"\")","v":1},{"$f":"IF(E$1<>\"\",IF($A25<>\"\",COUNT(カテゴリースコア!O25),\"\"),\"\")","v":0},{"$f":"IF(F$1<>\"\",IF($A25<>\"\",COUNT(カテゴリースコア!P25),\"\"),\"\")","v":0},{"$f":"IF(G$1<>\"\",IF($A25<>\"\",COUNT(カテゴリースコア!Q25),\"\"),\"\")","v":0},{"$f":"IF(H$1<>\"\",IF($A25<>\"\",COUNT(カテゴリースコア!R25),\"\"),\"\")","v":0},{"$f":"IF(I$1<>\"\",IF($A25<>\"\",COUNT(カテゴリースコア!S25),\"\"),\"\")","v":""},{"$f":"IF(J$1<>\"\",IF($A25<>\"\",COUNT(カテゴリースコア!T25),\"\"),\"\")","v":""},{"$f":"IF(K$1<>\"\",IF($A25<>\"\",COUNT(カテゴリースコア!U25),\"\"),\"\")","v":""}]
[{"$f":"IF(データセット1!C26<>\"\",データセット1!C26,\"\")","v":4030.11},{"$f":"IF(データセット1!C26<>\"\",データセット1!D26-カテゴリースコア!$E$11,\"\")","v":538.45161290322585},{"$f":"IF(C$1<>\"\",IF($A26<>\"\",COUNT(カテゴリースコア!M26),\"\"),\"\")","v":0},{"$f":"IF(D$1<>\"\",IF($A26<>\"\",COUNT(カテゴリースコア!N26),\"\"),\"\")","v":1},{"$f":"IF(E$1<>\"\",IF($A26<>\"\",COUNT(カテゴリースコア!O26),\"\"),\"\")","v":0},{"$f":"IF(F$1<>\"\",IF($A26<>\"\",COUNT(カテゴリースコア!P26),\"\"),\"\")","v":0},{"$f":"IF(G$1<>\"\",IF($A26<>\"\",COUNT(カテゴリースコア!Q26),\"\"),\"\")","v":0},{"$f":"IF(H$1<>\"\",IF($A26<>\"\",COUNT(カテゴリースコア!R26),\"\"),\"\")","v":0},{"$f":"IF(I$1<>\"\",IF($A26<>\"\",COUNT(カテゴリースコア!S26),\"\"),\"\")","v":""},{"$f":"IF(J$1<>\"\",IF($A26<>\"\",COUNT(カテゴリースコア!T26),\"\"),\"\")","v":""},{"$f":"IF(K$1<>\"\",IF($A26<>\"\",COUNT(カテゴリースコア!U26),\"\"),\"\")","v":""}]
[{"$f":"IF(データセット1!C27<>\"\",データセット1!C27,\"\")","v":4003.89},{"$f":"IF(データセット1!C27<>\"\",データセット1!D27-カテゴリースコア!$E$11,\"\")","v":177.45161290322579},{"$f":"IF(C$1<>\"\",IF($A27<>\"\",COUNT(カテゴリースコア!M27),\"\"),\"\")","v":0},{"$f":"IF(D$1<>\"\",IF($A27<>\"\",COUNT(カテゴリースコア!N27),\"\"),\"\")","v":0},{"$f":"IF(E$1<>\"\",IF($A27<>\"\",COUNT(カテゴリースコア!O27),\"\"),\"\")","v":1},{"$f":"IF(F$1<>\"\",IF($A27<>\"\",COUNT(カテゴリースコア!P27),\"\"),\"\")","v":0},{"$f":"IF(G$1<>\"\",IF($A27<>\"\",COUNT(カテゴリースコア!Q27),\"\"),\"\")","v":0},{"$f":"IF(H$1<>\"\",IF($A27<>\"\",COUNT(カテゴリースコア!R27),\"\"),\"\")","v":0},{"$f":"IF(I$1<>\"\",IF($A27<>\"\",COUNT(カテゴリースコア!S27),\"\"),\"\")","v":""},{"$f":"IF(J$1<>\"\",IF($A27<>\"\",COUNT(カテゴリースコア!T27),\"\"),\"\")","v":""},{"$f":"IF(K$1<>\"\",IF($A27<>\"\",COUNT(カテゴリースコア!U27),\"\"),\"\")","v":""}]
[{"$f":"IF(データセット1!C28<>\"\",データセット1!C28,\"\")","v":3933.74},{"$f":"IF(データセット1!C28<>\"\",データセット1!D28-カテゴリースコア!$E$11,\"\")","v":144.45161290322579},{"$f":"IF(C$1<>\"\",IF($A28<>\"\",COUNT(カテゴリースコア!M28),\"\"),\"\")","v":0},{"$f":"IF(D$1<>\"\",IF($A28<>\"\",COUNT(カテゴリースコア!N28),\"\"),\"\")","v":0},{"$f":"IF(E$1<>\"\",IF($A28<>\"\",COUNT(カテゴリースコア!O28),\"\"),\"\")","v":1},{"$f":"IF(F$1<>\"\",IF($A28<>\"\",COUNT(カテゴリースコア!P28),\"\"),\"\")","v":0},{"$f":"IF(G$1<>\"\",IF($A28<>\"\",COUNT(カテゴリースコア!Q28),\"\"),\"\")","v":0},{"$f":"IF(H$1<>\"\",IF($A28<>\"\",COUNT(カテゴリースコア!R28),\"\"),\"\")","v":0},{"$f":"IF(I$1<>\"\",IF($A28<>\"\",COUNT(カテゴリースコア!S28),\"\"),\"\")","v":""},{"$f":"IF(J$1<>\"\",IF($A28<>\"\",COUNT(カテゴリースコア!T28),\"\"),\"\")","v":""},{"$f":"IF(K$1<>\"\",IF($A28<>\"\",COUNT(カテゴリースコア!U28),\"\"),\"\")","v":""}]
[{"$f":"IF(データセット1!C29<>\"\",データセット1!C29,\"\")","v":3849.72},{"$f":"IF(データセット1!C29<>\"\",データセット1!D29-カテゴリースコア!$E$11,\"\")","v":506.45161290322579},{"$f":"IF(C$1<>\"\",IF($A29<>\"\",COUNT(カテゴリースコア!M29),\"\"),\"\")","v":0},{"$f":"IF(D$1<>\"\",IF($A29<>\"\",COUNT(カテゴリースコア!N29),\"\"),\"\")","v":1},{"$f":"IF(E$1<>\"\",IF($A29<>\"\",COUNT(カテゴリースコア!O29),\"\"),\"\")","v":0},{"$f":"IF(F$1<>\"\",IF($A29<>\"\",COUNT(カテゴリースコア!P29),\"\"),\"\")","v":0},{"$f":"IF(G$1<>\"\",IF($A29<>\"\",COUNT(カテゴリースコア!Q29),\"\"),\"\")","v":0},{"$f":"IF(H$1<>\"\",IF($A29<>\"\",COUNT(カテゴリースコア!R29),\"\"),\"\")","v":0},{"$f":"IF(I$1<>\"\",IF($A29<>\"\",COUNT(カテゴリースコア!S29),\"\"),\"\")","v":""},{"$f":"IF(J$1<>\"\",IF($A29<>\"\",COUNT(カテゴリースコア!T29),\"\"),\"\")","v":""},{"$f":"IF(K$1<>\"\",IF($A29<>\"\",COUNT(カテゴリースコア!U29),\"\"),\"\")","v":""}]
[{"$f":"IF(データセット1!C30<>\"\",データセット1!C30,\"\")","v":3819.18},{"$f":"IF(データセット1!C30<>\"\",データセット1!D30-カテゴリースコア!$E$11,\"\")","v":91.451612903225794},{"$f":"IF(C$1<>\"\",IF($A30<>\"\",COUNT(カテゴリースコア!M32),\"\"),\"\")","v":0},{"$f":"IF(D$1<>\"\",IF($A30<>\"\",COUNT(カテゴリースコア!N32),\"\"),\"\")","v":0},{"$f":"IF(E$1<>\"\",IF($A30<>\"\",COUNT(カテゴリースコア!O32),\"\"),\"\")","v":1},{"$f":"IF(F$1<>\"\",IF($A30<>\"\",COUNT(カテゴリースコア!P32),\"\"),\"\")","v":0},{"$f":"IF(G$1<>\"\",IF($A30<>\"\",COUNT(カテゴリースコア!Q32),\"\"),\"\")","v":0},{"$f":"IF(H$1<>\"\",IF($A30<>\"\",COUNT(カテゴリースコア!R32),\"\"),\"\")","v":0},{"$f":"IF(I$1<>\"\",IF($A30<>\"\",COUNT(カテゴリースコア!S32),\"\"),\"\")","v":""},{"$f":"IF(J$1<>\"\",IF($A30<>\"\",COUNT(カテゴリースコア!T32),\"\"),\"\")","v":""},{"$f":"IF(K$1<>\"\",IF($A30<>\"\",COUNT(カテゴリースコア!U32),\"\"),\"\")","v":""}]
[{"$f":"IF(データセット1!C31<>\"\",データセット1!C31,\"\")","v":3718.95},{"$f":"IF(データセット1!C31<>\"\",データセット1!D31-カテゴリースコア!$E$11,\"\")","v":398.45161290322579},{"$f":"IF(C$1<>\"\",IF($A31<>\"\",COUNT(カテゴリースコア!M33),\"\"),\"\")","v":0},{"$f":"IF(D$1<>\"\",IF($A31<>\"\",COUNT(カテゴリースコア!N33),\"\"),\"\")","v":1},{"$f":"IF(E$1<>\"\",IF($A31<>\"\",COUNT(カテゴリースコア!O33),\"\"),\"\")","v":0},{"$f":"IF(F$1<>\"\",IF($A31<>\"\",COUNT(カテゴリースコア!P33),\"\"),\"\")","v":0},{"$f":"IF(G$1<>\"\",IF($A31<>\"\",COUNT(カテゴリースコア!Q33),\"\"),\"\")","v":0},{"$f":"IF(H$1<>\"\",IF($A31<>\"\",COUNT(カテゴリースコア!R33),\"\"),\"\")","v":0},{"$f":"IF(I$1<>\"\",IF($A31<>\"\",COUNT(カテゴリースコア!S33),\"\"),\"\")","v":""},{"$f":"IF(J$1<>\"\",IF($A31<>\"\",COUNT(カテゴリースコア!T33),\"\"),\"\")","v":""},{"$f":"IF(K$1<>\"\",IF($A31<>\"\",COUNT(カテゴリースコア!U33),\"\"),\"\")","v":""}]
[{"$f":"IF(データセット1!C32<>\"\",データセット1!C32,\"\")","v":3511.68},{"$f":"IF(データセット1!C32<>\"\",データセット1!D32-カテゴリースコア!$E$11,\"\")","v":363.45161290322579},{"$f":"IF(C$1<>\"\",IF($A32<>\"\",COUNT(カテゴリースコア!M34),\"\"),\"\")","v":0},{"$f":"IF(D$1<>\"\",IF($A32<>\"\",COUNT(カテゴリースコア!N34),\"\"),\"\")","v":0},{"$f":"IF(E$1<>\"\",IF($A32<>\"\",COUNT(カテゴリースコア!O34),\"\"),\"\")","v":1},{"$f":"IF(F$1<>\"\",IF($A32<>\"\",COUNT(カテゴリースコア!P34),\"\"),\"\")","v":0},{"$f":"IF(G$1<>\"\",IF($A32<>\"\",COUNT(カテゴリースコア!Q34),\"\"),\"\")","v":0},{"$f":"IF(H$1<>\"\",IF($A32<>\"\",COUNT(カテゴリースコア!R34),\"\"),\"\")","v":0},{"$f":"IF(I$1<>\"\",IF($A32<>\"\",COUNT(カテゴリースコア!S34),\"\"),\"\")","v":""},{"$f":"IF(J$1<>\"\",IF($A32<>\"\",COUNT(カテゴリースコア!T34),\"\"),\"\")","v":""},{"$f":"IF(K$1<>\"\",IF($A32<>\"\",COUNT(カテゴリースコア!U34),\"\"),\"\")","v":""}]
[{"$f":"IF(データセット1!C33<>\"\",データセット1!C33,\"\")","v":3482.78},{"$f":"IF(データセット1!C33<>\"\",データセット1!D33-カテゴリースコア!$E$11,\"\")","v":71.451612903225794},{"$f":"IF(C$1<>\"\",IF($A33<>\"\",COUNT(カテゴリースコア!M35),\"\"),\"\")","v":0},{"$f":"IF(D$1<>\"\",IF($A33<>\"\",COUNT(カテゴリースコア!N35),\"\"),\"\")","v":0},{"$f":"IF(E$1<>\"\",IF($A33<>\"\",COUNT(カテゴリースコア!O35),\"\"),\"\")","v":1},{"$f":"IF(F$1<>\"\",IF($A33<>\"\",COUNT(カテゴリースコア!P35),\"\"),\"\")","v":0},{"$f":"IF(G$1<>\"\",IF($A33<>\"\",COUNT(カテゴリースコア!Q35),\"\"),\"\")","v":0},{"$f":"IF(H$1<>\"\",IF($A33<>\"\",COUNT(カテゴリースコア!R35),\"\"),\"\")","v":0},{"$f":"IF(I$1<>\"\",IF($A33<>\"\",COUNT(カテゴリースコア!S35),\"\"),\"\")","v":""},{"$f":"IF(J$1<>\"\",IF($A33<>\"\",COUNT(カテゴリースコア!T35),\"\"),\"\")","v":""},{"$f":"IF(K$1<>\"\",IF($A33<>\"\",COUNT(カテゴリースコア!U35),\"\"),\"\")","v":""}]
[{"$f":"IF(データセット1!C34<>\"\",データセット1!C34,\"\")","v":3446.53},{"$f":"IF(データセット1!C34<>\"\",データセット1!D34-カテゴリースコア!$E$11,\"\")","v":475.45161290322579},{"$f":"IF(C$1<>\"\",IF($A34<>\"\",COUNT(カテゴリースコア!M36),\"\"),\"\")","v":0},{"$f":"IF(D$1<>\"\",IF($A34<>\"\",COUNT(カテゴリースコア!N36),\"\"),\"\")","v":1},{"$f":"IF(E$1<>\"\",IF($A34<>\"\",COUNT(カテゴリースコア!O36),\"\"),\"\")","v":0},{"$f":"IF(F$1<>\"\",IF($A34<>\"\",COUNT(カテゴリースコア!P36),\"\"),\"\")","v":0},{"$f":"IF(G$1<>\"\",IF($A34<>\"\",COUNT(カテゴリースコア!Q36),\"\"),\"\")","v":0},{"$f":"IF(H$1<>\"\",IF($A34<>\"\",COUNT(カテゴリースコア!R36),\"\"),\"\")","v":0},{"$f":"IF(I$1<>\"\",IF($A34<>\"\",COUNT(カテゴリースコア!S36),\"\"),\"\")","v":""},{"$f":"IF(J$1<>\"\",IF($A34<>\"\",COUNT(カテゴリースコア!T36),\"\"),\"\")","v":""},{"$f":"IF(K$1<>\"\",IF($A34<>\"\",COUNT(カテゴリースコア!U36),\"\"),\"\")","v":""}]
[{"$f":"IF(データセット1!C35<>\"\",データセット1!C35,\"\")","v":3420.4},{"$f":"IF(データセット1!C35<>\"\",データセット1!D35-カテゴリースコア!$E$11,\"\")","v":243.45161290322579},{"$f":"IF(C$1<>\"\",IF($A35<>\"\",COUNT(カテゴリースコア!M37),\"\"),\"\")","v":0},{"$f":"IF(D$1<>\"\",IF($A35<>\"\",COUNT(カテゴリースコア!N37),\"\"),\"\")","v":0},{"$f":"IF(E$1<>\"\",IF($A35<>\"\",COUNT(カテゴリースコア!O37),\"\"),\"\")","v":1},{"$f":"IF(F$1<>\"\",IF($A35<>\"\",COUNT(カテゴリースコア!P37),\"\"),\"\")","v":0},{"$f":"IF(G$1<>\"\",IF($A35<>\"\",COUNT(カテゴリースコア!Q37),\"\"),\"\")","v":0},{"$f":"IF(H$1<>\"\",IF($A35<>\"\",COUNT(カテゴリースコア!R37),\"\"),\"\")","v":0},{"$f":"IF(I$1<>\"\",IF($A35<>\"\",COUNT(カテゴリースコア!S37),\"\"),\"\")","v":""},{"$f":"IF(J$1<>\"\",IF($A35<>\"\",COUNT(カテゴリースコア!T37),\"\"),\"\")","v":""},{"$f":"IF(K$1<>\"\",IF($A35<>\"\",COUNT(カテゴリースコア!U37),\"\"),\"\")","v":""}]
[{"$f":"IF(データセット1!C36<>\"\",データセット1!C36,\"\")","v":3388.52},{"$f":"IF(データセット1!C36<>\"\",データセット1!D36-カテゴリースコア!$E$11,\"\")","v":67.451612903225794},{"$f":"IF(C$1<>\"\",IF($A36<>\"\",COUNT(カテゴリースコア!M38),\"\"),\"\")","v":0},{"$f":"IF(D$1<>\"\",IF($A36<>\"\",COUNT(カテゴリースコア!N38),\"\"),\"\")","v":0},{"$f":"IF(E$1<>\"\",IF($A36<>\"\",COUNT(カテゴリースコア!O38),\"\"),\"\")","v":1},{"$f":"IF(F$1<>\"\",IF($A36<>\"\",COUNT(カテゴリースコア!P38),\"\"),\"\")","v":0},{"$f":"IF(G$1<>\"\",IF($A36<>\"\",COUNT(カテゴリースコア!Q38),\"\"),\"\")","v":0},{"$f":"IF(H$1<>\"\",IF($A36<>\"\",COUNT(カテゴリースコア!R38),\"\"),\"\")","v":0},{"$f":"IF(I$1<>\"\",IF($A36<>\"\",COUNT(カテゴリースコア!S38),\"\"),\"\")","v":""},{"$f":"IF(J$1<>\"\",IF($A36<>\"\",COUNT(カテゴリースコア!T38),\"\"),\"\")","v":""},{"$f":"IF(K$1<>\"\",IF($A36<>\"\",COUNT(カテゴリースコア!U38),\"\"),\"\")","v":""}]
[{"$f":"IF(データセット1!C37<>\"\",データセット1!C37,\"\")","v":3385.52},{"$f":"IF(データセット1!C37<>\"\",データセット1!D37-カテゴリースコア!$E$11,\"\")","v":345.45161290322579},{"$f":"IF(C$1<>\"\",IF($A37<>\"\",COUNT(カテゴリースコア!M39),\"\"),\"\")","v":0},{"$f":"IF(D$1<>\"\",IF($A37<>\"\",COUNT(カテゴリースコア!N39),\"\"),\"\")","v":1},{"$f":"IF(E$1<>\"\",IF($A37<>\"\",COUNT(カテゴリースコア!O39),\"\"),\"\")","v":0},{"$f":"IF(F$1<>\"\",IF($A37<>\"\",COUNT(カテゴリースコア!P39),\"\"),\"\")","v":0},{"$f":"IF(G$1<>\"\",IF($A37<>\"\",COUNT(カテゴリースコア!Q39),\"\"),\"\")","v":0},{"$f":"IF(H$1<>\"\",IF($A37<>\"\",COUNT(カテゴリースコア!R39),\"\"),\"\")","v":0},{"$f":"IF(I$1<>\"\",IF($A37<>\"\",COUNT(カテゴリースコア!S39),\"\"),\"\")","v":""},{"$f":"IF(J$1<>\"\",IF($A37<>\"\",COUNT(カテゴリースコア!T39),\"\"),\"\")","v":""},{"$f":"IF(K$1<>\"\",IF($A37<>\"\",COUNT(カテゴリースコア!U39),\"\"),\"\")","v":""}]
[{"$f":"IF(データセット1!C38<>\"\",データセット1!C38,\"\")","v":3332.93},{"$f":"IF(データセット1!C38<>\"\",データセット1!D38-カテゴリースコア!$E$11,\"\")","v":24.451612903225794},{"$f":"IF(C$1<>\"\",IF($A38<>\"\",COUNT(カテゴリースコア!M40),\"\"),\"\")","v":0},{"$f":"IF(D$1<>\"\",IF($A38<>\"\",COUNT(カテゴリースコア!N40),\"\"),\"\")","v":0},{"$f":"IF(E$1<>\"\",IF($A38<>\"\",COUNT(カテゴリースコア!O40),\"\"),\"\")","v":1},{"$f":"IF(F$1<>\"\",IF($A38<>\"\",COUNT(カテゴリースコア!P40),\"\"),\"\")","v":0},{"$f":"IF(G$1<>\"\",IF($A38<>\"\",COUNT(カテゴリースコア!Q40),\"\"),\"\")","v":0},{"$f":"IF(H$1<>\"\",IF($A38<>\"\",COUNT(カテゴリースコア!R40),\"\"),\"\")","v":0},{"$f":"IF(I$1<>\"\",IF($A38<>\"\",COUNT(カテゴリースコア!S40),\"\"),\"\")","v":""},{"$f":"IF(J$1<>\"\",IF($A38<>\"\",COUNT(カテゴリースコア!T40),\"\"),\"\")","v":""},{"$f":"IF(K$1<>\"\",IF($A38<>\"\",COUNT(カテゴリースコア!U40),\"\"),\"\")","v":""}]
[{"$f":"IF(データセット1!C39<>\"\",データセット1!C39,\"\")","v":3238.4},{"$f":"IF(データセット1!C39<>\"\",データセット1!D39-カテゴリースコア!$E$11,\"\")","v":-70.548387096774206},{"$f":"IF(C$1<>\"\",IF($A39<>\"\",COUNT(カテゴリースコア!M41),\"\"),\"\")","v":0},{"$f":"IF(D$1<>\"\",IF($A39<>\"\",COUNT(カテゴリースコア!N41),\"\"),\"\")","v":0},{"$f":"IF(E$1<>\"\",IF($A39<>\"\",COUNT(カテゴリースコア!O41),\"\"),\"\")","v":1},{"$f":"IF(F$1<>\"\",IF($A39<>\"\",COUNT(カテゴリースコア!P41),\"\"),\"\")","v":0},{"$f":"IF(G$1<>\"\",IF($A39<>\"\",COUNT(カテゴリースコア!Q41),\"\"),\"\")","v":0},{"$f":"IF(H$1<>\"\",IF($A39<>\"\",COUNT(カテゴリースコア!R41),\"\"),\"\")","v":0},{"$f":"IF(I$1<>\"\",IF($A39<>\"\",COUNT(カテゴリースコア!S41),\"\"),\"\")","v":""},{"$f":"IF(J$1<>\"\",IF($A39<>\"\",COUNT(カテゴリースコア!T41),\"\"),\"\")","v":""},{"$f":"IF(K$1<>\"\",IF($A39<>\"\",COUNT(カテゴリースコア!U41),\"\"),\"\")","v":""}]
[{"$f":"IF(データセット1!C40<>\"\",データセット1!C40,\"\")","v":3237.96},{"$f":"IF(データセット1!C40<>\"\",データセット1!D40-カテゴリースコア!$E$11,\"\")","v":-168.54838709677421},{"$f":"IF(C$1<>\"\",IF($A40<>\"\",COUNT(カテゴリースコア!M42),\"\"),\"\")","v":0},{"$f":"IF(D$1<>\"\",IF($A40<>\"\",COUNT(カテゴリースコア!N42),\"\"),\"\")","v":0},{"$f":"IF(E$1<>\"\",IF($A40<>\"\",COUNT(カテゴリースコア!O42),\"\"),\"\")","v":0},{"$f":"IF(F$1<>\"\",IF($A40<>\"\",COUNT(カテゴリースコア!P42),\"\"),\"\")","v":1},{"$f":"IF(G$1<>\"\",IF($A40<>\"\",COUNT(カテゴリースコア!Q42),\"\"),\"\")","v":0},{"$f":"IF(H$1<>\"\",IF($A40<>\"\",COUNT(カテゴリースコア!R42),\"\"),\"\")","v":0},{"$f":"IF(I$1<>\"\",IF($A40<>\"\",COUNT(カテゴリースコア!S42),\"\"),\"\")","v":""},{"$f":"IF(J$1<>\"\",IF($A40<>\"\",COUNT(カテゴリースコア!T42),\"\"),\"\")","v":""},{"$f":"IF(K$1<>\"\",IF($A40<>\"\",COUNT(カテゴリースコア!U42),\"\"),\"\")","v":""}]
[{"$f":"IF(データセット1!C41<>\"\",データセット1!C41,\"\")","v":3204.68},{"$f":"IF(データセット1!C41<>\"\",データセット1!D41-カテゴリースコア!$E$11,\"\")","v":346.45161290322579},{"$f":"IF(C$1<>\"\",IF($A41<>\"\",COUNT(カテゴリースコア!M43),\"\"),\"\")","v":0},{"$f":"IF(D$1<>\"\",IF($A41<>\"\",COUNT(カテゴリースコア!N43),\"\"),\"\")","v":1},{"$f":"IF(E$1<>\"\",IF($A41<>\"\",COUNT(カテゴリースコア!O43),\"\"),\"\")","v":0},{"$f":"IF(F$1<>\"\",IF($A41<>\"\",COUNT(カテゴリースコア!P43),\"\"),\"\")","v":0},{"$f":"IF(G$1<>\"\",IF($A41<>\"\",COUNT(カテゴリースコア!Q43),\"\"),\"\")","v":0},{"$f":"IF(H$1<>\"\",IF($A41<>\"\",COUNT(カテゴリースコア!R43),\"\"),\"\")","v":0},{"$f":"IF(I$1<>\"\",IF($A41<>\"\",COUNT(カテゴリースコア!S43),\"\"),\"\")","v":""},{"$f":"IF(J$1<>\"\",IF($A41<>\"\",COUNT(カテゴリースコア!T43),\"\"),\"\")","v":""},{"$f":"IF(K$1<>\"\",IF($A41<>\"\",COUNT(カテゴリースコア!U43),\"\"),\"\")","v":""}]
[{"$f":"IF(データセット1!C42<>\"\",データセット1!C42,\"\")","v":3143.71},{"$f":"IF(データセット1!C42<>\"\",データセット1!D42-カテゴリースコア!$E$11,\"\")","v":60.451612903225794},{"$f":"IF(C$1<>\"\",IF($A42<>\"\",COUNT(カテゴリースコア!M44),\"\"),\"\")","v":0},{"$f":"IF(D$1<>\"\",IF($A42<>\"\",COUNT(カテゴリースコア!N44),\"\"),\"\")","v":0},{"$f":"IF(E$1<>\"\",IF($A42<>\"\",COUNT(カテゴリースコア!O44),\"\"),\"\")","v":1},{"$f":"IF(F$1<>\"\",IF($A42<>\"\",COUNT(カテゴリースコア!P44),\"\"),\"\")","v":0},{"$f":"IF(G$1<>\"\",IF($A42<>\"\",COUNT(カテゴリースコア!Q44),\"\"),\"\")","v":0},{"$f":"IF(H$1<>\"\",IF($A42<>\"\",COUNT(カテゴリースコア!R44),\"\"),\"\")","v":0},{"$f":"IF(I$1<>\"\",IF($A42<>\"\",COUNT(カテゴリースコア!S44),\"\"),\"\")","v":""},{"$f":"IF(J$1<>\"\",IF($A42<>\"\",COUNT(カテゴリースコア!T44),\"\"),\"\")","v":""},{"$f":"IF(K$1<>\"\",IF($A42<>\"\",COUNT(カテゴリースコア!U44),\"\"),\"\")","v":""}]
[{"$f":"IF(データセット1!C43<>\"\",データセット1!C43,\"\")","v":3011.97},{"$f":"IF(データセット1!C43<>\"\",データセット1!D43-カテゴリースコア!$E$11,\"\")","v":539.45161290322585},{"$f":"IF(C$1<>\"\",IF($A43<>\"\",COUNT(カテゴリースコア!M45),\"\"),\"\")","v":0},{"$f":"IF(D$1<>\"\",IF($A43<>\"\",COUNT(カテゴリースコア!N45),\"\"),\"\")","v":1},{"$f":"IF(E$1<>\"\",IF($A43<>\"\",COUNT(カテゴリースコア!O45),\"\"),\"\")","v":0},{"$f":"IF(F$1<>\"\",IF($A43<>\"\",COUNT(カテゴリースコア!P45),\"\"),\"\")","v":0},{"$f":"IF(G$1<>\"\",IF($A43<>\"\",COUNT(カテゴリースコア!Q45),\"\"),\"\")","v":0},{"$f":"IF(H$1<>\"\",IF($A43<>\"\",COUNT(カテゴリースコア!R45),\"\"),\"\")","v":0},{"$f":"IF(I$1<>\"\",IF($A43<>\"\",COUNT(カテゴリースコア!S45),\"\"),\"\")","v":""},{"$f":"IF(J$1<>\"\",IF($A43<>\"\",COUNT(カテゴリースコア!T45),\"\"),\"\")","v":""},{"$f":"IF(K$1<>\"\",IF($A43<>\"\",COUNT(カテゴリースコア!U45),\"\"),\"\")","v":""}]
[{"$f":"IF(データセット1!C44<>\"\",データセット1!C44,\"\")","v":2892.24},{"$f":"IF(データセット1!C44<>\"\",データセット1!D44-カテゴリースコア!$E$11,\"\")","v":48.451612903225794},{"$f":"IF(C$1<>\"\",IF($A44<>\"\",COUNT(カテゴリースコア!M46),\"\"),\"\")","v":0},{"$f":"IF(D$1<>\"\",IF($A44<>\"\",COUNT(カテゴリースコア!N46),\"\"),\"\")","v":1},{"$f":"IF(E$1<>\"\",IF($A44<>\"\",COUNT(カテゴリースコア!O46),\"\"),\"\")","v":0},{"$f":"IF(F$1<>\"\",IF($A44<>\"\",COUNT(カテゴリースコア!P46),\"\"),\"\")","v":0},{"$f":"IF(G$1<>\"\",IF($A44<>\"\",COUNT(カテゴリースコア!Q46),\"\"),\"\")","v":0},{"$f":"IF(H$1<>\"\",IF($A44<>\"\",COUNT(カテゴリースコア!R46),\"\"),\"\")","v":0},{"$f":"IF(I$1<>\"\",IF($A44<>\"\",COUNT(カテゴリースコア!S46),\"\"),\"\")","v":""},{"$f":"IF(J$1<>\"\",IF($A44<>\"\",COUNT(カテゴリースコア!T46),\"\"),\"\")","v":""},{"$f":"IF(K$1<>\"\",IF($A44<>\"\",COUNT(カテゴリースコア!U46),\"\"),\"\")","v":""}]
[{"$f":"IF(データセット1!C45<>\"\",データセット1!C45,\"\")","v":2888.88},{"$f":"IF(データセット1!C45<>\"\",データセット1!D45-カテゴリースコア!$E$11,\"\")","v":185.45161290322579},{"$f":"IF(C$1<>\"\",IF($A45<>\"\",COUNT(カテゴリースコア!M47),\"\"),\"\")","v":0},{"$f":"IF(D$1<>\"\",IF($A45<>\"\",COUNT(カテゴリースコア!N47),\"\"),\"\")","v":1},{"$f":"IF(E$1<>\"\",IF($A45<>\"\",COUNT(カテゴリースコア!O47),\"\"),\"\")","v":0},{"$f":"IF(F$1<>\"\",IF($A45<>\"\",COUNT(カテゴリースコア!P47),\"\"),\"\")","v":0},{"$f":"IF(G$1<>\"\",IF($A45<>\"\",COUNT(カテゴリースコア!Q47),\"\"),\"\")","v":0},{"$f":"IF(H$1<>\"\",IF($A45<>\"\",COUNT(カテゴリースコア!R47),\"\"),\"\")","v":0},{"$f":"IF(I$1<>\"\",IF($A45<>\"\",COUNT(カテゴリースコア!S47),\"\"),\"\")","v":""},{"$f":"IF(J$1<>\"\",IF($A45<>\"\",COUNT(カテゴリースコア!T47),\"\"),\"\")","v":""},{"$f":"IF(K$1<>\"\",IF($A45<>\"\",COUNT(カテゴリースコア!U47),\"\"),\"\")","v":""}]
[{"$f":"IF(データセット1!C46<>\"\",データセット1!C46,\"\")","v":2861.17},{"$f":"IF(データセット1!C46<>\"\",データセット1!D46-カテゴリースコア!$E$11,\"\")","v":52.451612903225794},{"$f":"IF(C$1<>\"\",IF($A46<>\"\",COUNT(カテゴリースコア!M48),\"\"),\"\")","v":0},{"$f":"IF(D$1<>\"\",IF($A46<>\"\",COUNT(カテゴリースコア!N48),\"\"),\"\")","v":0},{"$f":"IF(E$1<>\"\",IF($A46<>\"\",COUNT(カテゴリースコア!O48),\"\"),\"\")","v":1},{"$f":"IF(F$1<>\"\",IF($A46<>\"\",COUNT(カテゴリースコア!P48),\"\"),\"\")","v":0},{"$f":"IF(G$1<>\"\",IF($A46<>\"\",COUNT(カテゴリースコア!Q48),\"\"),\"\")","v":0},{"$f":"IF(H$1<>\"\",IF($A46<>\"\",COUNT(カテゴリースコア!R48),\"\"),\"\")","v":0},{"$f":"IF(I$1<>\"\",IF($A46<>\"\",COUNT(カテゴリースコア!S48),\"\"),\"\")","v":""},{"$f":"IF(J$1<>\"\",IF($A46<>\"\",COUNT(カテゴリースコア!T48),\"\"),\"\")","v":""},{"$f":"IF(K$1<>\"\",IF($A46<>\"\",COUNT(カテゴリースコア!U48),\"\"),\"\")","v":""}]
[{"$f":"IF(データセット1!C47<>\"\",データセット1!C47,\"\")","v":2857.4},{"$f":"IF(データセット1!C47<>\"\",データセット1!D47-カテゴリースコア!$E$11,\"\")","v":93.451612903225794},{"$f":"IF(C$1<>\"\",IF($A47<>\"\",COUNT(カテゴリースコア!M49),\"\"),\"\")","v":0},{"$f":"IF(D$1<>\"\",IF($A47<>\"\",COUNT(カテゴリースコア!N49),\"\"),\"\")","v":1},{"$f":"IF(E$1<>\"\",IF($A47<>\"\",COUNT(カテゴリースコア!O49),\"\"),\"\")","v":0},{"$f":"IF(F$1<>\"\",IF($A47<>\"\",COUNT(カテゴリースコア!P49),\"\"),\"\")","v":0},{"$f":"IF(G$1<>\"\",IF($A47<>\"\",COUNT(カテゴリースコア!Q49),\"\"),\"\")","v":0},{"$f":"IF(H$1<>\"\",IF($A47<>\"\",COUNT(カテゴリースコア!R49),\"\"),\"\")","v":0},{"$f":"IF(I$1<>\"\",IF($A47<>\"\",COUNT(カテゴリースコア!S49),\"\"),\"\")","v":""},{"$f":"IF(J$1<>\"\",IF($A47<>\"\",COUNT(カテゴリースコア!T49),\"\"),\"\")","v":""},{"$f":"IF(K$1<>\"\",IF($A47<>\"\",COUNT(カテゴリースコア!U49),\"\"),\"\")","v":""}]
[{"$f":"IF(データセット1!C48<>\"\",データセット1!C48,\"\")","v":2836.91},{"$f":"IF(データセット1!C48<>\"\",データセット1!D48-カテゴリースコア!$E$11,\"\")","v":40.451612903225794},{"$f":"IF(C$1<>\"\",IF($A48<>\"\",COUNT(カテゴリースコア!M50),\"\"),\"\")","v":0},{"$f":"IF(D$1<>\"\",IF($A48<>\"\",COUNT(カテゴリースコア!N50),\"\"),\"\")","v":0},{"$f":"IF(E$1<>\"\",IF($A48<>\"\",COUNT(カテゴリースコア!O50),\"\"),\"\")","v":1},{"$f":"IF(F$1<>\"\",IF($A48<>\"\",COUNT(カテゴリースコア!P50),\"\"),\"\")","v":0},{"$f":"IF(G$1<>\"\",IF($A48<>\"\",COUNT(カテゴリースコア!Q50),\"\"),\"\")","v":0},{"$f":"IF(H$1<>\"\",IF($A48<>\"\",COUNT(カテゴリースコア!R50),\"\"),\"\")","v":0},{"$f":"IF(I$1<>\"\",IF($A48<>\"\",COUNT(カテゴリースコア!S50),\"\"),\"\")","v":""},{"$f":"IF(J$1<>\"\",IF($A48<>\"\",COUNT(カテゴリースコア!T50),\"\"),\"\")","v":""},{"$f":"IF(K$1<>\"\",IF($A48<>\"\",COUNT(カテゴリースコア!U50),\"\"),\"\")","v":""}]
[{"$f":"IF(データセット1!C49<>\"\",データセット1!C49,\"\")","v":2734.01},{"$f":"IF(データセット1!C49<>\"\",データセット1!D49-カテゴリースコア!$E$11,\"\")","v":-51.548387096774206},{"$f":"IF(C$1<>\"\",IF($A49<>\"\",COUNT(カテゴリースコア!M51),\"\"),\"\")","v":0},{"$f":"IF(D$1<>\"\",IF($A49<>\"\",COUNT(カテゴリースコア!N51),\"\"),\"\")","v":0},{"$f":"IF(E$1<>\"\",IF($A49<>\"\",COUNT(カテゴリースコア!O51),\"\"),\"\")","v":0},{"$f":"IF(F$1<>\"\",IF($A49<>\"\",COUNT(カテゴリースコア!P51),\"\"),\"\")","v":1},{"$f":"IF(G$1<>\"\",IF($A49<>\"\",COUNT(カテゴリースコア!Q51),\"\"),\"\")","v":0},{"$f":"IF(H$1<>\"\",IF($A49<>\"\",COUNT(カテゴリースコア!R51),\"\"),\"\")","v":0},{"$f":"IF(I$1<>\"\",IF($A49<>\"\",COUNT(カテゴリースコア!S51),\"\"),\"\")","v":""},{"$f":"IF(J$1<>\"\",IF($A49<>\"\",COUNT(カテゴリースコア!T51),\"\"),\"\")","v":""},{"$f":"IF(K$1<>\"\",IF($A49<>\"\",COUNT(カテゴリースコア!U51),\"\"),\"\")","v":""}]
[{"$f":"IF(データセット1!C50<>\"\",データセット1!C50,\"\")","v":2726.13},{"$f":"IF(データセット1!C50<>\"\",データセット1!D50-カテゴリースコア!$E$11,\"\")","v":724.45161290322585},{"$f":"IF(C$1<>\"\",IF($A50<>\"\",COUNT(カテゴリースコア!M52),\"\"),\"\")","v":0},{"$f":"IF(D$1<>\"\",IF($A50<>\"\",COUNT(カテゴリースコア!N52),\"\"),\"\")","v":1},{"$f":"IF(E$1<>\"\",IF($A50<>\"\",COUNT(カテゴリースコア!O52),\"\"),\"\")","v":0},{"$f":"IF(F$1<>\"\",IF($A50<>\"\",COUNT(カテゴリースコア!P52),\"\"),\"\")","v":0},{"$f":"IF(G$1<>\"\",IF($A50<>\"\",COUNT(カテゴリースコア!Q52),\"\"),\"\")","v":0},{"$f":"IF(H$1<>\"\",IF($A50<>\"\",COUNT(カテゴリースコア!R52),\"\"),\"\")","v":0},{"$f":"IF(I$1<>\"\",IF($A50<>\"\",COUNT(カテゴリースコア!S52),\"\"),\"\")","v":""},{"$f":"IF(J$1<>\"\",IF($A50<>\"\",COUNT(カテゴリースコア!T52),\"\"),\"\")","v":""},{"$f":"IF(K$1<>\"\",IF($A50<>\"\",COUNT(カテゴリースコア!U52),\"\"),\"\")","v":""}]
[{"$f":"IF(データセット1!C51<>\"\",データセット1!C51,\"\")","v":2599.9299999999998},{"$f":"IF(データセット1!C51<>\"\",データセット1!D51-カテゴリースコア!$E$11,\"\")","v":229.45161290322579},{"$f":"IF(C$1<>\"\",IF($A51<>\"\",COUNT(カテゴリースコア!M53),\"\"),\"\")","v":0},{"$f":"IF(D$1<>\"\",IF($A51<>\"\",COUNT(カテゴリースコア!N53),\"\"),\"\")","v":1},{"$f":"IF(E$1<>\"\",IF($A51<>\"\",COUNT(カテゴリースコア!O53),\"\"),\"\")","v":0},{"$f":"IF(F$1<>\"\",IF($A51<>\"\",COUNT(カテゴリースコア!P53),\"\"),\"\")","v":0},{"$f":"IF(G$1<>\"\",IF($A51<>\"\",COUNT(カテゴリースコア!Q53),\"\"),\"\")","v":0},{"$f":"IF(H$1<>\"\",IF($A51<>\"\",COUNT(カテゴリースコア!R53),\"\"),\"\")","v":0},{"$f":"IF(I$1<>\"\",IF($A51<>\"\",COUNT(カテゴリースコア!S53),\"\"),\"\")","v":""},{"$f":"IF(J$1<>\"\",IF($A51<>\"\",COUNT(カテゴリースコア!T53),\"\"),\"\")","v":""},{"$f":"IF(K$1<>\"\",IF($A51<>\"\",COUNT(カテゴリースコア!U53),\"\"),\"\")","v":""}]
[{"$f":"IF(データセット1!C52<>\"\",データセット1!C52,\"\")","v":2596.41},{"$f":"IF(データセット1!C52<>\"\",データセット1!D52-カテゴリースコア!$E$11,\"\")","v":-91.548387096774206},{"$f":"IF(C$1<>\"\",IF($A52<>\"\",COUNT(カテゴリースコア!M54),\"\"),\"\")","v":0},{"$f":"IF(D$1<>\"\",IF($A52<>\"\",COUNT(カテゴリースコア!N54),\"\"),\"\")","v":0},{"$f":"IF(E$1<>\"\",IF($A52<>\"\",COUNT(カテゴリースコア!O54),\"\"),\"\")","v":1},{"$f":"IF(F$1<>\"\",IF($A52<>\"\",COUNT(カテゴリースコア!P54),\"\"),\"\")","v":0},{"$f":"IF(G$1<>\"\",IF($A52<>\"\",COUNT(カテゴリースコア!Q54),\"\"),\"\")","v":0},{"$f":"IF(H$1<>\"\",IF($A52<>\"\",COUNT(カテゴリースコア!R54),\"\"),\"\")","v":0},{"$f":"IF(I$1<>\"\",IF($A52<>\"\",COUNT(カテゴリースコア!S54),\"\"),\"\")","v":""},{"$f":"IF(J$1<>\"\",IF($A52<>\"\",COUNT(カテゴリースコア!T54),\"\"),\"\")","v":""},{"$f":"IF(K$1<>\"\",IF($A52<>\"\",COUNT(カテゴリースコア!U54),\"\"),\"\")","v":""}]
[{"$f":"IF(データセット1!C53<>\"\",データセット1!C53,\"\")","v":2538.39},{"$f":"IF(データセット1!C53<>\"\",データセット1!D53-カテゴリースコア!$E$11,\"\")","v":113.45161290322579},{"$f":"IF(C$1<>\"\",IF($A53<>\"\",COUNT(カテゴリースコア!M55),\"\"),\"\")","v":0},{"$f":"IF(D$1<>\"\",IF($A53<>\"\",COUNT(カテゴリースコア!N55),\"\"),\"\")","v":0},{"$f":"IF(E$1<>\"\",IF($A53<>\"\",COUNT(カテゴリースコア!O55),\"\"),\"\")","v":1},{"$f":"IF(F$1<>\"\",IF($A53<>\"\",COUNT(カテゴリースコア!P55),\"\"),\"\")","v":0},{"$f":"IF(G$1<>\"\",IF($A53<>\"\",COUNT(カテゴリースコア!Q55),\"\"),\"\")","v":0},{"$f":"IF(H$1<>\"\",IF($A53<>\"\",COUNT(カテゴリースコア!R55),\"\"),\"\")","v":0},{"$f":"IF(I$1<>\"\",IF($A53<>\"\",COUNT(カテゴリースコア!S55),\"\"),\"\")","v":""},{"$f":"IF(J$1<>\"\",IF($A53<>\"\",COUNT(カテゴリースコア!T55),\"\"),\"\")","v":""},{"$f":"IF(K$1<>\"\",IF($A53<>\"\",COUNT(カテゴリースコア!U55),\"\"),\"\")","v":""}]
[{"$f":"IF(データセット1!C54<>\"\",データセット1!C54,\"\")","v":2489.2600000000002},{"$f":"IF(データセット1!C54<>\"\",データセット1!D54-カテゴリースコア!$E$11,\"\")","v":509.45161290322579},{"$f":"IF(C$1<>\"\",IF($A54<>\"\",COUNT(カテゴリースコア!M56),\"\"),\"\")","v":0},{"$f":"IF(D$1<>\"\",IF($A54<>\"\",COUNT(カテゴリースコア!N56),\"\"),\"\")","v":1},{"$f":"IF(E$1<>\"\",IF($A54<>\"\",COUNT(カテゴリースコア!O56),\"\"),\"\")","v":0},{"$f":"IF(F$1<>\"\",IF($A54<>\"\",COUNT(カテゴリースコア!P56),\"\"),\"\")","v":0},{"$f":"IF(G$1<>\"\",IF($A54<>\"\",COUNT(カテゴリースコア!Q56),\"\"),\"\")","v":0},{"$f":"IF(H$1<>\"\",IF($A54<>\"\",COUNT(カテゴリースコア!R56),\"\"),\"\")","v":0},{"$f":"IF(I$1<>\"\",IF($A54<>\"\",COUNT(カテゴリースコア!S56),\"\"),\"\")","v":""},{"$f":"IF(J$1<>\"\",IF($A54<>\"\",COUNT(カテゴリースコア!T56),\"\"),\"\")","v":""},{"$f":"IF(K$1<>\"\",IF($A54<>\"\",COUNT(カテゴリースコア!U56),\"\"),\"\")","v":""}]
[{"$f":"IF(データセット1!C55<>\"\",データセット1!C55,\"\")","v":2444.44},{"$f":"IF(データセット1!C55<>\"\",データセット1!D55-カテゴリースコア!$E$11,\"\")","v":17.451612903225794},{"$f":"IF(C$1<>\"\",IF($A55<>\"\",COUNT(カテゴリースコア!M57),\"\"),\"\")","v":0},{"$f":"IF(D$1<>\"\",IF($A55<>\"\",COUNT(カテゴリースコア!N57),\"\"),\"\")","v":0},{"$f":"IF(E$1<>\"\",IF($A55<>\"\",COUNT(カテゴリースコア!O57),\"\"),\"\")","v":1},{"$f":"IF(F$1<>\"\",IF($A55<>\"\",COUNT(カテゴリースコア!P57),\"\"),\"\")","v":0},{"$f":"IF(G$1<>\"\",IF($A55<>\"\",COUNT(カテゴリースコア!Q57),\"\"),\"\")","v":0},{"$f":"IF(H$1<>\"\",IF($A55<>\"\",COUNT(カテゴリースコア!R57),\"\"),\"\")","v":0},{"$f":"IF(I$1<>\"\",IF($A55<>\"\",COUNT(カテゴリースコア!S57),\"\"),\"\")","v":""},{"$f":"IF(J$1<>\"\",IF($A55<>\"\",COUNT(カテゴリースコア!T57),\"\"),\"\")","v":""},{"$f":"IF(K$1<>\"\",IF($A55<>\"\",COUNT(カテゴリースコア!U57),\"\"),\"\")","v":""}]
[{"$f":"IF(データセット1!C56<>\"\",データセット1!C56,\"\")","v":2315.89},{"$f":"IF(データセット1!C56<>\"\",データセット1!D56-カテゴリースコア!$E$11,\"\")","v":443.45161290322579},{"$f":"IF(C$1<>\"\",IF($A56<>\"\",COUNT(カテゴリースコア!M58),\"\"),\"\")","v":0},{"$f":"IF(D$1<>\"\",IF($A56<>\"\",COUNT(カテゴリースコア!N58),\"\"),\"\")","v":1},{"$f":"IF(E$1<>\"\",IF($A56<>\"\",COUNT(カテゴリースコア!O58),\"\"),\"\")","v":0},{"$f":"IF(F$1<>\"\",IF($A56<>\"\",COUNT(カテゴリースコア!P58),\"\"),\"\")","v":0},{"$f":"IF(G$1<>\"\",IF($A56<>\"\",COUNT(カテゴリースコア!Q58),\"\"),\"\")","v":0},{"$f":"IF(H$1<>\"\",IF($A56<>\"\",COUNT(カテゴリースコア!R58),\"\"),\"\")","v":0},{"$f":"IF(I$1<>\"\",IF($A56<>\"\",COUNT(カテゴリースコア!S58),\"\"),\"\")","v":""},{"$f":"IF(J$1<>\"\",IF($A56<>\"\",COUNT(カテゴリースコア!T58),\"\"),\"\")","v":""},{"$f":"IF(K$1<>\"\",IF($A56<>\"\",COUNT(カテゴリースコア!U58),\"\"),\"\")","v":""}]
[{"$f":"IF(データセット1!C57<>\"\",データセット1!C57,\"\")","v":2278},{"$f":"IF(データセット1!C57<>\"\",データセット1!D57-カテゴリースコア!$E$11,\"\")","v":-74.548387096774206},{"$f":"IF(C$1<>\"\",IF($A57<>\"\",COUNT(カテゴリースコア!M59),\"\"),\"\")","v":0},{"$f":"IF(D$1<>\"\",IF($A57<>\"\",COUNT(カテゴリースコア!N59),\"\"),\"\")","v":0},{"$f":"IF(E$1<>\"\",IF($A57<>\"\",COUNT(カテゴリースコア!O59),\"\"),\"\")","v":1},{"$f":"IF(F$1<>\"\",IF($A57<>\"\",COUNT(カテゴリースコア!P59),\"\"),\"\")","v":0},{"$f":"IF(G$1<>\"\",IF($A57<>\"\",COUNT(カテゴリースコア!Q59),\"\"),\"\")","v":0},{"$f":"IF(H$1<>\"\",IF($A57<>\"\",COUNT(カテゴリースコア!R59),\"\"),\"\")","v":0},{"$f":"IF(I$1<>\"\",IF($A57<>\"\",COUNT(カテゴリースコア!S59),\"\"),\"\")","v":""},{"$f":"IF(J$1<>\"\",IF($A57<>\"\",COUNT(カテゴリースコア!T59),\"\"),\"\")","v":""},{"$f":"IF(K$1<>\"\",IF($A57<>\"\",COUNT(カテゴリースコア!U59),\"\"),\"\")","v":""}]
[{"$f":"IF(データセット1!C58<>\"\",データセット1!C58,\"\")","v":2253.98},{"$f":"IF(データセット1!C58<>\"\",データセット1!D58-カテゴリースコア!$E$11,\"\")","v":631.45161290322585},{"$f":"IF(C$1<>\"\",IF($A58<>\"\",COUNT(カテゴリースコア!M60),\"\"),\"\")","v":0},{"$f":"IF(D$1<>\"\",IF($A58<>\"\",COUNT(カテゴリースコア!N60),\"\"),\"\")","v":1},{"$f":"IF(E$1<>\"\",IF($A58<>\"\",COUNT(カテゴリースコア!O60),\"\"),\"\")","v":0},{"$f":"IF(F$1<>\"\",IF($A58<>\"\",COUNT(カテゴリースコア!P60),\"\"),\"\")","v":0},{"$f":"IF(G$1<>\"\",IF($A58<>\"\",COUNT(カテゴリースコア!Q60),\"\"),\"\")","v":0},{"$f":"IF(H$1<>\"\",IF($A58<>\"\",COUNT(カテゴリースコア!R60),\"\"),\"\")","v":0},{"$f":"IF(I$1<>\"\",IF($A58<>\"\",COUNT(カテゴリースコア!S60),\"\"),\"\")","v":""},{"$f":"IF(J$1<>\"\",IF($A58<>\"\",COUNT(カテゴリースコア!T60),\"\"),\"\")","v":""},{"$f":"IF(K$1<>\"\",IF($A58<>\"\",COUNT(カテゴリースコア!U60),\"\"),\"\")","v":""}]
[{"$f":"IF(データセット1!C59<>\"\",データセット1!C59,\"\")","v":2130.7399999999998},{"$f":"IF(データセット1!C59<>\"\",データセット1!D59-カテゴリースコア!$E$11,\"\")","v":-138.54838709677421},{"$f":"IF(C$1<>\"\",IF($A59<>\"\",COUNT(カテゴリースコア!M61),\"\"),\"\")","v":0},{"$f":"IF(D$1<>\"\",IF($A59<>\"\",COUNT(カテゴリースコア!N61),\"\"),\"\")","v":0},{"$f":"IF(E$1<>\"\",IF($A59<>\"\",COUNT(カテゴリースコア!O61),\"\"),\"\")","v":0},{"$f":"IF(F$1<>\"\",IF($A59<>\"\",COUNT(カテゴリースコア!P61),\"\"),\"\")","v":1},{"$f":"IF(G$1<>\"\",IF($A59<>\"\",COUNT(カテゴリースコア!Q61),\"\"),\"\")","v":0},{"$f":"IF(H$1<>\"\",IF($A59<>\"\",COUNT(カテゴリースコア!R61),\"\"),\"\")","v":0},{"$f":"IF(I$1<>\"\",IF($A59<>\"\",COUNT(カテゴリースコア!S61),\"\"),\"\")","v":""},{"$f":"IF(J$1<>\"\",IF($A59<>\"\",COUNT(カテゴリースコア!T61),\"\"),\"\")","v":""},{"$f":"IF(K$1<>\"\",IF($A59<>\"\",COUNT(カテゴリースコア!U61),\"\"),\"\")","v":""}]
[{"$f":"IF(データセット1!C60<>\"\",データセット1!C60,\"\")","v":2103.96},{"$f":"IF(データセット1!C60<>\"\",データセット1!D60-カテゴリースコア!$E$11,\"\")","v":-14.548387096774206},{"$f":"IF(C$1<>\"\",IF($A60<>\"\",COUNT(カテゴリースコア!M62),\"\"),\"\")","v":0},{"$f":"IF(D$1<>\"\",IF($A60<>\"\",COUNT(カテゴリースコア!N62),\"\"),\"\")","v":0},{"$f":"IF(E$1<>\"\",IF($A60<>\"\",COUNT(カテゴリースコア!O62),\"\"),\"\")","v":1},{"$f":"IF(F$1<>\"\",IF($A60<>\"\",COUNT(カテゴリースコア!P62),\"\"),\"\")","v":0},{"$f":"IF(G$1<>\"\",IF($A60<>\"\",COUNT(カテゴリースコア!Q62),\"\"),\"\")","v":0},{"$f":"IF(H$1<>\"\",IF($A60<>\"\",COUNT(カテゴリースコア!R62),\"\"),\"\")","v":0},{"$f":"IF(I$1<>\"\",IF($A60<>\"\",COUNT(カテゴリースコア!S62),\"\"),\"\")","v":""},{"$f":"IF(J$1<>\"\",IF($A60<>\"\",COUNT(カテゴリースコア!T62),\"\"),\"\")","v":""},{"$f":"IF(K$1<>\"\",IF($A60<>\"\",COUNT(カテゴリースコア!U62),\"\"),\"\")","v":""}]
[{"$f":"IF(データセット1!C61<>\"\",データセット1!C61,\"\")","v":2094.87},{"$f":"IF(データセット1!C61<>\"\",データセット1!D61-カテゴリースコア!$E$11,\"\")","v":116.45161290322579},{"$f":"IF(C$1<>\"\",IF($A61<>\"\",COUNT(カテゴリースコア!M63),\"\"),\"\")","v":0},{"$f":"IF(D$1<>\"\",IF($A61<>\"\",COUNT(カテゴリースコア!N63),\"\"),\"\")","v":0},{"$f":"IF(E$1<>\"\",IF($A61<>\"\",COUNT(カテゴリースコア!O63),\"\"),\"\")","v":1},{"$f":"IF(F$1<>\"\",IF($A61<>\"\",COUNT(カテゴリースコア!P63),\"\"),\"\")","v":0},{"$f":"IF(G$1<>\"\",IF($A61<>\"\",COUNT(カテゴリースコア!Q63),\"\"),\"\")","v":0},{"$f":"IF(H$1<>\"\",IF($A61<>\"\",COUNT(カテゴリースコア!R63),\"\"),\"\")","v":0},{"$f":"IF(I$1<>\"\",IF($A61<>\"\",COUNT(カテゴリースコア!S63),\"\"),\"\")","v":""},{"$f":"IF(J$1<>\"\",IF($A61<>\"\",COUNT(カテゴリースコア!T63),\"\"),\"\")","v":""},{"$f":"IF(K$1<>\"\",IF($A61<>\"\",COUNT(カテゴリースコア!U63),\"\"),\"\")","v":""}]
[{"$f":"IF(データセット1!C62<>\"\",データセット1!C62,\"\")","v":1743.78},{"$f":"IF(データセット1!C62<>\"\",データセット1!D62-カテゴリースコア!$E$11,\"\")","v":126.45161290322579},{"$f":"IF(C$1<>\"\",IF($A62<>\"\",COUNT(カテゴリースコア!M64),\"\"),\"\")","v":0},{"$f":"IF(D$1<>\"\",IF($A62<>\"\",COUNT(カテゴリースコア!N64),\"\"),\"\")","v":0},{"$f":"IF(E$1<>\"\",IF($A62<>\"\",COUNT(カテゴリースコア!O64),\"\"),\"\")","v":1},{"$f":"IF(F$1<>\"\",IF($A62<>\"\",COUNT(カテゴリースコア!P64),\"\"),\"\")","v":0},{"$f":"IF(G$1<>\"\",IF($A62<>\"\",COUNT(カテゴリースコア!Q64),\"\"),\"\")","v":0},{"$f":"IF(H$1<>\"\",IF($A62<>\"\",COUNT(カテゴリースコア!R64),\"\"),\"\")","v":0},{"$f":"IF(I$1<>\"\",IF($A62<>\"\",COUNT(カテゴリースコア!S64),\"\"),\"\")","v":""},{"$f":"IF(J$1<>\"\",IF($A62<>\"\",COUNT(カテゴリースコア!T64),\"\"),\"\")","v":""},{"$f":"IF(K$1<>\"\",IF($A62<>\"\",COUNT(カテゴリースコア!U64),\"\"),\"\")","v":""}]
[{"$f":"IF(データセット1!C63<>\"\",データセット1!C63,\"\")","v":1710.16},{"$f":"IF(データセット1!C63<>\"\",データセット1!D63-カテゴリースコア!$E$11,\"\")","v":159.45161290322579},{"$f":"IF(C$1<>\"\",IF($A63<>\"\",COUNT(カテゴリースコア!M65),\"\"),\"\")","v":1},{"$f":"IF(D$1<>\"\",IF($A63<>\"\",COUNT(カテゴリースコア!N65),\"\"),\"\")","v":0},{"$f":"IF(E$1<>\"\",IF($A63<>\"\",COUNT(カテゴリースコア!O65),\"\"),\"\")","v":0},{"$f":"IF(F$1<>\"\",IF($A63<>\"\",COUNT(カテゴリースコア!P65),\"\"),\"\")","v":0},{"$f":"IF(G$1<>\"\",IF($A63<>\"\",COUNT(カテゴリースコア!Q65),\"\"),\"\")","v":0},{"$f":"IF(H$1<>\"\",IF($A63<>\"\",COUNT(カテゴリースコア!R65),\"\"),\"\")","v":0},{"$f":"IF(I$1<>\"\",IF($A63<>\"\",COUNT(カテゴリースコア!S65),\"\"),\"\")","v":""},{"$f":"IF(J$1<>\"\",IF($A63<>\"\",COUNT(カテゴリースコア!T65),\"\"),\"\")","v":""},{"$f":"IF(K$1<>\"\",IF($A63<>\"\",COUNT(カテゴリースコア!U65),\"\"),\"\")","v":""}]
[{"$f":"IF(データセット1!C64<>\"\",データセット1!C64,\"\")","v":1706.2},{"$f":"IF(データセット1!C64<>\"\",データセット1!D64-カテゴリースコア!$E$11,\"\")","v":309.45161290322579},{"$f":"IF(C$1<>\"\",IF($A64<>\"\",COUNT(カテゴリースコア!M66),\"\"),\"\")","v":0},{"$f":"IF(D$1<>\"\",IF($A64<>\"\",COUNT(カテゴリースコア!N66),\"\"),\"\")","v":1},{"$f":"IF(E$1<>\"\",IF($A64<>\"\",COUNT(カテゴリースコア!O66),\"\"),\"\")","v":0},{"$f":"IF(F$1<>\"\",IF($A64<>\"\",COUNT(カテゴリースコア!P66),\"\"),\"\")","v":0},{"$f":"IF(G$1<>\"\",IF($A64<>\"\",COUNT(カテゴリースコア!Q66),\"\"),\"\")","v":0},{"$f":"IF(H$1<>\"\",IF($A64<>\"\",COUNT(カテゴリースコア!R66),\"\"),\"\")","v":0},{"$f":"IF(I$1<>\"\",IF($A64<>\"\",COUNT(カテゴリースコア!S66),\"\"),\"\")","v":""},{"$f":"IF(J$1<>\"\",IF($A64<>\"\",COUNT(カテゴリースコア!T66),\"\"),\"\")","v":""},{"$f":"IF(K$1<>\"\",IF($A64<>\"\",COUNT(カテゴリースコア!U66),\"\"),\"\")","v":""}]
[{"$f":"IF(データセット1!C65<>\"\",データセット1!C65,\"\")","v":1704.15},{"$f":"IF(データセット1!C65<>\"\",データセット1!D65-カテゴリースコア!$E$11,\"\")","v":-152.54838709677421},{"$f":"IF(C$1<>\"\",IF($A65<>\"\",COUNT(カテゴリースコア!M67),\"\"),\"\")","v":0},{"$f":"IF(D$1<>\"\",IF($A65<>\"\",COUNT(カテゴリースコア!N67),\"\"),\"\")","v":0},{"$f":"IF(E$1<>\"\",IF($A65<>\"\",COUNT(カテゴリースコア!O67),\"\"),\"\")","v":0},{"$f":"IF(F$1<>\"\",IF($A65<>\"\",COUNT(カテゴリースコア!P67),\"\"),\"\")","v":1},{"$f":"IF(G$1<>\"\",IF($A65<>\"\",COUNT(カテゴリースコア!Q67),\"\"),\"\")","v":0},{"$f":"IF(H$1<>\"\",IF($A65<>\"\",COUNT(カテゴリースコア!R67),\"\"),\"\")","v":0},{"$f":"IF(I$1<>\"\",IF($A65<>\"\",COUNT(カテゴリースコア!S67),\"\"),\"\")","v":""},{"$f":"IF(J$1<>\"\",IF($A65<>\"\",COUNT(カテゴリースコア!T67),\"\"),\"\")","v":""},{"$f":"IF(K$1<>\"\",IF($A65<>\"\",COUNT(カテゴリースコア!U67),\"\"),\"\")","v":""}]
[{"$f":"IF(データセット1!C66<>\"\",データセット1!C66,\"\")","v":1674.09},{"$f":"IF(データセット1!C66<>\"\",データセット1!D66-カテゴリースコア!$E$11,\"\")","v":36.451612903225794},{"$f":"IF(C$1<>\"\",IF($A66<>\"\",COUNT(カテゴリースコア!M68),\"\"),\"\")","v":0},{"$f":"IF(D$1<>\"\",IF($A66<>\"\",COUNT(カテゴリースコア!N68),\"\"),\"\")","v":1},{"$f":"IF(E$1<>\"\",IF($A66<>\"\",COUNT(カテゴリースコア!O68),\"\"),\"\")","v":0},{"$f":"IF(F$1<>\"\",IF($A66<>\"\",COUNT(カテゴリースコア!P68),\"\"),\"\")","v":0},{"$f":"IF(G$1<>\"\",IF($A66<>\"\",COUNT(カテゴリースコア!Q68),\"\"),\"\")","v":0},{"$f":"IF(H$1<>\"\",IF($A66<>\"\",COUNT(カテゴリースコア!R68),\"\"),\"\")","v":0},{"$f":"IF(I$1<>\"\",IF($A66<>\"\",COUNT(カテゴリースコア!S68),\"\"),\"\")","v":""},{"$f":"IF(J$1<>\"\",IF($A66<>\"\",COUNT(カテゴリースコア!T68),\"\"),\"\")","v":""},{"$f":"IF(K$1<>\"\",IF($A66<>\"\",COUNT(カテゴリースコア!U68),\"\"),\"\")","v":""}]
[{"$f":"IF(データセット1!C67<>\"\",データセット1!C67,\"\")","v":1604.35},{"$f":"IF(データセット1!C67<>\"\",データセット1!D67-カテゴリースコア!$E$11,\"\")","v":-124.54838709677421},{"$f":"IF(C$1<>\"\",IF($A67<>\"\",COUNT(カテゴリースコア!M69),\"\"),\"\")","v":0},{"$f":"IF(D$1<>\"\",IF($A67<>\"\",COUNT(カテゴリースコア!N69),\"\"),\"\")","v":0},{"$f":"IF(E$1<>\"\",IF($A67<>\"\",COUNT(カテゴリースコア!O69),\"\"),\"\")","v":0},{"$f":"IF(F$1<>\"\",IF($A67<>\"\",COUNT(カテゴリースコア!P69),\"\"),\"\")","v":1},{"$f":"IF(G$1<>\"\",IF($A67<>\"\",COUNT(カテゴリースコア!Q69),\"\"),\"\")","v":0},{"$f":"IF(H$1<>\"\",IF($A67<>\"\",COUNT(カテゴリースコア!R69),\"\"),\"\")","v":0},{"$f":"IF(I$1<>\"\",IF($A67<>\"\",COUNT(カテゴリースコア!S69),\"\"),\"\")","v":""},{"$f":"IF(J$1<>\"\",IF($A67<>\"\",COUNT(カテゴリースコア!T69),\"\"),\"\")","v":""},{"$f":"IF(K$1<>\"\",IF($A67<>\"\",COUNT(カテゴリースコア!U69),\"\"),\"\")","v":""}]
[{"$f":"IF(データセット1!C68<>\"\",データセット1!C68,\"\")","v":1516.72},{"$f":"IF(データセット1!C68<>\"\",データセット1!D68-カテゴリースコア!$E$11,\"\")","v":-72.548387096774206},{"$f":"IF(C$1<>\"\",IF($A68<>\"\",COUNT(カテゴリースコア!M70),\"\"),\"\")","v":0},{"$f":"IF(D$1<>\"\",IF($A68<>\"\",COUNT(カテゴリースコア!N70),\"\"),\"\")","v":0},{"$f":"IF(E$1<>\"\",IF($A68<>\"\",COUNT(カテゴリースコア!O70),\"\"),\"\")","v":1},{"$f":"IF(F$1<>\"\",IF($A68<>\"\",COUNT(カテゴリースコア!P70),\"\"),\"\")","v":0},{"$f":"IF(G$1<>\"\",IF($A68<>\"\",COUNT(カテゴリースコア!Q70),\"\"),\"\")","v":0},{"$f":"IF(H$1<>\"\",IF($A68<>\"\",COUNT(カテゴリースコア!R70),\"\"),\"\")","v":0},{"$f":"IF(I$1<>\"\",IF($A68<>\"\",COUNT(カテゴリースコア!S70),\"\"),\"\")","v":""},{"$f":"IF(J$1<>\"\",IF($A68<>\"\",COUNT(カテゴリースコア!T70),\"\"),\"\")","v":""},{"$f":"IF(K$1<>\"\",IF($A68<>\"\",COUNT(カテゴリースコア!U70),\"\"),\"\")","v":""}]
[{"$f":"IF(データセット1!C69<>\"\",データセット1!C69,\"\")","v":1505.99},{"$f":"IF(データセット1!C69<>\"\",データセット1!D69-カテゴリースコア!$E$11,\"\")","v":396.45161290322579},{"$f":"IF(C$1<>\"\",IF($A69<>\"\",COUNT(カテゴリースコア!M71),\"\"),\"\")","v":1},{"$f":"IF(D$1<>\"\",IF($A69<>\"\",COUNT(カテゴリースコア!N71),\"\"),\"\")","v":0},{"$f":"IF(E$1<>\"\",IF($A69<>\"\",COUNT(カテゴリースコア!O71),\"\"),\"\")","v":0},{"$f":"IF(F$1<>\"\",IF($A69<>\"\",COUNT(カテゴリースコア!P71),\"\"),\"\")","v":0},{"$f":"IF(G$1<>\"\",IF($A69<>\"\",COUNT(カテゴリースコア!Q71),\"\"),\"\")","v":0},{"$f":"IF(H$1<>\"\",IF($A69<>\"\",COUNT(カテゴリースコア!R71),\"\"),\"\")","v":0},{"$f":"IF(I$1<>\"\",IF($A69<>\"\",COUNT(カテゴリースコア!S71),\"\"),\"\")","v":""},{"$f":"IF(J$1<>\"\",IF($A69<>\"\",COUNT(カテゴリースコア!T71),\"\"),\"\")","v":""},{"$f":"IF(K$1<>\"\",IF($A69<>\"\",COUNT(カテゴリースコア!U71),\"\"),\"\")","v":""}]
[{"$f":"IF(データセット1!C70<>\"\",データセット1!C70,\"\")","v":1455},{"$f":"IF(データセット1!C70<>\"\",データセット1!D70-カテゴリースコア!$E$11,\"\")","v":189.45161290322579},{"$f":"IF(C$1<>\"\",IF($A70<>\"\",COUNT(カテゴリースコア!M72),\"\"),\"\")","v":1},{"$f":"IF(D$1<>\"\",IF($A70<>\"\",COUNT(カテゴリースコア!N72),\"\"),\"\")","v":0},{"$f":"IF(E$1<>\"\",IF($A70<>\"\",COUNT(カテゴリースコア!O72),\"\"),\"\")","v":0},{"$f":"IF(F$1<>\"\",IF($A70<>\"\",COUNT(カテゴリースコア!P72),\"\"),\"\")","v":0},{"$f":"IF(G$1<>\"\",IF($A70<>\"\",COUNT(カテゴリースコア!Q72),\"\"),\"\")","v":0},{"$f":"IF(H$1<>\"\",IF($A70<>\"\",COUNT(カテゴリースコア!R72),\"\"),\"\")","v":0},{"$f":"IF(I$1<>\"\",IF($A70<>\"\",COUNT(カテゴリースコア!S72),\"\"),\"\")","v":""},{"$f":"IF(J$1<>\"\",IF($A70<>\"\",COUNT(カテゴリースコア!T72),\"\"),\"\")","v":""},{"$f":"IF(K$1<>\"\",IF($A70<>\"\",COUNT(カテゴリースコア!U72),\"\"),\"\")","v":""}]
[{"$f":"IF(データセット1!C71<>\"\",データセット1!C71,\"\")","v":1320.87},{"$f":"IF(データセット1!C71<>\"\",データセット1!D71-カテゴリースコア!$E$11,\"\")","v":-194.54838709677421},{"$f":"IF(C$1<>\"\",IF($A71<>\"\",COUNT(カテゴリースコア!M73),\"\"),\"\")","v":0},{"$f":"IF(D$1<>\"\",IF($A71<>\"\",COUNT(カテゴリースコア!N73),\"\"),\"\")","v":0},{"$f":"IF(E$1<>\"\",IF($A71<>\"\",COUNT(カテゴリースコア!O73),\"\"),\"\")","v":0},{"$f":"IF(F$1<>\"\",IF($A71<>\"\",COUNT(カテゴリースコア!P73),\"\"),\"\")","v":1},{"$f":"IF(G$1<>\"\",IF($A71<>\"\",COUNT(カテゴリースコア!Q73),\"\"),\"\")","v":0},{"$f":"IF(H$1<>\"\",IF($A71<>\"\",COUNT(カテゴリースコア!R73),\"\"),\"\")","v":0},{"$f":"IF(I$1<>\"\",IF($A71<>\"\",COUNT(カテゴリースコア!S73),\"\"),\"\")","v":""},{"$f":"IF(J$1<>\"\",IF($A71<>\"\",COUNT(カテゴリースコア!T73),\"\"),\"\")","v":""},{"$f":"IF(K$1<>\"\",IF($A71<>\"\",COUNT(カテゴリースコア!U73),\"\"),\"\")","v":""}]
[{"$f":"IF(データセット1!C72<>\"\",データセット1!C72,\"\")","v":1152.74},{"$f":"IF(データセット1!C72<>\"\",データセット1!D72-カテゴリースコア!$E$11,\"\")","v":138.45161290322579},{"$f":"IF(C$1<>\"\",IF($A72<>\"\",COUNT(カテゴリースコア!M74),\"\"),\"\")","v":1},{"$f":"IF(D$1<>\"\",IF($A72<>\"\",COUNT(カテゴリースコア!N74),\"\"),\"\")","v":0},{"$f":"IF(E$1<>\"\",IF($A72<>\"\",COUNT(カテゴリースコア!O74),\"\"),\"\")","v":0},{"$f":"IF(F$1<>\"\",IF($A72<>\"\",COUNT(カテゴリースコア!P74),\"\"),\"\")","v":0},{"$f":"IF(G$1<>\"\",IF($A72<>\"\",COUNT(カテゴリースコア!Q74),\"\"),\"\")","v":0},{"$f":"IF(H$1<>\"\",IF($A72<>\"\",COUNT(カテゴリースコア!R74),\"\"),\"\")","v":0},{"$f":"IF(I$1<>\"\",IF($A72<>\"\",COUNT(カテゴリースコア!S74),\"\"),\"\")","v":""},{"$f":"IF(J$1<>\"\",IF($A72<>\"\",COUNT(カテゴリースコア!T74),\"\"),\"\")","v":""},{"$f":"IF(K$1<>\"\",IF($A72<>\"\",COUNT(カテゴリースコア!U74),\"\"),\"\")","v":""}]
[{"$f":"IF(データセット1!C73<>\"\",データセット1!C73,\"\")","v":1117.8800000000001},{"$f":"IF(データセット1!C73<>\"\",データセット1!D73-カテゴリースコア!$E$11,\"\")","v":-64.548387096774206},{"$f":"IF(C$1<>\"\",IF($A73<>\"\",COUNT(カテゴリースコア!M75),\"\"),\"\")","v":0},{"$f":"IF(D$1<>\"\",IF($A73<>\"\",COUNT(カテゴリースコア!N75),\"\"),\"\")","v":0},{"$f":"IF(E$1<>\"\",IF($A73<>\"\",COUNT(カテゴリースコア!O75),\"\"),\"\")","v":0},{"$f":"IF(F$1<>\"\",IF($A73<>\"\",COUNT(カテゴリースコア!P75),\"\"),\"\")","v":1},{"$f":"IF(G$1<>\"\",IF($A73<>\"\",COUNT(カテゴリースコア!Q75),\"\"),\"\")","v":0},{"$f":"IF(H$1<>\"\",IF($A73<>\"\",COUNT(カテゴリースコア!R75),\"\"),\"\")","v":0},{"$f":"IF(I$1<>\"\",IF($A73<>\"\",COUNT(カテゴリースコア!S75),\"\"),\"\")","v":""},{"$f":"IF(J$1<>\"\",IF($A73<>\"\",COUNT(カテゴリースコア!T75),\"\"),\"\")","v":""},{"$f":"IF(K$1<>\"\",IF($A73<>\"\",COUNT(カテゴリースコア!U75),\"\"),\"\")","v":""}]
[{"$f":"IF(データセット1!C74<>\"\",データセット1!C74,\"\")","v":1115.99},{"$f":"IF(データセット1!C74<>\"\",データセット1!D74-カテゴリースコア!$E$11,\"\")","v":-246.54838709677421},{"$f":"IF(C$1<>\"\",IF($A74<>\"\",COUNT(カテゴリースコア!M76),\"\"),\"\")","v":0},{"$f":"IF(D$1<>\"\",IF($A74<>\"\",COUNT(カテゴリースコア!N76),\"\"),\"\")","v":0},{"$f":"IF(E$1<>\"\",IF($A74<>\"\",COUNT(カテゴリースコア!O76),\"\"),\"\")","v":0},{"$f":"IF(F$1<>\"\",IF($A74<>\"\",COUNT(カテゴリースコア!P76),\"\"),\"\")","v":0},{"$f":"IF(G$1<>\"\",IF($A74<>\"\",COUNT(カテゴリースコア!Q76),\"\"),\"\")","v":1},{"$f":"IF(H$1<>\"\",IF($A74<>\"\",COUNT(カテゴリースコア!R76),\"\"),\"\")","v":0},{"$f":"IF(I$1<>\"\",IF($A74<>\"\",COUNT(カテゴリースコア!S76),\"\"),\"\")","v":""},{"$f":"IF(J$1<>\"\",IF($A74<>\"\",COUNT(カテゴリースコア!T76),\"\"),\"\")","v":""},{"$f":"IF(K$1<>\"\",IF($A74<>\"\",COUNT(カテゴリースコア!U76),\"\"),\"\")","v":""}]
[{"$f":"IF(データセット1!C75<>\"\",データセット1!C75,\"\")","v":1062.58},{"$f":"IF(データセット1!C75<>\"\",データセット1!D75-カテゴリースコア!$E$11,\"\")","v":194.45161290322579},{"$f":"IF(C$1<>\"\",IF($A75<>\"\",COUNT(カテゴリースコア!M77),\"\"),\"\")","v":1},{"$f":"IF(D$1<>\"\",IF($A75<>\"\",COUNT(カテゴリースコア!N77),\"\"),\"\")","v":0},{"$f":"IF(E$1<>\"\",IF($A75<>\"\",COUNT(カテゴリースコア!O77),\"\"),\"\")","v":0},{"$f":"IF(F$1<>\"\",IF($A75<>\"\",COUNT(カテゴリースコア!P77),\"\"),\"\")","v":0},{"$f":"IF(G$1<>\"\",IF($A75<>\"\",COUNT(カテゴリースコア!Q77),\"\"),\"\")","v":0},{"$f":"IF(H$1<>\"\",IF($A75<>\"\",COUNT(カテゴリースコア!R77),\"\"),\"\")","v":0},{"$f":"IF(I$1<>\"\",IF($A75<>\"\",COUNT(カテゴリースコア!S77),\"\"),\"\")","v":""},{"$f":"IF(J$1<>\"\",IF($A75<>\"\",COUNT(カテゴリースコア!T77),\"\"),\"\")","v":""},{"$f":"IF(K$1<>\"\",IF($A75<>\"\",COUNT(カテゴリースコア!U77),\"\"),\"\")","v":""}]
[{"$f":"IF(データセット1!C76<>\"\",データセット1!C76,\"\")","v":1005.27},{"$f":"IF(データセット1!C76<>\"\",データセット1!D76-カテゴリースコア!$E$11,\"\")","v":-164.54838709677421},{"$f":"IF(C$1<>\"\",IF($A76<>\"\",COUNT(カテゴリースコア!M78),\"\"),\"\")","v":0},{"$f":"IF(D$1<>\"\",IF($A76<>\"\",COUNT(カテゴリースコア!N78),\"\"),\"\")","v":0},{"$f":"IF(E$1<>\"\",IF($A76<>\"\",COUNT(カテゴリースコア!O78),\"\"),\"\")","v":0},{"$f":"IF(F$1<>\"\",IF($A76<>\"\",COUNT(カテゴリースコア!P78),\"\"),\"\")","v":1},{"$f":"IF(G$1<>\"\",IF($A76<>\"\",COUNT(カテゴリースコア!Q78),\"\"),\"\")","v":0},{"$f":"IF(H$1<>\"\",IF($A76<>\"\",COUNT(カテゴリースコア!R78),\"\"),\"\")","v":0},{"$f":"IF(I$1<>\"\",IF($A76<>\"\",COUNT(カテゴリースコア!S78),\"\"),\"\")","v":""},{"$f":"IF(J$1<>\"\",IF($A76<>\"\",COUNT(カテゴリースコア!T78),\"\"),\"\")","v":""},{"$f":"IF(K$1<>\"\",IF($A76<>\"\",COUNT(カテゴリースコア!U78),\"\"),\"\")","v":""}]
[{"$f":"IF(データセット1!C77<>\"\",データセット1!C77,\"\")","v":1001.25},{"$f":"IF(データセット1!C77<>\"\",データセット1!D77-カテゴリースコア!$E$11,\"\")","v":190.45161290322579},{"$f":"IF(C$1<>\"\",IF($A77<>\"\",COUNT(カテゴリースコア!M79),\"\"),\"\")","v":1},{"$f":"IF(D$1<>\"\",IF($A77<>\"\",COUNT(カテゴリースコア!N79),\"\"),\"\")","v":0},{"$f":"IF(E$1<>\"\",IF($A77<>\"\",COUNT(カテゴリースコア!O79),\"\"),\"\")","v":0},{"$f":"IF(F$1<>\"\",IF($A77<>\"\",COUNT(カテゴリースコア!P79),\"\"),\"\")","v":0},{"$f":"IF(G$1<>\"\",IF($A77<>\"\",COUNT(カテゴリースコア!Q79),\"\"),\"\")","v":0},{"$f":"IF(H$1<>\"\",IF($A77<>\"\",COUNT(カテゴリースコア!R79),\"\"),\"\")","v":0},{"$f":"IF(I$1<>\"\",IF($A77<>\"\",COUNT(カテゴリースコア!S79),\"\"),\"\")","v":""},{"$f":"IF(J$1<>\"\",IF($A77<>\"\",COUNT(カテゴリースコア!T79),\"\"),\"\")","v":""},{"$f":"IF(K$1<>\"\",IF($A77<>\"\",COUNT(カテゴリースコア!U79),\"\"),\"\")","v":""}]
[{"$f":"IF(データセット1!C78<>\"\",データセット1!C78,\"\")","v":976.44},{"$f":"IF(データセット1!C78<>\"\",データセット1!D78-カテゴリースコア!$E$11,\"\")","v":-146.54838709677421},{"$f":"IF(C$1<>\"\",IF($A78<>\"\",COUNT(カテゴリースコア!M80),\"\"),\"\")","v":0},{"$f":"IF(D$1<>\"\",IF($A78<>\"\",COUNT(カテゴリースコア!N80),\"\"),\"\")","v":0},{"$f":"IF(E$1<>\"\",IF($A78<>\"\",COUNT(カテゴリースコア!O80),\"\"),\"\")","v":0},{"$f":"IF(F$1<>\"\",IF($A78<>\"\",COUNT(カテゴリースコア!P80),\"\"),\"\")","v":1},{"$f":"IF(G$1<>\"\",IF($A78<>\"\",COUNT(カテゴリースコア!Q80),\"\"),\"\")","v":0},{"$f":"IF(H$1<>\"\",IF($A78<>\"\",COUNT(カテゴリースコア!R80),\"\"),\"\")","v":0},{"$f":"IF(I$1<>\"\",IF($A78<>\"\",COUNT(カテゴリースコア!S80),\"\"),\"\")","v":""},{"$f":"IF(J$1<>\"\",IF($A78<>\"\",COUNT(カテゴリースコア!T80),\"\"),\"\")","v":""},{"$f":"IF(K$1<>\"\",IF($A78<>\"\",COUNT(カテゴリースコア!U80),\"\"),\"\")","v":""}]
[{"$f":"IF(データセット1!C79<>\"\",データセット1!C79,\"\")","v":967.55},{"$f":"IF(データセット1!C79<>\"\",データセット1!D79-カテゴリースコア!$E$11,\"\")","v":-78.548387096774206},{"$f":"IF(C$1<>\"\",IF($A79<>\"\",COUNT(カテゴリースコア!M81),\"\"),\"\")","v":0},{"$f":"IF(D$1<>\"\",IF($A79<>\"\",COUNT(カテゴリースコア!N81),\"\"),\"\")","v":0},{"$f":"IF(E$1<>\"\",IF($A79<>\"\",COUNT(カテゴリースコア!O81),\"\"),\"\")","v":0},{"$f":"IF(F$1<>\"\",IF($A79<>\"\",COUNT(カテゴリースコア!P81),\"\"),\"\")","v":1},{"$f":"IF(G$1<>\"\",IF($A79<>\"\",COUNT(カテゴリースコア!Q81),\"\"),\"\")","v":0},{"$f":"IF(H$1<>\"\",IF($A79<>\"\",COUNT(カテゴリースコア!R81),\"\"),\"\")","v":0},{"$f":"IF(I$1<>\"\",IF($A79<>\"\",COUNT(カテゴリースコア!S81),\"\"),\"\")","v":""},{"$f":"IF(J$1<>\"\",IF($A79<>\"\",COUNT(カテゴリースコア!T81),\"\"),\"\")","v":""},{"$f":"IF(K$1<>\"\",IF($A79<>\"\",COUNT(カテゴリースコア!U81),\"\"),\"\")","v":""}]
[{"$f":"IF(データセット1!C80<>\"\",データセット1!C80,\"\")","v":958.2},{"$f":"IF(データセット1!C80<>\"\",データセット1!D80-カテゴリースコア!$E$11,\"\")","v":120.45161290322579},{"$f":"IF(C$1<>\"\",IF($A80<>\"\",COUNT(カテゴリースコア!M82),\"\"),\"\")","v":1},{"$f":"IF(D$1<>\"\",IF($A80<>\"\",COUNT(カテゴリースコア!N82),\"\"),\"\")","v":0},{"$f":"IF(E$1<>\"\",IF($A80<>\"\",COUNT(カテゴリースコア!O82),\"\"),\"\")","v":0},{"$f":"IF(F$1<>\"\",IF($A80<>\"\",COUNT(カテゴリースコア!P82),\"\"),\"\")","v":0},{"$f":"IF(G$1<>\"\",IF($A80<>\"\",COUNT(カテゴリースコア!Q82),\"\"),\"\")","v":0},{"$f":"IF(H$1<>\"\",IF($A80<>\"\",COUNT(カテゴリースコア!R82),\"\"),\"\")","v":0},{"$f":"IF(I$1<>\"\",IF($A80<>\"\",COUNT(カテゴリースコア!S82),\"\"),\"\")","v":""},{"$f":"IF(J$1<>\"\",IF($A80<>\"\",COUNT(カテゴリースコア!T82),\"\"),\"\")","v":""},{"$f":"IF(K$1<>\"\",IF($A80<>\"\",COUNT(カテゴリースコア!U82),\"\"),\"\")","v":""}]
[{"$f":"IF(データセット1!C81<>\"\",データセット1!C81,\"\")","v":955.69},{"$f":"IF(データセット1!C81<>\"\",データセット1!D81-カテゴリースコア!$E$11,\"\")","v":94.451612903225794},{"$f":"IF(C$1<>\"\",IF($A81<>\"\",COUNT(カテゴリースコア!M83),\"\"),\"\")","v":0},{"$f":"IF(D$1<>\"\",IF($A81<>\"\",COUNT(カテゴリースコア!N83),\"\"),\"\")","v":0},{"$f":"IF(E$1<>\"\",IF($A81<>\"\",COUNT(カテゴリースコア!O83),\"\"),\"\")","v":1},{"$f":"IF(F$1<>\"\",IF($A81<>\"\",COUNT(カテゴリースコア!P83),\"\"),\"\")","v":0},{"$f":"IF(G$1<>\"\",IF($A81<>\"\",COUNT(カテゴリースコア!Q83),\"\"),\"\")","v":0},{"$f":"IF(H$1<>\"\",IF($A81<>\"\",COUNT(カテゴリースコア!R83),\"\"),\"\")","v":0},{"$f":"IF(I$1<>\"\",IF($A81<>\"\",COUNT(カテゴリースコア!S83),\"\"),\"\")","v":""},{"$f":"IF(J$1<>\"\",IF($A81<>\"\",COUNT(カテゴリースコア!T83),\"\"),\"\")","v":""},{"$f":"IF(K$1<>\"\",IF($A81<>\"\",COUNT(カテゴリースコア!U83),\"\"),\"\")","v":""}]
[{"$f":"IF(データセット1!C82<>\"\",データセット1!C82,\"\")","v":944.91},{"$f":"IF(データセット1!C82<>\"\",データセット1!D82-カテゴリースコア!$E$11,\"\")","v":125.45161290322579},{"$f":"IF(C$1<>\"\",IF($A82<>\"\",COUNT(カテゴリースコア!M84),\"\"),\"\")","v":1},{"$f":"IF(D$1<>\"\",IF($A82<>\"\",COUNT(カテゴリースコア!N84),\"\"),\"\")","v":0},{"$f":"IF(E$1<>\"\",IF($A82<>\"\",COUNT(カテゴリースコア!O84),\"\"),\"\")","v":0},{"$f":"IF(F$1<>\"\",IF($A82<>\"\",COUNT(カテゴリースコア!P84),\"\"),\"\")","v":0},{"$f":"IF(G$1<>\"\",IF($A82<>\"\",COUNT(カテゴリースコア!Q84),\"\"),\"\")","v":0},{"$f":"IF(H$1<>\"\",IF($A82<>\"\",COUNT(カテゴリースコア!R84),\"\"),\"\")","v":0},{"$f":"IF(I$1<>\"\",IF($A82<>\"\",COUNT(カテゴリースコア!S84),\"\"),\"\")","v":""},{"$f":"IF(J$1<>\"\",IF($A82<>\"\",COUNT(カテゴリースコア!T84),\"\"),\"\")","v":""},{"$f":"IF(K$1<>\"\",IF($A82<>\"\",COUNT(カテゴリースコア!U84),\"\"),\"\")","v":""}]
[{"$f":"IF(データセット1!C83<>\"\",データセット1!C83,\"\")","v":899.83},{"$f":"IF(データセット1!C83<>\"\",データセット1!D83-カテゴリースコア!$E$11,\"\")","v":-198.54838709677421},{"$f":"IF(C$1<>\"\",IF($A83<>\"\",COUNT(カテゴリースコア!M85),\"\"),\"\")","v":0},{"$f":"IF(D$1<>\"\",IF($A83<>\"\",COUNT(カテゴリースコア!N85),\"\"),\"\")","v":0},{"$f":"IF(E$1<>\"\",IF($A83<>\"\",COUNT(カテゴリースコア!O85),\"\"),\"\")","v":0},{"$f":"IF(F$1<>\"\",IF($A83<>\"\",COUNT(カテゴリースコア!P85),\"\"),\"\")","v":1},{"$f":"IF(G$1<>\"\",IF($A83<>\"\",COUNT(カテゴリースコア!Q85),\"\"),\"\")","v":0},{"$f":"IF(H$1<>\"\",IF($A83<>\"\",COUNT(カテゴリースコア!R85),\"\"),\"\")","v":0},{"$f":"IF(I$1<>\"\",IF($A83<>\"\",COUNT(カテゴリースコア!S85),\"\"),\"\")","v":""},{"$f":"IF(J$1<>\"\",IF($A83<>\"\",COUNT(カテゴリースコア!T85),\"\"),\"\")","v":""},{"$f":"IF(K$1<>\"\",IF($A83<>\"\",COUNT(カテゴリースコア!U85),\"\"),\"\")","v":""}]
[{"$f":"IF(データセット1!C84<>\"\",データセット1!C84,\"\")","v":787.6},{"$f":"IF(データセット1!C84<>\"\",データセット1!D84-カテゴリースコア!$E$11,\"\")","v":-203.54838709677421},{"$f":"IF(C$1<>\"\",IF($A84<>\"\",COUNT(カテゴリースコア!M86),\"\"),\"\")","v":0},{"$f":"IF(D$1<>\"\",IF($A84<>\"\",COUNT(カテゴリースコア!N86),\"\"),\"\")","v":0},{"$f":"IF(E$1<>\"\",IF($A84<>\"\",COUNT(カテゴリースコア!O86),\"\"),\"\")","v":0},{"$f":"IF(F$1<>\"\",IF($A84<>\"\",COUNT(カテゴリースコア!P86),\"\"),\"\")","v":0},{"$f":"IF(G$1<>\"\",IF($A84<>\"\",COUNT(カテゴリースコア!Q86),\"\"),\"\")","v":1},{"$f":"IF(H$1<>\"\",IF($A84<>\"\",COUNT(カテゴリースコア!R86),\"\"),\"\")","v":0},{"$f":"IF(I$1<>\"\",IF($A84<>\"\",COUNT(カテゴリースコア!S86),\"\"),\"\")","v":""},{"$f":"IF(J$1<>\"\",IF($A84<>\"\",COUNT(カテゴリースコア!T86),\"\"),\"\")","v":""},{"$f":"IF(K$1<>\"\",IF($A84<>\"\",COUNT(カテゴリースコア!U86),\"\"),\"\")","v":""}]
[{"$f":"IF(データセット1!C85<>\"\",データセット1!C85,\"\")","v":730.33},{"$f":"IF(データセット1!C85<>\"\",データセット1!D85-カテゴリースコア!$E$11,\"\")","v":87.451612903225794},{"$f":"IF(C$1<>\"\",IF($A85<>\"\",COUNT(カテゴリースコア!M87),\"\"),\"\")","v":1},{"$f":"IF(D$1<>\"\",IF($A85<>\"\",COUNT(カテゴリースコア!N87),\"\"),\"\")","v":0},{"$f":"IF(E$1<>\"\",IF($A85<>\"\",COUNT(カテゴリースコア!O87),\"\"),\"\")","v":0},{"$f":"IF(F$1<>\"\",IF($A85<>\"\",COUNT(カテゴリースコア!P87),\"\"),\"\")","v":0},{"$f":"IF(G$1<>\"\",IF($A85<>\"\",COUNT(カテゴリースコア!Q87),\"\"),\"\")","v":0},{"$f":"IF(H$1<>\"\",IF($A85<>\"\",COUNT(カテゴリースコア!R87),\"\"),\"\")","v":0},{"$f":"IF(I$1<>\"\",IF($A85<>\"\",COUNT(カテゴリースコア!S87),\"\"),\"\")","v":""},{"$f":"IF(J$1<>\"\",IF($A85<>\"\",COUNT(カテゴリースコア!T87),\"\"),\"\")","v":""},{"$f":"IF(K$1<>\"\",IF($A85<>\"\",COUNT(カテゴリースコア!U87),\"\"),\"\")","v":""}]
[{"$f":"IF(データセット1!C86<>\"\",データセット1!C86,\"\")","v":707.36},{"$f":"IF(データセット1!C86<>\"\",データセット1!D86-カテゴリースコア!$E$11,\"\")","v":-26.548387096774206},{"$f":"IF(C$1<>\"\",IF($A86<>\"\",COUNT(カテゴリースコア!M88),\"\"),\"\")","v":1},{"$f":"IF(D$1<>\"\",IF($A86<>\"\",COUNT(カテゴリースコア!N88),\"\"),\"\")","v":0},{"$f":"IF(E$1<>\"\",IF($A86<>\"\",COUNT(カテゴリースコア!O88),\"\"),\"\")","v":0},{"$f":"IF(F$1<>\"\",IF($A86<>\"\",COUNT(カテゴリースコア!P88),\"\"),\"\")","v":0},{"$f":"IF(G$1<>\"\",IF($A86<>\"\",COUNT(カテゴリースコア!Q88),\"\"),\"\")","v":0},{"$f":"IF(H$1<>\"\",IF($A86<>\"\",COUNT(カテゴリースコア!R88),\"\"),\"\")","v":0},{"$f":"IF(I$1<>\"\",IF($A86<>\"\",COUNT(カテゴリースコア!S88),\"\"),\"\")","v":""},{"$f":"IF(J$1<>\"\",IF($A86<>\"\",COUNT(カテゴリースコア!T88),\"\"),\"\")","v":""},{"$f":"IF(K$1<>\"\",IF($A86<>\"\",COUNT(カテゴリースコア!U88),\"\"),\"\")","v":""}]
[{"$f":"IF(データセット1!C87<>\"\",データセット1!C87,\"\")","v":701.88},{"$f":"IF(データセット1!C87<>\"\",データセット1!D87-カテゴリースコア!$E$11,\"\")","v":-149.54838709677421},{"$f":"IF(C$1<>\"\",IF($A87<>\"\",COUNT(カテゴリースコア!M89),\"\"),\"\")","v":0},{"$f":"IF(D$1<>\"\",IF($A87<>\"\",COUNT(カテゴリースコア!N89),\"\"),\"\")","v":0},{"$f":"IF(E$1<>\"\",IF($A87<>\"\",COUNT(カテゴリースコア!O89),\"\"),\"\")","v":0},{"$f":"IF(F$1<>\"\",IF($A87<>\"\",COUNT(カテゴリースコア!P89),\"\"),\"\")","v":1},{"$f":"IF(G$1<>\"\",IF($A87<>\"\",COUNT(カテゴリースコア!Q89),\"\"),\"\")","v":0},{"$f":"IF(H$1<>\"\",IF($A87<>\"\",COUNT(カテゴリースコア!R89),\"\"),\"\")","v":0},{"$f":"IF(I$1<>\"\",IF($A87<>\"\",COUNT(カテゴリースコア!S89),\"\"),\"\")","v":""},{"$f":"IF(J$1<>\"\",IF($A87<>\"\",COUNT(カテゴリースコア!T89),\"\"),\"\")","v":""},{"$f":"IF(K$1<>\"\",IF($A87<>\"\",COUNT(カテゴリースコア!U89),\"\"),\"\")","v":""}]
[{"$f":"IF(データセット1!C88<>\"\",データセット1!C88,\"\")","v":674.79},{"$f":"IF(データセット1!C88<>\"\",データセット1!D88-カテゴリースコア!$E$11,\"\")","v":-174.54838709677421},{"$f":"IF(C$1<>\"\",IF($A88<>\"\",COUNT(カテゴリースコア!M90),\"\"),\"\")","v":0},{"$f":"IF(D$1<>\"\",IF($A88<>\"\",COUNT(カテゴリースコア!N90),\"\"),\"\")","v":0},{"$f":"IF(E$1<>\"\",IF($A88<>\"\",COUNT(カテゴリースコア!O90),\"\"),\"\")","v":0},{"$f":"IF(F$1<>\"\",IF($A88<>\"\",COUNT(カテゴリースコア!P90),\"\"),\"\")","v":1},{"$f":"IF(G$1<>\"\",IF($A88<>\"\",COUNT(カテゴリースコア!Q90),\"\"),\"\")","v":0},{"$f":"IF(H$1<>\"\",IF($A88<>\"\",COUNT(カテゴリースコア!R90),\"\"),\"\")","v":0},{"$f":"IF(I$1<>\"\",IF($A88<>\"\",COUNT(カテゴリースコア!S90),\"\"),\"\")","v":""},{"$f":"IF(J$1<>\"\",IF($A88<>\"\",COUNT(カテゴリースコア!T90),\"\"),\"\")","v":""},{"$f":"IF(K$1<>\"\",IF($A88<>\"\",COUNT(カテゴリースコア!U90),\"\"),\"\")","v":""}]
[{"$f":"IF(データセット1!C89<>\"\",データセット1!C89,\"\")","v":655},{"$f":"IF(データセット1!C89<>\"\",データセット1!D89-カテゴリースコア!$E$11,\"\")","v":-207.54838709677421},{"$f":"IF(C$1<>\"\",IF($A89<>\"\",COUNT(カテゴリースコア!M91),\"\"),\"\")","v":0},{"$f":"IF(D$1<>\"\",IF($A89<>\"\",COUNT(カテゴリースコア!N91),\"\"),\"\")","v":0},{"$f":"IF(E$1<>\"\",IF($A89<>\"\",COUNT(カテゴリースコア!O91),\"\"),\"\")","v":0},{"$f":"IF(F$1<>\"\",IF($A89<>\"\",COUNT(カテゴリースコア!P91),\"\"),\"\")","v":1},{"$f":"IF(G$1<>\"\",IF($A89<>\"\",COUNT(カテゴリースコア!Q91),\"\"),\"\")","v":0},{"$f":"IF(H$1<>\"\",IF($A89<>\"\",COUNT(カテゴリースコア!R91),\"\"),\"\")","v":0},{"$f":"IF(I$1<>\"\",IF($A89<>\"\",COUNT(カテゴリースコア!S91),\"\"),\"\")","v":""},{"$f":"IF(J$1<>\"\",IF($A89<>\"\",COUNT(カテゴリースコア!T91),\"\"),\"\")","v":""},{"$f":"IF(K$1<>\"\",IF($A89<>\"\",COUNT(カテゴリースコア!U91),\"\"),\"\")","v":""}]
[{"$f":"IF(データセット1!C90<>\"\",データセット1!C90,\"\")","v":622.75},{"$f":"IF(データセット1!C90<>\"\",データセット1!D90-カテゴリースコア!$E$11,\"\")","v":-200.54838709677421},{"$f":"IF(C$1<>\"\",IF($A90<>\"\",COUNT(カテゴリースコア!M92),\"\"),\"\")","v":0},{"$f":"IF(D$1<>\"\",IF($A90<>\"\",COUNT(カテゴリースコア!N92),\"\"),\"\")","v":0},{"$f":"IF(E$1<>\"\",IF($A90<>\"\",COUNT(カテゴリースコア!O92),\"\"),\"\")","v":0},{"$f":"IF(F$1<>\"\",IF($A90<>\"\",COUNT(カテゴリースコア!P92),\"\"),\"\")","v":1},{"$f":"IF(G$1<>\"\",IF($A90<>\"\",COUNT(カテゴリースコア!Q92),\"\"),\"\")","v":0},{"$f":"IF(H$1<>\"\",IF($A90<>\"\",COUNT(カテゴリースコア!R92),\"\"),\"\")","v":0},{"$f":"IF(I$1<>\"\",IF($A90<>\"\",COUNT(カテゴリースコア!S92),\"\"),\"\")","v":""},{"$f":"IF(J$1<>\"\",IF($A90<>\"\",COUNT(カテゴリースコア!T92),\"\"),\"\")","v":""},{"$f":"IF(K$1<>\"\",IF($A90<>\"\",COUNT(カテゴリースコア!U92),\"\"),\"\")","v":""}]
[{"$f":"IF(データセット1!C91<>\"\",データセット1!C91,\"\")","v":615.23},{"$f":"IF(データセット1!C91<>\"\",データセット1!D91-カテゴリースコア!$E$11,\"\")","v":177.45161290322579},{"$f":"IF(C$1<>\"\",IF($A91<>\"\",COUNT(カテゴリースコア!M93),\"\"),\"\")","v":1},{"$f":"IF(D$1<>\"\",IF($A91<>\"\",COUNT(カテゴリースコア!N93),\"\"),\"\")","v":0},{"$f":"IF(E$1<>\"\",IF($A91<>\"\",COUNT(カテゴリースコア!O93),\"\"),\"\")","v":0},{"$f":"IF(F$1<>\"\",IF($A91<>\"\",COUNT(カテゴリースコア!P93),\"\"),\"\")","v":0},{"$f":"IF(G$1<>\"\",IF($A91<>\"\",COUNT(カテゴリースコア!Q93),\"\"),\"\")","v":0},{"$f":"IF(H$1<>\"\",IF($A91<>\"\",COUNT(カテゴリースコア!R93),\"\"),\"\")","v":0},{"$f":"IF(I$1<>\"\",IF($A91<>\"\",COUNT(カテゴリースコア!S93),\"\"),\"\")","v":""},{"$f":"IF(J$1<>\"\",IF($A91<>\"\",COUNT(カテゴリースコア!T93),\"\"),\"\")","v":""},{"$f":"IF(K$1<>\"\",IF($A91<>\"\",COUNT(カテゴリースコア!U93),\"\"),\"\")","v":""}]
[{"$f":"IF(データセット1!C92<>\"\",データセット1!C92,\"\")","v":598.6},{"$f":"IF(データセット1!C92<>\"\",データセット1!D92-カテゴリースコア!$E$11,\"\")","v":-136.54838709677421},{"$f":"IF(C$1<>\"\",IF($A92<>\"\",COUNT(カテゴリースコア!M94),\"\"),\"\")","v":0},{"$f":"IF(D$1<>\"\",IF($A92<>\"\",COUNT(カテゴリースコア!N94),\"\"),\"\")","v":0},{"$f":"IF(E$1<>\"\",IF($A92<>\"\",COUNT(カテゴリースコア!O94),\"\"),\"\")","v":0},{"$f":"IF(F$1<>\"\",IF($A92<>\"\",COUNT(カテゴリースコア!P94),\"\"),\"\")","v":1},{"$f":"IF(G$1<>\"\",IF($A92<>\"\",COUNT(カテゴリースコア!Q94),\"\"),\"\")","v":0},{"$f":"IF(H$1<>\"\",IF($A92<>\"\",COUNT(カテゴリースコア!R94),\"\"),\"\")","v":0},{"$f":"IF(I$1<>\"\",IF($A92<>\"\",COUNT(カテゴリースコア!S94),\"\"),\"\")","v":""},{"$f":"IF(J$1<>\"\",IF($A92<>\"\",COUNT(カテゴリースコア!T94),\"\"),\"\")","v":""},{"$f":"IF(K$1<>\"\",IF($A92<>\"\",COUNT(カテゴリースコア!U94),\"\"),\"\")","v":""}]
[{"$f":"IF(データセット1!C93<>\"\",データセット1!C93,\"\")","v":596},{"$f":"IF(データセット1!C93<>\"\",データセット1!D93-カテゴリースコア!$E$11,\"\")","v":-158.54838709677421},{"$f":"IF(C$1<>\"\",IF($A93<>\"\",COUNT(カテゴリースコア!M95),\"\"),\"\")","v":0},{"$f":"IF(D$1<>\"\",IF($A93<>\"\",COUNT(カテゴリースコア!N95),\"\"),\"\")","v":0},{"$f":"IF(E$1<>\"\",IF($A93<>\"\",COUNT(カテゴリースコア!O95),\"\"),\"\")","v":0},{"$f":"IF(F$1<>\"\",IF($A93<>\"\",COUNT(カテゴリースコア!P95),\"\"),\"\")","v":1},{"$f":"IF(G$1<>\"\",IF($A93<>\"\",COUNT(カテゴリースコア!Q95),\"\"),\"\")","v":0},{"$f":"IF(H$1<>\"\",IF($A93<>\"\",COUNT(カテゴリースコア!R95),\"\"),\"\")","v":0},{"$f":"IF(I$1<>\"\",IF($A93<>\"\",COUNT(カテゴリースコア!S95),\"\"),\"\")","v":""},{"$f":"IF(J$1<>\"\",IF($A93<>\"\",COUNT(カテゴリースコア!T95),\"\"),\"\")","v":""},{"$f":"IF(K$1<>\"\",IF($A93<>\"\",COUNT(カテゴリースコア!U95),\"\"),\"\")","v":""}]
[{"$f":"IF(データセット1!C94<>\"\",データセット1!C94,\"\")","v":558},{"$f":"IF(データセット1!C94<>\"\",データセット1!D94-カテゴリースコア!$E$11,\"\")","v":-204.54838709677421},{"$f":"IF(C$1<>\"\",IF($A94<>\"\",COUNT(カテゴリースコア!M96),\"\"),\"\")","v":0},{"$f":"IF(D$1<>\"\",IF($A94<>\"\",COUNT(カテゴリースコア!N96),\"\"),\"\")","v":0},{"$f":"IF(E$1<>\"\",IF($A94<>\"\",COUNT(カテゴリースコア!O96),\"\"),\"\")","v":0},{"$f":"IF(F$1<>\"\",IF($A94<>\"\",COUNT(カテゴリースコア!P96),\"\"),\"\")","v":1},{"$f":"IF(G$1<>\"\",IF($A94<>\"\",COUNT(カテゴリースコア!Q96),\"\"),\"\")","v":0},{"$f":"IF(H$1<>\"\",IF($A94<>\"\",COUNT(カテゴリースコア!R96),\"\"),\"\")","v":0},{"$f":"IF(I$1<>\"\",IF($A94<>\"\",COUNT(カテゴリースコア!S96),\"\"),\"\")","v":""},{"$f":"IF(J$1<>\"\",IF($A94<>\"\",COUNT(カテゴリースコア!T96),\"\"),\"\")","v":""},{"$f":"IF(K$1<>\"\",IF($A94<>\"\",COUNT(カテゴリースコア!U96),\"\"),\"\")","v":""}]
[{"$f":"IF(データセット1!C95<>\"\",データセット1!C95,\"\")","v":550.71},{"$f":"IF(データセット1!C95<>\"\",データセット1!D95-カテゴリースコア!$E$11,\"\")","v":-10.548387096774206},{"$f":"IF(C$1<>\"\",IF($A95<>\"\",COUNT(カテゴリースコア!M97),\"\"),\"\")","v":1},{"$f":"IF(D$1<>\"\",IF($A95<>\"\",COUNT(カテゴリースコア!N97),\"\"),\"\")","v":0},{"$f":"IF(E$1<>\"\",IF($A95<>\"\",COUNT(カテゴリースコア!O97),\"\"),\"\")","v":0},{"$f":"IF(F$1<>\"\",IF($A95<>\"\",COUNT(カテゴリースコア!P97),\"\"),\"\")","v":0},{"$f":"IF(G$1<>\"\",IF($A95<>\"\",COUNT(カテゴリースコア!Q97),\"\"),\"\")","v":0},{"$f":"IF(H$1<>\"\",IF($A95<>\"\",COUNT(カテゴリースコア!R97),\"\"),\"\")","v":0},{"$f":"IF(I$1<>\"\",IF($A95<>\"\",COUNT(カテゴリースコア!S97),\"\"),\"\")","v":""},{"$f":"IF(J$1<>\"\",IF($A95<>\"\",COUNT(カテゴリースコア!T97),\"\"),\"\")","v":""},{"$f":"IF(K$1<>\"\",IF($A95<>\"\",COUNT(カテゴリースコア!U97),\"\"),\"\")","v":""}]
[{"$f":"IF(データセット1!C96<>\"\",データセット1!C96,\"\")","v":531.91},{"$f":"IF(データセット1!C96<>\"\",データセット1!D96-カテゴリースコア!$E$11,\"\")","v":-251.54838709677421},{"$f":"IF(C$1<>\"\",IF($A96<>\"\",COUNT(カテゴリースコア!M98),\"\"),\"\")","v":0},{"$f":"IF(D$1<>\"\",IF($A96<>\"\",COUNT(カテゴリースコア!N98),\"\"),\"\")","v":0},{"$f":"IF(E$1<>\"\",IF($A96<>\"\",COUNT(カテゴリースコア!O98),\"\"),\"\")","v":0},{"$f":"IF(F$1<>\"\",IF($A96<>\"\",COUNT(カテゴリースコア!P98),\"\"),\"\")","v":0},{"$f":"IF(G$1<>\"\",IF($A96<>\"\",COUNT(カテゴリースコア!Q98),\"\"),\"\")","v":1},{"$f":"IF(H$1<>\"\",IF($A96<>\"\",COUNT(カテゴリースコア!R98),\"\"),\"\")","v":0},{"$f":"IF(I$1<>\"\",IF($A96<>\"\",COUNT(カテゴリースコア!S98),\"\"),\"\")","v":""},{"$f":"IF(J$1<>\"\",IF($A96<>\"\",COUNT(カテゴリースコア!T98),\"\"),\"\")","v":""},{"$f":"IF(K$1<>\"\",IF($A96<>\"\",COUNT(カテゴリースコア!U98),\"\"),\"\")","v":""}]
[{"$f":"IF(データセット1!C97<>\"\",データセット1!C97,\"\")","v":508.62},{"$f":"IF(データセット1!C97<>\"\",データセット1!D97-カテゴリースコア!$E$11,\"\")","v":87.451612903225794},{"$f":"IF(C$1<>\"\",IF($A97<>\"\",COUNT(カテゴリースコア!M99),\"\"),\"\")","v":1},{"$f":"IF(D$1<>\"\",IF($A97<>\"\",COUNT(カテゴリースコア!N99),\"\"),\"\")","v":0},{"$f":"IF(E$1<>\"\",IF($A97<>\"\",COUNT(カテゴリースコア!O99),\"\"),\"\")","v":0},{"$f":"IF(F$1<>\"\",IF($A97<>\"\",COUNT(カテゴリースコア!P99),\"\"),\"\")","v":0},{"$f":"IF(G$1<>\"\",IF($A97<>\"\",COUNT(カテゴリースコア!Q99),\"\"),\"\")","v":0},{"$f":"IF(H$1<>\"\",IF($A97<>\"\",COUNT(カテゴリースコア!R99),\"\"),\"\")","v":0},{"$f":"IF(I$1<>\"\",IF($A97<>\"\",COUNT(カテゴリースコア!S99),\"\"),\"\")","v":""},{"$f":"IF(J$1<>\"\",IF($A97<>\"\",COUNT(カテゴリースコア!T99),\"\"),\"\")","v":""},{"$f":"IF(K$1<>\"\",IF($A97<>\"\",COUNT(カテゴリースコア!U99),\"\"),\"\")","v":""}]
[{"$f":"IF(データセット1!C98<>\"\",データセット1!C98,\"\")","v":475.06},{"$f":"IF(データセット1!C98<>\"\",データセット1!D98-カテゴリースコア!$E$11,\"\")","v":-154.54838709677421},{"$f":"IF(C$1<>\"\",IF($A98<>\"\",COUNT(カテゴリースコア!M100),\"\"),\"\")","v":0},{"$f":"IF(D$1<>\"\",IF($A98<>\"\",COUNT(カテゴリースコア!N100),\"\"),\"\")","v":0},{"$f":"IF(E$1<>\"\",IF($A98<>\"\",COUNT(カテゴリースコア!O100),\"\"),\"\")","v":0},{"$f":"IF(F$1<>\"\",IF($A98<>\"\",COUNT(カテゴリースコア!P100),\"\"),\"\")","v":1},{"$f":"IF(G$1<>\"\",IF($A98<>\"\",COUNT(カテゴリースコア!Q100),\"\"),\"\")","v":0},{"$f":"IF(H$1<>\"\",IF($A98<>\"\",COUNT(カテゴリースコア!R100),\"\"),\"\")","v":0},{"$f":"IF(I$1<>\"\",IF($A98<>\"\",COUNT(カテゴリースコア!S100),\"\"),\"\")","v":""},{"$f":"IF(J$1<>\"\",IF($A98<>\"\",COUNT(カテゴリースコア!T100),\"\"),\"\")","v":""},{"$f":"IF(K$1<>\"\",IF($A98<>\"\",COUNT(カテゴリースコア!U100),\"\"),\"\")","v":""}]
[{"$f":"IF(データセット1!C99<>\"\",データセット1!C99,\"\")","v":467},{"$f":"IF(データセット1!C99<>\"\",データセット1!D99-カテゴリースコア!$E$11,\"\")","v":-170.54838709677421},{"$f":"IF(C$1<>\"\",IF($A99<>\"\",COUNT(カテゴリースコア!M101),\"\"),\"\")","v":0},{"$f":"IF(D$1<>\"\",IF($A99<>\"\",COUNT(カテゴリースコア!N101),\"\"),\"\")","v":0},{"$f":"IF(E$1<>\"\",IF($A99<>\"\",COUNT(カテゴリースコア!O101),\"\"),\"\")","v":0},{"$f":"IF(F$1<>\"\",IF($A99<>\"\",COUNT(カテゴリースコア!P101),\"\"),\"\")","v":1},{"$f":"IF(G$1<>\"\",IF($A99<>\"\",COUNT(カテゴリースコア!Q101),\"\"),\"\")","v":0},{"$f":"IF(H$1<>\"\",IF($A99<>\"\",COUNT(カテゴリースコア!R101),\"\"),\"\")","v":0},{"$f":"IF(I$1<>\"\",IF($A99<>\"\",COUNT(カテゴリースコア!S101),\"\"),\"\")","v":""},{"$f":"IF(J$1<>\"\",IF($A99<>\"\",COUNT(カテゴリースコア!T101),\"\"),\"\")","v":""},{"$f":"IF(K$1<>\"\",IF($A99<>\"\",COUNT(カテゴリースコア!U101),\"\"),\"\")","v":""}]
[{"$f":"IF(データセット1!C100<>\"\",データセット1!C100,\"\")","v":456},{"$f":"IF(データセット1!C100<>\"\",データセット1!D100-カテゴリースコア!$E$11,\"\")","v":-249.54838709677421},{"$f":"IF(C$1<>\"\",IF($A100<>\"\",COUNT(カテゴリースコア!M102),\"\"),\"\")","v":0},{"$f":"IF(D$1<>\"\",IF($A100<>\"\",COUNT(カテゴリースコア!N102),\"\"),\"\")","v":0},{"$f":"IF(E$1<>\"\",IF($A100<>\"\",COUNT(カテゴリースコア!O102),\"\"),\"\")","v":0},{"$f":"IF(F$1<>\"\",IF($A100<>\"\",COUNT(カテゴリースコア!P102),\"\"),\"\")","v":0},{"$f":"IF(G$1<>\"\",IF($A100<>\"\",COUNT(カテゴリースコア!Q102),\"\"),\"\")","v":1},{"$f":"IF(H$1<>\"\",IF($A100<>\"\",COUNT(カテゴリースコア!R102),\"\"),\"\")","v":0},{"$f":"IF(I$1<>\"\",IF($A100<>\"\",COUNT(カテゴリースコア!S102),\"\"),\"\")","v":""},{"$f":"IF(J$1<>\"\",IF($A100<>\"\",COUNT(カテゴリースコア!T102),\"\"),\"\")","v":""},{"$f":"IF(K$1<>\"\",IF($A100<>\"\",COUNT(カテゴリースコア!U102),\"\"),\"\")","v":""}]
[{"$f":"IF(データセット1!C101<>\"\",データセット1!C101,\"\")","v":449.8},{"$f":"IF(データセット1!C101<>\"\",データセット1!D101-カテゴリースコア!$E$11,\"\")","v":170.45161290322579},{"$f":"IF(C$1<>\"\",IF($A101<>\"\",COUNT(カテゴリースコア!M103),\"\"),\"\")","v":1},{"$f":"IF(D$1<>\"\",IF($A101<>\"\",COUNT(カテゴリースコア!N103),\"\"),\"\")","v":0},{"$f":"IF(E$1<>\"\",IF($A101<>\"\",COUNT(カテゴリースコア!O103),\"\"),\"\")","v":0},{"$f":"IF(F$1<>\"\",IF($A101<>\"\",COUNT(カテゴリースコア!P103),\"\"),\"\")","v":0},{"$f":"IF(G$1<>\"\",IF($A101<>\"\",COUNT(カテゴリースコア!Q103),\"\"),\"\")","v":0},{"$f":"IF(H$1<>\"\",IF($A101<>\"\",COUNT(カテゴリースコア!R103),\"\"),\"\")","v":0},{"$f":"IF(I$1<>\"\",IF($A101<>\"\",COUNT(カテゴリースコア!S103),\"\"),\"\")","v":""},{"$f":"IF(J$1<>\"\",IF($A101<>\"\",COUNT(カテゴリースコア!T103),\"\"),\"\")","v":""},{"$f":"IF(K$1<>\"\",IF($A101<>\"\",COUNT(カテゴリースコア!U103),\"\"),\"\")","v":""}]
[{"$f":"IF(データセット1!C102<>\"\",データセット1!C102,\"\")","v":424.98},{"$f":"IF(データセット1!C102<>\"\",データセット1!D102-カテゴリースコア!$E$11,\"\")","v":205.45161290322579},{"$f":"IF(C$1<>\"\",IF($A102<>\"\",COUNT(カテゴリースコア!M104),\"\"),\"\")","v":1},{"$f":"IF(D$1<>\"\",IF($A102<>\"\",COUNT(カテゴリースコア!N104),\"\"),\"\")","v":0},{"$f":"IF(E$1<>\"\",IF($A102<>\"\",COUNT(カテゴリースコア!O104),\"\"),\"\")","v":0},{"$f":"IF(F$1<>\"\",IF($A102<>\"\",COUNT(カテゴリースコア!P104),\"\"),\"\")","v":0},{"$f":"IF(G$1<>\"\",IF($A102<>\"\",COUNT(カテゴリースコア!Q104),\"\"),\"\")","v":0},{"$f":"IF(H$1<>\"\",IF($A102<>\"\",COUNT(カテゴリースコア!R104),\"\"),\"\")","v":0},{"$f":"IF(I$1<>\"\",IF($A102<>\"\",COUNT(カテゴリースコア!S104),\"\"),\"\")","v":""},{"$f":"IF(J$1<>\"\",IF($A102<>\"\",COUNT(カテゴリースコア!T104),\"\"),\"\")","v":""},{"$f":"IF(K$1<>\"\",IF($A102<>\"\",COUNT(カテゴリースコア!U104),\"\"),\"\")","v":""}]
[{"$f":"IF(データセット1!C103<>\"\",データセット1!C103,\"\")","v":404.47},{"$f":"IF(データセット1!C103<>\"\",データセット1!D103-カテゴリースコア!$E$11,\"\")","v":-167.54838709677421},{"$f":"IF(C$1<>\"\",IF($A103<>\"\",COUNT(カテゴリースコア!M105),\"\"),\"\")","v":0},{"$f":"IF(D$1<>\"\",IF($A103<>\"\",COUNT(カテゴリースコア!N105),\"\"),\"\")","v":0},{"$f":"IF(E$1<>\"\",IF($A103<>\"\",COUNT(カテゴリースコア!O105),\"\"),\"\")","v":0},{"$f":"IF(F$1<>\"\",IF($A103<>\"\",COUNT(カテゴリースコア!P105),\"\"),\"\")","v":1},{"$f":"IF(G$1<>\"\",IF($A103<>\"\",COUNT(カテゴリースコア!Q105),\"\"),\"\")","v":0},{"$f":"IF(H$1<>\"\",IF($A103<>\"\",COUNT(カテゴリースコア!R105),\"\"),\"\")","v":0},{"$f":"IF(I$1<>\"\",IF($A103<>\"\",COUNT(カテゴリースコア!S105),\"\"),\"\")","v":""},{"$f":"IF(J$1<>\"\",IF($A103<>\"\",COUNT(カテゴリースコア!T105),\"\"),\"\")","v":""},{"$f":"IF(K$1<>\"\",IF($A103<>\"\",COUNT(カテゴリースコア!U105),\"\"),\"\")","v":""}]
[{"$f":"IF(データセット1!C104<>\"\",データセット1!C104,\"\")","v":397},{"$f":"IF(データセット1!C104<>\"\",データセット1!D104-カテゴリースコア!$E$11,\"\")","v":249.45161290322579},{"$f":"IF(C$1<>\"\",IF($A104<>\"\",COUNT(カテゴリースコア!M106),\"\"),\"\")","v":1},{"$f":"IF(D$1<>\"\",IF($A104<>\"\",COUNT(カテゴリースコア!N106),\"\"),\"\")","v":0},{"$f":"IF(E$1<>\"\",IF($A104<>\"\",COUNT(カテゴリースコア!O106),\"\"),\"\")","v":0},{"$f":"IF(F$1<>\"\",IF($A104<>\"\",COUNT(カテゴリースコア!P106),\"\"),\"\")","v":0},{"$f":"IF(G$1<>\"\",IF($A104<>\"\",COUNT(カテゴリースコア!Q106),\"\"),\"\")","v":0},{"$f":"IF(H$1<>\"\",IF($A104<>\"\",COUNT(カテゴリースコア!R106),\"\"),\"\")","v":0},{"$f":"IF(I$1<>\"\",IF($A104<>\"\",COUNT(カテゴリースコア!S106),\"\"),\"\")","v":""},{"$f":"IF(J$1<>\"\",IF($A104<>\"\",COUNT(カテゴリースコア!T106),\"\"),\"\")","v":""},{"$f":"IF(K$1<>\"\",IF($A104<>\"\",COUNT(カテゴリースコア!U106),\"\"),\"\")","v":""}]
[{"$f":"IF(データセット1!C105<>\"\",データセット1!C105,\"\")","v":391},{"$f":"IF(データセット1!C105<>\"\",データセット1!D105-カテゴリースコア!$E$11,\"\")","v":-139.54838709677421},{"$f":"IF(C$1<>\"\",IF($A105<>\"\",COUNT(カテゴリースコア!M107),\"\"),\"\")","v":0},{"$f":"IF(D$1<>\"\",IF($A105<>\"\",COUNT(カテゴリースコア!N107),\"\"),\"\")","v":0},{"$f":"IF(E$1<>\"\",IF($A105<>\"\",COUNT(カテゴリースコア!O107),\"\"),\"\")","v":0},{"$f":"IF(F$1<>\"\",IF($A105<>\"\",COUNT(カテゴリースコア!P107),\"\"),\"\")","v":1},{"$f":"IF(G$1<>\"\",IF($A105<>\"\",COUNT(カテゴリースコア!Q107),\"\"),\"\")","v":0},{"$f":"IF(H$1<>\"\",IF($A105<>\"\",COUNT(カテゴリースコア!R107),\"\"),\"\")","v":0},{"$f":"IF(I$1<>\"\",IF($A105<>\"\",COUNT(カテゴリースコア!S107),\"\"),\"\")","v":""},{"$f":"IF(J$1<>\"\",IF($A105<>\"\",COUNT(カテゴリースコア!T107),\"\"),\"\")","v":""},{"$f":"IF(K$1<>\"\",IF($A105<>\"\",COUNT(カテゴリースコア!U107),\"\"),\"\")","v":""}]
[{"$f":"IF(データセット1!C106<>\"\",データセット1!C106,\"\")","v":388.7},{"$f":"IF(データセット1!C106<>\"\",データセット1!D106-カテゴリースコア!$E$11,\"\")","v":-271.54838709677421},{"$f":"IF(C$1<>\"\",IF($A106<>\"\",COUNT(カテゴリースコア!M108),\"\"),\"\")","v":0},{"$f":"IF(D$1<>\"\",IF($A106<>\"\",COUNT(カテゴリースコア!N108),\"\"),\"\")","v":0},{"$f":"IF(E$1<>\"\",IF($A106<>\"\",COUNT(カテゴリースコア!O108),\"\"),\"\")","v":0},{"$f":"IF(F$1<>\"\",IF($A106<>\"\",COUNT(カテゴリースコア!P108),\"\"),\"\")","v":0},{"$f":"IF(G$1<>\"\",IF($A106<>\"\",COUNT(カテゴリースコア!Q108),\"\"),\"\")","v":0},{"$f":"IF(H$1<>\"\",IF($A106<>\"\",COUNT(カテゴリースコア!R108),\"\"),\"\")","v":1},{"$f":"IF(I$1<>\"\",IF($A106<>\"\",COUNT(カテゴリースコア!S108),\"\"),\"\")","v":""},{"$f":"IF(J$1<>\"\",IF($A106<>\"\",COUNT(カテゴリースコア!T108),\"\"),\"\")","v":""},{"$f":"IF(K$1<>\"\",IF($A106<>\"\",COUNT(カテゴリースコア!U108),\"\"),\"\")","v":""}]
[{"$f":"IF(データセット1!C107<>\"\",データセット1!C107,\"\")","v":383.47},{"$f":"IF(データセット1!C107<>\"\",データセット1!D107-カテゴリースコア!$E$11,\"\")","v":-126.54838709677421},{"$f":"IF(C$1<>\"\",IF($A107<>\"\",COUNT(カテゴリースコア!M109),\"\"),\"\")","v":0},{"$f":"IF(D$1<>\"\",IF($A107<>\"\",COUNT(カテゴリースコア!N109),\"\"),\"\")","v":0},{"$f":"IF(E$1<>\"\",IF($A107<>\"\",COUNT(カテゴリースコア!O109),\"\"),\"\")","v":0},{"$f":"IF(F$1<>\"\",IF($A107<>\"\",COUNT(カテゴリースコア!P109),\"\"),\"\")","v":1},{"$f":"IF(G$1<>\"\",IF($A107<>\"\",COUNT(カテゴリースコア!Q109),\"\"),\"\")","v":0},{"$f":"IF(H$1<>\"\",IF($A107<>\"\",COUNT(カテゴリースコア!R109),\"\"),\"\")","v":0},{"$f":"IF(I$1<>\"\",IF($A107<>\"\",COUNT(カテゴリースコア!S109),\"\"),\"\")","v":""},{"$f":"IF(J$1<>\"\",IF($A107<>\"\",COUNT(カテゴリースコア!T109),\"\"),\"\")","v":""},{"$f":"IF(K$1<>\"\",IF($A107<>\"\",COUNT(カテゴリースコア!U109),\"\"),\"\")","v":""}]
[{"$f":"IF(データセット1!C108<>\"\",データセット1!C108,\"\")","v":376},{"$f":"IF(データセット1!C108<>\"\",データセット1!D108-カテゴリースコア!$E$11,\"\")","v":-131.54838709677421},{"$f":"IF(C$1<>\"\",IF($A108<>\"\",COUNT(カテゴリースコア!M110),\"\"),\"\")","v":0},{"$f":"IF(D$1<>\"\",IF($A108<>\"\",COUNT(カテゴリースコア!N110),\"\"),\"\")","v":0},{"$f":"IF(E$1<>\"\",IF($A108<>\"\",COUNT(カテゴリースコア!O110),\"\"),\"\")","v":0},{"$f":"IF(F$1<>\"\",IF($A108<>\"\",COUNT(カテゴリースコア!P110),\"\"),\"\")","v":1},{"$f":"IF(G$1<>\"\",IF($A108<>\"\",COUNT(カテゴリースコア!Q110),\"\"),\"\")","v":0},{"$f":"IF(H$1<>\"\",IF($A108<>\"\",COUNT(カテゴリースコア!R110),\"\"),\"\")","v":0},{"$f":"IF(I$1<>\"\",IF($A108<>\"\",COUNT(カテゴリースコア!S110),\"\"),\"\")","v":""},{"$f":"IF(J$1<>\"\",IF($A108<>\"\",COUNT(カテゴリースコア!T110),\"\"),\"\")","v":""},{"$f":"IF(K$1<>\"\",IF($A108<>\"\",COUNT(カテゴリースコア!U110),\"\"),\"\")","v":""}]
[{"$f":"IF(データセット1!C109<>\"\",データセット1!C109,\"\")","v":367.88},{"$f":"IF(データセット1!C109<>\"\",データセット1!D109-カテゴリースコア!$E$11,\"\")","v":107.45161290322579},{"$f":"IF(C$1<>\"\",IF($A109<>\"\",COUNT(カテゴリースコア!M111),\"\"),\"\")","v":1},{"$f":"IF(D$1<>\"\",IF($A109<>\"\",COUNT(カテゴリースコア!N111),\"\"),\"\")","v":0},{"$f":"IF(E$1<>\"\",IF($A109<>\"\",COUNT(カテゴリースコア!O111),\"\"),\"\")","v":0},{"$f":"IF(F$1<>\"\",IF($A109<>\"\",COUNT(カテゴリースコア!P111),\"\"),\"\")","v":0},{"$f":"IF(G$1<>\"\",IF($A109<>\"\",COUNT(カテゴリースコア!Q111),\"\"),\"\")","v":0},{"$f":"IF(H$1<>\"\",IF($A109<>\"\",COUNT(カテゴリースコア!R111),\"\"),\"\")","v":0},{"$f":"IF(I$1<>\"\",IF($A109<>\"\",COUNT(カテゴリースコア!S111),\"\"),\"\")","v":""},{"$f":"IF(J$1<>\"\",IF($A109<>\"\",COUNT(カテゴリースコア!T111),\"\"),\"\")","v":""},{"$f":"IF(K$1<>\"\",IF($A109<>\"\",COUNT(カテゴリースコア!U111),\"\"),\"\")","v":""}]
[{"$f":"IF(データセット1!C110<>\"\",データセット1!C110,\"\")","v":335.68},{"$f":"IF(データセット1!C110<>\"\",データセット1!D110-カテゴリースコア!$E$11,\"\")","v":91.451612903225794},{"$f":"IF(C$1<>\"\",IF($A110<>\"\",COUNT(カテゴリースコア!M112),\"\"),\"\")","v":1},{"$f":"IF(D$1<>\"\",IF($A110<>\"\",COUNT(カテゴリースコア!N112),\"\"),\"\")","v":0},{"$f":"IF(E$1<>\"\",IF($A110<>\"\",COUNT(カテゴリースコア!O112),\"\"),\"\")","v":0},{"$f":"IF(F$1<>\"\",IF($A110<>\"\",COUNT(カテゴリースコア!P112),\"\"),\"\")","v":0},{"$f":"IF(G$1<>\"\",IF($A110<>\"\",COUNT(カテゴリースコア!Q112),\"\"),\"\")","v":0},{"$f":"IF(H$1<>\"\",IF($A110<>\"\",COUNT(カテゴリースコア!R112),\"\"),\"\")","v":0},{"$f":"IF(I$1<>\"\",IF($A110<>\"\",COUNT(カテゴリースコア!S112),\"\"),\"\")","v":""},{"$f":"IF(J$1<>\"\",IF($A110<>\"\",COUNT(カテゴリースコア!T112),\"\"),\"\")","v":""},{"$f":"IF(K$1<>\"\",IF($A110<>\"\",COUNT(カテゴリースコア!U112),\"\"),\"\")","v":""}]
[{"$f":"IF(データセット1!C111<>\"\",データセット1!C111,\"\")","v":327},{"$f":"IF(データセット1!C111<>\"\",データセット1!D111-カテゴリースコア!$E$11,\"\")","v":-156.54838709677421},{"$f":"IF(C$1<>\"\",IF($A111<>\"\",COUNT(カテゴリースコア!M113),\"\"),\"\")","v":0},{"$f":"IF(D$1<>\"\",IF($A111<>\"\",COUNT(カテゴリースコア!N113),\"\"),\"\")","v":0},{"$f":"IF(E$1<>\"\",IF($A111<>\"\",COUNT(カテゴリースコア!O113),\"\"),\"\")","v":0},{"$f":"IF(F$1<>\"\",IF($A111<>\"\",COUNT(カテゴリースコア!P113),\"\"),\"\")","v":1},{"$f":"IF(G$1<>\"\",IF($A111<>\"\",COUNT(カテゴリースコア!Q113),\"\"),\"\")","v":0},{"$f":"IF(H$1<>\"\",IF($A111<>\"\",COUNT(カテゴリースコア!R113),\"\"),\"\")","v":0},{"$f":"IF(I$1<>\"\",IF($A111<>\"\",COUNT(カテゴリースコア!S113),\"\"),\"\")","v":""},{"$f":"IF(J$1<>\"\",IF($A111<>\"\",COUNT(カテゴリースコア!T113),\"\"),\"\")","v":""},{"$f":"IF(K$1<>\"\",IF($A111<>\"\",COUNT(カテゴリースコア!U113),\"\"),\"\")","v":""}]
[{"$f":"IF(データセット1!C112<>\"\",データセット1!C112,\"\")","v":262.14999999999998},{"$f":"IF(データセット1!C112<>\"\",データセット1!D112-カテゴリースコア!$E$11,\"\")","v":95.451612903225794},{"$f":"IF(C$1<>\"\",IF($A112<>\"\",COUNT(カテゴリースコア!M114),\"\"),\"\")","v":1},{"$f":"IF(D$1<>\"\",IF($A112<>\"\",COUNT(カテゴリースコア!N114),\"\"),\"\")","v":0},{"$f":"IF(E$1<>\"\",IF($A112<>\"\",COUNT(カテゴリースコア!O114),\"\"),\"\")","v":0},{"$f":"IF(F$1<>\"\",IF($A112<>\"\",COUNT(カテゴリースコア!P114),\"\"),\"\")","v":0},{"$f":"IF(G$1<>\"\",IF($A112<>\"\",COUNT(カテゴリースコア!Q114),\"\"),\"\")","v":0},{"$f":"IF(H$1<>\"\",IF($A112<>\"\",COUNT(カテゴリースコア!R114),\"\"),\"\")","v":0},{"$f":"IF(I$1<>\"\",IF($A112<>\"\",COUNT(カテゴリースコア!S114),\"\"),\"\")","v":""},{"$f":"IF(J$1<>\"\",IF($A112<>\"\",COUNT(カテゴリースコア!T114),\"\"),\"\")","v":""},{"$f":"IF(K$1<>\"\",IF($A112<>\"\",COUNT(カテゴリースコア!U114),\"\"),\"\")","v":""}]
[{"$f":"IF(データセット1!C113<>\"\",データセット1!C113,\"\")","v":254.5},{"$f":"IF(データセット1!C113<>\"\",データセット1!D113-カテゴリースコア!$E$11,\"\")","v":-250.54838709677421},{"$f":"IF(C$1<>\"\",IF($A113<>\"\",COUNT(カテゴリースコア!M115),\"\"),\"\")","v":0},{"$f":"IF(D$1<>\"\",IF($A113<>\"\",COUNT(カテゴリースコア!N115),\"\"),\"\")","v":0},{"$f":"IF(E$1<>\"\",IF($A113<>\"\",COUNT(カテゴリースコア!O115),\"\"),\"\")","v":0},{"$f":"IF(F$1<>\"\",IF($A113<>\"\",COUNT(カテゴリースコア!P115),\"\"),\"\")","v":0},{"$f":"IF(G$1<>\"\",IF($A113<>\"\",COUNT(カテゴリースコア!Q115),\"\"),\"\")","v":1},{"$f":"IF(H$1<>\"\",IF($A113<>\"\",COUNT(カテゴリースコア!R115),\"\"),\"\")","v":0},{"$f":"IF(I$1<>\"\",IF($A113<>\"\",COUNT(カテゴリースコア!S115),\"\"),\"\")","v":""},{"$f":"IF(J$1<>\"\",IF($A113<>\"\",COUNT(カテゴリースコア!T115),\"\"),\"\")","v":""},{"$f":"IF(K$1<>\"\",IF($A113<>\"\",COUNT(カテゴリースコア!U115),\"\"),\"\")","v":""}]
[{"$f":"IF(データセット1!C114<>\"\",データセット1!C114,\"\")","v":238},{"$f":"IF(データセット1!C114<>\"\",データセット1!D114-カテゴリースコア!$E$11,\"\")","v":-117.54838709677421},{"$f":"IF(C$1<>\"\",IF($A114<>\"\",COUNT(カテゴリースコア!M116),\"\"),\"\")","v":0},{"$f":"IF(D$1<>\"\",IF($A114<>\"\",COUNT(カテゴリースコア!N116),\"\"),\"\")","v":0},{"$f":"IF(E$1<>\"\",IF($A114<>\"\",COUNT(カテゴリースコア!O116),\"\"),\"\")","v":0},{"$f":"IF(F$1<>\"\",IF($A114<>\"\",COUNT(カテゴリースコア!P116),\"\"),\"\")","v":1},{"$f":"IF(G$1<>\"\",IF($A114<>\"\",COUNT(カテゴリースコア!Q116),\"\"),\"\")","v":0},{"$f":"IF(H$1<>\"\",IF($A114<>\"\",COUNT(カテゴリースコア!R116),\"\"),\"\")","v":0},{"$f":"IF(I$1<>\"\",IF($A114<>\"\",COUNT(カテゴリースコア!S116),\"\"),\"\")","v":""},{"$f":"IF(J$1<>\"\",IF($A114<>\"\",COUNT(カテゴリースコア!T116),\"\"),\"\")","v":""},{"$f":"IF(K$1<>\"\",IF($A114<>\"\",COUNT(カテゴリースコア!U116),\"\"),\"\")","v":""}]
[{"$f":"IF(データセット1!C115<>\"\",データセット1!C115,\"\")","v":228.28},{"$f":"IF(データセット1!C115<>\"\",データセット1!D115-カテゴリースコア!$E$11,\"\")","v":-148.54838709677421},{"$f":"IF(C$1<>\"\",IF($A115<>\"\",COUNT(カテゴリースコア!M117),\"\"),\"\")","v":0},{"$f":"IF(D$1<>\"\",IF($A115<>\"\",COUNT(カテゴリースコア!N117),\"\"),\"\")","v":0},{"$f":"IF(E$1<>\"\",IF($A115<>\"\",COUNT(カテゴリースコア!O117),\"\"),\"\")","v":0},{"$f":"IF(F$1<>\"\",IF($A115<>\"\",COUNT(カテゴリースコア!P117),\"\"),\"\")","v":1},{"$f":"IF(G$1<>\"\",IF($A115<>\"\",COUNT(カテゴリースコア!Q117),\"\"),\"\")","v":0},{"$f":"IF(H$1<>\"\",IF($A115<>\"\",COUNT(カテゴリースコア!R117),\"\"),\"\")","v":0},{"$f":"IF(I$1<>\"\",IF($A115<>\"\",COUNT(カテゴリースコア!S117),\"\"),\"\")","v":""},{"$f":"IF(J$1<>\"\",IF($A115<>\"\",COUNT(カテゴリースコア!T117),\"\"),\"\")","v":""},{"$f":"IF(K$1<>\"\",IF($A115<>\"\",COUNT(カテゴリースコア!U117),\"\"),\"\")","v":""}]
[{"$f":"IF(データセット1!C116<>\"\",データセット1!C116,\"\")","v":225.91},{"$f":"IF(データセット1!C116<>\"\",データセット1!D116-カテゴリースコア!$E$11,\"\")","v":284.45161290322579},{"$f":"IF(C$1<>\"\",IF($A116<>\"\",COUNT(カテゴリースコア!M118),\"\"),\"\")","v":1},{"$f":"IF(D$1<>\"\",IF($A116<>\"\",COUNT(カテゴリースコア!N118),\"\"),\"\")","v":0},{"$f":"IF(E$1<>\"\",IF($A116<>\"\",COUNT(カテゴリースコア!O118),\"\"),\"\")","v":0},{"$f":"IF(F$1<>\"\",IF($A116<>\"\",COUNT(カテゴリースコア!P118),\"\"),\"\")","v":0},{"$f":"IF(G$1<>\"\",IF($A116<>\"\",COUNT(カテゴリースコア!Q118),\"\"),\"\")","v":0},{"$f":"IF(H$1<>\"\",IF($A116<>\"\",COUNT(カテゴリースコア!R118),\"\"),\"\")","v":0},{"$f":"IF(I$1<>\"\",IF($A116<>\"\",COUNT(カテゴリースコア!S118),\"\"),\"\")","v":""},{"$f":"IF(J$1<>\"\",IF($A116<>\"\",COUNT(カテゴリースコア!T118),\"\"),\"\")","v":""},{"$f":"IF(K$1<>\"\",IF($A116<>\"\",COUNT(カテゴリースコア!U118),\"\"),\"\")","v":""}]
[{"$f":"IF(データセット1!C117<>\"\",データセット1!C117,\"\")","v":224.85},{"$f":"IF(データセット1!C117<>\"\",データセット1!D117-カテゴリースコア!$E$11,\"\")","v":-246.54838709677421},{"$f":"IF(C$1<>\"\",IF($A117<>\"\",COUNT(カテゴリースコア!M119),\"\"),\"\")","v":0},{"$f":"IF(D$1<>\"\",IF($A117<>\"\",COUNT(カテゴリースコア!N119),\"\"),\"\")","v":0},{"$f":"IF(E$1<>\"\",IF($A117<>\"\",COUNT(カテゴリースコア!O119),\"\"),\"\")","v":0},{"$f":"IF(F$1<>\"\",IF($A117<>\"\",COUNT(カテゴリースコア!P119),\"\"),\"\")","v":0},{"$f":"IF(G$1<>\"\",IF($A117<>\"\",COUNT(カテゴリースコア!Q119),\"\"),\"\")","v":1},{"$f":"IF(H$1<>\"\",IF($A117<>\"\",COUNT(カテゴリースコア!R119),\"\"),\"\")","v":0},{"$f":"IF(I$1<>\"\",IF($A117<>\"\",COUNT(カテゴリースコア!S119),\"\"),\"\")","v":""},{"$f":"IF(J$1<>\"\",IF($A117<>\"\",COUNT(カテゴリースコア!T119),\"\"),\"\")","v":""},{"$f":"IF(K$1<>\"\",IF($A117<>\"\",COUNT(カテゴリースコア!U119),\"\"),\"\")","v":""}]
[{"$f":"IF(データセット1!C118<>\"\",データセット1!C118,\"\")","v":223.77},{"$f":"IF(データセット1!C118<>\"\",データセット1!D118-カテゴリースコア!$E$11,\"\")","v":22.451612903225794},{"$f":"IF(C$1<>\"\",IF($A118<>\"\",COUNT(カテゴリースコア!M120),\"\"),\"\")","v":1},{"$f":"IF(D$1<>\"\",IF($A118<>\"\",COUNT(カテゴリースコア!N120),\"\"),\"\")","v":0},{"$f":"IF(E$1<>\"\",IF($A118<>\"\",COUNT(カテゴリースコア!O120),\"\"),\"\")","v":0},{"$f":"IF(F$1<>\"\",IF($A118<>\"\",COUNT(カテゴリースコア!P120),\"\"),\"\")","v":0},{"$f":"IF(G$1<>\"\",IF($A118<>\"\",COUNT(カテゴリースコア!Q120),\"\"),\"\")","v":0},{"$f":"IF(H$1<>\"\",IF($A118<>\"\",COUNT(カテゴリースコア!R120),\"\"),\"\")","v":0},{"$f":"IF(I$1<>\"\",IF($A118<>\"\",COUNT(カテゴリースコア!S120),\"\"),\"\")","v":""},{"$f":"IF(J$1<>\"\",IF($A118<>\"\",COUNT(カテゴリースコア!T120),\"\"),\"\")","v":""},{"$f":"IF(K$1<>\"\",IF($A118<>\"\",COUNT(カテゴリースコア!U120),\"\"),\"\")","v":""}]
[{"$f":"IF(データセット1!C119<>\"\",データセット1!C119,\"\")","v":218.2},{"$f":"IF(データセット1!C119<>\"\",データセット1!D119-カテゴリースコア!$E$11,\"\")","v":308.45161290322579},{"$f":"IF(C$1<>\"\",IF($A119<>\"\",COUNT(カテゴリースコア!M121),\"\"),\"\")","v":1},{"$f":"IF(D$1<>\"\",IF($A119<>\"\",COUNT(カテゴリースコア!N121),\"\"),\"\")","v":0},{"$f":"IF(E$1<>\"\",IF($A119<>\"\",COUNT(カテゴリースコア!O121),\"\"),\"\")","v":0},{"$f":"IF(F$1<>\"\",IF($A119<>\"\",COUNT(カテゴリースコア!P121),\"\"),\"\")","v":0},{"$f":"IF(G$1<>\"\",IF($A119<>\"\",COUNT(カテゴリースコア!Q121),\"\"),\"\")","v":0},{"$f":"IF(H$1<>\"\",IF($A119<>\"\",COUNT(カテゴリースコア!R121),\"\"),\"\")","v":0},{"$f":"IF(I$1<>\"\",IF($A119<>\"\",COUNT(カテゴリースコア!S121),\"\"),\"\")","v":""},{"$f":"IF(J$1<>\"\",IF($A119<>\"\",COUNT(カテゴリースコア!T121),\"\"),\"\")","v":""},{"$f":"IF(K$1<>\"\",IF($A119<>\"\",COUNT(カテゴリースコア!U121),\"\"),\"\")","v":""}]
[{"$f":"IF(データセット1!C120<>\"\",データセット1!C120,\"\")","v":200.39},{"$f":"IF(データセット1!C120<>\"\",データセット1!D120-カテゴリースコア!$E$11,\"\")","v":20.451612903225794},{"$f":"IF(C$1<>\"\",IF($A120<>\"\",COUNT(カテゴリースコア!M122),\"\"),\"\")","v":1},{"$f":"IF(D$1<>\"\",IF($A120<>\"\",COUNT(カテゴリースコア!N122),\"\"),\"\")","v":0},{"$f":"IF(E$1<>\"\",IF($A120<>\"\",COUNT(カテゴリースコア!O122),\"\"),\"\")","v":0},{"$f":"IF(F$1<>\"\",IF($A120<>\"\",COUNT(カテゴリースコア!P122),\"\"),\"\")","v":0},{"$f":"IF(G$1<>\"\",IF($A120<>\"\",COUNT(カテゴリースコア!Q122),\"\"),\"\")","v":0},{"$f":"IF(H$1<>\"\",IF($A120<>\"\",COUNT(カテゴリースコア!R122),\"\"),\"\")","v":0},{"$f":"IF(I$1<>\"\",IF($A120<>\"\",COUNT(カテゴリースコア!S122),\"\"),\"\")","v":""},{"$f":"IF(J$1<>\"\",IF($A120<>\"\",COUNT(カテゴリースコア!T122),\"\"),\"\")","v":""},{"$f":"IF(K$1<>\"\",IF($A120<>\"\",COUNT(カテゴリースコア!U122),\"\"),\"\")","v":""}]
[{"$f":"IF(データセット1!C121<>\"\",データセット1!C121,\"\")","v":198.86},{"$f":"IF(データセット1!C121<>\"\",データセット1!D121-カテゴリースコア!$E$11,\"\")","v":197.45161290322579},{"$f":"IF(C$1<>\"\",IF($A121<>\"\",COUNT(カテゴリースコア!M123),\"\"),\"\")","v":1},{"$f":"IF(D$1<>\"\",IF($A121<>\"\",COUNT(カテゴリースコア!N123),\"\"),\"\")","v":0},{"$f":"IF(E$1<>\"\",IF($A121<>\"\",COUNT(カテゴリースコア!O123),\"\"),\"\")","v":0},{"$f":"IF(F$1<>\"\",IF($A121<>\"\",COUNT(カテゴリースコア!P123),\"\"),\"\")","v":0},{"$f":"IF(G$1<>\"\",IF($A121<>\"\",COUNT(カテゴリースコア!Q123),\"\"),\"\")","v":0},{"$f":"IF(H$1<>\"\",IF($A121<>\"\",COUNT(カテゴリースコア!R123),\"\"),\"\")","v":0},{"$f":"IF(I$1<>\"\",IF($A121<>\"\",COUNT(カテゴリースコア!S123),\"\"),\"\")","v":""},{"$f":"IF(J$1<>\"\",IF($A121<>\"\",COUNT(カテゴリースコア!T123),\"\"),\"\")","v":""},{"$f":"IF(K$1<>\"\",IF($A121<>\"\",COUNT(カテゴリースコア!U123),\"\"),\"\")","v":""}]
[{"$f":"IF(データセット1!C122<>\"\",データセット1!C122,\"\")","v":176.95},{"$f":"IF(データセット1!C122<>\"\",データセット1!D122-カテゴリースコア!$E$11,\"\")","v":-195.54838709677421},{"$f":"IF(C$1<>\"\",IF($A122<>\"\",COUNT(カテゴリースコア!M124),\"\"),\"\")","v":0},{"$f":"IF(D$1<>\"\",IF($A122<>\"\",COUNT(カテゴリースコア!N124),\"\"),\"\")","v":0},{"$f":"IF(E$1<>\"\",IF($A122<>\"\",COUNT(カテゴリースコア!O124),\"\"),\"\")","v":0},{"$f":"IF(F$1<>\"\",IF($A122<>\"\",COUNT(カテゴリースコア!P124),\"\"),\"\")","v":1},{"$f":"IF(G$1<>\"\",IF($A122<>\"\",COUNT(カテゴリースコア!Q124),\"\"),\"\")","v":0},{"$f":"IF(H$1<>\"\",IF($A122<>\"\",COUNT(カテゴリースコア!R124),\"\"),\"\")","v":0},{"$f":"IF(I$1<>\"\",IF($A122<>\"\",COUNT(カテゴリースコア!S124),\"\"),\"\")","v":""},{"$f":"IF(J$1<>\"\",IF($A122<>\"\",COUNT(カテゴリースコア!T124),\"\"),\"\")","v":""},{"$f":"IF(K$1<>\"\",IF($A122<>\"\",COUNT(カテゴリースコア!U124),\"\"),\"\")","v":""}]
[{"$f":"IF(データセット1!C123<>\"\",データセット1!C123,\"\")","v":168.19},{"$f":"IF(データセット1!C123<>\"\",データセット1!D123-カテゴリースコア!$E$11,\"\")","v":-186.54838709677421},{"$f":"IF(C$1<>\"\",IF($A123<>\"\",COUNT(カテゴリースコア!M125),\"\"),\"\")","v":0},{"$f":"IF(D$1<>\"\",IF($A123<>\"\",COUNT(カテゴリースコア!N125),\"\"),\"\")","v":0},{"$f":"IF(E$1<>\"\",IF($A123<>\"\",COUNT(カテゴリースコア!O125),\"\"),\"\")","v":0},{"$f":"IF(F$1<>\"\",IF($A123<>\"\",COUNT(カテゴリースコア!P125),\"\"),\"\")","v":0},{"$f":"IF(G$1<>\"\",IF($A123<>\"\",COUNT(カテゴリースコア!Q125),\"\"),\"\")","v":1},{"$f":"IF(H$1<>\"\",IF($A123<>\"\",COUNT(カテゴリースコア!R125),\"\"),\"\")","v":0},{"$f":"IF(I$1<>\"\",IF($A123<>\"\",COUNT(カテゴリースコア!S125),\"\"),\"\")","v":""},{"$f":"IF(J$1<>\"\",IF($A123<>\"\",COUNT(カテゴリースコア!T125),\"\"),\"\")","v":""},{"$f":"IF(K$1<>\"\",IF($A123<>\"\",COUNT(カテゴリースコア!U125),\"\"),\"\")","v":""}]
[{"$f":"IF(データセット1!C124<>\"\",データセット1!C124,\"\")","v":166.72},{"$f":"IF(データセット1!C124<>\"\",データセット1!D124-カテゴリースコア!$E$11,\"\")","v":152.45161290322579},{"$f":"IF(C$1<>\"\",IF($A124<>\"\",COUNT(カテゴリースコア!M126),\"\"),\"\")","v":1},{"$f":"IF(D$1<>\"\",IF($A124<>\"\",COUNT(カテゴリースコア!N126),\"\"),\"\")","v":0},{"$f":"IF(E$1<>\"\",IF($A124<>\"\",COUNT(カテゴリースコア!O126),\"\"),\"\")","v":0},{"$f":"IF(F$1<>\"\",IF($A124<>\"\",COUNT(カテゴリースコア!P126),\"\"),\"\")","v":0},{"$f":"IF(G$1<>\"\",IF($A124<>\"\",COUNT(カテゴリースコア!Q126),\"\"),\"\")","v":0},{"$f":"IF(H$1<>\"\",IF($A124<>\"\",COUNT(カテゴリースコア!R126),\"\"),\"\")","v":0},{"$f":"IF(I$1<>\"\",IF($A124<>\"\",COUNT(カテゴリースコア!S126),\"\"),\"\")","v":""},{"$f":"IF(J$1<>\"\",IF($A124<>\"\",COUNT(カテゴリースコア!T126),\"\"),\"\")","v":""},{"$f":"IF(K$1<>\"\",IF($A124<>\"\",COUNT(カテゴリースコア!U126),\"\"),\"\")","v":""}]
[{"$f":"IF(データセット1!C125<>\"\",データセット1!C125,\"\")","v":158},{"$f":"IF(データセット1!C125<>\"\",データセット1!D125-カテゴリースコア!$E$11,\"\")","v":22.451612903225794},{"$f":"IF(C$1<>\"\",IF($A125<>\"\",COUNT(カテゴリースコア!M127),\"\"),\"\")","v":1},{"$f":"IF(D$1<>\"\",IF($A125<>\"\",COUNT(カテゴリースコア!N127),\"\"),\"\")","v":0},{"$f":"IF(E$1<>\"\",IF($A125<>\"\",COUNT(カテゴリースコア!O127),\"\"),\"\")","v":0},{"$f":"IF(F$1<>\"\",IF($A125<>\"\",COUNT(カテゴリースコア!P127),\"\"),\"\")","v":0},{"$f":"IF(G$1<>\"\",IF($A125<>\"\",COUNT(カテゴリースコア!Q127),\"\"),\"\")","v":0},{"$f":"IF(H$1<>\"\",IF($A125<>\"\",COUNT(カテゴリースコア!R127),\"\"),\"\")","v":0},{"$f":"IF(I$1<>\"\",IF($A125<>\"\",COUNT(カテゴリースコア!S127),\"\"),\"\")","v":""},{"$f":"IF(J$1<>\"\",IF($A125<>\"\",COUNT(カテゴリースコア!T127),\"\"),\"\")","v":""},{"$f":"IF(K$1<>\"\",IF($A125<>\"\",COUNT(カテゴリースコア!U127),\"\"),\"\")","v":""}]
[{"$f":"IF(データセット1!C126<>\"\",データセット1!C126,\"\")","v":158},{"$f":"IF(データセット1!C126<>\"\",データセット1!D126-カテゴリースコア!$E$11,\"\")","v":-253.54838709677421},{"$f":"IF(C$1<>\"\",IF($A126<>\"\",COUNT(カテゴリースコア!M128),\"\"),\"\")","v":0},{"$f":"IF(D$1<>\"\",IF($A126<>\"\",COUNT(カテゴリースコア!N128),\"\"),\"\")","v":0},{"$f":"IF(E$1<>\"\",IF($A126<>\"\",COUNT(カテゴリースコア!O128),\"\"),\"\")","v":0},{"$f":"IF(F$1<>\"\",IF($A126<>\"\",COUNT(カテゴリースコア!P128),\"\"),\"\")","v":0},{"$f":"IF(G$1<>\"\",IF($A126<>\"\",COUNT(カテゴリースコア!Q128),\"\"),\"\")","v":0},{"$f":"IF(H$1<>\"\",IF($A126<>\"\",COUNT(カテゴリースコア!R128),\"\"),\"\")","v":1},{"$f":"IF(I$1<>\"\",IF($A126<>\"\",COUNT(カテゴリースコア!S128),\"\"),\"\")","v":""},{"$f":"IF(J$1<>\"\",IF($A126<>\"\",COUNT(カテゴリースコア!T128),\"\"),\"\")","v":""},{"$f":"IF(K$1<>\"\",IF($A126<>\"\",COUNT(カテゴリースコア!U128),\"\"),\"\")","v":""}]
[{"$f":"IF(データセット1!C127<>\"\",データセット1!C127,\"\")","v":157.94},{"$f":"IF(データセット1!C127<>\"\",データセット1!D127-カテゴリースコア!$E$11,\"\")","v":-96.548387096774206},{"$f":"IF(C$1<>\"\",IF($A127<>\"\",COUNT(カテゴリースコア!M129),\"\"),\"\")","v":0},{"$f":"IF(D$1<>\"\",IF($A127<>\"\",COUNT(カテゴリースコア!N129),\"\"),\"\")","v":0},{"$f":"IF(E$1<>\"\",IF($A127<>\"\",COUNT(カテゴリースコア!O129),\"\"),\"\")","v":0},{"$f":"IF(F$1<>\"\",IF($A127<>\"\",COUNT(カテゴリースコア!P129),\"\"),\"\")","v":1},{"$f":"IF(G$1<>\"\",IF($A127<>\"\",COUNT(カテゴリースコア!Q129),\"\"),\"\")","v":0},{"$f":"IF(H$1<>\"\",IF($A127<>\"\",COUNT(カテゴリースコア!R129),\"\"),\"\")","v":0},{"$f":"IF(I$1<>\"\",IF($A127<>\"\",COUNT(カテゴリースコア!S129),\"\"),\"\")","v":""},{"$f":"IF(J$1<>\"\",IF($A127<>\"\",COUNT(カテゴリースコア!T129),\"\"),\"\")","v":""},{"$f":"IF(K$1<>\"\",IF($A127<>\"\",COUNT(カテゴリースコア!U129),\"\"),\"\")","v":""}]
[{"$f":"IF(データセット1!C128<>\"\",データセット1!C128,\"\")","v":149},{"$f":"IF(データセット1!C128<>\"\",データセット1!D128-カテゴリースコア!$E$11,\"\")","v":-203.54838709677421},{"$f":"IF(C$1<>\"\",IF($A128<>\"\",COUNT(カテゴリースコア!M130),\"\"),\"\")","v":0},{"$f":"IF(D$1<>\"\",IF($A128<>\"\",COUNT(カテゴリースコア!N130),\"\"),\"\")","v":0},{"$f":"IF(E$1<>\"\",IF($A128<>\"\",COUNT(カテゴリースコア!O130),\"\"),\"\")","v":0},{"$f":"IF(F$1<>\"\",IF($A128<>\"\",COUNT(カテゴリースコア!P130),\"\"),\"\")","v":0},{"$f":"IF(G$1<>\"\",IF($A128<>\"\",COUNT(カテゴリースコア!Q130),\"\"),\"\")","v":1},{"$f":"IF(H$1<>\"\",IF($A128<>\"\",COUNT(カテゴリースコア!R130),\"\"),\"\")","v":0},{"$f":"IF(I$1<>\"\",IF($A128<>\"\",COUNT(カテゴリースコア!S130),\"\"),\"\")","v":""},{"$f":"IF(J$1<>\"\",IF($A128<>\"\",COUNT(カテゴリースコア!T130),\"\"),\"\")","v":""},{"$f":"IF(K$1<>\"\",IF($A128<>\"\",COUNT(カテゴリースコア!U130),\"\"),\"\")","v":""}]
[{"$f":"IF(データセット1!C129<>\"\",データセット1!C129,\"\")","v":149},{"$f":"IF(データセット1!C129<>\"\",データセット1!D129-カテゴリースコア!$E$11,\"\")","v":110.45161290322579},{"$f":"IF(C$1<>\"\",IF($A129<>\"\",COUNT(カテゴリースコア!M131),\"\"),\"\")","v":1},{"$f":"IF(D$1<>\"\",IF($A129<>\"\",COUNT(カテゴリースコア!N131),\"\"),\"\")","v":0},{"$f":"IF(E$1<>\"\",IF($A129<>\"\",COUNT(カテゴリースコア!O131),\"\"),\"\")","v":0},{"$f":"IF(F$1<>\"\",IF($A129<>\"\",COUNT(カテゴリースコア!P131),\"\"),\"\")","v":0},{"$f":"IF(G$1<>\"\",IF($A129<>\"\",COUNT(カテゴリースコア!Q131),\"\"),\"\")","v":0},{"$f":"IF(H$1<>\"\",IF($A129<>\"\",COUNT(カテゴリースコア!R131),\"\"),\"\")","v":0},{"$f":"IF(I$1<>\"\",IF($A129<>\"\",COUNT(カテゴリースコア!S131),\"\"),\"\")","v":""},{"$f":"IF(J$1<>\"\",IF($A129<>\"\",COUNT(カテゴリースコア!T131),\"\"),\"\")","v":""},{"$f":"IF(K$1<>\"\",IF($A129<>\"\",COUNT(カテゴリースコア!U131),\"\"),\"\")","v":""}]
[{"$f":"IF(データセット1!C130<>\"\",データセット1!C130,\"\")","v":142.97999999999999},{"$f":"IF(データセット1!C130<>\"\",データセット1!D130-カテゴリースコア!$E$11,\"\")","v":204.45161290322579},{"$f":"IF(C$1<>\"\",IF($A130<>\"\",COUNT(カテゴリースコア!M132),\"\"),\"\")","v":1},{"$f":"IF(D$1<>\"\",IF($A130<>\"\",COUNT(カテゴリースコア!N132),\"\"),\"\")","v":0},{"$f":"IF(E$1<>\"\",IF($A130<>\"\",COUNT(カテゴリースコア!O132),\"\"),\"\")","v":0},{"$f":"IF(F$1<>\"\",IF($A130<>\"\",COUNT(カテゴリースコア!P132),\"\"),\"\")","v":0},{"$f":"IF(G$1<>\"\",IF($A130<>\"\",COUNT(カテゴリースコア!Q132),\"\"),\"\")","v":0},{"$f":"IF(H$1<>\"\",IF($A130<>\"\",COUNT(カテゴリースコア!R132),\"\"),\"\")","v":0},{"$f":"IF(I$1<>\"\",IF($A130<>\"\",COUNT(カテゴリースコア!S132),\"\"),\"\")","v":""},{"$f":"IF(J$1<>\"\",IF($A130<>\"\",COUNT(カテゴリースコア!T132),\"\"),\"\")","v":""},{"$f":"IF(K$1<>\"\",IF($A130<>\"\",COUNT(カテゴリースコア!U132),\"\"),\"\")","v":""}]
[{"$f":"IF(データセット1!C131<>\"\",データセット1!C131,\"\")","v":129.62},{"$f":"IF(データセット1!C131<>\"\",データセット1!D131-カテゴリースコア!$E$11,\"\")","v":-231.54838709677421},{"$f":"IF(C$1<>\"\",IF($A131<>\"\",COUNT(カテゴリースコア!M133),\"\"),\"\")","v":0},{"$f":"IF(D$1<>\"\",IF($A131<>\"\",COUNT(カテゴリースコア!N133),\"\"),\"\")","v":0},{"$f":"IF(E$1<>\"\",IF($A131<>\"\",COUNT(カテゴリースコア!O133),\"\"),\"\")","v":0},{"$f":"IF(F$1<>\"\",IF($A131<>\"\",COUNT(カテゴリースコア!P133),\"\"),\"\")","v":0},{"$f":"IF(G$1<>\"\",IF($A131<>\"\",COUNT(カテゴリースコア!Q133),\"\"),\"\")","v":1},{"$f":"IF(H$1<>\"\",IF($A131<>\"\",COUNT(カテゴリースコア!R133),\"\"),\"\")","v":0},{"$f":"IF(I$1<>\"\",IF($A131<>\"\",COUNT(カテゴリースコア!S133),\"\"),\"\")","v":""},{"$f":"IF(J$1<>\"\",IF($A131<>\"\",COUNT(カテゴリースコア!T133),\"\"),\"\")","v":""},{"$f":"IF(K$1<>\"\",IF($A131<>\"\",COUNT(カテゴリースコア!U133),\"\"),\"\")","v":""}]
[{"$f":"IF(データセット1!C132<>\"\",データセット1!C132,\"\")","v":122.5},{"$f":"IF(データセット1!C132<>\"\",データセット1!D132-カテゴリースコア!$E$11,\"\")","v":-243.54838709677421},{"$f":"IF(C$1<>\"\",IF($A132<>\"\",COUNT(カテゴリースコア!M134),\"\"),\"\")","v":0},{"$f":"IF(D$1<>\"\",IF($A132<>\"\",COUNT(カテゴリースコア!N134),\"\"),\"\")","v":0},{"$f":"IF(E$1<>\"\",IF($A132<>\"\",COUNT(カテゴリースコア!O134),\"\"),\"\")","v":0},{"$f":"IF(F$1<>\"\",IF($A132<>\"\",COUNT(カテゴリースコア!P134),\"\"),\"\")","v":0},{"$f":"IF(G$1<>\"\",IF($A132<>\"\",COUNT(カテゴリースコア!Q134),\"\"),\"\")","v":1},{"$f":"IF(H$1<>\"\",IF($A132<>\"\",COUNT(カテゴリースコア!R134),\"\"),\"\")","v":0},{"$f":"IF(I$1<>\"\",IF($A132<>\"\",COUNT(カテゴリースコア!S134),\"\"),\"\")","v":""},{"$f":"IF(J$1<>\"\",IF($A132<>\"\",COUNT(カテゴリースコア!T134),\"\"),\"\")","v":""},{"$f":"IF(K$1<>\"\",IF($A132<>\"\",COUNT(カテゴリースコア!U134),\"\"),\"\")","v":""}]
[{"$f":"IF(データセット1!C133<>\"\",データセット1!C133,\"\")","v":119},{"$f":"IF(データセット1!C133<>\"\",データセット1!D133-カテゴリースコア!$E$11,\"\")","v":-194.54838709677421},{"$f":"IF(C$1<>\"\",IF($A133<>\"\",COUNT(カテゴリースコア!M135),\"\"),\"\")","v":0},{"$f":"IF(D$1<>\"\",IF($A133<>\"\",COUNT(カテゴリースコア!N135),\"\"),\"\")","v":0},{"$f":"IF(E$1<>\"\",IF($A133<>\"\",COUNT(カテゴリースコア!O135),\"\"),\"\")","v":0},{"$f":"IF(F$1<>\"\",IF($A133<>\"\",COUNT(カテゴリースコア!P135),\"\"),\"\")","v":0},{"$f":"IF(G$1<>\"\",IF($A133<>\"\",COUNT(カテゴリースコア!Q135),\"\"),\"\")","v":1},{"$f":"IF(H$1<>\"\",IF($A133<>\"\",COUNT(カテゴリースコア!R135),\"\"),\"\")","v":0},{"$f":"IF(I$1<>\"\",IF($A133<>\"\",COUNT(カテゴリースコア!S135),\"\"),\"\")","v":""},{"$f":"IF(J$1<>\"\",IF($A133<>\"\",COUNT(カテゴリースコア!T135),\"\"),\"\")","v":""},{"$f":"IF(K$1<>\"\",IF($A133<>\"\",COUNT(カテゴリースコア!U135),\"\"),\"\")","v":""}]
[{"$f":"IF(データセット1!C134<>\"\",データセット1!C134,\"\")","v":119},{"$f":"IF(データセット1!C134<>\"\",データセット1!D134-カテゴリースコア!$E$11,\"\")","v":-261.54838709677421},{"$f":"IF(C$1<>\"\",IF($A134<>\"\",COUNT(カテゴリースコア!M136),\"\"),\"\")","v":0},{"$f":"IF(D$1<>\"\",IF($A134<>\"\",COUNT(カテゴリースコア!N136),\"\"),\"\")","v":0},{"$f":"IF(E$1<>\"\",IF($A134<>\"\",COUNT(カテゴリースコア!O136),\"\"),\"\")","v":0},{"$f":"IF(F$1<>\"\",IF($A134<>\"\",COUNT(カテゴリースコア!P136),\"\"),\"\")","v":0},{"$f":"IF(G$1<>\"\",IF($A134<>\"\",COUNT(カテゴリースコア!Q136),\"\"),\"\")","v":0},{"$f":"IF(H$1<>\"\",IF($A134<>\"\",COUNT(カテゴリースコア!R136),\"\"),\"\")","v":1},{"$f":"IF(I$1<>\"\",IF($A134<>\"\",COUNT(カテゴリースコア!S136),\"\"),\"\")","v":""},{"$f":"IF(J$1<>\"\",IF($A134<>\"\",COUNT(カテゴリースコア!T136),\"\"),\"\")","v":""},{"$f":"IF(K$1<>\"\",IF($A134<>\"\",COUNT(カテゴリースコア!U136),\"\"),\"\")","v":""}]
[{"$f":"IF(データセット1!C135<>\"\",データセット1!C135,\"\")","v":112.49},{"$f":"IF(データセット1!C135<>\"\",データセット1!D135-カテゴリースコア!$E$11,\"\")","v":128.45161290322579},{"$f":"IF(C$1<>\"\",IF($A135<>\"\",COUNT(カテゴリースコア!M137),\"\"),\"\")","v":1},{"$f":"IF(D$1<>\"\",IF($A135<>\"\",COUNT(カテゴリースコア!N137),\"\"),\"\")","v":0},{"$f":"IF(E$1<>\"\",IF($A135<>\"\",COUNT(カテゴリースコア!O137),\"\"),\"\")","v":0},{"$f":"IF(F$1<>\"\",IF($A135<>\"\",COUNT(カテゴリースコア!P137),\"\"),\"\")","v":0},{"$f":"IF(G$1<>\"\",IF($A135<>\"\",COUNT(カテゴリースコア!Q137),\"\"),\"\")","v":0},{"$f":"IF(H$1<>\"\",IF($A135<>\"\",COUNT(カテゴリースコア!R137),\"\"),\"\")","v":0},{"$f":"IF(I$1<>\"\",IF($A135<>\"\",COUNT(カテゴリースコア!S137),\"\"),\"\")","v":""},{"$f":"IF(J$1<>\"\",IF($A135<>\"\",COUNT(カテゴリースコア!T137),\"\"),\"\")","v":""},{"$f":"IF(K$1<>\"\",IF($A135<>\"\",COUNT(カテゴリースコア!U137),\"\"),\"\")","v":""}]
[{"$f":"IF(データセット1!C136<>\"\",データセット1!C136,\"\")","v":68.55},{"$f":"IF(データセット1!C136<>\"\",データセット1!D136-カテゴリースコア!$E$11,\"\")","v":-192.54838709677421},{"$f":"IF(C$1<>\"\",IF($A136<>\"\",COUNT(カテゴリースコア!M138),\"\"),\"\")","v":0},{"$f":"IF(D$1<>\"\",IF($A136<>\"\",COUNT(カテゴリースコア!N138),\"\"),\"\")","v":0},{"$f":"IF(E$1<>\"\",IF($A136<>\"\",COUNT(カテゴリースコア!O138),\"\"),\"\")","v":0},{"$f":"IF(F$1<>\"\",IF($A136<>\"\",COUNT(カテゴリースコア!P138),\"\"),\"\")","v":0},{"$f":"IF(G$1<>\"\",IF($A136<>\"\",COUNT(カテゴリースコア!Q138),\"\"),\"\")","v":1},{"$f":"IF(H$1<>\"\",IF($A136<>\"\",COUNT(カテゴリースコア!R138),\"\"),\"\")","v":0},{"$f":"IF(I$1<>\"\",IF($A136<>\"\",COUNT(カテゴリースコア!S138),\"\"),\"\")","v":""},{"$f":"IF(J$1<>\"\",IF($A136<>\"\",COUNT(カテゴリースコア!T138),\"\"),\"\")","v":""},{"$f":"IF(K$1<>\"\",IF($A136<>\"\",COUNT(カテゴリースコア!U138),\"\"),\"\")","v":""}]
[{"$f":"IF(データセット1!C137<>\"\",データセット1!C137,\"\")","v":58.56},{"$f":"IF(データセット1!C137<>\"\",データセット1!D137-カテゴリースコア!$E$11,\"\")","v":199.45161290322579},{"$f":"IF(C$1<>\"\",IF($A137<>\"\",COUNT(カテゴリースコア!M139),\"\"),\"\")","v":1},{"$f":"IF(D$1<>\"\",IF($A137<>\"\",COUNT(カテゴリースコア!N139),\"\"),\"\")","v":0},{"$f":"IF(E$1<>\"\",IF($A137<>\"\",COUNT(カテゴリースコア!O139),\"\"),\"\")","v":0},{"$f":"IF(F$1<>\"\",IF($A137<>\"\",COUNT(カテゴリースコア!P139),\"\"),\"\")","v":0},{"$f":"IF(G$1<>\"\",IF($A137<>\"\",COUNT(カテゴリースコア!Q139),\"\"),\"\")","v":0},{"$f":"IF(H$1<>\"\",IF($A137<>\"\",COUNT(カテゴリースコア!R139),\"\"),\"\")","v":0},{"$f":"IF(I$1<>\"\",IF($A137<>\"\",COUNT(カテゴリースコア!S139),\"\"),\"\")","v":""},{"$f":"IF(J$1<>\"\",IF($A137<>\"\",COUNT(カテゴリースコア!T139),\"\"),\"\")","v":""},{"$f":"IF(K$1<>\"\",IF($A137<>\"\",COUNT(カテゴリースコア!U139),\"\"),\"\")","v":""}]
[{"$f":"IF(データセット1!C138<>\"\",データセット1!C138,\"\")","v":48.93},{"$f":"IF(データセット1!C138<>\"\",データセット1!D138-カテゴリースコア!$E$11,\"\")","v":-239.54838709677421},{"$f":"IF(C$1<>\"\",IF($A138<>\"\",COUNT(カテゴリースコア!M140),\"\"),\"\")","v":0},{"$f":"IF(D$1<>\"\",IF($A138<>\"\",COUNT(カテゴリースコア!N140),\"\"),\"\")","v":0},{"$f":"IF(E$1<>\"\",IF($A138<>\"\",COUNT(カテゴリースコア!O140),\"\"),\"\")","v":0},{"$f":"IF(F$1<>\"\",IF($A138<>\"\",COUNT(カテゴリースコア!P140),\"\"),\"\")","v":0},{"$f":"IF(G$1<>\"\",IF($A138<>\"\",COUNT(カテゴリースコア!Q140),\"\"),\"\")","v":1},{"$f":"IF(H$1<>\"\",IF($A138<>\"\",COUNT(カテゴリースコア!R140),\"\"),\"\")","v":0},{"$f":"IF(I$1<>\"\",IF($A138<>\"\",COUNT(カテゴリースコア!S140),\"\"),\"\")","v":""},{"$f":"IF(J$1<>\"\",IF($A138<>\"\",COUNT(カテゴリースコア!T140),\"\"),\"\")","v":""},{"$f":"IF(K$1<>\"\",IF($A138<>\"\",COUNT(カテゴリースコア!U140),\"\"),\"\")","v":""}]
[{"$f":"IF(データセット1!C139<>\"\",データセット1!C139,\"\")","v":33.979999999999997},{"$f":"IF(データセット1!C139<>\"\",データセット1!D139-カテゴリースコア!$E$11,\"\")","v":-234.54838709677421},{"$f":"IF(C$1<>\"\",IF($A139<>\"\",COUNT(カテゴリースコア!M141),\"\"),\"\")","v":0},{"$f":"IF(D$1<>\"\",IF($A139<>\"\",COUNT(カテゴリースコア!N141),\"\"),\"\")","v":0},{"$f":"IF(E$1<>\"\",IF($A139<>\"\",COUNT(カテゴリースコア!O141),\"\"),\"\")","v":0},{"$f":"IF(F$1<>\"\",IF($A139<>\"\",COUNT(カテゴリースコア!P141),\"\"),\"\")","v":0},{"$f":"IF(G$1<>\"\",IF($A139<>\"\",COUNT(カテゴリースコア!Q141),\"\"),\"\")","v":0},{"$f":"IF(H$1<>\"\",IF($A139<>\"\",COUNT(カテゴリースコア!R141),\"\"),\"\")","v":1},{"$f":"IF(I$1<>\"\",IF($A139<>\"\",COUNT(カテゴリースコア!S141),\"\"),\"\")","v":""},{"$f":"IF(J$1<>\"\",IF($A139<>\"\",COUNT(カテゴリースコア!T141),\"\"),\"\")","v":""},{"$f":"IF(K$1<>\"\",IF($A139<>\"\",COUNT(カテゴリースコア!U141),\"\"),\"\")","v":""}]
[{"$f":"IF(データセット1!C140<>\"\",データセット1!C140,\"\")","v":31.98},{"$f":"IF(データセット1!C140<>\"\",データセット1!D140-カテゴリースコア!$E$11,\"\")","v":-205.54838709677421},{"$f":"IF(C$1<>\"\",IF($A140<>\"\",COUNT(カテゴリースコア!M142),\"\"),\"\")","v":0},{"$f":"IF(D$1<>\"\",IF($A140<>\"\",COUNT(カテゴリースコア!N142),\"\"),\"\")","v":0},{"$f":"IF(E$1<>\"\",IF($A140<>\"\",COUNT(カテゴリースコア!O142),\"\"),\"\")","v":0},{"$f":"IF(F$1<>\"\",IF($A140<>\"\",COUNT(カテゴリースコア!P142),\"\"),\"\")","v":0},{"$f":"IF(G$1<>\"\",IF($A140<>\"\",COUNT(カテゴリースコア!Q142),\"\"),\"\")","v":1},{"$f":"IF(H$1<>\"\",IF($A140<>\"\",COUNT(カテゴリースコア!R142),\"\"),\"\")","v":0},{"$f":"IF(I$1<>\"\",IF($A140<>\"\",COUNT(カテゴリースコア!S142),\"\"),\"\")","v":""},{"$f":"IF(J$1<>\"\",IF($A140<>\"\",COUNT(カテゴリースコア!T142),\"\"),\"\")","v":""},{"$f":"IF(K$1<>\"\",IF($A140<>\"\",COUNT(カテゴリースコア!U142),\"\"),\"\")","v":""}]
[{"$f":"IF(データセット1!C141<>\"\",データセット1!C141,\"\")","v":21.79},{"$f":"IF(データセット1!C141<>\"\",データセット1!D141-カテゴリースコア!$E$11,\"\")","v":-228.54838709677421},{"$f":"IF(C$1<>\"\",IF($A141<>\"\",COUNT(カテゴリースコア!M143),\"\"),\"\")","v":0},{"$f":"IF(D$1<>\"\",IF($A141<>\"\",COUNT(カテゴリースコア!N143),\"\"),\"\")","v":0},{"$f":"IF(E$1<>\"\",IF($A141<>\"\",COUNT(カテゴリースコア!O143),\"\"),\"\")","v":0},{"$f":"IF(F$1<>\"\",IF($A141<>\"\",COUNT(カテゴリースコア!P143),\"\"),\"\")","v":0},{"$f":"IF(G$1<>\"\",IF($A141<>\"\",COUNT(カテゴリースコア!Q143),\"\"),\"\")","v":1},{"$f":"IF(H$1<>\"\",IF($A141<>\"\",COUNT(カテゴリースコア!R143),\"\"),\"\")","v":0},{"$f":"IF(I$1<>\"\",IF($A141<>\"\",COUNT(カテゴリースコア!S143),\"\"),\"\")","v":""},{"$f":"IF(J$1<>\"\",IF($A141<>\"\",COUNT(カテゴリースコア!T143),\"\"),\"\")","v":""},{"$f":"IF(K$1<>\"\",IF($A141<>\"\",COUNT(カテゴリースコア!U143),\"\"),\"\")","v":""}]
[{"$f":"IF(データセット1!C142<>\"\",データセット1!C142,\"\")","v":15.74},{"$f":"IF(データセット1!C142<>\"\",データセット1!D142-カテゴリースコア!$E$11,\"\")","v":48.451612903225794},{"$f":"IF(C$1<>\"\",IF($A142<>\"\",COUNT(カテゴリースコア!M144),\"\"),\"\")","v":1},{"$f":"IF(D$1<>\"\",IF($A142<>\"\",COUNT(カテゴリースコア!N144),\"\"),\"\")","v":0},{"$f":"IF(E$1<>\"\",IF($A142<>\"\",COUNT(カテゴリースコア!O144),\"\"),\"\")","v":0},{"$f":"IF(F$1<>\"\",IF($A142<>\"\",COUNT(カテゴリースコア!P144),\"\"),\"\")","v":0},{"$f":"IF(G$1<>\"\",IF($A142<>\"\",COUNT(カテゴリースコア!Q144),\"\"),\"\")","v":0},{"$f":"IF(H$1<>\"\",IF($A142<>\"\",COUNT(カテゴリースコア!R144),\"\"),\"\")","v":0},{"$f":"IF(I$1<>\"\",IF($A142<>\"\",COUNT(カテゴリースコア!S144),\"\"),\"\")","v":""},{"$f":"IF(J$1<>\"\",IF($A142<>\"\",COUNT(カテゴリースコア!T144),\"\"),\"\")","v":""},{"$f":"IF(K$1<>\"\",IF($A142<>\"\",COUNT(カテゴリースコア!U144),\"\"),\"\")","v":""}]
[{"$f":"IF(データセット1!C143<>\"\",データセット1!C143,\"\")","v":10.5},{"$f":"IF(データセット1!C143<>\"\",データセット1!D143-カテゴリースコア!$E$11,\"\")","v":-160.54838709677421},{"$f":"IF(C$1<>\"\",IF($A143<>\"\",COUNT(カテゴリースコア!M145),\"\"),\"\")","v":0},{"$f":"IF(D$1<>\"\",IF($A143<>\"\",COUNT(カテゴリースコア!N145),\"\"),\"\")","v":0},{"$f":"IF(E$1<>\"\",IF($A143<>\"\",COUNT(カテゴリースコア!O145),\"\"),\"\")","v":0},{"$f":"IF(F$1<>\"\",IF($A143<>\"\",COUNT(カテゴリースコア!P145),\"\"),\"\")","v":0},{"$f":"IF(G$1<>\"\",IF($A143<>\"\",COUNT(カテゴリースコア!Q145),\"\"),\"\")","v":1},{"$f":"IF(H$1<>\"\",IF($A143<>\"\",COUNT(カテゴリースコア!R145),\"\"),\"\")","v":0},{"$f":"IF(I$1<>\"\",IF($A143<>\"\",COUNT(カテゴリースコア!S145),\"\"),\"\")","v":""},{"$f":"IF(J$1<>\"\",IF($A143<>\"\",COUNT(カテゴリースコア!T145),\"\"),\"\")","v":""},{"$f":"IF(K$1<>\"\",IF($A143<>\"\",COUNT(カテゴリースコア!U145),\"\"),\"\")","v":""}]
[{"$f":"IF(データセット1!C144<>\"\",データセット1!C144,\"\")","v":0},{"$f":"IF(データセット1!C144<>\"\",データセット1!D144-カテゴリースコア!$E$11,\"\")","v":-241.54838709677421},{"$f":"IF(C$1<>\"\",IF($A144<>\"\",COUNT(カテゴリースコア!M146),\"\"),\"\")","v":0},{"$f":"IF(D$1<>\"\",IF($A144<>\"\",COUNT(カテゴリースコア!N146),\"\"),\"\")","v":0},{"$f":"IF(E$1<>\"\",IF($A144<>\"\",COUNT(カテゴリースコア!O146),\"\"),\"\")","v":0},{"$f":"IF(F$1<>\"\",IF($A144<>\"\",COUNT(カテゴリースコア!P146),\"\"),\"\")","v":0},{"$f":"IF(G$1<>\"\",IF($A144<>\"\",COUNT(カテゴリースコア!Q146),\"\"),\"\")","v":0},{"$f":"IF(H$1<>\"\",IF($A144<>\"\",COUNT(カテゴリースコア!R146),\"\"),\"\")","v":1},{"$f":"IF(I$1<>\"\",IF($A144<>\"\",COUNT(カテゴリースコア!S146),\"\"),\"\")","v":""},{"$f":"IF(J$1<>\"\",IF($A144<>\"\",COUNT(カテゴリースコア!T146),\"\"),\"\")","v":""},{"$f":"IF(K$1<>\"\",IF($A144<>\"\",COUNT(カテゴリースコア!U146),\"\"),\"\")","v":""}]
[{"$f":"IF(データセット1!C145<>\"\",データセット1!C145,\"\")","v":0},{"$f":"IF(データセット1!C145<>\"\",データセット1!D145-カテゴリースコア!$E$11,\"\")","v":-250.54838709677421},{"$f":"IF(C$1<>\"\",IF($A145<>\"\",COUNT(カテゴリースコア!M147),\"\"),\"\")","v":0},{"$f":"IF(D$1<>\"\",IF($A145<>\"\",COUNT(カテゴリースコア!N147),\"\"),\"\")","v":0},{"$f":"IF(E$1<>\"\",IF($A145<>\"\",COUNT(カテゴリースコア!O147),\"\"),\"\")","v":0},{"$f":"IF(F$1<>\"\",IF($A145<>\"\",COUNT(カテゴリースコア!P147),\"\"),\"\")","v":0},{"$f":"IF(G$1<>\"\",IF($A145<>\"\",COUNT(カテゴリースコア!Q147),\"\"),\"\")","v":0},{"$f":"IF(H$1<>\"\",IF($A145<>\"\",COUNT(カテゴリースコア!R147),\"\"),\"\")","v":1},{"$f":"IF(I$1<>\"\",IF($A145<>\"\",COUNT(カテゴリースコア!S147),\"\"),\"\")","v":""},{"$f":"IF(J$1<>\"\",IF($A145<>\"\",COUNT(カテゴリースコア!T147),\"\"),\"\")","v":""},{"$f":"IF(K$1<>\"\",IF($A145<>\"\",COUNT(カテゴリースコア!U147),\"\"),\"\")","v":""}]
[{"$f":"IF(データセット1!C146<>\"\",データセット1!C146,\"\")","v":0},{"$f":"IF(データセット1!C146<>\"\",データセット1!D146-カテゴリースコア!$E$11,\"\")","v":-201.54838709677421},{"$f":"IF(C$1<>\"\",IF($A146<>\"\",COUNT(カテゴリースコア!M148),\"\"),\"\")","v":0},{"$f":"IF(D$1<>\"\",IF($A146<>\"\",COUNT(カテゴリースコア!N148),\"\"),\"\")","v":0},{"$f":"IF(E$1<>\"\",IF($A146<>\"\",COUNT(カテゴリースコア!O148),\"\"),\"\")","v":0},{"$f":"IF(F$1<>\"\",IF($A146<>\"\",COUNT(カテゴリースコア!P148),\"\"),\"\")","v":0},{"$f":"IF(G$1<>\"\",IF($A146<>\"\",COUNT(カテゴリースコア!Q148),\"\"),\"\")","v":1},{"$f":"IF(H$1<>\"\",IF($A146<>\"\",COUNT(カテゴリースコア!R148),\"\"),\"\")","v":0},{"$f":"IF(I$1<>\"\",IF($A146<>\"\",COUNT(カテゴリースコア!S148),\"\"),\"\")","v":""},{"$f":"IF(J$1<>\"\",IF($A146<>\"\",COUNT(カテゴリースコア!T148),\"\"),\"\")","v":""},{"$f":"IF(K$1<>\"\",IF($A146<>\"\",COUNT(カテゴリースコア!U148),\"\"),\"\")","v":""}]
[{"$f":"IF(データセット1!C147<>\"\",データセット1!C147,\"\")","v":0},{"$f":"IF(データセット1!C147<>\"\",データセット1!D147-カテゴリースコア!$E$11,\"\")","v":-248.54838709677421},{"$f":"IF(C$1<>\"\",IF($A147<>\"\",COUNT(カテゴリースコア!M149),\"\"),\"\")","v":0},{"$f":"IF(D$1<>\"\",IF($A147<>\"\",COUNT(カテゴリースコア!N149),\"\"),\"\")","v":0},{"$f":"IF(E$1<>\"\",IF($A147<>\"\",COUNT(カテゴリースコア!O149),\"\"),\"\")","v":0},{"$f":"IF(F$1<>\"\",IF($A147<>\"\",COUNT(カテゴリースコア!P149),\"\"),\"\")","v":0},{"$f":"IF(G$1<>\"\",IF($A147<>\"\",COUNT(カテゴリースコア!Q149),\"\"),\"\")","v":0},{"$f":"IF(H$1<>\"\",IF($A147<>\"\",COUNT(カテゴリースコア!R149),\"\"),\"\")","v":1},{"$f":"IF(I$1<>\"\",IF($A147<>\"\",COUNT(カテゴリースコア!S149),\"\"),\"\")","v":""},{"$f":"IF(J$1<>\"\",IF($A147<>\"\",COUNT(カテゴリースコア!T149),\"\"),\"\")","v":""},{"$f":"IF(K$1<>\"\",IF($A147<>\"\",COUNT(カテゴリースコア!U149),\"\"),\"\")","v":""}]
[{"$f":"IF(データセット1!C148<>\"\",データセット1!C148,\"\")","v":0},{"$f":"IF(データセット1!C148<>\"\",データセット1!D148-カテゴリースコア!$E$11,\"\")","v":-180.54838709677421},{"$f":"IF(C$1<>\"\",IF($A148<>\"\",COUNT(カテゴリースコア!M150),\"\"),\"\")","v":0},{"$f":"IF(D$1<>\"\",IF($A148<>\"\",COUNT(カテゴリースコア!N150),\"\"),\"\")","v":0},{"$f":"IF(E$1<>\"\",IF($A148<>\"\",COUNT(カテゴリースコア!O150),\"\"),\"\")","v":0},{"$f":"IF(F$1<>\"\",IF($A148<>\"\",COUNT(カテゴリースコア!P150),\"\"),\"\")","v":0},{"$f":"IF(G$1<>\"\",IF($A148<>\"\",COUNT(カテゴリースコア!Q150),\"\"),\"\")","v":1},{"$f":"IF(H$1<>\"\",IF($A148<>\"\",COUNT(カテゴリースコア!R150),\"\"),\"\")","v":0},{"$f":"IF(I$1<>\"\",IF($A148<>\"\",COUNT(カテゴリースコア!S150),\"\"),\"\")","v":""},{"$f":"IF(J$1<>\"\",IF($A148<>\"\",COUNT(カテゴリースコア!T150),\"\"),\"\")","v":""},{"$f":"IF(K$1<>\"\",IF($A148<>\"\",COUNT(カテゴリースコア!U150),\"\"),\"\")","v":""}]
[{"$f":"IF(データセット1!C149<>\"\",データセット1!C149,\"\")","v":0},{"$f":"IF(データセット1!C149<>\"\",データセット1!D149-カテゴリースコア!$E$11,\"\")","v":-251.54838709677421},{"$f":"IF(C$1<>\"\",IF($A149<>\"\",COUNT(カテゴリースコア!M151),\"\"),\"\")","v":0},{"$f":"IF(D$1<>\"\",IF($A149<>\"\",COUNT(カテゴリースコア!N151),\"\"),\"\")","v":0},{"$f":"IF(E$1<>\"\",IF($A149<>\"\",COUNT(カテゴリースコア!O151),\"\"),\"\")","v":0},{"$f":"IF(F$1<>\"\",IF($A149<>\"\",COUNT(カテゴリースコア!P151),\"\"),\"\")","v":0},{"$f":"IF(G$1<>\"\",IF($A149<>\"\",COUNT(カテゴリースコア!Q151),\"\"),\"\")","v":0},{"$f":"IF(H$1<>\"\",IF($A149<>\"\",COUNT(カテゴリースコア!R151),\"\"),\"\")","v":1},{"$f":"IF(I$1<>\"\",IF($A149<>\"\",COUNT(カテゴリースコア!S151),\"\"),\"\")","v":""},{"$f":"IF(J$1<>\"\",IF($A149<>\"\",COUNT(カテゴリースコア!T151),\"\"),\"\")","v":""},{"$f":"IF(K$1<>\"\",IF($A149<>\"\",COUNT(カテゴリースコア!U151),\"\"),\"\")","v":""}]
[{"$f":"IF(データセット1!C150<>\"\",データセット1!C150,\"\")","v":0},{"$f":"IF(データセット1!C150<>\"\",データセット1!D150-カテゴリースコア!$E$11,\"\")","v":-246.54838709677421},{"$f":"IF(C$1<>\"\",IF($A150<>\"\",COUNT(カテゴリースコア!M152),\"\"),\"\")","v":0},{"$f":"IF(D$1<>\"\",IF($A150<>\"\",COUNT(カテゴリースコア!N152),\"\"),\"\")","v":0},{"$f":"IF(E$1<>\"\",IF($A150<>\"\",COUNT(カテゴリースコア!O152),\"\"),\"\")","v":0},{"$f":"IF(F$1<>\"\",IF($A150<>\"\",COUNT(カテゴリースコア!P152),\"\"),\"\")","v":0},{"$f":"IF(G$1<>\"\",IF($A150<>\"\",COUNT(カテゴリースコア!Q152),\"\"),\"\")","v":0},{"$f":"IF(H$1<>\"\",IF($A150<>\"\",COUNT(カテゴリースコア!R152),\"\"),\"\")","v":1},{"$f":"IF(I$1<>\"\",IF($A150<>\"\",COUNT(カテゴリースコア!S152),\"\"),\"\")","v":""},{"$f":"IF(J$1<>\"\",IF($A150<>\"\",COUNT(カテゴリースコア!T152),\"\"),\"\")","v":""},{"$f":"IF(K$1<>\"\",IF($A150<>\"\",COUNT(カテゴリースコア!U152),\"\"),\"\")","v":""}]
[{"$f":"IF(データセット1!C151<>\"\",データセット1!C151,\"\")","v":0},{"$f":"IF(データセット1!C151<>\"\",データセット1!D151-カテゴリースコア!$E$11,\"\")","v":-237.54838709677421},{"$f":"IF(C$1<>\"\",IF($A151<>\"\",COUNT(カテゴリースコア!M153),\"\"),\"\")","v":0},{"$f":"IF(D$1<>\"\",IF($A151<>\"\",COUNT(カテゴリースコア!N153),\"\"),\"\")","v":0},{"$f":"IF(E$1<>\"\",IF($A151<>\"\",COUNT(カテゴリースコア!O153),\"\"),\"\")","v":0},{"$f":"IF(F$1<>\"\",IF($A151<>\"\",COUNT(カテゴリースコア!P153),\"\"),\"\")","v":0},{"$f":"IF(G$1<>\"\",IF($A151<>\"\",COUNT(カテゴリースコア!Q153),\"\"),\"\")","v":0},{"$f":"IF(H$1<>\"\",IF($A151<>\"\",COUNT(カテゴリースコア!R153),\"\"),\"\")","v":1},{"$f":"IF(I$1<>\"\",IF($A151<>\"\",COUNT(カテゴリースコア!S153),\"\"),\"\")","v":""},{"$f":"IF(J$1<>\"\",IF($A151<>\"\",COUNT(カテゴリースコア!T153),\"\"),\"\")","v":""},{"$f":"IF(K$1<>\"\",IF($A151<>\"\",COUNT(カテゴリースコア!U153),\"\"),\"\")","v":""}]
[{"$f":"IF(データセット1!C152<>\"\",データセット1!C152,\"\")","v":0},{"$f":"IF(データセット1!C152<>\"\",データセット1!D152-カテゴリースコア!$E$11,\"\")","v":-170.54838709677421},{"$f":"IF(C$1<>\"\",IF($A152<>\"\",COUNT(カテゴリースコア!M154),\"\"),\"\")","v":0},{"$f":"IF(D$1<>\"\",IF($A152<>\"\",COUNT(カテゴリースコア!N154),\"\"),\"\")","v":0},{"$f":"IF(E$1<>\"\",IF($A152<>\"\",COUNT(カテゴリースコア!O154),\"\"),\"\")","v":0},{"$f":"IF(F$1<>\"\",IF($A152<>\"\",COUNT(カテゴリースコア!P154),\"\"),\"\")","v":1},{"$f":"IF(G$1<>\"\",IF($A152<>\"\",COUNT(カテゴリースコア!Q154),\"\"),\"\")","v":0},{"$f":"IF(H$1<>\"\",IF($A152<>\"\",COUNT(カテゴリースコア!R154),\"\"),\"\")","v":0},{"$f":"IF(I$1<>\"\",IF($A152<>\"\",COUNT(カテゴリースコア!S154),\"\"),\"\")","v":""},{"$f":"IF(J$1<>\"\",IF($A152<>\"\",COUNT(カテゴリースコア!T154),\"\"),\"\")","v":""},{"$f":"IF(K$1<>\"\",IF($A152<>\"\",COUNT(カテゴリースコア!U154),\"\"),\"\")","v":""}]
[{"$f":"IF(データセット1!C153<>\"\",データセット1!C153,\"\")","v":0},{"$f":"IF(データセット1!C153<>\"\",データセット1!D153-カテゴリースコア!$E$11,\"\")","v":-237.54838709677421},{"$f":"IF(C$1<>\"\",IF($A153<>\"\",COUNT(カテゴリースコア!M155),\"\"),\"\")","v":0},{"$f":"IF(D$1<>\"\",IF($A153<>\"\",COUNT(カテゴリースコア!N155),\"\"),\"\")","v":0},{"$f":"IF(E$1<>\"\",IF($A153<>\"\",COUNT(カテゴリースコア!O155),\"\"),\"\")","v":0},{"$f":"IF(F$1<>\"\",IF($A153<>\"\",COUNT(カテゴリースコア!P155),\"\"),\"\")","v":0},{"$f":"IF(G$1<>\"\",IF($A153<>\"\",COUNT(カテゴリースコア!Q155),\"\"),\"\")","v":1},{"$f":"IF(H$1<>\"\",IF($A153<>\"\",COUNT(カテゴリースコア!R155),\"\"),\"\")","v":0},{"$f":"IF(I$1<>\"\",IF($A153<>\"\",COUNT(カテゴリースコア!S155),\"\"),\"\")","v":""},{"$f":"IF(J$1<>\"\",IF($A153<>\"\",COUNT(カテゴリースコア!T155),\"\"),\"\")","v":""},{"$f":"IF(K$1<>\"\",IF($A153<>\"\",COUNT(カテゴリースコア!U155),\"\"),\"\")","v":""}]
[{"$f":"IF(データセット1!C154<>\"\",データセット1!C154,\"\")","v":0},{"$f":"IF(データセット1!C154<>\"\",データセット1!D154-カテゴリースコア!$E$11,\"\")","v":-256.54838709677421},{"$f":"IF(C$1<>\"\",IF($A154<>\"\",COUNT(カテゴリースコア!M156),\"\"),\"\")","v":0},{"$f":"IF(D$1<>\"\",IF($A154<>\"\",COUNT(カテゴリースコア!N156),\"\"),\"\")","v":0},{"$f":"IF(E$1<>\"\",IF($A154<>\"\",COUNT(カテゴリースコア!O156),\"\"),\"\")","v":0},{"$f":"IF(F$1<>\"\",IF($A154<>\"\",COUNT(カテゴリースコア!P156),\"\"),\"\")","v":0},{"$f":"IF(G$1<>\"\",IF($A154<>\"\",COUNT(カテゴリースコア!Q156),\"\"),\"\")","v":0},{"$f":"IF(H$1<>\"\",IF($A154<>\"\",COUNT(カテゴリースコア!R156),\"\"),\"\")","v":1},{"$f":"IF(I$1<>\"\",IF($A154<>\"\",COUNT(カテゴリースコア!S156),\"\"),\"\")","v":""},{"$f":"IF(J$1<>\"\",IF($A154<>\"\",COUNT(カテゴリースコア!T156),\"\"),\"\")","v":""},{"$f":"IF(K$1<>\"\",IF($A154<>\"\",COUNT(カテゴリースコア!U156),\"\"),\"\")","v":""}]
[{"$f":"IF(データセット1!C155<>\"\",データセット1!C155,\"\")","v":0},{"$f":"IF(データセット1!C155<>\"\",データセット1!D155-カテゴリースコア!$E$11,\"\")","v":-254.54838709677421},{"$f":"IF(C$1<>\"\",IF($A155<>\"\",COUNT(カテゴリースコア!M157),\"\"),\"\")","v":0},{"$f":"IF(D$1<>\"\",IF($A155<>\"\",COUNT(カテゴリースコア!N157),\"\"),\"\")","v":0},{"$f":"IF(E$1<>\"\",IF($A155<>\"\",COUNT(カテゴリースコア!O157),\"\"),\"\")","v":0},{"$f":"IF(F$1<>\"\",IF($A155<>\"\",COUNT(カテゴリースコア!P157),\"\"),\"\")","v":0},{"$f":"IF(G$1<>\"\",IF($A155<>\"\",COUNT(カテゴリースコア!Q157),\"\"),\"\")","v":0},{"$f":"IF(H$1<>\"\",IF($A155<>\"\",COUNT(カテゴリースコア!R157),\"\"),\"\")","v":1},{"$f":"IF(I$1<>\"\",IF($A155<>\"\",COUNT(カテゴリースコア!S157),\"\"),\"\")","v":""},{"$f":"IF(J$1<>\"\",IF($A155<>\"\",COUNT(カテゴリースコア!T157),\"\"),\"\")","v":""},{"$f":"IF(K$1<>\"\",IF($A155<>\"\",COUNT(カテゴリースコア!U157),\"\"),\"\")","v":""}]
[{"$f":"IF(データセット1!C156<>\"\",データセット1!C156,\"\")","v":0},{"$f":"IF(データセット1!C156<>\"\",データセット1!D156-カテゴリースコア!$E$11,\"\")","v":-251.54838709677421},{"$f":"IF(C$1<>\"\",IF($A156<>\"\",COUNT(カテゴリースコア!M158),\"\"),\"\")","v":0},{"$f":"IF(D$1<>\"\",IF($A156<>\"\",COUNT(カテゴリースコア!N158),\"\"),\"\")","v":0},{"$f":"IF(E$1<>\"\",IF($A156<>\"\",COUNT(カテゴリースコア!O158),\"\"),\"\")","v":0},{"$f":"IF(F$1<>\"\",IF($A156<>\"\",COUNT(カテゴリースコア!P158),\"\"),\"\")","v":0},{"$f":"IF(G$1<>\"\",IF($A156<>\"\",COUNT(カテゴリースコア!Q158),\"\"),\"\")","v":0},{"$f":"IF(H$1<>\"\",IF($A156<>\"\",COUNT(カテゴリースコア!R158),\"\"),\"\")","v":1},{"$f":"IF(I$1<>\"\",IF($A156<>\"\",COUNT(カテゴリースコア!S158),\"\"),\"\")","v":""},{"$f":"IF(J$1<>\"\",IF($A156<>\"\",COUNT(カテゴリースコア!T158),\"\"),\"\")","v":""},{"$f":"IF(K$1<>\"\",IF($A156<>\"\",COUNT(カテゴリースコア!U158),\"\"),\"\")","v":""}]
[{"$f":"IF(データセット1!C157<>\"\",データセット1!C157,\"\")","v":0},{"$f":"IF(データセット1!C157<>\"\",データセット1!D157-カテゴリースコア!$E$11,\"\")","v":-240.54838709677421},{"$f":"IF(C$1<>\"\",IF($A157<>\"\",COUNT(カテゴリースコア!M159),\"\"),\"\")","v":0},{"$f":"IF(D$1<>\"\",IF($A157<>\"\",COUNT(カテゴリースコア!N159),\"\"),\"\")","v":0},{"$f":"IF(E$1<>\"\",IF($A157<>\"\",COUNT(カテゴリースコア!O159),\"\"),\"\")","v":0},{"$f":"IF(F$1<>\"\",IF($A157<>\"\",COUNT(カテゴリースコア!P159),\"\"),\"\")","v":0},{"$f":"IF(G$1<>\"\",IF($A157<>\"\",COUNT(カテゴリースコア!Q159),\"\"),\"\")","v":1},{"$f":"IF(H$1<>\"\",IF($A157<>\"\",COUNT(カテゴリースコア!R159),\"\"),\"\")","v":0},{"$f":"IF(I$1<>\"\",IF($A157<>\"\",COUNT(カテゴリースコア!S159),\"\"),\"\")","v":""},{"$f":"IF(J$1<>\"\",IF($A157<>\"\",COUNT(カテゴリースコア!T159),\"\"),\"\")","v":""},{"$f":"IF(K$1<>\"\",IF($A157<>\"\",COUNT(カテゴリースコア!U159),\"\"),\"\")","v":""}]
[{"$f":"IF(データセット1!C158<>\"\",データセット1!C158,\"\")","v":0},{"$f":"IF(データセット1!C158<>\"\",データセット1!D158-カテゴリースコア!$E$11,\"\")","v":-266.54838709677421},{"$f":"IF(C$1<>\"\",IF($A158<>\"\",COUNT(カテゴリースコア!M160),\"\"),\"\")","v":0},{"$f":"IF(D$1<>\"\",IF($A158<>\"\",COUNT(カテゴリースコア!N160),\"\"),\"\")","v":0},{"$f":"IF(E$1<>\"\",IF($A158<>\"\",COUNT(カテゴリースコア!O160),\"\"),\"\")","v":0},{"$f":"IF(F$1<>\"\",IF($A158<>\"\",COUNT(カテゴリースコア!P160),\"\"),\"\")","v":0},{"$f":"IF(G$1<>\"\",IF($A158<>\"\",COUNT(カテゴリースコア!Q160),\"\"),\"\")","v":0},{"$f":"IF(H$1<>\"\",IF($A158<>\"\",COUNT(カテゴリースコア!R160),\"\"),\"\")","v":1},{"$f":"IF(I$1<>\"\",IF($A158<>\"\",COUNT(カテゴリースコア!S160),\"\"),\"\")","v":""},{"$f":"IF(J$1<>\"\",IF($A158<>\"\",COUNT(カテゴリースコア!T160),\"\"),\"\")","v":""},{"$f":"IF(K$1<>\"\",IF($A158<>\"\",COUNT(カテゴリースコア!U160),\"\"),\"\")","v":""}]
[{"$f":"IF(データセット1!C159<>\"\",データセット1!C159,\"\")","v":0},{"$f":"IF(データセット1!C159<>\"\",データセット1!D159-カテゴリースコア!$E$11,\"\")","v":-251.54838709677421},{"$f":"IF(C$1<>\"\",IF($A159<>\"\",COUNT(カテゴリースコア!M161),\"\"),\"\")","v":0},{"$f":"IF(D$1<>\"\",IF($A159<>\"\",COUNT(カテゴリースコア!N161),\"\"),\"\")","v":0},{"$f":"IF(E$1<>\"\",IF($A159<>\"\",COUNT(カテゴリースコア!O161),\"\"),\"\")","v":0},{"$f":"IF(F$1<>\"\",IF($A159<>\"\",COUNT(カテゴリースコア!P161),\"\"),\"\")","v":0},{"$f":"IF(G$1<>\"\",IF($A159<>\"\",COUNT(カテゴリースコア!Q161),\"\"),\"\")","v":1},{"$f":"IF(H$1<>\"\",IF($A159<>\"\",COUNT(カテゴリースコア!R161),\"\"),\"\")","v":0},{"$f":"IF(I$1<>\"\",IF($A159<>\"\",COUNT(カテゴリースコア!S161),\"\"),\"\")","v":""},{"$f":"IF(J$1<>\"\",IF($A159<>\"\",COUNT(カテゴリースコア!T161),\"\"),\"\")","v":""},{"$f":"IF(K$1<>\"\",IF($A159<>\"\",COUNT(カテゴリースコア!U161),\"\"),\"\")","v":""}]
[{"$f":"IF(データセット1!C160<>\"\",データセット1!C160,\"\")","v":0},{"$f":"IF(データセット1!C160<>\"\",データセット1!D160-カテゴリースコア!$E$11,\"\")","v":-283.54838709677421},{"$f":"IF(C$1<>\"\",IF($A160<>\"\",COUNT(カテゴリースコア!M162),\"\"),\"\")","v":0},{"$f":"IF(D$1<>\"\",IF($A160<>\"\",COUNT(カテゴリースコア!N162),\"\"),\"\")","v":0},{"$f":"IF(E$1<>\"\",IF($A160<>\"\",COUNT(カテゴリースコア!O162),\"\"),\"\")","v":0},{"$f":"IF(F$1<>\"\",IF($A160<>\"\",COUNT(カテゴリースコア!P162),\"\"),\"\")","v":0},{"$f":"IF(G$1<>\"\",IF($A160<>\"\",COUNT(カテゴリースコア!Q162),\"\"),\"\")","v":0},{"$f":"IF(H$1<>\"\",IF($A160<>\"\",COUNT(カテゴリースコア!R162),\"\"),\"\")","v":1},{"$f":"IF(I$1<>\"\",IF($A160<>\"\",COUNT(カテゴリースコア!S162),\"\"),\"\")","v":""},{"$f":"IF(J$1<>\"\",IF($A160<>\"\",COUNT(カテゴリースコア!T162),\"\"),\"\")","v":""},{"$f":"IF(K$1<>\"\",IF($A160<>\"\",COUNT(カテゴリースコア!U162),\"\"),\"\")","v":""}]
[{"$f":"IF(データセット1!C161<>\"\",データセット1!C161,\"\")","v":0},{"$f":"IF(データセット1!C161<>\"\",データセット1!D161-カテゴリースコア!$E$11,\"\")","v":-256.54838709677421},{"$f":"IF(C$1<>\"\",IF($A161<>\"\",COUNT(カテゴリースコア!M163),\"\"),\"\")","v":0},{"$f":"IF(D$1<>\"\",IF($A161<>\"\",COUNT(カテゴリースコア!N163),\"\"),\"\")","v":0},{"$f":"IF(E$1<>\"\",IF($A161<>\"\",COUNT(カテゴリースコア!O163),\"\"),\"\")","v":0},{"$f":"IF(F$1<>\"\",IF($A161<>\"\",COUNT(カテゴリースコア!P163),\"\"),\"\")","v":0},{"$f":"IF(G$1<>\"\",IF($A161<>\"\",COUNT(カテゴリースコア!Q163),\"\"),\"\")","v":1},{"$f":"IF(H$1<>\"\",IF($A161<>\"\",COUNT(カテゴリースコア!R163),\"\"),\"\")","v":0},{"$f":"IF(I$1<>\"\",IF($A161<>\"\",COUNT(カテゴリースコア!S163),\"\"),\"\")","v":""},{"$f":"IF(J$1<>\"\",IF($A161<>\"\",COUNT(カテゴリースコア!T163),\"\"),\"\")","v":""},{"$f":"IF(K$1<>\"\",IF($A161<>\"\",COUNT(カテゴリースコア!U163),\"\"),\"\")","v":""}]
[{"$f":"IF(データセット1!C162<>\"\",データセット1!C162,\"\")","v":0},{"$f":"IF(データセット1!C162<>\"\",データセット1!D162-カテゴリースコア!$E$11,\"\")","v":-269.54838709677421},{"$f":"IF(C$1<>\"\",IF($A162<>\"\",COUNT(カテゴリースコア!M164),\"\"),\"\")","v":0},{"$f":"IF(D$1<>\"\",IF($A162<>\"\",COUNT(カテゴリースコア!N164),\"\"),\"\")","v":0},{"$f":"IF(E$1<>\"\",IF($A162<>\"\",COUNT(カテゴリースコア!O164),\"\"),\"\")","v":0},{"$f":"IF(F$1<>\"\",IF($A162<>\"\",COUNT(カテゴリースコア!P164),\"\"),\"\")","v":0},{"$f":"IF(G$1<>\"\",IF($A162<>\"\",COUNT(カテゴリースコア!Q164),\"\"),\"\")","v":0},{"$f":"IF(H$1<>\"\",IF($A162<>\"\",COUNT(カテゴリースコア!R164),\"\"),\"\")","v":1},{"$f":"IF(I$1<>\"\",IF($A162<>\"\",COUNT(カテゴリースコア!S164),\"\"),\"\")","v":""},{"$f":"IF(J$1<>\"\",IF($A162<>\"\",COUNT(カテゴリースコア!T164),\"\"),\"\")","v":""},{"$f":"IF(K$1<>\"\",IF($A162<>\"\",COUNT(カテゴリースコア!U164),\"\"),\"\")","v":""}]
[{"$f":"IF(データセット1!C163<>\"\",データセット1!C163,\"\")","v":0},{"$f":"IF(データセット1!C163<>\"\",データセット1!D163-カテゴリースコア!$E$11,\"\")","v":-210.54838709677421},{"$f":"IF(C$1<>\"\",IF($A163<>\"\",COUNT(カテゴリースコア!M165),\"\"),\"\")","v":0},{"$f":"IF(D$1<>\"\",IF($A163<>\"\",COUNT(カテゴリースコア!N165),\"\"),\"\")","v":0},{"$f":"IF(E$1<>\"\",IF($A163<>\"\",COUNT(カテゴリースコア!O165),\"\"),\"\")","v":0},{"$f":"IF(F$1<>\"\",IF($A163<>\"\",COUNT(カテゴリースコア!P165),\"\"),\"\")","v":1},{"$f":"IF(G$1<>\"\",IF($A163<>\"\",COUNT(カテゴリースコア!Q165),\"\"),\"\")","v":0},{"$f":"IF(H$1<>\"\",IF($A163<>\"\",COUNT(カテゴリースコア!R165),\"\"),\"\")","v":0},{"$f":"IF(I$1<>\"\",IF($A163<>\"\",COUNT(カテゴリースコア!S165),\"\"),\"\")","v":""},{"$f":"IF(J$1<>\"\",IF($A163<>\"\",COUNT(カテゴリースコア!T165),\"\"),\"\")","v":""},{"$f":"IF(K$1<>\"\",IF($A163<>\"\",COUNT(カテゴリースコア!U165),\"\"),\"\")","v":""}]
[{"$f":"IF(データセット1!C164<>\"\",データセット1!C164,\"\")","v":0},{"$f":"IF(データセット1!C164<>\"\",データセット1!D164-カテゴリースコア!$E$11,\"\")","v":-270.54838709677421},{"$f":"IF(C$1<>\"\",IF($A164<>\"\",COUNT(カテゴリースコア!M166),\"\"),\"\")","v":0},{"$f":"IF(D$1<>\"\",IF($A164<>\"\",COUNT(カテゴリースコア!N166),\"\"),\"\")","v":0},{"$f":"IF(E$1<>\"\",IF($A164<>\"\",COUNT(カテゴリースコア!O166),\"\"),\"\")","v":0},{"$f":"IF(F$1<>\"\",IF($A164<>\"\",COUNT(カテゴリースコア!P166),\"\"),\"\")","v":0},{"$f":"IF(G$1<>\"\",IF($A164<>\"\",COUNT(カテゴリースコア!Q166),\"\"),\"\")","v":1},{"$f":"IF(H$1<>\"\",IF($A164<>\"\",COUNT(カテゴリースコア!R166),\"\"),\"\")","v":0},{"$f":"IF(I$1<>\"\",IF($A164<>\"\",COUNT(カテゴリースコア!S166),\"\"),\"\")","v":""},{"$f":"IF(J$1<>\"\",IF($A164<>\"\",COUNT(カテゴリースコア!T166),\"\"),\"\")","v":""},{"$f":"IF(K$1<>\"\",IF($A164<>\"\",COUNT(カテゴリースコア!U166),\"\"),\"\")","v":""}]
[{"$f":"IF(データセット1!C165<>\"\",データセット1!C165,\"\")","v":0},{"$f":"IF(データセット1!C165<>\"\",データセット1!D165-カテゴリースコア!$E$11,\"\")","v":-286.54838709677421},{"$f":"IF(C$1<>\"\",IF($A165<>\"\",COUNT(カテゴリースコア!M167),\"\"),\"\")","v":0},{"$f":"IF(D$1<>\"\",IF($A165<>\"\",COUNT(カテゴリースコア!N167),\"\"),\"\")","v":0},{"$f":"IF(E$1<>\"\",IF($A165<>\"\",COUNT(カテゴリースコア!O167),\"\"),\"\")","v":0},{"$f":"IF(F$1<>\"\",IF($A165<>\"\",COUNT(カテゴリースコア!P167),\"\"),\"\")","v":0},{"$f":"IF(G$1<>\"\",IF($A165<>\"\",COUNT(カテゴリースコア!Q167),\"\"),\"\")","v":0},{"$f":"IF(H$1<>\"\",IF($A165<>\"\",COUNT(カテゴリースコア!R167),\"\"),\"\")","v":1},{"$f":"IF(I$1<>\"\",IF($A165<>\"\",COUNT(カテゴリースコア!S167),\"\"),\"\")","v":""},{"$f":"IF(J$1<>\"\",IF($A165<>\"\",COUNT(カテゴリースコア!T167),\"\"),\"\")","v":""},{"$f":"IF(K$1<>\"\",IF($A165<>\"\",COUNT(カテゴリースコア!U167),\"\"),\"\")","v":""}]
[{"$f":"IF(データセット1!C166<>\"\",データセット1!C166,\"\")","v":0},{"$f":"IF(データセット1!C166<>\"\",データセット1!D166-カテゴリースコア!$E$11,\"\")","v":-270.54838709677421},{"$f":"IF(C$1<>\"\",IF($A166<>\"\",COUNT(カテゴリースコア!M168),\"\"),\"\")","v":0},{"$f":"IF(D$1<>\"\",IF($A166<>\"\",COUNT(カテゴリースコア!N168),\"\"),\"\")","v":0},{"$f":"IF(E$1<>\"\",IF($A166<>\"\",COUNT(カテゴリースコア!O168),\"\"),\"\")","v":0},{"$f":"IF(F$1<>\"\",IF($A166<>\"\",COUNT(カテゴリースコア!P168),\"\"),\"\")","v":0},{"$f":"IF(G$1<>\"\",IF($A166<>\"\",COUNT(カテゴリースコア!Q168),\"\"),\"\")","v":1},{"$f":"IF(H$1<>\"\",IF($A166<>\"\",COUNT(カテゴリースコア!R168),\"\"),\"\")","v":0},{"$f":"IF(I$1<>\"\",IF($A166<>\"\",COUNT(カテゴリースコア!S168),\"\"),\"\")","v":""},{"$f":"IF(J$1<>\"\",IF($A166<>\"\",COUNT(カテゴリースコア!T168),\"\"),\"\")","v":""},{"$f":"IF(K$1<>\"\",IF($A166<>\"\",COUNT(カテゴリースコア!U168),\"\"),\"\")","v":""}]
[{"$f":"IF(データセット1!C167<>\"\",データセット1!C167,\"\")","v":0},{"$f":"IF(データセット1!C167<>\"\",データセット1!D167-カテゴリースコア!$E$11,\"\")","v":-295.54838709677421},{"$f":"IF(C$1<>\"\",IF($A167<>\"\",COUNT(カテゴリースコア!M169),\"\"),\"\")","v":0},{"$f":"IF(D$1<>\"\",IF($A167<>\"\",COUNT(カテゴリースコア!N169),\"\"),\"\")","v":0},{"$f":"IF(E$1<>\"\",IF($A167<>\"\",COUNT(カテゴリースコア!O169),\"\"),\"\")","v":0},{"$f":"IF(F$1<>\"\",IF($A167<>\"\",COUNT(カテゴリースコア!P169),\"\"),\"\")","v":0},{"$f":"IF(G$1<>\"\",IF($A167<>\"\",COUNT(カテゴリースコア!Q169),\"\"),\"\")","v":0},{"$f":"IF(H$1<>\"\",IF($A167<>\"\",COUNT(カテゴリースコア!R169),\"\"),\"\")","v":1},{"$f":"IF(I$1<>\"\",IF($A167<>\"\",COUNT(カテゴリースコア!S169),\"\"),\"\")","v":""},{"$f":"IF(J$1<>\"\",IF($A167<>\"\",COUNT(カテゴリースコア!T169),\"\"),\"\")","v":""},{"$f":"IF(K$1<>\"\",IF($A167<>\"\",COUNT(カテゴリースコア!U169),\"\"),\"\")","v":""}]
[{"$f":"IF(データセット1!C168<>\"\",データセット1!C168,\"\")","v":0},{"$f":"IF(データセット1!C168<>\"\",データセット1!D168-カテゴリースコア!$E$11,\"\")","v":-236.54838709677421},{"$f":"IF(C$1<>\"\",IF($A168<>\"\",COUNT(カテゴリースコア!M170),\"\"),\"\")","v":0},{"$f":"IF(D$1<>\"\",IF($A168<>\"\",COUNT(カテゴリースコア!N170),\"\"),\"\")","v":0},{"$f":"IF(E$1<>\"\",IF($A168<>\"\",COUNT(カテゴリースコア!O170),\"\"),\"\")","v":0},{"$f":"IF(F$1<>\"\",IF($A168<>\"\",COUNT(カテゴリースコア!P170),\"\"),\"\")","v":0},{"$f":"IF(G$1<>\"\",IF($A168<>\"\",COUNT(カテゴリースコア!Q170),\"\"),\"\")","v":1},{"$f":"IF(H$1<>\"\",IF($A168<>\"\",COUNT(カテゴリースコア!R170),\"\"),\"\")","v":0},{"$f":"IF(I$1<>\"\",IF($A168<>\"\",COUNT(カテゴリースコア!S170),\"\"),\"\")","v":""},{"$f":"IF(J$1<>\"\",IF($A168<>\"\",COUNT(カテゴリースコア!T170),\"\"),\"\")","v":""},{"$f":"IF(K$1<>\"\",IF($A168<>\"\",COUNT(カテゴリースコア!U170),\"\"),\"\")","v":""}]
[{"$f":"IF(データセット1!C169<>\"\",データセット1!C169,\"\")","v":0},{"$f":"IF(データセット1!C169<>\"\",データセット1!D169-カテゴリースコア!$E$11,\"\")","v":-246.54838709677421},{"$f":"IF(C$1<>\"\",IF($A169<>\"\",COUNT(カテゴリースコア!M171),\"\"),\"\")","v":0},{"$f":"IF(D$1<>\"\",IF($A169<>\"\",COUNT(カテゴリースコア!N171),\"\"),\"\")","v":0},{"$f":"IF(E$1<>\"\",IF($A169<>\"\",COUNT(カテゴリースコア!O171),\"\"),\"\")","v":0},{"$f":"IF(F$1<>\"\",IF($A169<>\"\",COUNT(カテゴリースコア!P171),\"\"),\"\")","v":0},{"$f":"IF(G$1<>\"\",IF($A169<>\"\",COUNT(カテゴリースコア!Q171),\"\"),\"\")","v":0},{"$f":"IF(H$1<>\"\",IF($A169<>\"\",COUNT(カテゴリースコア!R171),\"\"),\"\")","v":1},{"$f":"IF(I$1<>\"\",IF($A169<>\"\",COUNT(カテゴリースコア!S171),\"\"),\"\")","v":""},{"$f":"IF(J$1<>\"\",IF($A169<>\"\",COUNT(カテゴリースコア!T171),\"\"),\"\")","v":""},{"$f":"IF(K$1<>\"\",IF($A169<>\"\",COUNT(カテゴリースコア!U171),\"\"),\"\")","v":""}]
[{"$f":"IF(データセット1!C170<>\"\",データセット1!C170,\"\")","v":0},{"$f":"IF(データセット1!C170<>\"\",データセット1!D170-カテゴリースコア!$E$11,\"\")","v":-236.54838709677421},{"$f":"IF(C$1<>\"\",IF($A170<>\"\",COUNT(カテゴリースコア!M172),\"\"),\"\")","v":0},{"$f":"IF(D$1<>\"\",IF($A170<>\"\",COUNT(カテゴリースコア!N172),\"\"),\"\")","v":0},{"$f":"IF(E$1<>\"\",IF($A170<>\"\",COUNT(カテゴリースコア!O172),\"\"),\"\")","v":0},{"$f":"IF(F$1<>\"\",IF($A170<>\"\",COUNT(カテゴリースコア!P172),\"\"),\"\")","v":0},{"$f":"IF(G$1<>\"\",IF($A170<>\"\",COUNT(カテゴリースコア!Q172),\"\"),\"\")","v":1},{"$f":"IF(H$1<>\"\",IF($A170<>\"\",COUNT(カテゴリースコア!R172),\"\"),\"\")","v":0},{"$f":"IF(I$1<>\"\",IF($A170<>\"\",COUNT(カテゴリースコア!S172),\"\"),\"\")","v":""},{"$f":"IF(J$1<>\"\",IF($A170<>\"\",COUNT(カテゴリースコア!T172),\"\"),\"\")","v":""},{"$f":"IF(K$1<>\"\",IF($A170<>\"\",COUNT(カテゴリースコア!U172),\"\"),\"\")","v":""}]
[{"$f":"IF(データセット1!C171<>\"\",データセット1!C171,\"\")","v":0},{"$f":"IF(データセット1!C171<>\"\",データセット1!D171-カテゴリースコア!$E$11,\"\")","v":-250.54838709677421},{"$f":"IF(C$1<>\"\",IF($A171<>\"\",COUNT(カテゴリースコア!M173),\"\"),\"\")","v":0},{"$f":"IF(D$1<>\"\",IF($A171<>\"\",COUNT(カテゴリースコア!N173),\"\"),\"\")","v":0},{"$f":"IF(E$1<>\"\",IF($A171<>\"\",COUNT(カテゴリースコア!O173),\"\"),\"\")","v":0},{"$f":"IF(F$1<>\"\",IF($A171<>\"\",COUNT(カテゴリースコア!P173),\"\"),\"\")","v":0},{"$f":"IF(G$1<>\"\",IF($A171<>\"\",COUNT(カテゴリースコア!Q173),\"\"),\"\")","v":0},{"$f":"IF(H$1<>\"\",IF($A171<>\"\",COUNT(カテゴリースコア!R173),\"\"),\"\")","v":1},{"$f":"IF(I$1<>\"\",IF($A171<>\"\",COUNT(カテゴリースコア!S173),\"\"),\"\")","v":""},{"$f":"IF(J$1<>\"\",IF($A171<>\"\",COUNT(カテゴリースコア!T173),\"\"),\"\")","v":""},{"$f":"IF(K$1<>\"\",IF($A171<>\"\",COUNT(カテゴリースコア!U173),\"\"),\"\")","v":""}]
[{"$f":"IF(データセット1!C172<>\"\",データセット1!C172,\"\")","v":0},{"$f":"IF(データセット1!C172<>\"\",データセット1!D172-カテゴリースコア!$E$11,\"\")","v":-243.54838709677421},{"$f":"IF(C$1<>\"\",IF($A172<>\"\",COUNT(カテゴリースコア!M174),\"\"),\"\")","v":0},{"$f":"IF(D$1<>\"\",IF($A172<>\"\",COUNT(カテゴリースコア!N174),\"\"),\"\")","v":0},{"$f":"IF(E$1<>\"\",IF($A172<>\"\",COUNT(カテゴリースコア!O174),\"\"),\"\")","v":0},{"$f":"IF(F$1<>\"\",IF($A172<>\"\",COUNT(カテゴリースコア!P174),\"\"),\"\")","v":0},{"$f":"IF(G$1<>\"\",IF($A172<>\"\",COUNT(カテゴリースコア!Q174),\"\"),\"\")","v":1},{"$f":"IF(H$1<>\"\",IF($A172<>\"\",COUNT(カテゴリースコア!R174),\"\"),\"\")","v":0},{"$f":"IF(I$1<>\"\",IF($A172<>\"\",COUNT(カテゴリースコア!S174),\"\"),\"\")","v":""},{"$f":"IF(J$1<>\"\",IF($A172<>\"\",COUNT(カテゴリースコア!T174),\"\"),\"\")","v":""},{"$f":"IF(K$1<>\"\",IF($A172<>\"\",COUNT(カテゴリースコア!U174),\"\"),\"\")","v":""}]
[{"$f":"IF(データセット1!C173<>\"\",データセット1!C173,\"\")","v":0},{"$f":"IF(データセット1!C173<>\"\",データセット1!D173-カテゴリースコア!$E$11,\"\")","v":-274.54838709677421},{"$f":"IF(C$1<>\"\",IF($A173<>\"\",COUNT(カテゴリースコア!M175),\"\"),\"\")","v":0},{"$f":"IF(D$1<>\"\",IF($A173<>\"\",COUNT(カテゴリースコア!N175),\"\"),\"\")","v":0},{"$f":"IF(E$1<>\"\",IF($A173<>\"\",COUNT(カテゴリースコア!O175),\"\"),\"\")","v":0},{"$f":"IF(F$1<>\"\",IF($A173<>\"\",COUNT(カテゴリースコア!P175),\"\"),\"\")","v":0},{"$f":"IF(G$1<>\"\",IF($A173<>\"\",COUNT(カテゴリースコア!Q175),\"\"),\"\")","v":0},{"$f":"IF(H$1<>\"\",IF($A173<>\"\",COUNT(カテゴリースコア!R175),\"\"),\"\")","v":1},{"$f":"IF(I$1<>\"\",IF($A173<>\"\",COUNT(カテゴリースコア!S175),\"\"),\"\")","v":""},{"$f":"IF(J$1<>\"\",IF($A173<>\"\",COUNT(カテゴリースコア!T175),\"\"),\"\")","v":""},{"$f":"IF(K$1<>\"\",IF($A173<>\"\",COUNT(カテゴリースコア!U175),\"\"),\"\")","v":""}]
[{"$f":"IF(データセット1!C174<>\"\",データセット1!C174,\"\")","v":0},{"$f":"IF(データセット1!C174<>\"\",データセット1!D174-カテゴリースコア!$E$11,\"\")","v":-252.54838709677421},{"$f":"IF(C$1<>\"\",IF($A174<>\"\",COUNT(カテゴリースコア!M176),\"\"),\"\")","v":0},{"$f":"IF(D$1<>\"\",IF($A174<>\"\",COUNT(カテゴリースコア!N176),\"\"),\"\")","v":0},{"$f":"IF(E$1<>\"\",IF($A174<>\"\",COUNT(カテゴリースコア!O176),\"\"),\"\")","v":0},{"$f":"IF(F$1<>\"\",IF($A174<>\"\",COUNT(カテゴリースコア!P176),\"\"),\"\")","v":0},{"$f":"IF(G$1<>\"\",IF($A174<>\"\",COUNT(カテゴリースコア!Q176),\"\"),\"\")","v":1},{"$f":"IF(H$1<>\"\",IF($A174<>\"\",COUNT(カテゴリースコア!R176),\"\"),\"\")","v":0},{"$f":"IF(I$1<>\"\",IF($A174<>\"\",COUNT(カテゴリースコア!S176),\"\"),\"\")","v":""},{"$f":"IF(J$1<>\"\",IF($A174<>\"\",COUNT(カテゴリースコア!T176),\"\"),\"\")","v":""},{"$f":"IF(K$1<>\"\",IF($A174<>\"\",COUNT(カテゴリースコア!U176),\"\"),\"\")","v":""}]
[{"$f":"IF(データセット1!C175<>\"\",データセット1!C175,\"\")","v":0},{"$f":"IF(データセット1!C175<>\"\",データセット1!D175-カテゴリースコア!$E$11,\"\")","v":-273.54838709677421},{"$f":"IF(C$1<>\"\",IF($A175<>\"\",COUNT(カテゴリースコア!M177),\"\"),\"\")","v":0},{"$f":"IF(D$1<>\"\",IF($A175<>\"\",COUNT(カテゴリースコア!N177),\"\"),\"\")","v":0},{"$f":"IF(E$1<>\"\",IF($A175<>\"\",COUNT(カテゴリースコア!O177),\"\"),\"\")","v":0},{"$f":"IF(F$1<>\"\",IF($A175<>\"\",COUNT(カテゴリースコア!P177),\"\"),\"\")","v":0},{"$f":"IF(G$1<>\"\",IF($A175<>\"\",COUNT(カテゴリースコア!Q177),\"\"),\"\")","v":0},{"$f":"IF(H$1<>\"\",IF($A175<>\"\",COUNT(カテゴリースコア!R177),\"\"),\"\")","v":1},{"$f":"IF(I$1<>\"\",IF($A175<>\"\",COUNT(カテゴリースコア!S177),\"\"),\"\")","v":""},{"$f":"IF(J$1<>\"\",IF($A175<>\"\",COUNT(カテゴリースコア!T177),\"\"),\"\")","v":""},{"$f":"IF(K$1<>\"\",IF($A175<>\"\",COUNT(カテゴリースコア!U177),\"\"),\"\")","v":""}]
[{"$f":"IF(データセット1!C176<>\"\",データセット1!C176,\"\")","v":0},{"$f":"IF(データセット1!C176<>\"\",データセット1!D176-カテゴリースコア!$E$11,\"\")","v":-253.54838709677421},{"$f":"IF(C$1<>\"\",IF($A176<>\"\",COUNT(カテゴリースコア!M178),\"\"),\"\")","v":0},{"$f":"IF(D$1<>\"\",IF($A176<>\"\",COUNT(カテゴリースコア!N178),\"\"),\"\")","v":0},{"$f":"IF(E$1<>\"\",IF($A176<>\"\",COUNT(カテゴリースコア!O178),\"\"),\"\")","v":0},{"$f":"IF(F$1<>\"\",IF($A176<>\"\",COUNT(カテゴリースコア!P178),\"\"),\"\")","v":0},{"$f":"IF(G$1<>\"\",IF($A176<>\"\",COUNT(カテゴリースコア!Q178),\"\"),\"\")","v":1},{"$f":"IF(H$1<>\"\",IF($A176<>\"\",COUNT(カテゴリースコア!R178),\"\"),\"\")","v":0},{"$f":"IF(I$1<>\"\",IF($A176<>\"\",COUNT(カテゴリースコア!S178),\"\"),\"\")","v":""},{"$f":"IF(J$1<>\"\",IF($A176<>\"\",COUNT(カテゴリースコア!T178),\"\"),\"\")","v":""},{"$f":"IF(K$1<>\"\",IF($A176<>\"\",COUNT(カテゴリースコア!U178),\"\"),\"\")","v":""}]
[{"$f":"IF(データセット1!C177<>\"\",データセット1!C177,\"\")","v":0},{"$f":"IF(データセット1!C177<>\"\",データセット1!D177-カテゴリースコア!$E$11,\"\")","v":-249.54838709677421},{"$f":"IF(C$1<>\"\",IF($A177<>\"\",COUNT(カテゴリースコア!M179),\"\"),\"\")","v":0},{"$f":"IF(D$1<>\"\",IF($A177<>\"\",COUNT(カテゴリースコア!N179),\"\"),\"\")","v":0},{"$f":"IF(E$1<>\"\",IF($A177<>\"\",COUNT(カテゴリースコア!O179),\"\"),\"\")","v":0},{"$f":"IF(F$1<>\"\",IF($A177<>\"\",COUNT(カテゴリースコア!P179),\"\"),\"\")","v":0},{"$f":"IF(G$1<>\"\",IF($A177<>\"\",COUNT(カテゴリースコア!Q179),\"\"),\"\")","v":0},{"$f":"IF(H$1<>\"\",IF($A177<>\"\",COUNT(カテゴリースコア!R179),\"\"),\"\")","v":1},{"$f":"IF(I$1<>\"\",IF($A177<>\"\",COUNT(カテゴリースコア!S179),\"\"),\"\")","v":""},{"$f":"IF(J$1<>\"\",IF($A177<>\"\",COUNT(カテゴリースコア!T179),\"\"),\"\")","v":""},{"$f":"IF(K$1<>\"\",IF($A177<>\"\",COUNT(カテゴリースコア!U179),\"\"),\"\")","v":""}]
[{"$f":"IF(データセット1!C178<>\"\",データセット1!C178,\"\")","v":0},{"$f":"IF(データセット1!C178<>\"\",データセット1!D178-カテゴリースコア!$E$11,\"\")","v":-239.54838709677421},{"$f":"IF(C$1<>\"\",IF($A178<>\"\",COUNT(カテゴリースコア!M180),\"\"),\"\")","v":0},{"$f":"IF(D$1<>\"\",IF($A178<>\"\",COUNT(カテゴリースコア!N180),\"\"),\"\")","v":0},{"$f":"IF(E$1<>\"\",IF($A178<>\"\",COUNT(カテゴリースコア!O180),\"\"),\"\")","v":0},{"$f":"IF(F$1<>\"\",IF($A178<>\"\",COUNT(カテゴリースコア!P180),\"\"),\"\")","v":0},{"$f":"IF(G$1<>\"\",IF($A178<>\"\",COUNT(カテゴリースコア!Q180),\"\"),\"\")","v":1},{"$f":"IF(H$1<>\"\",IF($A178<>\"\",COUNT(カテゴリースコア!R180),\"\"),\"\")","v":0},{"$f":"IF(I$1<>\"\",IF($A178<>\"\",COUNT(カテゴリースコア!S180),\"\"),\"\")","v":""},{"$f":"IF(J$1<>\"\",IF($A178<>\"\",COUNT(カテゴリースコア!T180),\"\"),\"\")","v":""},{"$f":"IF(K$1<>\"\",IF($A178<>\"\",COUNT(カテゴリースコア!U180),\"\"),\"\")","v":""}]
[{"$f":"IF(データセット1!C179<>\"\",データセット1!C179,\"\")","v":0},{"$f":"IF(データセット1!C179<>\"\",データセット1!D179-カテゴリースコア!$E$11,\"\")","v":-264.54838709677421},{"$f":"IF(C$1<>\"\",IF($A179<>\"\",COUNT(カテゴリースコア!M181),\"\"),\"\")","v":0},{"$f":"IF(D$1<>\"\",IF($A179<>\"\",COUNT(カテゴリースコア!N181),\"\"),\"\")","v":0},{"$f":"IF(E$1<>\"\",IF($A179<>\"\",COUNT(カテゴリースコア!O181),\"\"),\"\")","v":0},{"$f":"IF(F$1<>\"\",IF($A179<>\"\",COUNT(カテゴリースコア!P181),\"\"),\"\")","v":0},{"$f":"IF(G$1<>\"\",IF($A179<>\"\",COUNT(カテゴリースコア!Q181),\"\"),\"\")","v":0},{"$f":"IF(H$1<>\"\",IF($A179<>\"\",COUNT(カテゴリースコア!R181),\"\"),\"\")","v":1},{"$f":"IF(I$1<>\"\",IF($A179<>\"\",COUNT(カテゴリースコア!S181),\"\"),\"\")","v":""},{"$f":"IF(J$1<>\"\",IF($A179<>\"\",COUNT(カテゴリースコア!T181),\"\"),\"\")","v":""},{"$f":"IF(K$1<>\"\",IF($A179<>\"\",COUNT(カテゴリースコア!U181),\"\"),\"\")","v":""}]
[{"$f":"IF(データセット1!C180<>\"\",データセット1!C180,\"\")","v":0},{"$f":"IF(データセット1!C180<>\"\",データセット1!D180-カテゴリースコア!$E$11,\"\")","v":-256.54838709677421},{"$f":"IF(C$1<>\"\",IF($A180<>\"\",COUNT(カテゴリースコア!M182),\"\"),\"\")","v":0},{"$f":"IF(D$1<>\"\",IF($A180<>\"\",COUNT(カテゴリースコア!N182),\"\"),\"\")","v":0},{"$f":"IF(E$1<>\"\",IF($A180<>\"\",COUNT(カテゴリースコア!O182),\"\"),\"\")","v":0},{"$f":"IF(F$1<>\"\",IF($A180<>\"\",COUNT(カテゴリースコア!P182),\"\"),\"\")","v":0},{"$f":"IF(G$1<>\"\",IF($A180<>\"\",COUNT(カテゴリースコア!Q182),\"\"),\"\")","v":0},{"$f":"IF(H$1<>\"\",IF($A180<>\"\",COUNT(カテゴリースコア!R182),\"\"),\"\")","v":1},{"$f":"IF(I$1<>\"\",IF($A180<>\"\",COUNT(カテゴリースコア!S182),\"\"),\"\")","v":""},{"$f":"IF(J$1<>\"\",IF($A180<>\"\",COUNT(カテゴリースコア!T182),\"\"),\"\")","v":""},{"$f":"IF(K$1<>\"\",IF($A180<>\"\",COUNT(カテゴリースコア!U182),\"\"),\"\")","v":""}]
[{"$f":"IF(データセット1!C181<>\"\",データセット1!C181,\"\")","v":0},{"$f":"IF(データセット1!C181<>\"\",データセット1!D181-カテゴリースコア!$E$11,\"\")","v":-271.54838709677421},{"$f":"IF(C$1<>\"\",IF($A181<>\"\",COUNT(カテゴリースコア!M183),\"\"),\"\")","v":0},{"$f":"IF(D$1<>\"\",IF($A181<>\"\",COUNT(カテゴリースコア!N183),\"\"),\"\")","v":0},{"$f":"IF(E$1<>\"\",IF($A181<>\"\",COUNT(カテゴリースコア!O183),\"\"),\"\")","v":0},{"$f":"IF(F$1<>\"\",IF($A181<>\"\",COUNT(カテゴリースコア!P183),\"\"),\"\")","v":0},{"$f":"IF(G$1<>\"\",IF($A181<>\"\",COUNT(カテゴリースコア!Q183),\"\"),\"\")","v":0},{"$f":"IF(H$1<>\"\",IF($A181<>\"\",COUNT(カテゴリースコア!R183),\"\"),\"\")","v":1},{"$f":"IF(I$1<>\"\",IF($A181<>\"\",COUNT(カテゴリースコア!S183),\"\"),\"\")","v":""},{"$f":"IF(J$1<>\"\",IF($A181<>\"\",COUNT(カテゴリースコア!T183),\"\"),\"\")","v":""},{"$f":"IF(K$1<>\"\",IF($A181<>\"\",COUNT(カテゴリースコア!U183),\"\"),\"\")","v":""}]
[{"$f":"IF(データセット1!C182<>\"\",データセット1!C182,\"\")","v":0},{"$f":"IF(データセット1!C182<>\"\",データセット1!D182-カテゴリースコア!$E$11,\"\")","v":-262.54838709677421},{"$f":"IF(C$1<>\"\",IF($A182<>\"\",COUNT(カテゴリースコア!M184),\"\"),\"\")","v":0},{"$f":"IF(D$1<>\"\",IF($A182<>\"\",COUNT(カテゴリースコア!N184),\"\"),\"\")","v":0},{"$f":"IF(E$1<>\"\",IF($A182<>\"\",COUNT(カテゴリースコア!O184),\"\"),\"\")","v":0},{"$f":"IF(F$1<>\"\",IF($A182<>\"\",COUNT(カテゴリースコア!P184),\"\"),\"\")","v":0},{"$f":"IF(G$1<>\"\",IF($A182<>\"\",COUNT(カテゴリースコア!Q184),\"\"),\"\")","v":0},{"$f":"IF(H$1<>\"\",IF($A182<>\"\",COUNT(カテゴリースコア!R184),\"\"),\"\")","v":1},{"$f":"IF(I$1<>\"\",IF($A182<>\"\",COUNT(カテゴリースコア!S184),\"\"),\"\")","v":""},{"$f":"IF(J$1<>\"\",IF($A182<>\"\",COUNT(カテゴリースコア!T184),\"\"),\"\")","v":""},{"$f":"IF(K$1<>\"\",IF($A182<>\"\",COUNT(カテゴリースコア!U184),\"\"),\"\")","v":""}]
[{"$f":"IF(データセット1!C183<>\"\",データセット1!C183,\"\")","v":0},{"$f":"IF(データセット1!C183<>\"\",データセット1!D183-カテゴリースコア!$E$11,\"\")","v":-272.54838709677421},{"$f":"IF(C$1<>\"\",IF($A183<>\"\",COUNT(カテゴリースコア!M185),\"\"),\"\")","v":0},{"$f":"IF(D$1<>\"\",IF($A183<>\"\",COUNT(カテゴリースコア!N185),\"\"),\"\")","v":0},{"$f":"IF(E$1<>\"\",IF($A183<>\"\",COUNT(カテゴリースコア!O185),\"\"),\"\")","v":0},{"$f":"IF(F$1<>\"\",IF($A183<>\"\",COUNT(カテゴリースコア!P185),\"\"),\"\")","v":0},{"$f":"IF(G$1<>\"\",IF($A183<>\"\",COUNT(カテゴリースコア!Q185),\"\"),\"\")","v":0},{"$f":"IF(H$1<>\"\",IF($A183<>\"\",COUNT(カテゴリースコア!R185),\"\"),\"\")","v":1},{"$f":"IF(I$1<>\"\",IF($A183<>\"\",COUNT(カテゴリースコア!S185),\"\"),\"\")","v":""},{"$f":"IF(J$1<>\"\",IF($A183<>\"\",COUNT(カテゴリースコア!T185),\"\"),\"\")","v":""},{"$f":"IF(K$1<>\"\",IF($A183<>\"\",COUNT(カテゴリースコア!U185),\"\"),\"\")","v":""}]
[{"$f":"IF(データセット1!C184<>\"\",データセット1!C184,\"\")","v":0},{"$f":"IF(データセット1!C184<>\"\",データセット1!D184-カテゴリースコア!$E$11,\"\")","v":-273.54838709677421},{"$f":"IF(C$1<>\"\",IF($A184<>\"\",COUNT(カテゴリースコア!M186),\"\"),\"\")","v":0},{"$f":"IF(D$1<>\"\",IF($A184<>\"\",COUNT(カテゴリースコア!N186),\"\"),\"\")","v":0},{"$f":"IF(E$1<>\"\",IF($A184<>\"\",COUNT(カテゴリースコア!O186),\"\"),\"\")","v":0},{"$f":"IF(F$1<>\"\",IF($A184<>\"\",COUNT(カテゴリースコア!P186),\"\"),\"\")","v":0},{"$f":"IF(G$1<>\"\",IF($A184<>\"\",COUNT(カテゴリースコア!Q186),\"\"),\"\")","v":0},{"$f":"IF(H$1<>\"\",IF($A184<>\"\",COUNT(カテゴリースコア!R186),\"\"),\"\")","v":1},{"$f":"IF(I$1<>\"\",IF($A184<>\"\",COUNT(カテゴリースコア!S186),\"\"),\"\")","v":""},{"$f":"IF(J$1<>\"\",IF($A184<>\"\",COUNT(カテゴリースコア!T186),\"\"),\"\")","v":""},{"$f":"IF(K$1<>\"\",IF($A184<>\"\",COUNT(カテゴリースコア!U186),\"\"),\"\")","v":""}]
[{"$f":"IF(データセット1!C185<>\"\",データセット1!C185,\"\")","v":0},{"$f":"IF(データセット1!C185<>\"\",データセット1!D185-カテゴリースコア!$E$11,\"\")","v":-265.54838709677421},{"$f":"IF(C$1<>\"\",IF($A185<>\"\",COUNT(カテゴリースコア!M187),\"\"),\"\")","v":0},{"$f":"IF(D$1<>\"\",IF($A185<>\"\",COUNT(カテゴリースコア!N187),\"\"),\"\")","v":0},{"$f":"IF(E$1<>\"\",IF($A185<>\"\",COUNT(カテゴリースコア!O187),\"\"),\"\")","v":0},{"$f":"IF(F$1<>\"\",IF($A185<>\"\",COUNT(カテゴリースコア!P187),\"\"),\"\")","v":0},{"$f":"IF(G$1<>\"\",IF($A185<>\"\",COUNT(カテゴリースコア!Q187),\"\"),\"\")","v":1},{"$f":"IF(H$1<>\"\",IF($A185<>\"\",COUNT(カテゴリースコア!R187),\"\"),\"\")","v":0},{"$f":"IF(I$1<>\"\",IF($A185<>\"\",COUNT(カテゴリースコア!S187),\"\"),\"\")","v":""},{"$f":"IF(J$1<>\"\",IF($A185<>\"\",COUNT(カテゴリースコア!T187),\"\"),\"\")","v":""},{"$f":"IF(K$1<>\"\",IF($A185<>\"\",COUNT(カテゴリースコア!U187),\"\"),\"\")","v":""}]
[{"$f":"IF(データセット1!C186<>\"\",データセット1!C186,\"\")","v":0},{"$f":"IF(データセット1!C186<>\"\",データセット1!D186-カテゴリースコア!$E$11,\"\")","v":-273.54838709677421},{"$f":"IF(C$1<>\"\",IF($A186<>\"\",COUNT(カテゴリースコア!M188),\"\"),\"\")","v":0},{"$f":"IF(D$1<>\"\",IF($A186<>\"\",COUNT(カテゴリースコア!N188),\"\"),\"\")","v":0},{"$f":"IF(E$1<>\"\",IF($A186<>\"\",COUNT(カテゴリースコア!O188),\"\"),\"\")","v":0},{"$f":"IF(F$1<>\"\",IF($A186<>\"\",COUNT(カテゴリースコア!P188),\"\"),\"\")","v":0},{"$f":"IF(G$1<>\"\",IF($A186<>\"\",COUNT(カテゴリースコア!Q188),\"\"),\"\")","v":0},{"$f":"IF(H$1<>\"\",IF($A186<>\"\",COUNT(カテゴリースコア!R188),\"\"),\"\")","v":1},{"$f":"IF(I$1<>\"\",IF($A186<>\"\",COUNT(カテゴリースコア!S188),\"\"),\"\")","v":""},{"$f":"IF(J$1<>\"\",IF($A186<>\"\",COUNT(カテゴリースコア!T188),\"\"),\"\")","v":""},{"$f":"IF(K$1<>\"\",IF($A186<>\"\",COUNT(カテゴリースコア!U188),\"\"),\"\")","v":""}]
[{"$f":"IF(データセット1!C187<>\"\",データセット1!C187,\"\")","v":0},{"$f":"IF(データセット1!C187<>\"\",データセット1!D187-カテゴリースコア!$E$11,\"\")","v":-272.54838709677421},{"$f":"IF(C$1<>\"\",IF($A187<>\"\",COUNT(カテゴリースコア!M189),\"\"),\"\")","v":0},{"$f":"IF(D$1<>\"\",IF($A187<>\"\",COUNT(カテゴリースコア!N189),\"\"),\"\")","v":0},{"$f":"IF(E$1<>\"\",IF($A187<>\"\",COUNT(カテゴリースコア!O189),\"\"),\"\")","v":0},{"$f":"IF(F$1<>\"\",IF($A187<>\"\",COUNT(カテゴリースコア!P189),\"\"),\"\")","v":0},{"$f":"IF(G$1<>\"\",IF($A187<>\"\",COUNT(カテゴリースコア!Q189),\"\"),\"\")","v":0},{"$f":"IF(H$1<>\"\",IF($A187<>\"\",COUNT(カテゴリースコア!R189),\"\"),\"\")","v":1},{"$f":"IF(I$1<>\"\",IF($A187<>\"\",COUNT(カテゴリースコア!S189),\"\"),\"\")","v":""},{"$f":"IF(J$1<>\"\",IF($A187<>\"\",COUNT(カテゴリースコア!T189),\"\"),\"\")","v":""},{"$f":"IF(K$1<>\"\",IF($A187<>\"\",COUNT(カテゴリースコア!U189),\"\"),\"\")","v":""}]
[{"$f":"IF(データセット1!C188<>\"\",データセット1!C188,\"\")","v":""},{"$f":"IF(データセット1!C188<>\"\",データセット1!D188-カテゴリースコア!$E$11,\"\")","v":""},{"$f":"IF(C$1<>\"\",IF($A188<>\"\",COUNT(カテゴリースコア!M190),\"\"),\"\")","v":""},{"$f":"IF(D$1<>\"\",IF($A188<>\"\",COUNT(カテゴリースコア!N190),\"\"),\"\")","v":""},{"$f":"IF(E$1<>\"\",IF($A188<>\"\",COUNT(カテゴリースコア!O190),\"\"),\"\")","v":""},{"$f":"IF(F$1<>\"\",IF($A188<>\"\",COUNT(カテゴリースコア!P190),\"\"),\"\")","v":""},{"$f":"IF(G$1<>\"\",IF($A188<>\"\",COUNT(カテゴリースコア!Q190),\"\"),\"\")","v":""},{"$f":"IF(H$1<>\"\",IF($A188<>\"\",COUNT(カテゴリースコア!R190),\"\"),\"\")","v":""},{"$f":"IF(I$1<>\"\",IF($A188<>\"\",COUNT(カテゴリースコア!S190),\"\"),\"\")","v":""},{"$f":"IF(J$1<>\"\",IF($A188<>\"\",COUNT(カテゴリースコア!T190),\"\"),\"\")","v":""},{"$f":"IF(K$1<>\"\",IF($A188<>\"\",COUNT(カテゴリースコア!U190),\"\"),\"\")","v":""}]
[{"$f":"IF(データセット1!C189<>\"\",データセット1!C189,\"\")","v":""},{"$f":"IF(データセット1!C189<>\"\",データセット1!D189-カテゴリースコア!$E$11,\"\")","v":""},{"$f":"IF(C$1<>\"\",IF($A189<>\"\",COUNT(カテゴリースコア!M191),\"\"),\"\")","v":""},{"$f":"IF(D$1<>\"\",IF($A189<>\"\",COUNT(カテゴリースコア!N191),\"\"),\"\")","v":""},{"$f":"IF(E$1<>\"\",IF($A189<>\"\",COUNT(カテゴリースコア!O191),\"\"),\"\")","v":""},{"$f":"IF(F$1<>\"\",IF($A189<>\"\",COUNT(カテゴリースコア!P191),\"\"),\"\")","v":""},{"$f":"IF(G$1<>\"\",IF($A189<>\"\",COUNT(カテゴリースコア!Q191),\"\"),\"\")","v":""},{"$f":"IF(H$1<>\"\",IF($A189<>\"\",COUNT(カテゴリースコア!R191),\"\"),\"\")","v":""},{"$f":"IF(I$1<>\"\",IF($A189<>\"\",COUNT(カテゴリースコア!S191),\"\"),\"\")","v":""},{"$f":"IF(J$1<>\"\",IF($A189<>\"\",COUNT(カテゴリースコア!T191),\"\"),\"\")","v":""},{"$f":"IF(K$1<>\"\",IF($A189<>\"\",COUNT(カテゴリースコア!U191),\"\"),\"\")","v":""}]
[{"$f":"IF(データセット1!C190<>\"\",データセット1!C190,\"\")","v":""},{"$f":"IF(データセット1!C190<>\"\",データセット1!D190-カテゴリースコア!$E$11,\"\")","v":""},{"$f":"IF(C$1<>\"\",IF($A190<>\"\",COUNT(カテゴリースコア!M192),\"\"),\"\")","v":""},{"$f":"IF(D$1<>\"\",IF($A190<>\"\",COUNT(カテゴリースコア!N192),\"\"),\"\")","v":""},{"$f":"IF(E$1<>\"\",IF($A190<>\"\",COUNT(カテゴリースコア!O192),\"\"),\"\")","v":""},{"$f":"IF(F$1<>\"\",IF($A190<>\"\",COUNT(カテゴリースコア!P192),\"\"),\"\")","v":""},{"$f":"IF(G$1<>\"\",IF($A190<>\"\",COUNT(カテゴリースコア!Q192),\"\"),\"\")","v":""},{"$f":"IF(H$1<>\"\",IF($A190<>\"\",COUNT(カテゴリースコア!R192),\"\"),\"\")","v":""},{"$f":"IF(I$1<>\"\",IF($A190<>\"\",COUNT(カテゴリースコア!S192),\"\"),\"\")","v":""},{"$f":"IF(J$1<>\"\",IF($A190<>\"\",COUNT(カテゴリースコア!T192),\"\"),\"\")","v":""},{"$f":"IF(K$1<>\"\",IF($A190<>\"\",COUNT(カテゴリースコア!U192),\"\"),\"\")","v":""}]
[{"$f":"IF(データセット1!C191<>\"\",データセット1!C191,\"\")","v":""},{"$f":"IF(データセット1!C191<>\"\",データセット1!D191-カテゴリースコア!$E$11,\"\")","v":""},{"$f":"IF(C$1<>\"\",IF($A191<>\"\",COUNT(カテゴリースコア!M193),\"\"),\"\")","v":""},{"$f":"IF(D$1<>\"\",IF($A191<>\"\",COUNT(カテゴリースコア!N193),\"\"),\"\")","v":""},{"$f":"IF(E$1<>\"\",IF($A191<>\"\",COUNT(カテゴリースコア!O193),\"\"),\"\")","v":""},{"$f":"IF(F$1<>\"\",IF($A191<>\"\",COUNT(カテゴリースコア!P193),\"\"),\"\")","v":""},{"$f":"IF(G$1<>\"\",IF($A191<>\"\",COUNT(カテゴリースコア!Q193),\"\"),\"\")","v":""},{"$f":"IF(H$1<>\"\",IF($A191<>\"\",COUNT(カテゴリースコア!R193),\"\"),\"\")","v":""},{"$f":"IF(I$1<>\"\",IF($A191<>\"\",COUNT(カテゴリースコア!S193),\"\"),\"\")","v":""},{"$f":"IF(J$1<>\"\",IF($A191<>\"\",COUNT(カテゴリースコア!T193),\"\"),\"\")","v":""},{"$f":"IF(K$1<>\"\",IF($A191<>\"\",COUNT(カテゴリースコア!U193),\"\"),\"\")","v":""}]
[{"$f":"IF(データセット1!C192<>\"\",データセット1!C192,\"\")","v":""},{"$f":"IF(データセット1!C192<>\"\",データセット1!D192-カテゴリースコア!$E$11,\"\")","v":""},{"$f":"IF(C$1<>\"\",IF($A192<>\"\",COUNT(カテゴリースコア!M194),\"\"),\"\")","v":""},{"$f":"IF(D$1<>\"\",IF($A192<>\"\",COUNT(カテゴリースコア!N194),\"\"),\"\")","v":""},{"$f":"IF(E$1<>\"\",IF($A192<>\"\",COUNT(カテゴリースコア!O194),\"\"),\"\")","v":""},{"$f":"IF(F$1<>\"\",IF($A192<>\"\",COUNT(カテゴリースコア!P194),\"\"),\"\")","v":""},{"$f":"IF(G$1<>\"\",IF($A192<>\"\",COUNT(カテゴリースコア!Q194),\"\"),\"\")","v":""},{"$f":"IF(H$1<>\"\",IF($A192<>\"\",COUNT(カテゴリースコア!R194),\"\"),\"\")","v":""},{"$f":"IF(I$1<>\"\",IF($A192<>\"\",COUNT(カテゴリースコア!S194),\"\"),\"\")","v":""},{"$f":"IF(J$1<>\"\",IF($A192<>\"\",COUNT(カテゴリースコア!T194),\"\"),\"\")","v":""},{"$f":"IF(K$1<>\"\",IF($A192<>\"\",COUNT(カテゴリースコア!U194),\"\"),\"\")","v":""}]
[{"$f":"IF(データセット1!C193<>\"\",データセット1!C193,\"\")","v":""},{"$f":"IF(データセット1!C193<>\"\",データセット1!D193-カテゴリースコア!$E$11,\"\")","v":""},{"$f":"IF(C$1<>\"\",IF($A193<>\"\",COUNT(カテゴリースコア!M195),\"\"),\"\")","v":""},{"$f":"IF(D$1<>\"\",IF($A193<>\"\",COUNT(カテゴリースコア!N195),\"\"),\"\")","v":""},{"$f":"IF(E$1<>\"\",IF($A193<>\"\",COUNT(カテゴリースコア!O195),\"\"),\"\")","v":""},{"$f":"IF(F$1<>\"\",IF($A193<>\"\",COUNT(カテゴリースコア!P195),\"\"),\"\")","v":""},{"$f":"IF(G$1<>\"\",IF($A193<>\"\",COUNT(カテゴリースコア!Q195),\"\"),\"\")","v":""},{"$f":"IF(H$1<>\"\",IF($A193<>\"\",COUNT(カテゴリースコア!R195),\"\"),\"\")","v":""},{"$f":"IF(I$1<>\"\",IF($A193<>\"\",COUNT(カテゴリースコア!S195),\"\"),\"\")","v":""},{"$f":"IF(J$1<>\"\",IF($A193<>\"\",COUNT(カテゴリースコア!T195),\"\"),\"\")","v":""},{"$f":"IF(K$1<>\"\",IF($A193<>\"\",COUNT(カテゴリースコア!U195),\"\"),\"\")","v":""}]
[{"$f":"IF(データセット1!C194<>\"\",データセット1!C194,\"\")","v":""},{"$f":"IF(データセット1!C194<>\"\",データセット1!D194-カテゴリースコア!$E$11,\"\")","v":""},{"$f":"IF(C$1<>\"\",IF($A194<>\"\",COUNT(カテゴリースコア!M196),\"\"),\"\")","v":""},{"$f":"IF(D$1<>\"\",IF($A194<>\"\",COUNT(カテゴリースコア!N196),\"\"),\"\")","v":""},{"$f":"IF(E$1<>\"\",IF($A194<>\"\",COUNT(カテゴリースコア!O196),\"\"),\"\")","v":""},{"$f":"IF(F$1<>\"\",IF($A194<>\"\",COUNT(カテゴリースコア!P196),\"\"),\"\")","v":""},{"$f":"IF(G$1<>\"\",IF($A194<>\"\",COUNT(カテゴリースコア!Q196),\"\"),\"\")","v":""},{"$f":"IF(H$1<>\"\",IF($A194<>\"\",COUNT(カテゴリースコア!R196),\"\"),\"\")","v":""},{"$f":"IF(I$1<>\"\",IF($A194<>\"\",COUNT(カテゴリースコア!S196),\"\"),\"\")","v":""},{"$f":"IF(J$1<>\"\",IF($A194<>\"\",COUNT(カテゴリースコア!T196),\"\"),\"\")","v":""},{"$f":"IF(K$1<>\"\",IF($A194<>\"\",COUNT(カテゴリースコア!U196),\"\"),\"\")","v":""}]
[{"$f":"IF(データセット1!C195<>\"\",データセット1!C195,\"\")","v":""},{"$f":"IF(データセット1!C195<>\"\",データセット1!D195-カテゴリースコア!$E$11,\"\")","v":""},{"$f":"IF(C$1<>\"\",IF($A195<>\"\",COUNT(カテゴリースコア!M197),\"\"),\"\")","v":""},{"$f":"IF(D$1<>\"\",IF($A195<>\"\",COUNT(カテゴリースコア!N197),\"\"),\"\")","v":""},{"$f":"IF(E$1<>\"\",IF($A195<>\"\",COUNT(カテゴリースコア!O197),\"\"),\"\")","v":""},{"$f":"IF(F$1<>\"\",IF($A195<>\"\",COUNT(カテゴリースコア!P197),\"\"),\"\")","v":""},{"$f":"IF(G$1<>\"\",IF($A195<>\"\",COUNT(カテゴリースコア!Q197),\"\"),\"\")","v":""},{"$f":"IF(H$1<>\"\",IF($A195<>\"\",COUNT(カテゴリースコア!R197),\"\"),\"\")","v":""},{"$f":"IF(I$1<>\"\",IF($A195<>\"\",COUNT(カテゴリースコア!S197),\"\"),\"\")","v":""},{"$f":"IF(J$1<>\"\",IF($A195<>\"\",COUNT(カテゴリースコア!T197),\"\"),\"\")","v":""},{"$f":"IF(K$1<>\"\",IF($A195<>\"\",COUNT(カテゴリースコア!U197),\"\"),\"\")","v":""}]
[{"$f":"IF(データセット1!C196<>\"\",データセット1!C196,\"\")","v":""},{"$f":"IF(データセット1!C196<>\"\",データセット1!D196-カテゴリースコア!$E$11,\"\")","v":""},{"$f":"IF(C$1<>\"\",IF($A196<>\"\",COUNT(カテゴリースコア!M198),\"\"),\"\")","v":""},{"$f":"IF(D$1<>\"\",IF($A196<>\"\",COUNT(カテゴリースコア!N198),\"\"),\"\")","v":""},{"$f":"IF(E$1<>\"\",IF($A196<>\"\",COUNT(カテゴリースコア!O198),\"\"),\"\")","v":""},{"$f":"IF(F$1<>\"\",IF($A196<>\"\",COUNT(カテゴリースコア!P198),\"\"),\"\")","v":""},{"$f":"IF(G$1<>\"\",IF($A196<>\"\",COUNT(カテゴリースコア!Q198),\"\"),\"\")","v":""},{"$f":"IF(H$1<>\"\",IF($A196<>\"\",COUNT(カテゴリースコア!R198),\"\"),\"\")","v":""},{"$f":"IF(I$1<>\"\",IF($A196<>\"\",COUNT(カテゴリースコア!S198),\"\"),\"\")","v":""},{"$f":"IF(J$1<>\"\",IF($A196<>\"\",COUNT(カテゴリースコア!T198),\"\"),\"\")","v":""},{"$f":"IF(K$1<>\"\",IF($A196<>\"\",COUNT(カテゴリースコア!U198),\"\"),\"\")","v":""}]
[{"$f":"IF(データセット1!C197<>\"\",データセット1!C197,\"\")","v":""},{"$f":"IF(データセット1!C197<>\"\",データセット1!D197-カテゴリースコア!$E$11,\"\")","v":""},{"$f":"IF(C$1<>\"\",IF($A197<>\"\",COUNT(カテゴリースコア!M199),\"\"),\"\")","v":""},{"$f":"IF(D$1<>\"\",IF($A197<>\"\",COUNT(カテゴリースコア!N199),\"\"),\"\")","v":""},{"$f":"IF(E$1<>\"\",IF($A197<>\"\",COUNT(カテゴリースコア!O199),\"\"),\"\")","v":""},{"$f":"IF(F$1<>\"\",IF($A197<>\"\",COUNT(カテゴリースコア!P199),\"\"),\"\")","v":""},{"$f":"IF(G$1<>\"\",IF($A197<>\"\",COUNT(カテゴリースコア!Q199),\"\"),\"\")","v":""},{"$f":"IF(H$1<>\"\",IF($A197<>\"\",COUNT(カテゴリースコア!R199),\"\"),\"\")","v":""},{"$f":"IF(I$1<>\"\",IF($A197<>\"\",COUNT(カテゴリースコア!S199),\"\"),\"\")","v":""},{"$f":"IF(J$1<>\"\",IF($A197<>\"\",COUNT(カテゴリースコア!T199),\"\"),\"\")","v":""},{"$f":"IF(K$1<>\"\",IF($A197<>\"\",COUNT(カテゴリースコア!U199),\"\"),\"\")","v":""}]
[{"$f":"IF(データセット1!C198<>\"\",データセット1!C198,\"\")","v":""},{"$f":"IF(データセット1!C198<>\"\",データセット1!D198-カテゴリースコア!$E$11,\"\")","v":""},{"$f":"IF(C$1<>\"\",IF($A198<>\"\",COUNT(カテゴリースコア!M200),\"\"),\"\")","v":""},{"$f":"IF(D$1<>\"\",IF($A198<>\"\",COUNT(カテゴリースコア!N200),\"\"),\"\")","v":""},{"$f":"IF(E$1<>\"\",IF($A198<>\"\",COUNT(カテゴリースコア!O200),\"\"),\"\")","v":""},{"$f":"IF(F$1<>\"\",IF($A198<>\"\",COUNT(カテゴリースコア!P200),\"\"),\"\")","v":""},{"$f":"IF(G$1<>\"\",IF($A198<>\"\",COUNT(カテゴリースコア!Q200),\"\"),\"\")","v":""},{"$f":"IF(H$1<>\"\",IF($A198<>\"\",COUNT(カテゴリースコア!R200),\"\"),\"\")","v":""},{"$f":"IF(I$1<>\"\",IF($A198<>\"\",COUNT(カテゴリースコア!S200),\"\"),\"\")","v":""},{"$f":"IF(J$1<>\"\",IF($A198<>\"\",COUNT(カテゴリースコア!T200),\"\"),\"\")","v":""},{"$f":"IF(K$1<>\"\",IF($A198<>\"\",COUNT(カテゴリースコア!U200),\"\"),\"\")","v":""}]
[{"$f":"IF(データセット1!C199<>\"\",データセット1!C199,\"\")","v":""},{"$f":"IF(データセット1!C199<>\"\",データセット1!D199-カテゴリースコア!$E$11,\"\")","v":""},{"$f":"IF(C$1<>\"\",IF($A199<>\"\",COUNT(カテゴリースコア!M201),\"\"),\"\")","v":""},{"$f":"IF(D$1<>\"\",IF($A199<>\"\",COUNT(カテゴリースコア!N201),\"\"),\"\")","v":""},{"$f":"IF(E$1<>\"\",IF($A199<>\"\",COUNT(カテゴリースコア!O201),\"\"),\"\")","v":""},{"$f":"IF(F$1<>\"\",IF($A199<>\"\",COUNT(カテゴリースコア!P201),\"\"),\"\")","v":""},{"$f":"IF(G$1<>\"\",IF($A199<>\"\",COUNT(カテゴリースコア!Q201),\"\"),\"\")","v":""},{"$f":"IF(H$1<>\"\",IF($A199<>\"\",COUNT(カテゴリースコア!R201),\"\"),\"\")","v":""},{"$f":"IF(I$1<>\"\",IF($A199<>\"\",COUNT(カテゴリースコア!S201),\"\"),\"\")","v":""},{"$f":"IF(J$1<>\"\",IF($A199<>\"\",COUNT(カテゴリースコア!T201),\"\"),\"\")","v":""},{"$f":"IF(K$1<>\"\",IF($A199<>\"\",COUNT(カテゴリースコア!U201),\"\"),\"\")","v":""}]
[{"$f":"IF(データセット1!C200<>\"\",データセット1!C200,\"\")","v":""},{"$f":"IF(データセット1!C200<>\"\",データセット1!D200-カテゴリースコア!$E$11,\"\")","v":""},{"$f":"IF(C$1<>\"\",IF($A200<>\"\",COUNT(カテゴリースコア!M202),\"\"),\"\")","v":""},{"$f":"IF(D$1<>\"\",IF($A200<>\"\",COUNT(カテゴリースコア!N202),\"\"),\"\")","v":""},{"$f":"IF(E$1<>\"\",IF($A200<>\"\",COUNT(カテゴリースコア!O202),\"\"),\"\")","v":""},{"$f":"IF(F$1<>\"\",IF($A200<>\"\",COUNT(カテゴリースコア!P202),\"\"),\"\")","v":""},{"$f":"IF(G$1<>\"\",IF($A200<>\"\",COUNT(カテゴリースコア!Q202),\"\"),\"\")","v":""},{"$f":"IF(H$1<>\"\",IF($A200<>\"\",COUNT(カテゴリースコア!R202),\"\"),\"\")","v":""},{"$f":"IF(I$1<>\"\",IF($A200<>\"\",COUNT(カテゴリースコア!S202),\"\"),\"\")","v":""},{"$f":"IF(J$1<>\"\",IF($A200<>\"\",COUNT(カテゴリースコア!T202),\"\"),\"\")","v":""},{"$f":"IF(K$1<>\"\",IF($A200<>\"\",COUNT(カテゴリースコア!U202),\"\"),\"\")","v":""}]
[{"$f":"IF(データセット1!C201<>\"\",データセット1!C201,\"\")","v":""},{"$f":"IF(データセット1!C201<>\"\",データセット1!D201-カテゴリースコア!$E$11,\"\")","v":""},{"$f":"IF(C$1<>\"\",IF($A201<>\"\",COUNT(カテゴリースコア!M203),\"\"),\"\")","v":""},{"$f":"IF(D$1<>\"\",IF($A201<>\"\",COUNT(カテゴリースコア!N203),\"\"),\"\")","v":""},{"$f":"IF(E$1<>\"\",IF($A201<>\"\",COUNT(カテゴリースコア!O203),\"\"),\"\")","v":""},{"$f":"IF(F$1<>\"\",IF($A201<>\"\",COUNT(カテゴリースコア!P203),\"\"),\"\")","v":""},{"$f":"IF(G$1<>\"\",IF($A201<>\"\",COUNT(カテゴリースコア!Q203),\"\"),\"\")","v":""},{"$f":"IF(H$1<>\"\",IF($A201<>\"\",COUNT(カテゴリースコア!R203),\"\"),\"\")","v":""},{"$f":"IF(I$1<>\"\",IF($A201<>\"\",COUNT(カテゴリースコア!S203),\"\"),\"\")","v":""},{"$f":"IF(J$1<>\"\",IF($A201<>\"\",COUNT(カテゴリースコア!T203),\"\"),\"\")","v":""},{"$f":"IF(K$1<>\"\",IF($A201<>\"\",COUNT(カテゴリースコア!U203),\"\"),\"\")","v":""}]
[{"$f":"IF(データセット1!C202<>\"\",データセット1!C202,\"\")","v":""},{"$f":"IF(データセット1!C202<>\"\",データセット1!D202-カテゴリースコア!$E$11,\"\")","v":""},{"$f":"IF(C$1<>\"\",IF($A202<>\"\",COUNT(カテゴリースコア!M204),\"\"),\"\")","v":""},{"$f":"IF(D$1<>\"\",IF($A202<>\"\",COUNT(カテゴリースコア!N204),\"\"),\"\")","v":""},{"$f":"IF(E$1<>\"\",IF($A202<>\"\",COUNT(カテゴリースコア!O204),\"\"),\"\")","v":""},{"$f":"IF(F$1<>\"\",IF($A202<>\"\",COUNT(カテゴリースコア!P204),\"\"),\"\")","v":""},{"$f":"IF(G$1<>\"\",IF($A202<>\"\",COUNT(カテゴリースコア!Q204),\"\"),\"\")","v":""},{"$f":"IF(H$1<>\"\",IF($A202<>\"\",COUNT(カテゴリースコア!R204),\"\"),\"\")","v":""},{"$f":"IF(I$1<>\"\",IF($A202<>\"\",COUNT(カテゴリースコア!S204),\"\"),\"\")","v":""},{"$f":"IF(J$1<>\"\",IF($A202<>\"\",COUNT(カテゴリースコア!T204),\"\"),\"\")","v":""},{"$f":"IF(K$1<>\"\",IF($A202<>\"\",COUNT(カテゴリースコア!U204),\"\"),\"\")","v":""}]
[{"$f":"IF(データセット1!C203<>\"\",データセット1!C203,\"\")","v":""},{"$f":"IF(データセット1!C203<>\"\",データセット1!D203-カテゴリースコア!$E$11,\"\")","v":""},{"$f":"IF(C$1<>\"\",IF($A203<>\"\",COUNT(カテゴリースコア!M205),\"\"),\"\")","v":""},{"$f":"IF(D$1<>\"\",IF($A203<>\"\",COUNT(カテゴリースコア!N205),\"\"),\"\")","v":""},{"$f":"IF(E$1<>\"\",IF($A203<>\"\",COUNT(カテゴリースコア!O205),\"\"),\"\")","v":""},{"$f":"IF(F$1<>\"\",IF($A203<>\"\",COUNT(カテゴリースコア!P205),\"\"),\"\")","v":""},{"$f":"IF(G$1<>\"\",IF($A203<>\"\",COUNT(カテゴリースコア!Q205),\"\"),\"\")","v":""},{"$f":"IF(H$1<>\"\",IF($A203<>\"\",COUNT(カテゴリースコア!R205),\"\"),\"\")","v":""},{"$f":"IF(I$1<>\"\",IF($A203<>\"\",COUNT(カテゴリースコア!S205),\"\"),\"\")","v":""},{"$f":"IF(J$1<>\"\",IF($A203<>\"\",COUNT(カテゴリースコア!T205),\"\"),\"\")","v":""},{"$f":"IF(K$1<>\"\",IF($A203<>\"\",COUNT(カテゴリースコア!U205),\"\"),\"\")","v":""}]
[{"$f":"IF(データセット1!C204<>\"\",データセット1!C204,\"\")","v":""},{"$f":"IF(データセット1!C204<>\"\",データセット1!D204-カテゴリースコア!$E$11,\"\")","v":""},{"$f":"IF(C$1<>\"\",IF($A204<>\"\",COUNT(カテゴリースコア!M206),\"\"),\"\")","v":""},{"$f":"IF(D$1<>\"\",IF($A204<>\"\",COUNT(カテゴリースコア!N206),\"\"),\"\")","v":""},{"$f":"IF(E$1<>\"\",IF($A204<>\"\",COUNT(カテゴリースコア!O206),\"\"),\"\")","v":""},{"$f":"IF(F$1<>\"\",IF($A204<>\"\",COUNT(カテゴリースコア!P206),\"\"),\"\")","v":""},{"$f":"IF(G$1<>\"\",IF($A204<>\"\",COUNT(カテゴリースコア!Q206),\"\"),\"\")","v":""},{"$f":"IF(H$1<>\"\",IF($A204<>\"\",COUNT(カテゴリースコア!R206),\"\"),\"\")","v":""},{"$f":"IF(I$1<>\"\",IF($A204<>\"\",COUNT(カテゴリースコア!S206),\"\"),\"\")","v":""},{"$f":"IF(J$1<>\"\",IF($A204<>\"\",COUNT(カテゴリースコア!T206),\"\"),\"\")","v":""},{"$f":"IF(K$1<>\"\",IF($A204<>\"\",COUNT(カテゴリースコア!U206),\"\"),\"\")","v":""}]
[{"$f":"IF(データセット1!C205<>\"\",データセット1!C205,\"\")","v":""},{"$f":"IF(データセット1!C205<>\"\",データセット1!D205-カテゴリースコア!$E$11,\"\")","v":""},{"$f":"IF(C$1<>\"\",IF($A205<>\"\",COUNT(カテゴリースコア!M207),\"\"),\"\")","v":""},{"$f":"IF(D$1<>\"\",IF($A205<>\"\",COUNT(カテゴリースコア!N207),\"\"),\"\")","v":""},{"$f":"IF(E$1<>\"\",IF($A205<>\"\",COUNT(カテゴリースコア!O207),\"\"),\"\")","v":""},{"$f":"IF(F$1<>\"\",IF($A205<>\"\",COUNT(カテゴリースコア!P207),\"\"),\"\")","v":""},{"$f":"IF(G$1<>\"\",IF($A205<>\"\",COUNT(カテゴリースコア!Q207),\"\"),\"\")","v":""},{"$f":"IF(H$1<>\"\",IF($A205<>\"\",COUNT(カテゴリースコア!R207),\"\"),\"\")","v":""},{"$f":"IF(I$1<>\"\",IF($A205<>\"\",COUNT(カテゴリースコア!S207),\"\"),\"\")","v":""},{"$f":"IF(J$1<>\"\",IF($A205<>\"\",COUNT(カテゴリースコア!T207),\"\"),\"\")","v":""},{"$f":"IF(K$1<>\"\",IF($A205<>\"\",COUNT(カテゴリースコア!U207),\"\"),\"\")","v":""}]
[{"$f":"IF(データセット1!C206<>\"\",データセット1!C206,\"\")","v":""},{"$f":"IF(データセット1!C206<>\"\",データセット1!D206-カテゴリースコア!$E$11,\"\")","v":""},{"$f":"IF(C$1<>\"\",IF($A206<>\"\",COUNT(カテゴリースコア!M208),\"\"),\"\")","v":""},{"$f":"IF(D$1<>\"\",IF($A206<>\"\",COUNT(カテゴリースコア!N208),\"\"),\"\")","v":""},{"$f":"IF(E$1<>\"\",IF($A206<>\"\",COUNT(カテゴリースコア!O208),\"\"),\"\")","v":""},{"$f":"IF(F$1<>\"\",IF($A206<>\"\",COUNT(カテゴリースコア!P208),\"\"),\"\")","v":""},{"$f":"IF(G$1<>\"\",IF($A206<>\"\",COUNT(カテゴリースコア!Q208),\"\"),\"\")","v":""},{"$f":"IF(H$1<>\"\",IF($A206<>\"\",COUNT(カテゴリースコア!R208),\"\"),\"\")","v":""},{"$f":"IF(I$1<>\"\",IF($A206<>\"\",COUNT(カテゴリースコア!S208),\"\"),\"\")","v":""},{"$f":"IF(J$1<>\"\",IF($A206<>\"\",COUNT(カテゴリースコア!T208),\"\"),\"\")","v":""},{"$f":"IF(K$1<>\"\",IF($A206<>\"\",COUNT(カテゴリースコア!U208),\"\"),\"\")","v":""}]
[{"$f":"IF(データセット1!C207<>\"\",データセット1!C207,\"\")","v":""},{"$f":"IF(データセット1!C207<>\"\",データセット1!D207-カテゴリースコア!$E$11,\"\")","v":""},{"$f":"IF(C$1<>\"\",IF($A207<>\"\",COUNT(カテゴリースコア!M209),\"\"),\"\")","v":""},{"$f":"IF(D$1<>\"\",IF($A207<>\"\",COUNT(カテゴリースコア!N209),\"\"),\"\")","v":""},{"$f":"IF(E$1<>\"\",IF($A207<>\"\",COUNT(カテゴリースコア!O209),\"\"),\"\")","v":""},{"$f":"IF(F$1<>\"\",IF($A207<>\"\",COUNT(カテゴリースコア!P209),\"\"),\"\")","v":""},{"$f":"IF(G$1<>\"\",IF($A207<>\"\",COUNT(カテゴリースコア!Q209),\"\"),\"\")","v":""},{"$f":"IF(H$1<>\"\",IF($A207<>\"\",COUNT(カテゴリースコア!R209),\"\"),\"\")","v":""},{"$f":"IF(I$1<>\"\",IF($A207<>\"\",COUNT(カテゴリースコア!S209),\"\"),\"\")","v":""},{"$f":"IF(J$1<>\"\",IF($A207<>\"\",COUNT(カテゴリースコア!T209),\"\"),\"\")","v":""},{"$f":"IF(K$1<>\"\",IF($A207<>\"\",COUNT(カテゴリースコア!U209),\"\"),\"\")","v":""}]
[{"$f":"IF(データセット1!C208<>\"\",データセット1!C208,\"\")","v":""},{"$f":"IF(データセット1!C208<>\"\",データセット1!D208-カテゴリースコア!$E$11,\"\")","v":""},{"$f":"IF(C$1<>\"\",IF($A208<>\"\",COUNT(カテゴリースコア!M210),\"\"),\"\")","v":""},{"$f":"IF(D$1<>\"\",IF($A208<>\"\",COUNT(カテゴリースコア!N210),\"\"),\"\")","v":""},{"$f":"IF(E$1<>\"\",IF($A208<>\"\",COUNT(カテゴリースコア!O210),\"\"),\"\")","v":""},{"$f":"IF(F$1<>\"\",IF($A208<>\"\",COUNT(カテゴリースコア!P210),\"\"),\"\")","v":""},{"$f":"IF(G$1<>\"\",IF($A208<>\"\",COUNT(カテゴリースコア!Q210),\"\"),\"\")","v":""},{"$f":"IF(H$1<>\"\",IF($A208<>\"\",COUNT(カテゴリースコア!R210),\"\"),\"\")","v":""},{"$f":"IF(I$1<>\"\",IF($A208<>\"\",COUNT(カテゴリースコア!S210),\"\"),\"\")","v":""},{"$f":"IF(J$1<>\"\",IF($A208<>\"\",COUNT(カテゴリースコア!T210),\"\"),\"\")","v":""},{"$f":"IF(K$1<>\"\",IF($A208<>\"\",COUNT(カテゴリースコア!U210),\"\"),\"\")","v":""}]
[{"$f":"IF(データセット1!C209<>\"\",データセット1!C209,\"\")","v":""},{"$f":"IF(データセット1!C209<>\"\",データセット1!D209-カテゴリースコア!$E$11,\"\")","v":""},{"$f":"IF(C$1<>\"\",IF($A209<>\"\",COUNT(カテゴリースコア!M211),\"\"),\"\")","v":""},{"$f":"IF(D$1<>\"\",IF($A209<>\"\",COUNT(カテゴリースコア!N211),\"\"),\"\")","v":""},{"$f":"IF(E$1<>\"\",IF($A209<>\"\",COUNT(カテゴリースコア!O211),\"\"),\"\")","v":""},{"$f":"IF(F$1<>\"\",IF($A209<>\"\",COUNT(カテゴリースコア!P211),\"\"),\"\")","v":""},{"$f":"IF(G$1<>\"\",IF($A209<>\"\",COUNT(カテゴリースコア!Q211),\"\"),\"\")","v":""},{"$f":"IF(H$1<>\"\",IF($A209<>\"\",COUNT(カテゴリースコア!R211),\"\"),\"\")","v":""},{"$f":"IF(I$1<>\"\",IF($A209<>\"\",COUNT(カテゴリースコア!S211),\"\"),\"\")","v":""},{"$f":"IF(J$1<>\"\",IF($A209<>\"\",COUNT(カテゴリースコア!T211),\"\"),\"\")","v":""},{"$f":"IF(K$1<>\"\",IF($A209<>\"\",COUNT(カテゴリースコア!U211),\"\"),\"\")","v":""}]
[{"$f":"IF(データセット1!C210<>\"\",データセット1!C210,\"\")","v":""},{"$f":"IF(データセット1!C210<>\"\",データセット1!D210-カテゴリースコア!$E$11,\"\")","v":""},{"$f":"IF(C$1<>\"\",IF($A210<>\"\",COUNT(カテゴリースコア!M212),\"\"),\"\")","v":""},{"$f":"IF(D$1<>\"\",IF($A210<>\"\",COUNT(カテゴリースコア!N212),\"\"),\"\")","v":""},{"$f":"IF(E$1<>\"\",IF($A210<>\"\",COUNT(カテゴリースコア!O212),\"\"),\"\")","v":""},{"$f":"IF(F$1<>\"\",IF($A210<>\"\",COUNT(カテゴリースコア!P212),\"\"),\"\")","v":""},{"$f":"IF(G$1<>\"\",IF($A210<>\"\",COUNT(カテゴリースコア!Q212),\"\"),\"\")","v":""},{"$f":"IF(H$1<>\"\",IF($A210<>\"\",COUNT(カテゴリースコア!R212),\"\"),\"\")","v":""},{"$f":"IF(I$1<>\"\",IF($A210<>\"\",COUNT(カテゴリースコア!S212),\"\"),\"\")","v":""},{"$f":"IF(J$1<>\"\",IF($A210<>\"\",COUNT(カテゴリースコア!T212),\"\"),\"\")","v":""},{"$f":"IF(K$1<>\"\",IF($A210<>\"\",COUNT(カテゴリースコア!U212),\"\"),\"\")","v":""}]
[{"$f":"IF(データセット1!C211<>\"\",データセット1!C211,\"\")","v":""},{"$f":"IF(データセット1!C211<>\"\",データセット1!D211-カテゴリースコア!$E$11,\"\")","v":""},{"$f":"IF(C$1<>\"\",IF($A211<>\"\",COUNT(カテゴリースコア!M213),\"\"),\"\")","v":""},{"$f":"IF(D$1<>\"\",IF($A211<>\"\",COUNT(カテゴリースコア!N213),\"\"),\"\")","v":""},{"$f":"IF(E$1<>\"\",IF($A211<>\"\",COUNT(カテゴリースコア!O213),\"\"),\"\")","v":""},{"$f":"IF(F$1<>\"\",IF($A211<>\"\",COUNT(カテゴリースコア!P213),\"\"),\"\")","v":""},{"$f":"IF(G$1<>\"\",IF($A211<>\"\",COUNT(カテゴリースコア!Q213),\"\"),\"\")","v":""},{"$f":"IF(H$1<>\"\",IF($A211<>\"\",COUNT(カテゴリースコア!R213),\"\"),\"\")","v":""},{"$f":"IF(I$1<>\"\",IF($A211<>\"\",COUNT(カテゴリースコア!S213),\"\"),\"\")","v":""},{"$f":"IF(J$1<>\"\",IF($A211<>\"\",COUNT(カテゴリースコア!T213),\"\"),\"\")","v":""},{"$f":"IF(K$1<>\"\",IF($A211<>\"\",COUNT(カテゴリースコア!U213),\"\"),\"\")","v":""}]
[{"$f":"IF(データセット1!C212<>\"\",データセット1!C212,\"\")","v":""},{"$f":"IF(データセット1!C212<>\"\",データセット1!D212-カテゴリースコア!$E$11,\"\")","v":""},{"$f":"IF(C$1<>\"\",IF($A212<>\"\",COUNT(カテゴリースコア!M214),\"\"),\"\")","v":""},{"$f":"IF(D$1<>\"\",IF($A212<>\"\",COUNT(カテゴリースコア!N214),\"\"),\"\")","v":""},{"$f":"IF(E$1<>\"\",IF($A212<>\"\",COUNT(カテゴリースコア!O214),\"\"),\"\")","v":""},{"$f":"IF(F$1<>\"\",IF($A212<>\"\",COUNT(カテゴリースコア!P214),\"\"),\"\")","v":""},{"$f":"IF(G$1<>\"\",IF($A212<>\"\",COUNT(カテゴリースコア!Q214),\"\"),\"\")","v":""},{"$f":"IF(H$1<>\"\",IF($A212<>\"\",COUNT(カテゴリースコア!R214),\"\"),\"\")","v":""},{"$f":"IF(I$1<>\"\",IF($A212<>\"\",COUNT(カテゴリースコア!S214),\"\"),\"\")","v":""},{"$f":"IF(J$1<>\"\",IF($A212<>\"\",COUNT(カテゴリースコア!T214),\"\"),\"\")","v":""},{"$f":"IF(K$1<>\"\",IF($A212<>\"\",COUNT(カテゴリースコア!U214),\"\"),\"\")","v":""}]
[{"$f":"IF(データセット1!C213<>\"\",データセット1!C213,\"\")","v":""},{"$f":"IF(データセット1!C213<>\"\",データセット1!D213-カテゴリースコア!$E$11,\"\")","v":""},{"$f":"IF(C$1<>\"\",IF($A213<>\"\",COUNT(カテゴリースコア!M215),\"\"),\"\")","v":""},{"$f":"IF(D$1<>\"\",IF($A213<>\"\",COUNT(カテゴリースコア!N215),\"\"),\"\")","v":""},{"$f":"IF(E$1<>\"\",IF($A213<>\"\",COUNT(カテゴリースコア!O215),\"\"),\"\")","v":""},{"$f":"IF(F$1<>\"\",IF($A213<>\"\",COUNT(カテゴリースコア!P215),\"\"),\"\")","v":""},{"$f":"IF(G$1<>\"\",IF($A213<>\"\",COUNT(カテゴリースコア!Q215),\"\"),\"\")","v":""},{"$f":"IF(H$1<>\"\",IF($A213<>\"\",COUNT(カテゴリースコア!R215),\"\"),\"\")","v":""},{"$f":"IF(I$1<>\"\",IF($A213<>\"\",COUNT(カテゴリースコア!S215),\"\"),\"\")","v":""},{"$f":"IF(J$1<>\"\",IF($A213<>\"\",COUNT(カテゴリースコア!T215),\"\"),\"\")","v":""},{"$f":"IF(K$1<>\"\",IF($A213<>\"\",COUNT(カテゴリースコア!U215),\"\"),\"\")","v":""}]
[{"$f":"IF(データセット1!C214<>\"\",データセット1!C214,\"\")","v":""},{"$f":"IF(データセット1!C214<>\"\",データセット1!D214-カテゴリースコア!$E$11,\"\")","v":""},{"$f":"IF(C$1<>\"\",IF($A214<>\"\",COUNT(カテゴリースコア!M216),\"\"),\"\")","v":""},{"$f":"IF(D$1<>\"\",IF($A214<>\"\",COUNT(カテゴリースコア!N216),\"\"),\"\")","v":""},{"$f":"IF(E$1<>\"\",IF($A214<>\"\",COUNT(カテゴリースコア!O216),\"\"),\"\")","v":""},{"$f":"IF(F$1<>\"\",IF($A214<>\"\",COUNT(カテゴリースコア!P216),\"\"),\"\")","v":""},{"$f":"IF(G$1<>\"\",IF($A214<>\"\",COUNT(カテゴリースコア!Q216),\"\"),\"\")","v":""},{"$f":"IF(H$1<>\"\",IF($A214<>\"\",COUNT(カテゴリースコア!R216),\"\"),\"\")","v":""},{"$f":"IF(I$1<>\"\",IF($A214<>\"\",COUNT(カテゴリースコア!S216),\"\"),\"\")","v":""},{"$f":"IF(J$1<>\"\",IF($A214<>\"\",COUNT(カテゴリースコア!T216),\"\"),\"\")","v":""},{"$f":"IF(K$1<>\"\",IF($A214<>\"\",COUNT(カテゴリースコア!U216),\"\"),\"\")","v":""}]
[{"$f":"IF(データセット1!C215<>\"\",データセット1!C215,\"\")","v":""},{"$f":"IF(データセット1!C215<>\"\",データセット1!D215-カテゴリースコア!$E$11,\"\")","v":""},{"$f":"IF(C$1<>\"\",IF($A215<>\"\",COUNT(カテゴリースコア!M217),\"\"),\"\")","v":""},{"$f":"IF(D$1<>\"\",IF($A215<>\"\",COUNT(カテゴリースコア!N217),\"\"),\"\")","v":""},{"$f":"IF(E$1<>\"\",IF($A215<>\"\",COUNT(カテゴリースコア!O217),\"\"),\"\")","v":""},{"$f":"IF(F$1<>\"\",IF($A215<>\"\",COUNT(カテゴリースコア!P217),\"\"),\"\")","v":""},{"$f":"IF(G$1<>\"\",IF($A215<>\"\",COUNT(カテゴリースコア!Q217),\"\"),\"\")","v":""},{"$f":"IF(H$1<>\"\",IF($A215<>\"\",COUNT(カテゴリースコア!R217),\"\"),\"\")","v":""},{"$f":"IF(I$1<>\"\",IF($A215<>\"\",COUNT(カテゴリースコア!S217),\"\"),\"\")","v":""},{"$f":"IF(J$1<>\"\",IF($A215<>\"\",COUNT(カテゴリースコア!T217),\"\"),\"\")","v":""},{"$f":"IF(K$1<>\"\",IF($A215<>\"\",COUNT(カテゴリースコア!U217),\"\"),\"\")","v":""}]
[{"$f":"IF(データセット1!C216<>\"\",データセット1!C216,\"\")","v":""},{"$f":"IF(データセット1!C216<>\"\",データセット1!D216-カテゴリースコア!$E$11,\"\")","v":""},{"$f":"IF(C$1<>\"\",IF($A216<>\"\",COUNT(カテゴリースコア!M218),\"\"),\"\")","v":""},{"$f":"IF(D$1<>\"\",IF($A216<>\"\",COUNT(カテゴリースコア!N218),\"\"),\"\")","v":""},{"$f":"IF(E$1<>\"\",IF($A216<>\"\",COUNT(カテゴリースコア!O218),\"\"),\"\")","v":""},{"$f":"IF(F$1<>\"\",IF($A216<>\"\",COUNT(カテゴリースコア!P218),\"\"),\"\")","v":""},{"$f":"IF(G$1<>\"\",IF($A216<>\"\",COUNT(カテゴリースコア!Q218),\"\"),\"\")","v":""},{"$f":"IF(H$1<>\"\",IF($A216<>\"\",COUNT(カテゴリースコア!R218),\"\"),\"\")","v":""},{"$f":"IF(I$1<>\"\",IF($A216<>\"\",COUNT(カテゴリースコア!S218),\"\"),\"\")","v":""},{"$f":"IF(J$1<>\"\",IF($A216<>\"\",COUNT(カテゴリースコア!T218),\"\"),\"\")","v":""},{"$f":"IF(K$1<>\"\",IF($A216<>\"\",COUNT(カテゴリースコア!U218),\"\"),\"\")","v":""}]
[{"$f":"IF(データセット1!C217<>\"\",データセット1!C217,\"\")","v":""},{"$f":"IF(データセット1!C217<>\"\",データセット1!D217-カテゴリースコア!$E$11,\"\")","v":""},{"$f":"IF(C$1<>\"\",IF($A217<>\"\",COUNT(カテゴリースコア!M219),\"\"),\"\")","v":""},{"$f":"IF(D$1<>\"\",IF($A217<>\"\",COUNT(カテゴリースコア!N219),\"\"),\"\")","v":""},{"$f":"IF(E$1<>\"\",IF($A217<>\"\",COUNT(カテゴリースコア!O219),\"\"),\"\")","v":""},{"$f":"IF(F$1<>\"\",IF($A217<>\"\",COUNT(カテゴリースコア!P219),\"\"),\"\")","v":""},{"$f":"IF(G$1<>\"\",IF($A217<>\"\",COUNT(カテゴリースコア!Q219),\"\"),\"\")","v":""},{"$f":"IF(H$1<>\"\",IF($A217<>\"\",COUNT(カテゴリースコア!R219),\"\"),\"\")","v":""},{"$f":"IF(I$1<>\"\",IF($A217<>\"\",COUNT(カテゴリースコア!S219),\"\"),\"\")","v":""},{"$f":"IF(J$1<>\"\",IF($A217<>\"\",COUNT(カテゴリースコア!T219),\"\"),\"\")","v":""},{"$f":"IF(K$1<>\"\",IF($A217<>\"\",COUNT(カテゴリースコア!U219),\"\"),\"\")","v":""}]
[{"$f":"IF(データセット1!C218<>\"\",データセット1!C218,\"\")","v":""},{"$f":"IF(データセット1!C218<>\"\",データセット1!D218-カテゴリースコア!$E$11,\"\")","v":""},{"$f":"IF(C$1<>\"\",IF($A218<>\"\",COUNT(カテゴリースコア!M220),\"\"),\"\")","v":""},{"$f":"IF(D$1<>\"\",IF($A218<>\"\",COUNT(カテゴリースコア!N220),\"\"),\"\")","v":""},{"$f":"IF(E$1<>\"\",IF($A218<>\"\",COUNT(カテゴリースコア!O220),\"\"),\"\")","v":""},{"$f":"IF(F$1<>\"\",IF($A218<>\"\",COUNT(カテゴリースコア!P220),\"\"),\"\")","v":""},{"$f":"IF(G$1<>\"\",IF($A218<>\"\",COUNT(カテゴリースコア!Q220),\"\"),\"\")","v":""},{"$f":"IF(H$1<>\"\",IF($A218<>\"\",COUNT(カテゴリースコア!R220),\"\"),\"\")","v":""},{"$f":"IF(I$1<>\"\",IF($A218<>\"\",COUNT(カテゴリースコア!S220),\"\"),\"\")","v":""},{"$f":"IF(J$1<>\"\",IF($A218<>\"\",COUNT(カテゴリースコア!T220),\"\"),\"\")","v":""},{"$f":"IF(K$1<>\"\",IF($A218<>\"\",COUNT(カテゴリースコア!U220),\"\"),\"\")","v":""}]
[{"$f":"IF(データセット1!C219<>\"\",データセット1!C219,\"\")","v":""},{"$f":"IF(データセット1!C219<>\"\",データセット1!D219-カテゴリースコア!$E$11,\"\")","v":""},{"$f":"IF(C$1<>\"\",IF($A219<>\"\",COUNT(カテゴリースコア!M221),\"\"),\"\")","v":""},{"$f":"IF(D$1<>\"\",IF($A219<>\"\",COUNT(カテゴリースコア!N221),\"\"),\"\")","v":""},{"$f":"IF(E$1<>\"\",IF($A219<>\"\",COUNT(カテゴリースコア!O221),\"\"),\"\")","v":""},{"$f":"IF(F$1<>\"\",IF($A219<>\"\",COUNT(カテゴリースコア!P221),\"\"),\"\")","v":""},{"$f":"IF(G$1<>\"\",IF($A219<>\"\",COUNT(カテゴリースコア!Q221),\"\"),\"\")","v":""},{"$f":"IF(H$1<>\"\",IF($A219<>\"\",COUNT(カテゴリースコア!R221),\"\"),\"\")","v":""},{"$f":"IF(I$1<>\"\",IF($A219<>\"\",COUNT(カテゴリースコア!S221),\"\"),\"\")","v":""},{"$f":"IF(J$1<>\"\",IF($A219<>\"\",COUNT(カテゴリースコア!T221),\"\"),\"\")","v":""},{"$f":"IF(K$1<>\"\",IF($A219<>\"\",COUNT(カテゴリースコア!U221),\"\"),\"\")","v":""}]
[{"$f":"IF(データセット1!C220<>\"\",データセット1!C220,\"\")","v":""},{"$f":"IF(データセット1!C220<>\"\",データセット1!D220-カテゴリースコア!$E$11,\"\")","v":""},{"$f":"IF(C$1<>\"\",IF($A220<>\"\",COUNT(カテゴリースコア!M222),\"\"),\"\")","v":""},{"$f":"IF(D$1<>\"\",IF($A220<>\"\",COUNT(カテゴリースコア!N222),\"\"),\"\")","v":""},{"$f":"IF(E$1<>\"\",IF($A220<>\"\",COUNT(カテゴリースコア!O222),\"\"),\"\")","v":""},{"$f":"IF(F$1<>\"\",IF($A220<>\"\",COUNT(カテゴリースコア!P222),\"\"),\"\")","v":""},{"$f":"IF(G$1<>\"\",IF($A220<>\"\",COUNT(カテゴリースコア!Q222),\"\"),\"\")","v":""},{"$f":"IF(H$1<>\"\",IF($A220<>\"\",COUNT(カテゴリースコア!R222),\"\"),\"\")","v":""},{"$f":"IF(I$1<>\"\",IF($A220<>\"\",COUNT(カテゴリースコア!S222),\"\"),\"\")","v":""},{"$f":"IF(J$1<>\"\",IF($A220<>\"\",COUNT(カテゴリースコア!T222),\"\"),\"\")","v":""},{"$f":"IF(K$1<>\"\",IF($A220<>\"\",COUNT(カテゴリースコア!U222),\"\"),\"\")","v":""}]
[{"$f":"IF(データセット1!C221<>\"\",データセット1!C221,\"\")","v":""},{"$f":"IF(データセット1!C221<>\"\",データセット1!D221-カテゴリースコア!$E$11,\"\")","v":""},{"$f":"IF(C$1<>\"\",IF($A221<>\"\",COUNT(カテゴリースコア!M223),\"\"),\"\")","v":""},{"$f":"IF(D$1<>\"\",IF($A221<>\"\",COUNT(カテゴリースコア!N223),\"\"),\"\")","v":""},{"$f":"IF(E$1<>\"\",IF($A221<>\"\",COUNT(カテゴリースコア!O223),\"\"),\"\")","v":""},{"$f":"IF(F$1<>\"\",IF($A221<>\"\",COUNT(カテゴリースコア!P223),\"\"),\"\")","v":""},{"$f":"IF(G$1<>\"\",IF($A221<>\"\",COUNT(カテゴリースコア!Q223),\"\"),\"\")","v":""},{"$f":"IF(H$1<>\"\",IF($A221<>\"\",COUNT(カテゴリースコア!R223),\"\"),\"\")","v":""},{"$f":"IF(I$1<>\"\",IF($A221<>\"\",COUNT(カテゴリースコア!S223),\"\"),\"\")","v":""},{"$f":"IF(J$1<>\"\",IF($A221<>\"\",COUNT(カテゴリースコア!T223),\"\"),\"\")","v":""},{"$f":"IF(K$1<>\"\",IF($A221<>\"\",COUNT(カテゴリースコア!U223),\"\"),\"\")","v":""}]
[{"$f":"IF(データセット1!C222<>\"\",データセット1!C222,\"\")","v":""},{"$f":"IF(データセット1!C222<>\"\",データセット1!D222-カテゴリースコア!$E$11,\"\")","v":""},{"$f":"IF(C$1<>\"\",IF($A222<>\"\",COUNT(カテゴリースコア!M224),\"\"),\"\")","v":""},{"$f":"IF(D$1<>\"\",IF($A222<>\"\",COUNT(カテゴリースコア!N224),\"\"),\"\")","v":""},{"$f":"IF(E$1<>\"\",IF($A222<>\"\",COUNT(カテゴリースコア!O224),\"\"),\"\")","v":""},{"$f":"IF(F$1<>\"\",IF($A222<>\"\",COUNT(カテゴリースコア!P224),\"\"),\"\")","v":""},{"$f":"IF(G$1<>\"\",IF($A222<>\"\",COUNT(カテゴリースコア!Q224),\"\"),\"\")","v":""},{"$f":"IF(H$1<>\"\",IF($A222<>\"\",COUNT(カテゴリースコア!R224),\"\"),\"\")","v":""},{"$f":"IF(I$1<>\"\",IF($A222<>\"\",COUNT(カテゴリースコア!S224),\"\"),\"\")","v":""},{"$f":"IF(J$1<>\"\",IF($A222<>\"\",COUNT(カテゴリースコア!T224),\"\"),\"\")","v":""},{"$f":"IF(K$1<>\"\",IF($A222<>\"\",COUNT(カテゴリースコア!U224),\"\"),\"\")","v":""}]
[{"$f":"IF(データセット1!C223<>\"\",データセット1!C223,\"\")","v":""},{"$f":"IF(データセット1!C223<>\"\",データセット1!D223-カテゴリースコア!$E$11,\"\")","v":""},{"$f":"IF(C$1<>\"\",IF($A223<>\"\",COUNT(カテゴリースコア!M225),\"\"),\"\")","v":""},{"$f":"IF(D$1<>\"\",IF($A223<>\"\",COUNT(カテゴリースコア!N225),\"\"),\"\")","v":""},{"$f":"IF(E$1<>\"\",IF($A223<>\"\",COUNT(カテゴリースコア!O225),\"\"),\"\")","v":""},{"$f":"IF(F$1<>\"\",IF($A223<>\"\",COUNT(カテゴリースコア!P225),\"\"),\"\")","v":""},{"$f":"IF(G$1<>\"\",IF($A223<>\"\",COUNT(カテゴリースコア!Q225),\"\"),\"\")","v":""},{"$f":"IF(H$1<>\"\",IF($A223<>\"\",COUNT(カテゴリースコア!R225),\"\"),\"\")","v":""},{"$f":"IF(I$1<>\"\",IF($A223<>\"\",COUNT(カテゴリースコア!S225),\"\"),\"\")","v":""},{"$f":"IF(J$1<>\"\",IF($A223<>\"\",COUNT(カテゴリースコア!T225),\"\"),\"\")","v":""},{"$f":"IF(K$1<>\"\",IF($A223<>\"\",COUNT(カテゴリースコア!U225),\"\"),\"\")","v":""}]
[{"$f":"IF(データセット1!C224<>\"\",データセット1!C224,\"\")","v":""},{"$f":"IF(データセット1!C224<>\"\",データセット1!D224-カテゴリースコア!$E$11,\"\")","v":""},{"$f":"IF(C$1<>\"\",IF($A224<>\"\",COUNT(カテゴリースコア!M226),\"\"),\"\")","v":""},{"$f":"IF(D$1<>\"\",IF($A224<>\"\",COUNT(カテゴリースコア!N226),\"\"),\"\")","v":""},{"$f":"IF(E$1<>\"\",IF($A224<>\"\",COUNT(カテゴリースコア!O226),\"\"),\"\")","v":""},{"$f":"IF(F$1<>\"\",IF($A224<>\"\",COUNT(カテゴリースコア!P226),\"\"),\"\")","v":""},{"$f":"IF(G$1<>\"\",IF($A224<>\"\",COUNT(カテゴリースコア!Q226),\"\"),\"\")","v":""},{"$f":"IF(H$1<>\"\",IF($A224<>\"\",COUNT(カテゴリースコア!R226),\"\"),\"\")","v":""},{"$f":"IF(I$1<>\"\",IF($A224<>\"\",COUNT(カテゴリースコア!S226),\"\"),\"\")","v":""},{"$f":"IF(J$1<>\"\",IF($A224<>\"\",COUNT(カテゴリースコア!T226),\"\"),\"\")","v":""},{"$f":"IF(K$1<>\"\",IF($A224<>\"\",COUNT(カテゴリースコア!U226),\"\"),\"\")","v":""}]
[{"$f":"IF(データセット1!C225<>\"\",データセット1!C225,\"\")","v":""},{"$f":"IF(データセット1!C225<>\"\",データセット1!D225-カテゴリースコア!$E$11,\"\")","v":""},{"$f":"IF(C$1<>\"\",IF($A225<>\"\",COUNT(カテゴリースコア!M227),\"\"),\"\")","v":""},{"$f":"IF(D$1<>\"\",IF($A225<>\"\",COUNT(カテゴリースコア!N227),\"\"),\"\")","v":""},{"$f":"IF(E$1<>\"\",IF($A225<>\"\",COUNT(カテゴリースコア!O227),\"\"),\"\")","v":""},{"$f":"IF(F$1<>\"\",IF($A225<>\"\",COUNT(カテゴリースコア!P227),\"\"),\"\")","v":""},{"$f":"IF(G$1<>\"\",IF($A225<>\"\",COUNT(カテゴリースコア!Q227),\"\"),\"\")","v":""},{"$f":"IF(H$1<>\"\",IF($A225<>\"\",COUNT(カテゴリースコア!R227),\"\"),\"\")","v":""},{"$f":"IF(I$1<>\"\",IF($A225<>\"\",COUNT(カテゴリースコア!S227),\"\"),\"\")","v":""},{"$f":"IF(J$1<>\"\",IF($A225<>\"\",COUNT(カテゴリースコア!T227),\"\"),\"\")","v":""},{"$f":"IF(K$1<>\"\",IF($A225<>\"\",COUNT(カテゴリースコア!U227),\"\"),\"\")","v":""}]
[{"$f":"IF(データセット1!C226<>\"\",データセット1!C226,\"\")","v":""},{"$f":"IF(データセット1!C226<>\"\",データセット1!D226-カテゴリースコア!$E$11,\"\")","v":""},{"$f":"IF(C$1<>\"\",IF($A226<>\"\",COUNT(カテゴリースコア!M228),\"\"),\"\")","v":""},{"$f":"IF(D$1<>\"\",IF($A226<>\"\",COUNT(カテゴリースコア!N228),\"\"),\"\")","v":""},{"$f":"IF(E$1<>\"\",IF($A226<>\"\",COUNT(カテゴリースコア!O228),\"\"),\"\")","v":""},{"$f":"IF(F$1<>\"\",IF($A226<>\"\",COUNT(カテゴリースコア!P228),\"\"),\"\")","v":""},{"$f":"IF(G$1<>\"\",IF($A226<>\"\",COUNT(カテゴリースコア!Q228),\"\"),\"\")","v":""},{"$f":"IF(H$1<>\"\",IF($A226<>\"\",COUNT(カテゴリースコア!R228),\"\"),\"\")","v":""},{"$f":"IF(I$1<>\"\",IF($A226<>\"\",COUNT(カテゴリースコア!S228),\"\"),\"\")","v":""},{"$f":"IF(J$1<>\"\",IF($A226<>\"\",COUNT(カテゴリースコア!T228),\"\"),\"\")","v":""},{"$f":"IF(K$1<>\"\",IF($A226<>\"\",COUNT(カテゴリースコア!U228),\"\"),\"\")","v":""}]
[{"$f":"IF(データセット1!C227<>\"\",データセット1!C227,\"\")","v":""},{"$f":"IF(データセット1!C227<>\"\",データセット1!D227-カテゴリースコア!$E$11,\"\")","v":""},{"$f":"IF(C$1<>\"\",IF($A227<>\"\",COUNT(カテゴリースコア!M229),\"\"),\"\")","v":""},{"$f":"IF(D$1<>\"\",IF($A227<>\"\",COUNT(カテゴリースコア!N229),\"\"),\"\")","v":""},{"$f":"IF(E$1<>\"\",IF($A227<>\"\",COUNT(カテゴリースコア!O229),\"\"),\"\")","v":""},{"$f":"IF(F$1<>\"\",IF($A227<>\"\",COUNT(カテゴリースコア!P229),\"\"),\"\")","v":""},{"$f":"IF(G$1<>\"\",IF($A227<>\"\",COUNT(カテゴリースコア!Q229),\"\"),\"\")","v":""},{"$f":"IF(H$1<>\"\",IF($A227<>\"\",COUNT(カテゴリースコア!R229),\"\"),\"\")","v":""},{"$f":"IF(I$1<>\"\",IF($A227<>\"\",COUNT(カテゴリースコア!S229),\"\"),\"\")","v":""},{"$f":"IF(J$1<>\"\",IF($A227<>\"\",COUNT(カテゴリースコア!T229),\"\"),\"\")","v":""},{"$f":"IF(K$1<>\"\",IF($A227<>\"\",COUNT(カテゴリースコア!U229),\"\"),\"\")","v":""}]
[{"$f":"IF(データセット1!C228<>\"\",データセット1!C228,\"\")","v":""},{"$f":"IF(データセット1!C228<>\"\",データセット1!D228-カテゴリースコア!$E$11,\"\")","v":""},{"$f":"IF(C$1<>\"\",IF($A228<>\"\",COUNT(カテゴリースコア!M230),\"\"),\"\")","v":""},{"$f":"IF(D$1<>\"\",IF($A228<>\"\",COUNT(カテゴリースコア!N230),\"\"),\"\")","v":""},{"$f":"IF(E$1<>\"\",IF($A228<>\"\",COUNT(カテゴリースコア!O230),\"\"),\"\")","v":""},{"$f":"IF(F$1<>\"\",IF($A228<>\"\",COUNT(カテゴリースコア!P230),\"\"),\"\")","v":""},{"$f":"IF(G$1<>\"\",IF($A228<>\"\",COUNT(カテゴリースコア!Q230),\"\"),\"\")","v":""},{"$f":"IF(H$1<>\"\",IF($A228<>\"\",COUNT(カテゴリースコア!R230),\"\"),\"\")","v":""},{"$f":"IF(I$1<>\"\",IF($A228<>\"\",COUNT(カテゴリースコア!S230),\"\"),\"\")","v":""},{"$f":"IF(J$1<>\"\",IF($A228<>\"\",COUNT(カテゴリースコア!T230),\"\"),\"\")","v":""},{"$f":"IF(K$1<>\"\",IF($A228<>\"\",COUNT(カテゴリースコア!U230),\"\"),\"\")","v":""}]
[{"$f":"IF(データセット1!C229<>\"\",データセット1!C229,\"\")","v":""},{"$f":"IF(データセット1!C229<>\"\",データセット1!D229-カテゴリースコア!$E$11,\"\")","v":""},{"$f":"IF(C$1<>\"\",IF($A229<>\"\",COUNT(カテゴリースコア!M231),\"\"),\"\")","v":""},{"$f":"IF(D$1<>\"\",IF($A229<>\"\",COUNT(カテゴリースコア!N231),\"\"),\"\")","v":""},{"$f":"IF(E$1<>\"\",IF($A229<>\"\",COUNT(カテゴリースコア!O231),\"\"),\"\")","v":""},{"$f":"IF(F$1<>\"\",IF($A229<>\"\",COUNT(カテゴリースコア!P231),\"\"),\"\")","v":""},{"$f":"IF(G$1<>\"\",IF($A229<>\"\",COUNT(カテゴリースコア!Q231),\"\"),\"\")","v":""},{"$f":"IF(H$1<>\"\",IF($A229<>\"\",COUNT(カテゴリースコア!R231),\"\"),\"\")","v":""},{"$f":"IF(I$1<>\"\",IF($A229<>\"\",COUNT(カテゴリースコア!S231),\"\"),\"\")","v":""},{"$f":"IF(J$1<>\"\",IF($A229<>\"\",COUNT(カテゴリースコア!T231),\"\"),\"\")","v":""},{"$f":"IF(K$1<>\"\",IF($A229<>\"\",COUNT(カテゴリースコア!U231),\"\"),\"\")","v":""}]
[{"$f":"IF(データセット1!C230<>\"\",データセット1!C230,\"\")","v":""},{"$f":"IF(データセット1!C230<>\"\",データセット1!D230-カテゴリースコア!$E$11,\"\")","v":""},{"$f":"IF(C$1<>\"\",IF($A230<>\"\",COUNT(カテゴリースコア!M232),\"\"),\"\")","v":""},{"$f":"IF(D$1<>\"\",IF($A230<>\"\",COUNT(カテゴリースコア!N232),\"\"),\"\")","v":""},{"$f":"IF(E$1<>\"\",IF($A230<>\"\",COUNT(カテゴリースコア!O232),\"\"),\"\")","v":""},{"$f":"IF(F$1<>\"\",IF($A230<>\"\",COUNT(カテゴリースコア!P232),\"\"),\"\")","v":""},{"$f":"IF(G$1<>\"\",IF($A230<>\"\",COUNT(カテゴリースコア!Q232),\"\"),\"\")","v":""},{"$f":"IF(H$1<>\"\",IF($A230<>\"\",COUNT(カテゴリースコア!R232),\"\"),\"\")","v":""},{"$f":"IF(I$1<>\"\",IF($A230<>\"\",COUNT(カテゴリースコア!S232),\"\"),\"\")","v":""},{"$f":"IF(J$1<>\"\",IF($A230<>\"\",COUNT(カテゴリースコア!T232),\"\"),\"\")","v":""},{"$f":"IF(K$1<>\"\",IF($A230<>\"\",COUNT(カテゴリースコア!U232),\"\"),\"\")","v":""}]
[{"$f":"IF(データセット1!C231<>\"\",データセット1!C231,\"\")","v":""},{"$f":"IF(データセット1!C231<>\"\",データセット1!D231-カテゴリースコア!$E$11,\"\")","v":""},{"$f":"IF(C$1<>\"\",IF($A231<>\"\",COUNT(カテゴリースコア!M233),\"\"),\"\")","v":""},{"$f":"IF(D$1<>\"\",IF($A231<>\"\",COUNT(カテゴリースコア!N233),\"\"),\"\")","v":""},{"$f":"IF(E$1<>\"\",IF($A231<>\"\",COUNT(カテゴリースコア!O233),\"\"),\"\")","v":""},{"$f":"IF(F$1<>\"\",IF($A231<>\"\",COUNT(カテゴリースコア!P233),\"\"),\"\")","v":""},{"$f":"IF(G$1<>\"\",IF($A231<>\"\",COUNT(カテゴリースコア!Q233),\"\"),\"\")","v":""},{"$f":"IF(H$1<>\"\",IF($A231<>\"\",COUNT(カテゴリースコア!R233),\"\"),\"\")","v":""},{"$f":"IF(I$1<>\"\",IF($A231<>\"\",COUNT(カテゴリースコア!S233),\"\"),\"\")","v":""},{"$f":"IF(J$1<>\"\",IF($A231<>\"\",COUNT(カテゴリースコア!T233),\"\"),\"\")","v":""},{"$f":"IF(K$1<>\"\",IF($A231<>\"\",COUNT(カテゴリースコア!U233),\"\"),\"\")","v":""}]
[{"$f":"IF(データセット1!C232<>\"\",データセット1!C232,\"\")","v":""},{"$f":"IF(データセット1!C232<>\"\",データセット1!D232-カテゴリースコア!$E$11,\"\")","v":""},{"$f":"IF(C$1<>\"\",IF($A232<>\"\",COUNT(カテゴリースコア!M234),\"\"),\"\")","v":""},{"$f":"IF(D$1<>\"\",IF($A232<>\"\",COUNT(カテゴリースコア!N234),\"\"),\"\")","v":""},{"$f":"IF(E$1<>\"\",IF($A232<>\"\",COUNT(カテゴリースコア!O234),\"\"),\"\")","v":""},{"$f":"IF(F$1<>\"\",IF($A232<>\"\",COUNT(カテゴリースコア!P234),\"\"),\"\")","v":""},{"$f":"IF(G$1<>\"\",IF($A232<>\"\",COUNT(カテゴリースコア!Q234),\"\"),\"\")","v":""},{"$f":"IF(H$1<>\"\",IF($A232<>\"\",COUNT(カテゴリースコア!R234),\"\"),\"\")","v":""},{"$f":"IF(I$1<>\"\",IF($A232<>\"\",COUNT(カテゴリースコア!S234),\"\"),\"\")","v":""},{"$f":"IF(J$1<>\"\",IF($A232<>\"\",COUNT(カテゴリースコア!T234),\"\"),\"\")","v":""},{"$f":"IF(K$1<>\"\",IF($A232<>\"\",COUNT(カテゴリースコア!U234),\"\"),\"\")","v":""}]
[{"$f":"IF(データセット1!C233<>\"\",データセット1!C233,\"\")","v":""},{"$f":"IF(データセット1!C233<>\"\",データセット1!D233-カテゴリースコア!$E$11,\"\")","v":""},{"$f":"IF(C$1<>\"\",IF($A233<>\"\",COUNT(カテゴリースコア!M235),\"\"),\"\")","v":""},{"$f":"IF(D$1<>\"\",IF($A233<>\"\",COUNT(カテゴリースコア!N235),\"\"),\"\")","v":""},{"$f":"IF(E$1<>\"\",IF($A233<>\"\",COUNT(カテゴリースコア!O235),\"\"),\"\")","v":""},{"$f":"IF(F$1<>\"\",IF($A233<>\"\",COUNT(カテゴリースコア!P235),\"\"),\"\")","v":""},{"$f":"IF(G$1<>\"\",IF($A233<>\"\",COUNT(カテゴリースコア!Q235),\"\"),\"\")","v":""},{"$f":"IF(H$1<>\"\",IF($A233<>\"\",COUNT(カテゴリースコア!R235),\"\"),\"\")","v":""},{"$f":"IF(I$1<>\"\",IF($A233<>\"\",COUNT(カテゴリースコア!S235),\"\"),\"\")","v":""},{"$f":"IF(J$1<>\"\",IF($A233<>\"\",COUNT(カテゴリースコア!T235),\"\"),\"\")","v":""},{"$f":"IF(K$1<>\"\",IF($A233<>\"\",COUNT(カテゴリースコア!U235),\"\"),\"\")","v":""}]
[{"$f":"IF(データセット1!C234<>\"\",データセット1!C234,\"\")","v":""},{"$f":"IF(データセット1!C234<>\"\",データセット1!D234-カテゴリースコア!$E$11,\"\")","v":""},{"$f":"IF(C$1<>\"\",IF($A234<>\"\",COUNT(カテゴリースコア!M236),\"\"),\"\")","v":""},{"$f":"IF(D$1<>\"\",IF($A234<>\"\",COUNT(カテゴリースコア!N236),\"\"),\"\")","v":""},{"$f":"IF(E$1<>\"\",IF($A234<>\"\",COUNT(カテゴリースコア!O236),\"\"),\"\")","v":""},{"$f":"IF(F$1<>\"\",IF($A234<>\"\",COUNT(カテゴリースコア!P236),\"\"),\"\")","v":""},{"$f":"IF(G$1<>\"\",IF($A234<>\"\",COUNT(カテゴリースコア!Q236),\"\"),\"\")","v":""},{"$f":"IF(H$1<>\"\",IF($A234<>\"\",COUNT(カテゴリースコア!R236),\"\"),\"\")","v":""},{"$f":"IF(I$1<>\"\",IF($A234<>\"\",COUNT(カテゴリースコア!S236),\"\"),\"\")","v":""},{"$f":"IF(J$1<>\"\",IF($A234<>\"\",COUNT(カテゴリースコア!T236),\"\"),\"\")","v":""},{"$f":"IF(K$1<>\"\",IF($A234<>\"\",COUNT(カテゴリースコア!U236),\"\"),\"\")","v":""}]
[{"$f":"IF(データセット1!C235<>\"\",データセット1!C235,\"\")","v":""},{"$f":"IF(データセット1!C235<>\"\",データセット1!D235-カテゴリースコア!$E$11,\"\")","v":""},{"$f":"IF(C$1<>\"\",IF($A235<>\"\",COUNT(カテゴリースコア!M237),\"\"),\"\")","v":""},{"$f":"IF(D$1<>\"\",IF($A235<>\"\",COUNT(カテゴリースコア!N237),\"\"),\"\")","v":""},{"$f":"IF(E$1<>\"\",IF($A235<>\"\",COUNT(カテゴリースコア!O237),\"\"),\"\")","v":""},{"$f":"IF(F$1<>\"\",IF($A235<>\"\",COUNT(カテゴリースコア!P237),\"\"),\"\")","v":""},{"$f":"IF(G$1<>\"\",IF($A235<>\"\",COUNT(カテゴリースコア!Q237),\"\"),\"\")","v":""},{"$f":"IF(H$1<>\"\",IF($A235<>\"\",COUNT(カテゴリースコア!R237),\"\"),\"\")","v":""},{"$f":"IF(I$1<>\"\",IF($A235<>\"\",COUNT(カテゴリースコア!S237),\"\"),\"\")","v":""},{"$f":"IF(J$1<>\"\",IF($A235<>\"\",COUNT(カテゴリースコア!T237),\"\"),\"\")","v":""},{"$f":"IF(K$1<>\"\",IF($A235<>\"\",COUNT(カテゴリースコア!U237),\"\"),\"\")","v":""}]
[{"$f":"IF(データセット1!C236<>\"\",データセット1!C236,\"\")","v":""},{"$f":"IF(データセット1!C236<>\"\",データセット1!D236-カテゴリースコア!$E$11,\"\")","v":""},{"$f":"IF(C$1<>\"\",IF($A236<>\"\",COUNT(カテゴリースコア!M238),\"\"),\"\")","v":""},{"$f":"IF(D$1<>\"\",IF($A236<>\"\",COUNT(カテゴリースコア!N238),\"\"),\"\")","v":""},{"$f":"IF(E$1<>\"\",IF($A236<>\"\",COUNT(カテゴリースコア!O238),\"\"),\"\")","v":""},{"$f":"IF(F$1<>\"\",IF($A236<>\"\",COUNT(カテゴリースコア!P238),\"\"),\"\")","v":""},{"$f":"IF(G$1<>\"\",IF($A236<>\"\",COUNT(カテゴリースコア!Q238),\"\"),\"\")","v":""},{"$f":"IF(H$1<>\"\",IF($A236<>\"\",COUNT(カテゴリースコア!R238),\"\"),\"\")","v":""},{"$f":"IF(I$1<>\"\",IF($A236<>\"\",COUNT(カテゴリースコア!S238),\"\"),\"\")","v":""},{"$f":"IF(J$1<>\"\",IF($A236<>\"\",COUNT(カテゴリースコア!T238),\"\"),\"\")","v":""},{"$f":"IF(K$1<>\"\",IF($A236<>\"\",COUNT(カテゴリースコア!U238),\"\"),\"\")","v":""}]
[{"$f":"IF(データセット1!C237<>\"\",データセット1!C237,\"\")","v":""},{"$f":"IF(データセット1!C237<>\"\",データセット1!D237-カテゴリースコア!$E$11,\"\")","v":""},{"$f":"IF(C$1<>\"\",IF($A237<>\"\",COUNT(カテゴリースコア!M239),\"\"),\"\")","v":""},{"$f":"IF(D$1<>\"\",IF($A237<>\"\",COUNT(カテゴリースコア!N239),\"\"),\"\")","v":""},{"$f":"IF(E$1<>\"\",IF($A237<>\"\",COUNT(カテゴリースコア!O239),\"\"),\"\")","v":""},{"$f":"IF(F$1<>\"\",IF($A237<>\"\",COUNT(カテゴリースコア!P239),\"\"),\"\")","v":""},{"$f":"IF(G$1<>\"\",IF($A237<>\"\",COUNT(カテゴリースコア!Q239),\"\"),\"\")","v":""},{"$f":"IF(H$1<>\"\",IF($A237<>\"\",COUNT(カテゴリースコア!R239),\"\"),\"\")","v":""},{"$f":"IF(I$1<>\"\",IF($A237<>\"\",COUNT(カテゴリースコア!S239),\"\"),\"\")","v":""},{"$f":"IF(J$1<>\"\",IF($A237<>\"\",COUNT(カテゴリースコア!T239),\"\"),\"\")","v":""},{"$f":"IF(K$1<>\"\",IF($A237<>\"\",COUNT(カテゴリースコア!U239),\"\"),\"\")","v":""}]
[{"$f":"IF(データセット1!C238<>\"\",データセット1!C238,\"\")","v":""},{"$f":"IF(データセット1!C238<>\"\",データセット1!D238-カテゴリースコア!$E$11,\"\")","v":""},{"$f":"IF(C$1<>\"\",IF($A238<>\"\",COUNT(カテゴリースコア!M240),\"\"),\"\")","v":""},{"$f":"IF(D$1<>\"\",IF($A238<>\"\",COUNT(カテゴリースコア!N240),\"\"),\"\")","v":""},{"$f":"IF(E$1<>\"\",IF($A238<>\"\",COUNT(カテゴリースコア!O240),\"\"),\"\")","v":""},{"$f":"IF(F$1<>\"\",IF($A238<>\"\",COUNT(カテゴリースコア!P240),\"\"),\"\")","v":""},{"$f":"IF(G$1<>\"\",IF($A238<>\"\",COUNT(カテゴリースコア!Q240),\"\"),\"\")","v":""},{"$f":"IF(H$1<>\"\",IF($A238<>\"\",COUNT(カテゴリースコア!R240),\"\"),\"\")","v":""},{"$f":"IF(I$1<>\"\",IF($A238<>\"\",COUNT(カテゴリースコア!S240),\"\"),\"\")","v":""},{"$f":"IF(J$1<>\"\",IF($A238<>\"\",COUNT(カテゴリースコア!T240),\"\"),\"\")","v":""},{"$f":"IF(K$1<>\"\",IF($A238<>\"\",COUNT(カテゴリースコア!U240),\"\"),\"\")","v":""}]
[{"$f":"IF(データセット1!C239<>\"\",データセット1!C239,\"\")","v":""},{"$f":"IF(データセット1!C239<>\"\",データセット1!D239-カテゴリースコア!$E$11,\"\")","v":""},{"$f":"IF(C$1<>\"\",IF($A239<>\"\",COUNT(カテゴリースコア!M241),\"\"),\"\")","v":""},{"$f":"IF(D$1<>\"\",IF($A239<>\"\",COUNT(カテゴリースコア!N241),\"\"),\"\")","v":""},{"$f":"IF(E$1<>\"\",IF($A239<>\"\",COUNT(カテゴリースコア!O241),\"\"),\"\")","v":""},{"$f":"IF(F$1<>\"\",IF($A239<>\"\",COUNT(カテゴリースコア!P241),\"\"),\"\")","v":""},{"$f":"IF(G$1<>\"\",IF($A239<>\"\",COUNT(カテゴリースコア!Q241),\"\"),\"\")","v":""},{"$f":"IF(H$1<>\"\",IF($A239<>\"\",COUNT(カテゴリースコア!R241),\"\"),\"\")","v":""},{"$f":"IF(I$1<>\"\",IF($A239<>\"\",COUNT(カテゴリースコア!S241),\"\"),\"\")","v":""},{"$f":"IF(J$1<>\"\",IF($A239<>\"\",COUNT(カテゴリースコア!T241),\"\"),\"\")","v":""},{"$f":"IF(K$1<>\"\",IF($A239<>\"\",COUNT(カテゴリースコア!U241),\"\"),\"\")","v":""}]
[{"$f":"IF(データセット1!C240<>\"\",データセット1!C240,\"\")","v":""},{"$f":"IF(データセット1!C240<>\"\",データセット1!D240-カテゴリースコア!$E$11,\"\")","v":""},{"$f":"IF(C$1<>\"\",IF($A240<>\"\",COUNT(カテゴリースコア!M242),\"\"),\"\")","v":""},{"$f":"IF(D$1<>\"\",IF($A240<>\"\",COUNT(カテゴリースコア!N242),\"\"),\"\")","v":""},{"$f":"IF(E$1<>\"\",IF($A240<>\"\",COUNT(カテゴリースコア!O242),\"\"),\"\")","v":""},{"$f":"IF(F$1<>\"\",IF($A240<>\"\",COUNT(カテゴリースコア!P242),\"\"),\"\")","v":""},{"$f":"IF(G$1<>\"\",IF($A240<>\"\",COUNT(カテゴリースコア!Q242),\"\"),\"\")","v":""},{"$f":"IF(H$1<>\"\",IF($A240<>\"\",COUNT(カテゴリースコア!R242),\"\"),\"\")","v":""},{"$f":"IF(I$1<>\"\",IF($A240<>\"\",COUNT(カテゴリースコア!S242),\"\"),\"\")","v":""},{"$f":"IF(J$1<>\"\",IF($A240<>\"\",COUNT(カテゴリースコア!T242),\"\"),\"\")","v":""},{"$f":"IF(K$1<>\"\",IF($A240<>\"\",COUNT(カテゴリースコア!U242),\"\"),\"\")","v":""}]
[{"$f":"IF(データセット1!C241<>\"\",データセット1!C241,\"\")","v":""},{"$f":"IF(データセット1!C241<>\"\",データセット1!D241-カテゴリースコア!$E$11,\"\")","v":""},{"$f":"IF(C$1<>\"\",IF($A241<>\"\",COUNT(カテゴリースコア!M243),\"\"),\"\")","v":""},{"$f":"IF(D$1<>\"\",IF($A241<>\"\",COUNT(カテゴリースコア!N243),\"\"),\"\")","v":""},{"$f":"IF(E$1<>\"\",IF($A241<>\"\",COUNT(カテゴリースコア!O243),\"\"),\"\")","v":""},{"$f":"IF(F$1<>\"\",IF($A241<>\"\",COUNT(カテゴリースコア!P243),\"\"),\"\")","v":""},{"$f":"IF(G$1<>\"\",IF($A241<>\"\",COUNT(カテゴリースコア!Q243),\"\"),\"\")","v":""},{"$f":"IF(H$1<>\"\",IF($A241<>\"\",COUNT(カテゴリースコア!R243),\"\"),\"\")","v":""},{"$f":"IF(I$1<>\"\",IF($A241<>\"\",COUNT(カテゴリースコア!S243),\"\"),\"\")","v":""},{"$f":"IF(J$1<>\"\",IF($A241<>\"\",COUNT(カテゴリースコア!T243),\"\"),\"\")","v":""},{"$f":"IF(K$1<>\"\",IF($A241<>\"\",COUNT(カテゴリースコア!U243),\"\"),\"\")","v":""}]
[{"$f":"IF(データセット1!C242<>\"\",データセット1!C242,\"\")","v":""},{"$f":"IF(データセット1!C242<>\"\",データセット1!D242-カテゴリースコア!$E$11,\"\")","v":""},{"$f":"IF(C$1<>\"\",IF($A242<>\"\",COUNT(カテゴリースコア!M244),\"\"),\"\")","v":""},{"$f":"IF(D$1<>\"\",IF($A242<>\"\",COUNT(カテゴリースコア!N244),\"\"),\"\")","v":""},{"$f":"IF(E$1<>\"\",IF($A242<>\"\",COUNT(カテゴリースコア!O244),\"\"),\"\")","v":""},{"$f":"IF(F$1<>\"\",IF($A242<>\"\",COUNT(カテゴリースコア!P244),\"\"),\"\")","v":""},{"$f":"IF(G$1<>\"\",IF($A242<>\"\",COUNT(カテゴリースコア!Q244),\"\"),\"\")","v":""},{"$f":"IF(H$1<>\"\",IF($A242<>\"\",COUNT(カテゴリースコア!R244),\"\"),\"\")","v":""},{"$f":"IF(I$1<>\"\",IF($A242<>\"\",COUNT(カテゴリースコア!S244),\"\"),\"\")","v":""},{"$f":"IF(J$1<>\"\",IF($A242<>\"\",COUNT(カテゴリースコア!T244),\"\"),\"\")","v":""},{"$f":"IF(K$1<>\"\",IF($A242<>\"\",COUNT(カテゴリースコア!U244),\"\"),\"\")","v":""}]
[{"$f":"IF(データセット1!C243<>\"\",データセット1!C243,\"\")","v":""},{"$f":"IF(データセット1!C243<>\"\",データセット1!D243-カテゴリースコア!$E$11,\"\")","v":""},{"$f":"IF(C$1<>\"\",IF($A243<>\"\",COUNT(カテゴリースコア!M245),\"\"),\"\")","v":""},{"$f":"IF(D$1<>\"\",IF($A243<>\"\",COUNT(カテゴリースコア!N245),\"\"),\"\")","v":""},{"$f":"IF(E$1<>\"\",IF($A243<>\"\",COUNT(カテゴリースコア!O245),\"\"),\"\")","v":""},{"$f":"IF(F$1<>\"\",IF($A243<>\"\",COUNT(カテゴリースコア!P245),\"\"),\"\")","v":""},{"$f":"IF(G$1<>\"\",IF($A243<>\"\",COUNT(カテゴリースコア!Q245),\"\"),\"\")","v":""},{"$f":"IF(H$1<>\"\",IF($A243<>\"\",COUNT(カテゴリースコア!R245),\"\"),\"\")","v":""},{"$f":"IF(I$1<>\"\",IF($A243<>\"\",COUNT(カテゴリースコア!S245),\"\"),\"\")","v":""},{"$f":"IF(J$1<>\"\",IF($A243<>\"\",COUNT(カテゴリースコア!T245),\"\"),\"\")","v":""},{"$f":"IF(K$1<>\"\",IF($A243<>\"\",COUNT(カテゴリースコア!U245),\"\"),\"\")","v":""}]
[{"$f":"IF(データセット1!C244<>\"\",データセット1!C244,\"\")","v":""},{"$f":"IF(データセット1!C244<>\"\",データセット1!D244-カテゴリースコア!$E$11,\"\")","v":""},{"$f":"IF(C$1<>\"\",IF($A244<>\"\",COUNT(カテゴリースコア!M246),\"\"),\"\")","v":""},{"$f":"IF(D$1<>\"\",IF($A244<>\"\",COUNT(カテゴリースコア!N246),\"\"),\"\")","v":""},{"$f":"IF(E$1<>\"\",IF($A244<>\"\",COUNT(カテゴリースコア!O246),\"\"),\"\")","v":""},{"$f":"IF(F$1<>\"\",IF($A244<>\"\",COUNT(カテゴリースコア!P246),\"\"),\"\")","v":""},{"$f":"IF(G$1<>\"\",IF($A244<>\"\",COUNT(カテゴリースコア!Q246),\"\"),\"\")","v":""},{"$f":"IF(H$1<>\"\",IF($A244<>\"\",COUNT(カテゴリースコア!R246),\"\"),\"\")","v":""},{"$f":"IF(I$1<>\"\",IF($A244<>\"\",COUNT(カテゴリースコア!S246),\"\"),\"\")","v":""},{"$f":"IF(J$1<>\"\",IF($A244<>\"\",COUNT(カテゴリースコア!T246),\"\"),\"\")","v":""},{"$f":"IF(K$1<>\"\",IF($A244<>\"\",COUNT(カテゴリースコア!U246),\"\"),\"\")","v":""}]
[{"$f":"IF(データセット1!C245<>\"\",データセット1!C245,\"\")","v":""},{"$f":"IF(データセット1!C245<>\"\",データセット1!D245-カテゴリースコア!$E$11,\"\")","v":""},{"$f":"IF(C$1<>\"\",IF($A245<>\"\",COUNT(カテゴリースコア!M247),\"\"),\"\")","v":""},{"$f":"IF(D$1<>\"\",IF($A245<>\"\",COUNT(カテゴリースコア!N247),\"\"),\"\")","v":""},{"$f":"IF(E$1<>\"\",IF($A245<>\"\",COUNT(カテゴリースコア!O247),\"\"),\"\")","v":""},{"$f":"IF(F$1<>\"\",IF($A245<>\"\",COUNT(カテゴリースコア!P247),\"\"),\"\")","v":""},{"$f":"IF(G$1<>\"\",IF($A245<>\"\",COUNT(カテゴリースコア!Q247),\"\"),\"\")","v":""},{"$f":"IF(H$1<>\"\",IF($A245<>\"\",COUNT(カテゴリースコア!R247),\"\"),\"\")","v":""},{"$f":"IF(I$1<>\"\",IF($A245<>\"\",COUNT(カテゴリースコア!S247),\"\"),\"\")","v":""},{"$f":"IF(J$1<>\"\",IF($A245<>\"\",COUNT(カテゴリースコア!T247),\"\"),\"\")","v":""},{"$f":"IF(K$1<>\"\",IF($A245<>\"\",COUNT(カテゴリースコア!U247),\"\"),\"\")","v":""}]
[{"$f":"IF(データセット1!C246<>\"\",データセット1!C246,\"\")","v":""},{"$f":"IF(データセット1!C246<>\"\",データセット1!D246-カテゴリースコア!$E$11,\"\")","v":""},{"$f":"IF(C$1<>\"\",IF($A246<>\"\",COUNT(カテゴリースコア!M248),\"\"),\"\")","v":""},{"$f":"IF(D$1<>\"\",IF($A246<>\"\",COUNT(カテゴリースコア!N248),\"\"),\"\")","v":""},{"$f":"IF(E$1<>\"\",IF($A246<>\"\",COUNT(カテゴリースコア!O248),\"\"),\"\")","v":""},{"$f":"IF(F$1<>\"\",IF($A246<>\"\",COUNT(カテゴリースコア!P248),\"\"),\"\")","v":""},{"$f":"IF(G$1<>\"\",IF($A246<>\"\",COUNT(カテゴリースコア!Q248),\"\"),\"\")","v":""},{"$f":"IF(H$1<>\"\",IF($A246<>\"\",COUNT(カテゴリースコア!R248),\"\"),\"\")","v":""},{"$f":"IF(I$1<>\"\",IF($A246<>\"\",COUNT(カテゴリースコア!S248),\"\"),\"\")","v":""},{"$f":"IF(J$1<>\"\",IF($A246<>\"\",COUNT(カテゴリースコア!T248),\"\"),\"\")","v":""},{"$f":"IF(K$1<>\"\",IF($A246<>\"\",COUNT(カテゴリースコア!U248),\"\"),\"\")","v":""}]
[{"$f":"IF(データセット1!C247<>\"\",データセット1!C247,\"\")","v":""},{"$f":"IF(データセット1!C247<>\"\",データセット1!D247-カテゴリースコア!$E$11,\"\")","v":""},{"$f":"IF(C$1<>\"\",IF($A247<>\"\",COUNT(カテゴリースコア!M249),\"\"),\"\")","v":""},{"$f":"IF(D$1<>\"\",IF($A247<>\"\",COUNT(カテゴリースコア!N249),\"\"),\"\")","v":""},{"$f":"IF(E$1<>\"\",IF($A247<>\"\",COUNT(カテゴリースコア!O249),\"\"),\"\")","v":""},{"$f":"IF(F$1<>\"\",IF($A247<>\"\",COUNT(カテゴリースコア!P249),\"\"),\"\")","v":""},{"$f":"IF(G$1<>\"\",IF($A247<>\"\",COUNT(カテゴリースコア!Q249),\"\"),\"\")","v":""},{"$f":"IF(H$1<>\"\",IF($A247<>\"\",COUNT(カテゴリースコア!R249),\"\"),\"\")","v":""},{"$f":"IF(I$1<>\"\",IF($A247<>\"\",COUNT(カテゴリースコア!S249),\"\"),\"\")","v":""},{"$f":"IF(J$1<>\"\",IF($A247<>\"\",COUNT(カテゴリースコア!T249),\"\"),\"\")","v":""},{"$f":"IF(K$1<>\"\",IF($A247<>\"\",COUNT(カテゴリースコア!U249),\"\"),\"\")","v":""}]
[{"$f":"IF(データセット1!C248<>\"\",データセット1!C248,\"\")","v":""},{"$f":"IF(データセット1!C248<>\"\",データセット1!D248-カテゴリースコア!$E$11,\"\")","v":""},{"$f":"IF(C$1<>\"\",IF($A248<>\"\",COUNT(カテゴリースコア!M250),\"\"),\"\")","v":""},{"$f":"IF(D$1<>\"\",IF($A248<>\"\",COUNT(カテゴリースコア!N250),\"\"),\"\")","v":""},{"$f":"IF(E$1<>\"\",IF($A248<>\"\",COUNT(カテゴリースコア!O250),\"\"),\"\")","v":""},{"$f":"IF(F$1<>\"\",IF($A248<>\"\",COUNT(カテゴリースコア!P250),\"\"),\"\")","v":""},{"$f":"IF(G$1<>\"\",IF($A248<>\"\",COUNT(カテゴリースコア!Q250),\"\"),\"\")","v":""},{"$f":"IF(H$1<>\"\",IF($A248<>\"\",COUNT(カテゴリースコア!R250),\"\"),\"\")","v":""},{"$f":"IF(I$1<>\"\",IF($A248<>\"\",COUNT(カテゴリースコア!S250),\"\"),\"\")","v":""},{"$f":"IF(J$1<>\"\",IF($A248<>\"\",COUNT(カテゴリースコア!T250),\"\"),\"\")","v":""},{"$f":"IF(K$1<>\"\",IF($A248<>\"\",COUNT(カテゴリースコア!U250),\"\"),\"\")","v":""}]
[{"$f":"IF(データセット1!C249<>\"\",データセット1!C249,\"\")","v":""},{"$f":"IF(データセット1!C249<>\"\",データセット1!D249-カテゴリースコア!$E$11,\"\")","v":""},{"$f":"IF(C$1<>\"\",IF($A249<>\"\",COUNT(カテゴリースコア!M251),\"\"),\"\")","v":""},{"$f":"IF(D$1<>\"\",IF($A249<>\"\",COUNT(カテゴリースコア!N251),\"\"),\"\")","v":""},{"$f":"IF(E$1<>\"\",IF($A249<>\"\",COUNT(カテゴリースコア!O251),\"\"),\"\")","v":""},{"$f":"IF(F$1<>\"\",IF($A249<>\"\",COUNT(カテゴリースコア!P251),\"\"),\"\")","v":""},{"$f":"IF(G$1<>\"\",IF($A249<>\"\",COUNT(カテゴリースコア!Q251),\"\"),\"\")","v":""},{"$f":"IF(H$1<>\"\",IF($A249<>\"\",COUNT(カテゴリースコア!R251),\"\"),\"\")","v":""},{"$f":"IF(I$1<>\"\",IF($A249<>\"\",COUNT(カテゴリースコア!S251),\"\"),\"\")","v":""},{"$f":"IF(J$1<>\"\",IF($A249<>\"\",COUNT(カテゴリースコア!T251),\"\"),\"\")","v":""},{"$f":"IF(K$1<>\"\",IF($A249<>\"\",COUNT(カテゴリースコア!U251),\"\"),\"\")","v":""}]
[{"$f":"IF(データセット1!C250<>\"\",データセット1!C250,\"\")","v":""},{"$f":"IF(データセット1!C250<>\"\",データセット1!D250-カテゴリースコア!$E$11,\"\")","v":""},{"$f":"IF(C$1<>\"\",IF($A250<>\"\",COUNT(カテゴリースコア!M252),\"\"),\"\")","v":""},{"$f":"IF(D$1<>\"\",IF($A250<>\"\",COUNT(カテゴリースコア!N252),\"\"),\"\")","v":""},{"$f":"IF(E$1<>\"\",IF($A250<>\"\",COUNT(カテゴリースコア!O252),\"\"),\"\")","v":""},{"$f":"IF(F$1<>\"\",IF($A250<>\"\",COUNT(カテゴリースコア!P252),\"\"),\"\")","v":""},{"$f":"IF(G$1<>\"\",IF($A250<>\"\",COUNT(カテゴリースコア!Q252),\"\"),\"\")","v":""},{"$f":"IF(H$1<>\"\",IF($A250<>\"\",COUNT(カテゴリースコア!R252),\"\"),\"\")","v":""},{"$f":"IF(I$1<>\"\",IF($A250<>\"\",COUNT(カテゴリースコア!S252),\"\"),\"\")","v":""},{"$f":"IF(J$1<>\"\",IF($A250<>\"\",COUNT(カテゴリースコア!T252),\"\"),\"\")","v":""},{"$f":"IF(K$1<>\"\",IF($A250<>\"\",COUNT(カテゴリースコア!U252),\"\"),\"\")","v":""}]
[{"$f":"IF(データセット1!C251<>\"\",データセット1!C251,\"\")","v":""},{"$f":"IF(データセット1!C251<>\"\",データセット1!D251-カテゴリースコア!$E$11,\"\")","v":""},{"$f":"IF(C$1<>\"\",IF($A251<>\"\",COUNT(カテゴリースコア!M253),\"\"),\"\")","v":""},{"$f":"IF(D$1<>\"\",IF($A251<>\"\",COUNT(カテゴリースコア!N253),\"\"),\"\")","v":""},{"$f":"IF(E$1<>\"\",IF($A251<>\"\",COUNT(カテゴリースコア!O253),\"\"),\"\")","v":""},{"$f":"IF(F$1<>\"\",IF($A251<>\"\",COUNT(カテゴリースコア!P253),\"\"),\"\")","v":""},{"$f":"IF(G$1<>\"\",IF($A251<>\"\",COUNT(カテゴリースコア!Q253),\"\"),\"\")","v":""},{"$f":"IF(H$1<>\"\",IF($A251<>\"\",COUNT(カテゴリースコア!R253),\"\"),\"\")","v":""},{"$f":"IF(I$1<>\"\",IF($A251<>\"\",COUNT(カテゴリースコア!S253),\"\"),\"\")","v":""},{"$f":"IF(J$1<>\"\",IF($A251<>\"\",COUNT(カテゴリースコア!T253),\"\"),\"\")","v":""},{"$f":"IF(K$1<>\"\",IF($A251<>\"\",COUNT(カテゴリースコア!U253),\"\"),\"\")","v":""}]
[{"$f":"IF(データセット1!C252<>\"\",データセット1!C252,\"\")","v":""},{"$f":"IF(データセット1!C252<>\"\",データセット1!D252-カテゴリースコア!$E$11,\"\")","v":""},{"$f":"IF(C$1<>\"\",IF($A252<>\"\",COUNT(カテゴリースコア!M254),\"\"),\"\")","v":""},{"$f":"IF(D$1<>\"\",IF($A252<>\"\",COUNT(カテゴリースコア!N254),\"\"),\"\")","v":""},{"$f":"IF(E$1<>\"\",IF($A252<>\"\",COUNT(カテゴリースコア!O254),\"\"),\"\")","v":""},{"$f":"IF(F$1<>\"\",IF($A252<>\"\",COUNT(カテゴリースコア!P254),\"\"),\"\")","v":""},{"$f":"IF(G$1<>\"\",IF($A252<>\"\",COUNT(カテゴリースコア!Q254),\"\"),\"\")","v":""},{"$f":"IF(H$1<>\"\",IF($A252<>\"\",COUNT(カテゴリースコア!R254),\"\"),\"\")","v":""},{"$f":"IF(I$1<>\"\",IF($A252<>\"\",COUNT(カテゴリースコア!S254),\"\"),\"\")","v":""},{"$f":"IF(J$1<>\"\",IF($A252<>\"\",COUNT(カテゴリースコア!T254),\"\"),\"\")","v":""},{"$f":"IF(K$1<>\"\",IF($A252<>\"\",COUNT(カテゴリースコア!U254),\"\"),\"\")","v":""}]
[{"$f":"IF(データセット1!C253<>\"\",データセット1!C253,\"\")","v":""},{"$f":"IF(データセット1!C253<>\"\",データセット1!D253-カテゴリースコア!$E$11,\"\")","v":""},{"$f":"IF(C$1<>\"\",IF($A253<>\"\",COUNT(カテゴリースコア!M255),\"\"),\"\")","v":""},{"$f":"IF(D$1<>\"\",IF($A253<>\"\",COUNT(カテゴリースコア!N255),\"\"),\"\")","v":""},{"$f":"IF(E$1<>\"\",IF($A253<>\"\",COUNT(カテゴリースコア!O255),\"\"),\"\")","v":""},{"$f":"IF(F$1<>\"\",IF($A253<>\"\",COUNT(カテゴリースコア!P255),\"\"),\"\")","v":""},{"$f":"IF(G$1<>\"\",IF($A253<>\"\",COUNT(カテゴリースコア!Q255),\"\"),\"\")","v":""},{"$f":"IF(H$1<>\"\",IF($A253<>\"\",COUNT(カテゴリースコア!R255),\"\"),\"\")","v":""},{"$f":"IF(I$1<>\"\",IF($A253<>\"\",COUNT(カテゴリースコア!S255),\"\"),\"\")","v":""},{"$f":"IF(J$1<>\"\",IF($A253<>\"\",COUNT(カテゴリースコア!T255),\"\"),\"\")","v":""},{"$f":"IF(K$1<>\"\",IF($A253<>\"\",COUNT(カテゴリースコア!U255),\"\"),\"\")","v":""}]
[{"$f":"IF(データセット1!C254<>\"\",データセット1!C254,\"\")","v":""},{"$f":"IF(データセット1!C254<>\"\",データセット1!D254-カテゴリースコア!$E$11,\"\")","v":""},{"$f":"IF(C$1<>\"\",IF($A254<>\"\",COUNT(カテゴリースコア!M256),\"\"),\"\")","v":""},{"$f":"IF(D$1<>\"\",IF($A254<>\"\",COUNT(カテゴリースコア!N256),\"\"),\"\")","v":""},{"$f":"IF(E$1<>\"\",IF($A254<>\"\",COUNT(カテゴリースコア!O256),\"\"),\"\")","v":""},{"$f":"IF(F$1<>\"\",IF($A254<>\"\",COUNT(カテゴリースコア!P256),\"\"),\"\")","v":""},{"$f":"IF(G$1<>\"\",IF($A254<>\"\",COUNT(カテゴリースコア!Q256),\"\"),\"\")","v":""},{"$f":"IF(H$1<>\"\",IF($A254<>\"\",COUNT(カテゴリースコア!R256),\"\"),\"\")","v":""},{"$f":"IF(I$1<>\"\",IF($A254<>\"\",COUNT(カテゴリースコア!S256),\"\"),\"\")","v":""},{"$f":"IF(J$1<>\"\",IF($A254<>\"\",COUNT(カテゴリースコア!T256),\"\"),\"\")","v":""},{"$f":"IF(K$1<>\"\",IF($A254<>\"\",COUNT(カテゴリースコア!U256),\"\"),\"\")","v":""}]
[{"$f":"IF(データセット1!C255<>\"\",データセット1!C255,\"\")","v":""},{"$f":"IF(データセット1!C255<>\"\",データセット1!D255-カテゴリースコア!$E$11,\"\")","v":""},{"$f":"IF(C$1<>\"\",IF($A255<>\"\",COUNT(カテゴリースコア!M257),\"\"),\"\")","v":""},{"$f":"IF(D$1<>\"\",IF($A255<>\"\",COUNT(カテゴリースコア!N257),\"\"),\"\")","v":""},{"$f":"IF(E$1<>\"\",IF($A255<>\"\",COUNT(カテゴリースコア!O257),\"\"),\"\")","v":""},{"$f":"IF(F$1<>\"\",IF($A255<>\"\",COUNT(カテゴリースコア!P257),\"\"),\"\")","v":""},{"$f":"IF(G$1<>\"\",IF($A255<>\"\",COUNT(カテゴリースコア!Q257),\"\"),\"\")","v":""},{"$f":"IF(H$1<>\"\",IF($A255<>\"\",COUNT(カテゴリースコア!R257),\"\"),\"\")","v":""},{"$f":"IF(I$1<>\"\",IF($A255<>\"\",COUNT(カテゴリースコア!S257),\"\"),\"\")","v":""},{"$f":"IF(J$1<>\"\",IF($A255<>\"\",COUNT(カテゴリースコア!T257),\"\"),\"\")","v":""},{"$f":"IF(K$1<>\"\",IF($A255<>\"\",COUNT(カテゴリースコア!U257),\"\"),\"\")","v":""}]
[{"$f":"IF(データセット1!C256<>\"\",データセット1!C256,\"\")","v":""},{"$f":"IF(データセット1!C256<>\"\",データセット1!D256-カテゴリースコア!$E$11,\"\")","v":""},{"$f":"IF(C$1<>\"\",IF($A256<>\"\",COUNT(カテゴリースコア!M258),\"\"),\"\")","v":""},{"$f":"IF(D$1<>\"\",IF($A256<>\"\",COUNT(カテゴリースコア!N258),\"\"),\"\")","v":""},{"$f":"IF(E$1<>\"\",IF($A256<>\"\",COUNT(カテゴリースコア!O258),\"\"),\"\")","v":""},{"$f":"IF(F$1<>\"\",IF($A256<>\"\",COUNT(カテゴリースコア!P258),\"\"),\"\")","v":""},{"$f":"IF(G$1<>\"\",IF($A256<>\"\",COUNT(カテゴリースコア!Q258),\"\"),\"\")","v":""},{"$f":"IF(H$1<>\"\",IF($A256<>\"\",COUNT(カテゴリースコア!R258),\"\"),\"\")","v":""},{"$f":"IF(I$1<>\"\",IF($A256<>\"\",COUNT(カテゴリースコア!S258),\"\"),\"\")","v":""},{"$f":"IF(J$1<>\"\",IF($A256<>\"\",COUNT(カテゴリースコア!T258),\"\"),\"\")","v":""},{"$f":"IF(K$1<>\"\",IF($A256<>\"\",COUNT(カテゴリースコア!U258),\"\"),\"\")","v":""}]
[{"$f":"IF(データセット1!C257<>\"\",データセット1!C257,\"\")","v":""},{"$f":"IF(データセット1!C257<>\"\",データセット1!D257-カテゴリースコア!$E$11,\"\")","v":""},{"$f":"IF(C$1<>\"\",IF($A257<>\"\",COUNT(カテゴリースコア!M259),\"\"),\"\")","v":""},{"$f":"IF(D$1<>\"\",IF($A257<>\"\",COUNT(カテゴリースコア!N259),\"\"),\"\")","v":""},{"$f":"IF(E$1<>\"\",IF($A257<>\"\",COUNT(カテゴリースコア!O259),\"\"),\"\")","v":""},{"$f":"IF(F$1<>\"\",IF($A257<>\"\",COUNT(カテゴリースコア!P259),\"\"),\"\")","v":""},{"$f":"IF(G$1<>\"\",IF($A257<>\"\",COUNT(カテゴリースコア!Q259),\"\"),\"\")","v":""},{"$f":"IF(H$1<>\"\",IF($A257<>\"\",COUNT(カテゴリースコア!R259),\"\"),\"\")","v":""},{"$f":"IF(I$1<>\"\",IF($A257<>\"\",COUNT(カテゴリースコア!S259),\"\"),\"\")","v":""},{"$f":"IF(J$1<>\"\",IF($A257<>\"\",COUNT(カテゴリースコア!T259),\"\"),\"\")","v":""},{"$f":"IF(K$1<>\"\",IF($A257<>\"\",COUNT(カテゴリースコア!U259),\"\"),\"\")","v":""}]
[{"$f":"IF(データセット1!C258<>\"\",データセット1!C258,\"\")","v":""},{"$f":"IF(データセット1!C258<>\"\",データセット1!D258-カテゴリースコア!$E$11,\"\")","v":""},{"$f":"IF(C$1<>\"\",IF($A258<>\"\",COUNT(カテゴリースコア!M260),\"\"),\"\")","v":""},{"$f":"IF(D$1<>\"\",IF($A258<>\"\",COUNT(カテゴリースコア!N260),\"\"),\"\")","v":""},{"$f":"IF(E$1<>\"\",IF($A258<>\"\",COUNT(カテゴリースコア!O260),\"\"),\"\")","v":""},{"$f":"IF(F$1<>\"\",IF($A258<>\"\",COUNT(カテゴリースコア!P260),\"\"),\"\")","v":""},{"$f":"IF(G$1<>\"\",IF($A258<>\"\",COUNT(カテゴリースコア!Q260),\"\"),\"\")","v":""},{"$f":"IF(H$1<>\"\",IF($A258<>\"\",COUNT(カテゴリースコア!R260),\"\"),\"\")","v":""},{"$f":"IF(I$1<>\"\",IF($A258<>\"\",COUNT(カテゴリースコア!S260),\"\"),\"\")","v":""},{"$f":"IF(J$1<>\"\",IF($A258<>\"\",COUNT(カテゴリースコア!T260),\"\"),\"\")","v":""},{"$f":"IF(K$1<>\"\",IF($A258<>\"\",COUNT(カテゴリースコア!U260),\"\"),\"\")","v":""}]
[{"$f":"IF(データセット1!C259<>\"\",データセット1!C259,\"\")","v":""},{"$f":"IF(データセット1!C259<>\"\",データセット1!D259-カテゴリースコア!$E$11,\"\")","v":""},{"$f":"IF(C$1<>\"\",IF($A259<>\"\",COUNT(カテゴリースコア!M261),\"\"),\"\")","v":""},{"$f":"IF(D$1<>\"\",IF($A259<>\"\",COUNT(カテゴリースコア!N261),\"\"),\"\")","v":""},{"$f":"IF(E$1<>\"\",IF($A259<>\"\",COUNT(カテゴリースコア!O261),\"\"),\"\")","v":""},{"$f":"IF(F$1<>\"\",IF($A259<>\"\",COUNT(カテゴリースコア!P261),\"\"),\"\")","v":""},{"$f":"IF(G$1<>\"\",IF($A259<>\"\",COUNT(カテゴリースコア!Q261),\"\"),\"\")","v":""},{"$f":"IF(H$1<>\"\",IF($A259<>\"\",COUNT(カテゴリースコア!R261),\"\"),\"\")","v":""},{"$f":"IF(I$1<>\"\",IF($A259<>\"\",COUNT(カテゴリースコア!S261),\"\"),\"\")","v":""},{"$f":"IF(J$1<>\"\",IF($A259<>\"\",COUNT(カテゴリースコア!T261),\"\"),\"\")","v":""},{"$f":"IF(K$1<>\"\",IF($A259<>\"\",COUNT(カテゴリースコア!U261),\"\"),\"\")","v":""}]
[{"$f":"IF(データセット1!C260<>\"\",データセット1!C260,\"\")","v":""},{"$f":"IF(データセット1!C260<>\"\",データセット1!D260-カテゴリースコア!$E$11,\"\")","v":""},{"$f":"IF(C$1<>\"\",IF($A260<>\"\",COUNT(カテゴリースコア!M262),\"\"),\"\")","v":""},{"$f":"IF(D$1<>\"\",IF($A260<>\"\",COUNT(カテゴリースコア!N262),\"\"),\"\")","v":""},{"$f":"IF(E$1<>\"\",IF($A260<>\"\",COUNT(カテゴリースコア!O262),\"\"),\"\")","v":""},{"$f":"IF(F$1<>\"\",IF($A260<>\"\",COUNT(カテゴリースコア!P262),\"\"),\"\")","v":""},{"$f":"IF(G$1<>\"\",IF($A260<>\"\",COUNT(カテゴリースコア!Q262),\"\"),\"\")","v":""},{"$f":"IF(H$1<>\"\",IF($A260<>\"\",COUNT(カテゴリースコア!R262),\"\"),\"\")","v":""},{"$f":"IF(I$1<>\"\",IF($A260<>\"\",COUNT(カテゴリースコア!S262),\"\"),\"\")","v":""},{"$f":"IF(J$1<>\"\",IF($A260<>\"\",COUNT(カテゴリースコア!T262),\"\"),\"\")","v":""},{"$f":"IF(K$1<>\"\",IF($A260<>\"\",COUNT(カテゴリースコア!U262),\"\"),\"\")","v":""}]
[{"$f":"IF(データセット1!C261<>\"\",データセット1!C261,\"\")","v":""},{"$f":"IF(データセット1!C261<>\"\",データセット1!D261-カテゴリースコア!$E$11,\"\")","v":""},{"$f":"IF(C$1<>\"\",IF($A261<>\"\",COUNT(カテゴリースコア!M263),\"\"),\"\")","v":""},{"$f":"IF(D$1<>\"\",IF($A261<>\"\",COUNT(カテゴリースコア!N263),\"\"),\"\")","v":""},{"$f":"IF(E$1<>\"\",IF($A261<>\"\",COUNT(カテゴリースコア!O263),\"\"),\"\")","v":""},{"$f":"IF(F$1<>\"\",IF($A261<>\"\",COUNT(カテゴリースコア!P263),\"\"),\"\")","v":""},{"$f":"IF(G$1<>\"\",IF($A261<>\"\",COUNT(カテゴリースコア!Q263),\"\"),\"\")","v":""},{"$f":"IF(H$1<>\"\",IF($A261<>\"\",COUNT(カテゴリースコア!R263),\"\"),\"\")","v":""},{"$f":"IF(I$1<>\"\",IF($A261<>\"\",COUNT(カテゴリースコア!S263),\"\"),\"\")","v":""},{"$f":"IF(J$1<>\"\",IF($A261<>\"\",COUNT(カテゴリースコア!T263),\"\"),\"\")","v":""},{"$f":"IF(K$1<>\"\",IF($A261<>\"\",COUNT(カテゴリースコア!U263),\"\"),\"\")","v":""}]
[{"$f":"IF(データセット1!C262<>\"\",データセット1!C262,\"\")","v":""},{"$f":"IF(データセット1!C262<>\"\",データセット1!D262-カテゴリースコア!$E$11,\"\")","v":""},{"$f":"IF(C$1<>\"\",IF($A262<>\"\",COUNT(カテゴリースコア!M264),\"\"),\"\")","v":""},{"$f":"IF(D$1<>\"\",IF($A262<>\"\",COUNT(カテゴリースコア!N264),\"\"),\"\")","v":""},{"$f":"IF(E$1<>\"\",IF($A262<>\"\",COUNT(カテゴリースコア!O264),\"\"),\"\")","v":""},{"$f":"IF(F$1<>\"\",IF($A262<>\"\",COUNT(カテゴリースコア!P264),\"\"),\"\")","v":""},{"$f":"IF(G$1<>\"\",IF($A262<>\"\",COUNT(カテゴリースコア!Q264),\"\"),\"\")","v":""},{"$f":"IF(H$1<>\"\",IF($A262<>\"\",COUNT(カテゴリースコア!R264),\"\"),\"\")","v":""},{"$f":"IF(I$1<>\"\",IF($A262<>\"\",COUNT(カテゴリースコア!S264),\"\"),\"\")","v":""},{"$f":"IF(J$1<>\"\",IF($A262<>\"\",COUNT(カテゴリースコア!T264),\"\"),\"\")","v":""},{"$f":"IF(K$1<>\"\",IF($A262<>\"\",COUNT(カテゴリースコア!U264),\"\"),\"\")","v":""}]
[{"$f":"IF(データセット1!C263<>\"\",データセット1!C263,\"\")","v":""},{"$f":"IF(データセット1!C263<>\"\",データセット1!D263-カテゴリースコア!$E$11,\"\")","v":""},{"$f":"IF(C$1<>\"\",IF($A263<>\"\",COUNT(カテゴリースコア!M265),\"\"),\"\")","v":""},{"$f":"IF(D$1<>\"\",IF($A263<>\"\",COUNT(カテゴリースコア!N265),\"\"),\"\")","v":""},{"$f":"IF(E$1<>\"\",IF($A263<>\"\",COUNT(カテゴリースコア!O265),\"\"),\"\")","v":""},{"$f":"IF(F$1<>\"\",IF($A263<>\"\",COUNT(カテゴリースコア!P265),\"\"),\"\")","v":""},{"$f":"IF(G$1<>\"\",IF($A263<>\"\",COUNT(カテゴリースコア!Q265),\"\"),\"\")","v":""},{"$f":"IF(H$1<>\"\",IF($A263<>\"\",COUNT(カテゴリースコア!R265),\"\"),\"\")","v":""},{"$f":"IF(I$1<>\"\",IF($A263<>\"\",COUNT(カテゴリースコア!S265),\"\"),\"\")","v":""},{"$f":"IF(J$1<>\"\",IF($A263<>\"\",COUNT(カテゴリースコア!T265),\"\"),\"\")","v":""},{"$f":"IF(K$1<>\"\",IF($A263<>\"\",COUNT(カテゴリースコア!U265),\"\"),\"\")","v":""}]
[{"$f":"IF(データセット1!C264<>\"\",データセット1!C264,\"\")","v":""},{"$f":"IF(データセット1!C264<>\"\",データセット1!D264-カテゴリースコア!$E$11,\"\")","v":""},{"$f":"IF(C$1<>\"\",IF($A264<>\"\",COUNT(カテゴリースコア!M266),\"\"),\"\")","v":""},{"$f":"IF(D$1<>\"\",IF($A264<>\"\",COUNT(カテゴリースコア!N266),\"\"),\"\")","v":""},{"$f":"IF(E$1<>\"\",IF($A264<>\"\",COUNT(カテゴリースコア!O266),\"\"),\"\")","v":""},{"$f":"IF(F$1<>\"\",IF($A264<>\"\",COUNT(カテゴリースコア!P266),\"\"),\"\")","v":""},{"$f":"IF(G$1<>\"\",IF($A264<>\"\",COUNT(カテゴリースコア!Q266),\"\"),\"\")","v":""},{"$f":"IF(H$1<>\"\",IF($A264<>\"\",COUNT(カテゴリースコア!R266),\"\"),\"\")","v":""},{"$f":"IF(I$1<>\"\",IF($A264<>\"\",COUNT(カテゴリースコア!S266),\"\"),\"\")","v":""},{"$f":"IF(J$1<>\"\",IF($A264<>\"\",COUNT(カテゴリースコア!T266),\"\"),\"\")","v":""},{"$f":"IF(K$1<>\"\",IF($A264<>\"\",COUNT(カテゴリースコア!U266),\"\"),\"\")","v":""}]
[{"$f":"IF(データセット1!C265<>\"\",データセット1!C265,\"\")","v":""},{"$f":"IF(データセット1!C265<>\"\",データセット1!D265-カテゴリースコア!$E$11,\"\")","v":""},{"$f":"IF(C$1<>\"\",IF($A265<>\"\",COUNT(カテゴリースコア!M267),\"\"),\"\")","v":""},{"$f":"IF(D$1<>\"\",IF($A265<>\"\",COUNT(カテゴリースコア!N267),\"\"),\"\")","v":""},{"$f":"IF(E$1<>\"\",IF($A265<>\"\",COUNT(カテゴリースコア!O267),\"\"),\"\")","v":""},{"$f":"IF(F$1<>\"\",IF($A265<>\"\",COUNT(カテゴリースコア!P267),\"\"),\"\")","v":""},{"$f":"IF(G$1<>\"\",IF($A265<>\"\",COUNT(カテゴリースコア!Q267),\"\"),\"\")","v":""},{"$f":"IF(H$1<>\"\",IF($A265<>\"\",COUNT(カテゴリースコア!R267),\"\"),\"\")","v":""},{"$f":"IF(I$1<>\"\",IF($A265<>\"\",COUNT(カテゴリースコア!S267),\"\"),\"\")","v":""},{"$f":"IF(J$1<>\"\",IF($A265<>\"\",COUNT(カテゴリースコア!T267),\"\"),\"\")","v":""},{"$f":"IF(K$1<>\"\",IF($A265<>\"\",COUNT(カテゴリースコア!U267),\"\"),\"\")","v":""}]
[{"$f":"IF(データセット1!C266<>\"\",データセット1!C266,\"\")","v":""},{"$f":"IF(データセット1!C266<>\"\",データセット1!D266-カテゴリースコア!$E$11,\"\")","v":""},{"$f":"IF(C$1<>\"\",IF($A266<>\"\",COUNT(カテゴリースコア!M268),\"\"),\"\")","v":""},{"$f":"IF(D$1<>\"\",IF($A266<>\"\",COUNT(カテゴリースコア!N268),\"\"),\"\")","v":""},{"$f":"IF(E$1<>\"\",IF($A266<>\"\",COUNT(カテゴリースコア!O268),\"\"),\"\")","v":""},{"$f":"IF(F$1<>\"\",IF($A266<>\"\",COUNT(カテゴリースコア!P268),\"\"),\"\")","v":""},{"$f":"IF(G$1<>\"\",IF($A266<>\"\",COUNT(カテゴリースコア!Q268),\"\"),\"\")","v":""},{"$f":"IF(H$1<>\"\",IF($A266<>\"\",COUNT(カテゴリースコア!R268),\"\"),\"\")","v":""},{"$f":"IF(I$1<>\"\",IF($A266<>\"\",COUNT(カテゴリースコア!S268),\"\"),\"\")","v":""},{"$f":"IF(J$1<>\"\",IF($A266<>\"\",COUNT(カテゴリースコア!T268),\"\"),\"\")","v":""},{"$f":"IF(K$1<>\"\",IF($A266<>\"\",COUNT(カテゴリースコア!U268),\"\"),\"\")","v":""}]
[{"$f":"IF(データセット1!C267<>\"\",データセット1!C267,\"\")","v":""},{"$f":"IF(データセット1!C267<>\"\",データセット1!D267-カテゴリースコア!$E$11,\"\")","v":""},{"$f":"IF(C$1<>\"\",IF($A267<>\"\",COUNT(カテゴリースコア!M269),\"\"),\"\")","v":""},{"$f":"IF(D$1<>\"\",IF($A267<>\"\",COUNT(カテゴリースコア!N269),\"\"),\"\")","v":""},{"$f":"IF(E$1<>\"\",IF($A267<>\"\",COUNT(カテゴリースコア!O269),\"\"),\"\")","v":""},{"$f":"IF(F$1<>\"\",IF($A267<>\"\",COUNT(カテゴリースコア!P269),\"\"),\"\")","v":""},{"$f":"IF(G$1<>\"\",IF($A267<>\"\",COUNT(カテゴリースコア!Q269),\"\"),\"\")","v":""},{"$f":"IF(H$1<>\"\",IF($A267<>\"\",COUNT(カテゴリースコア!R269),\"\"),\"\")","v":""},{"$f":"IF(I$1<>\"\",IF($A267<>\"\",COUNT(カテゴリースコア!S269),\"\"),\"\")","v":""},{"$f":"IF(J$1<>\"\",IF($A267<>\"\",COUNT(カテゴリースコア!T269),\"\"),\"\")","v":""},{"$f":"IF(K$1<>\"\",IF($A267<>\"\",COUNT(カテゴリースコア!U269),\"\"),\"\")","v":""}]
[{"$f":"IF(データセット1!C268<>\"\",データセット1!C268,\"\")","v":""},{"$f":"IF(データセット1!C268<>\"\",データセット1!D268-カテゴリースコア!$E$11,\"\")","v":""},{"$f":"IF(C$1<>\"\",IF($A268<>\"\",COUNT(カテゴリースコア!M270),\"\"),\"\")","v":""},{"$f":"IF(D$1<>\"\",IF($A268<>\"\",COUNT(カテゴリースコア!N270),\"\"),\"\")","v":""},{"$f":"IF(E$1<>\"\",IF($A268<>\"\",COUNT(カテゴリースコア!O270),\"\"),\"\")","v":""},{"$f":"IF(F$1<>\"\",IF($A268<>\"\",COUNT(カテゴリースコア!P270),\"\"),\"\")","v":""},{"$f":"IF(G$1<>\"\",IF($A268<>\"\",COUNT(カテゴリースコア!Q270),\"\"),\"\")","v":""},{"$f":"IF(H$1<>\"\",IF($A268<>\"\",COUNT(カテゴリースコア!R270),\"\"),\"\")","v":""},{"$f":"IF(I$1<>\"\",IF($A268<>\"\",COUNT(カテゴリースコア!S270),\"\"),\"\")","v":""},{"$f":"IF(J$1<>\"\",IF($A268<>\"\",COUNT(カテゴリースコア!T270),\"\"),\"\")","v":""},{"$f":"IF(K$1<>\"\",IF($A268<>\"\",COUNT(カテゴリースコア!U270),\"\"),\"\")","v":""}]
[{"$f":"IF(データセット1!C269<>\"\",データセット1!C269,\"\")","v":""},{"$f":"IF(データセット1!C269<>\"\",データセット1!D269-カテゴリースコア!$E$11,\"\")","v":""},{"$f":"IF(C$1<>\"\",IF($A269<>\"\",COUNT(カテゴリースコア!M271),\"\"),\"\")","v":""},{"$f":"IF(D$1<>\"\",IF($A269<>\"\",COUNT(カテゴリースコア!N271),\"\"),\"\")","v":""},{"$f":"IF(E$1<>\"\",IF($A269<>\"\",COUNT(カテゴリースコア!O271),\"\"),\"\")","v":""},{"$f":"IF(F$1<>\"\",IF($A269<>\"\",COUNT(カテゴリースコア!P271),\"\"),\"\")","v":""},{"$f":"IF(G$1<>\"\",IF($A269<>\"\",COUNT(カテゴリースコア!Q271),\"\"),\"\")","v":""},{"$f":"IF(H$1<>\"\",IF($A269<>\"\",COUNT(カテゴリースコア!R271),\"\"),\"\")","v":""},{"$f":"IF(I$1<>\"\",IF($A269<>\"\",COUNT(カテゴリースコア!S271),\"\"),\"\")","v":""},{"$f":"IF(J$1<>\"\",IF($A269<>\"\",COUNT(カテゴリースコア!T271),\"\"),\"\")","v":""},{"$f":"IF(K$1<>\"\",IF($A269<>\"\",COUNT(カテゴリースコア!U271),\"\"),\"\")","v":""}]
[{"$f":"IF(データセット1!C270<>\"\",データセット1!C270,\"\")","v":""},{"$f":"IF(データセット1!C270<>\"\",データセット1!D270-カテゴリースコア!$E$11,\"\")","v":""},{"$f":"IF(C$1<>\"\",IF($A270<>\"\",COUNT(カテゴリースコア!M272),\"\"),\"\")","v":""},{"$f":"IF(D$1<>\"\",IF($A270<>\"\",COUNT(カテゴリースコア!N272),\"\"),\"\")","v":""},{"$f":"IF(E$1<>\"\",IF($A270<>\"\",COUNT(カテゴリースコア!O272),\"\"),\"\")","v":""},{"$f":"IF(F$1<>\"\",IF($A270<>\"\",COUNT(カテゴリースコア!P272),\"\"),\"\")","v":""},{"$f":"IF(G$1<>\"\",IF($A270<>\"\",COUNT(カテゴリースコア!Q272),\"\"),\"\")","v":""},{"$f":"IF(H$1<>\"\",IF($A270<>\"\",COUNT(カテゴリースコア!R272),\"\"),\"\")","v":""},{"$f":"IF(I$1<>\"\",IF($A270<>\"\",COUNT(カテゴリースコア!S272),\"\"),\"\")","v":""},{"$f":"IF(J$1<>\"\",IF($A270<>\"\",COUNT(カテゴリースコア!T272),\"\"),\"\")","v":""},{"$f":"IF(K$1<>\"\",IF($A270<>\"\",COUNT(カテゴリースコア!U272),\"\"),\"\")","v":""}]
[{"$f":"IF(データセット1!C271<>\"\",データセット1!C271,\"\")","v":""},{"$f":"IF(データセット1!C271<>\"\",データセット1!D271-カテゴリースコア!$E$11,\"\")","v":""},{"$f":"IF(C$1<>\"\",IF($A271<>\"\",COUNT(カテゴリースコア!M273),\"\"),\"\")","v":""},{"$f":"IF(D$1<>\"\",IF($A271<>\"\",COUNT(カテゴリースコア!N273),\"\"),\"\")","v":""},{"$f":"IF(E$1<>\"\",IF($A271<>\"\",COUNT(カテゴリースコア!O273),\"\"),\"\")","v":""},{"$f":"IF(F$1<>\"\",IF($A271<>\"\",COUNT(カテゴリースコア!P273),\"\"),\"\")","v":""},{"$f":"IF(G$1<>\"\",IF($A271<>\"\",COUNT(カテゴリースコア!Q273),\"\"),\"\")","v":""},{"$f":"IF(H$1<>\"\",IF($A271<>\"\",COUNT(カテゴリースコア!R273),\"\"),\"\")","v":""},{"$f":"IF(I$1<>\"\",IF($A271<>\"\",COUNT(カテゴリースコア!S273),\"\"),\"\")","v":""},{"$f":"IF(J$1<>\"\",IF($A271<>\"\",COUNT(カテゴリースコア!T273),\"\"),\"\")","v":""},{"$f":"IF(K$1<>\"\",IF($A271<>\"\",COUNT(カテゴリースコア!U273),\"\"),\"\")","v":""}]
[{"$f":"IF(データセット1!C272<>\"\",データセット1!C272,\"\")","v":""},{"$f":"IF(データセット1!C272<>\"\",データセット1!D272-カテゴリースコア!$E$11,\"\")","v":""},{"$f":"IF(C$1<>\"\",IF($A272<>\"\",COUNT(カテゴリースコア!M274),\"\"),\"\")","v":""},{"$f":"IF(D$1<>\"\",IF($A272<>\"\",COUNT(カテゴリースコア!N274),\"\"),\"\")","v":""},{"$f":"IF(E$1<>\"\",IF($A272<>\"\",COUNT(カテゴリースコア!O274),\"\"),\"\")","v":""},{"$f":"IF(F$1<>\"\",IF($A272<>\"\",COUNT(カテゴリースコア!P274),\"\"),\"\")","v":""},{"$f":"IF(G$1<>\"\",IF($A272<>\"\",COUNT(カテゴリースコア!Q274),\"\"),\"\")","v":""},{"$f":"IF(H$1<>\"\",IF($A272<>\"\",COUNT(カテゴリースコア!R274),\"\"),\"\")","v":""},{"$f":"IF(I$1<>\"\",IF($A272<>\"\",COUNT(カテゴリースコア!S274),\"\"),\"\")","v":""},{"$f":"IF(J$1<>\"\",IF($A272<>\"\",COUNT(カテゴリースコア!T274),\"\"),\"\")","v":""},{"$f":"IF(K$1<>\"\",IF($A272<>\"\",COUNT(カテゴリースコア!U274),\"\"),\"\")","v":""}]
[{"$f":"IF(データセット1!C273<>\"\",データセット1!C273,\"\")","v":""},{"$f":"IF(データセット1!C273<>\"\",データセット1!D273-カテゴリースコア!$E$11,\"\")","v":""},{"$f":"IF(C$1<>\"\",IF($A273<>\"\",COUNT(カテゴリースコア!M275),\"\"),\"\")","v":""},{"$f":"IF(D$1<>\"\",IF($A273<>\"\",COUNT(カテゴリースコア!N275),\"\"),\"\")","v":""},{"$f":"IF(E$1<>\"\",IF($A273<>\"\",COUNT(カテゴリースコア!O275),\"\"),\"\")","v":""},{"$f":"IF(F$1<>\"\",IF($A273<>\"\",COUNT(カテゴリースコア!P275),\"\"),\"\")","v":""},{"$f":"IF(G$1<>\"\",IF($A273<>\"\",COUNT(カテゴリースコア!Q275),\"\"),\"\")","v":""},{"$f":"IF(H$1<>\"\",IF($A273<>\"\",COUNT(カテゴリースコア!R275),\"\"),\"\")","v":""},{"$f":"IF(I$1<>\"\",IF($A273<>\"\",COUNT(カテゴリースコア!S275),\"\"),\"\")","v":""},{"$f":"IF(J$1<>\"\",IF($A273<>\"\",COUNT(カテゴリースコア!T275),\"\"),\"\")","v":""},{"$f":"IF(K$1<>\"\",IF($A273<>\"\",COUNT(カテゴリースコア!U275),\"\"),\"\")","v":""}]
[{"$f":"IF(データセット1!C274<>\"\",データセット1!C274,\"\")","v":""},{"$f":"IF(データセット1!C274<>\"\",データセット1!D274-カテゴリースコア!$E$11,\"\")","v":""},{"$f":"IF(C$1<>\"\",IF($A274<>\"\",COUNT(カテゴリースコア!M276),\"\"),\"\")","v":""},{"$f":"IF(D$1<>\"\",IF($A274<>\"\",COUNT(カテゴリースコア!N276),\"\"),\"\")","v":""},{"$f":"IF(E$1<>\"\",IF($A274<>\"\",COUNT(カテゴリースコア!O276),\"\"),\"\")","v":""},{"$f":"IF(F$1<>\"\",IF($A274<>\"\",COUNT(カテゴリースコア!P276),\"\"),\"\")","v":""},{"$f":"IF(G$1<>\"\",IF($A274<>\"\",COUNT(カテゴリースコア!Q276),\"\"),\"\")","v":""},{"$f":"IF(H$1<>\"\",IF($A274<>\"\",COUNT(カテゴリースコア!R276),\"\"),\"\")","v":""},{"$f":"IF(I$1<>\"\",IF($A274<>\"\",COUNT(カテゴリースコア!S276),\"\"),\"\")","v":""},{"$f":"IF(J$1<>\"\",IF($A274<>\"\",COUNT(カテゴリースコア!T276),\"\"),\"\")","v":""},{"$f":"IF(K$1<>\"\",IF($A274<>\"\",COUNT(カテゴリースコア!U276),\"\"),\"\")","v":""}]
[{"$f":"IF(データセット1!C275<>\"\",データセット1!C275,\"\")","v":""},{"$f":"IF(データセット1!C275<>\"\",データセット1!D275-カテゴリースコア!$E$11,\"\")","v":""},{"$f":"IF(C$1<>\"\",IF($A275<>\"\",COUNT(カテゴリースコア!M277),\"\"),\"\")","v":""},{"$f":"IF(D$1<>\"\",IF($A275<>\"\",COUNT(カテゴリースコア!N277),\"\"),\"\")","v":""},{"$f":"IF(E$1<>\"\",IF($A275<>\"\",COUNT(カテゴリースコア!O277),\"\"),\"\")","v":""},{"$f":"IF(F$1<>\"\",IF($A275<>\"\",COUNT(カテゴリースコア!P277),\"\"),\"\")","v":""},{"$f":"IF(G$1<>\"\",IF($A275<>\"\",COUNT(カテゴリースコア!Q277),\"\"),\"\")","v":""},{"$f":"IF(H$1<>\"\",IF($A275<>\"\",COUNT(カテゴリースコア!R277),\"\"),\"\")","v":""},{"$f":"IF(I$1<>\"\",IF($A275<>\"\",COUNT(カテゴリースコア!S277),\"\"),\"\")","v":""},{"$f":"IF(J$1<>\"\",IF($A275<>\"\",COUNT(カテゴリースコア!T277),\"\"),\"\")","v":""},{"$f":"IF(K$1<>\"\",IF($A275<>\"\",COUNT(カテゴリースコア!U277),\"\"),\"\")","v":""}]
[{"$f":"IF(データセット1!C276<>\"\",データセット1!C276,\"\")","v":""},{"$f":"IF(データセット1!C276<>\"\",データセット1!D276-カテゴリースコア!$E$11,\"\")","v":""},{"$f":"IF(C$1<>\"\",IF($A276<>\"\",COUNT(カテゴリースコア!M278),\"\"),\"\")","v":""},{"$f":"IF(D$1<>\"\",IF($A276<>\"\",COUNT(カテゴリースコア!N278),\"\"),\"\")","v":""},{"$f":"IF(E$1<>\"\",IF($A276<>\"\",COUNT(カテゴリースコア!O278),\"\"),\"\")","v":""},{"$f":"IF(F$1<>\"\",IF($A276<>\"\",COUNT(カテゴリースコア!P278),\"\"),\"\")","v":""},{"$f":"IF(G$1<>\"\",IF($A276<>\"\",COUNT(カテゴリースコア!Q278),\"\"),\"\")","v":""},{"$f":"IF(H$1<>\"\",IF($A276<>\"\",COUNT(カテゴリースコア!R278),\"\"),\"\")","v":""},{"$f":"IF(I$1<>\"\",IF($A276<>\"\",COUNT(カテゴリースコア!S278),\"\"),\"\")","v":""},{"$f":"IF(J$1<>\"\",IF($A276<>\"\",COUNT(カテゴリースコア!T278),\"\"),\"\")","v":""},{"$f":"IF(K$1<>\"\",IF($A276<>\"\",COUNT(カテゴリースコア!U278),\"\"),\"\")","v":""}]
[{"$f":"IF(データセット1!C277<>\"\",データセット1!C277,\"\")","v":""},{"$f":"IF(データセット1!C277<>\"\",データセット1!D277-カテゴリースコア!$E$11,\"\")","v":""},{"$f":"IF(C$1<>\"\",IF($A277<>\"\",COUNT(カテゴリースコア!M279),\"\"),\"\")","v":""},{"$f":"IF(D$1<>\"\",IF($A277<>\"\",COUNT(カテゴリースコア!N279),\"\"),\"\")","v":""},{"$f":"IF(E$1<>\"\",IF($A277<>\"\",COUNT(カテゴリースコア!O279),\"\"),\"\")","v":""},{"$f":"IF(F$1<>\"\",IF($A277<>\"\",COUNT(カテゴリースコア!P279),\"\"),\"\")","v":""},{"$f":"IF(G$1<>\"\",IF($A277<>\"\",COUNT(カテゴリースコア!Q279),\"\"),\"\")","v":""},{"$f":"IF(H$1<>\"\",IF($A277<>\"\",COUNT(カテゴリースコア!R279),\"\"),\"\")","v":""},{"$f":"IF(I$1<>\"\",IF($A277<>\"\",COUNT(カテゴリースコア!S279),\"\"),\"\")","v":""},{"$f":"IF(J$1<>\"\",IF($A277<>\"\",COUNT(カテゴリースコア!T279),\"\"),\"\")","v":""},{"$f":"IF(K$1<>\"\",IF($A277<>\"\",COUNT(カテゴリースコア!U279),\"\"),\"\")","v":""}]
[{"$f":"IF(データセット1!C278<>\"\",データセット1!C278,\"\")","v":""},{"$f":"IF(データセット1!C278<>\"\",データセット1!D278-カテゴリースコア!$E$11,\"\")","v":""},{"$f":"IF(C$1<>\"\",IF($A278<>\"\",COUNT(カテゴリースコア!M280),\"\"),\"\")","v":""},{"$f":"IF(D$1<>\"\",IF($A278<>\"\",COUNT(カテゴリースコア!N280),\"\"),\"\")","v":""},{"$f":"IF(E$1<>\"\",IF($A278<>\"\",COUNT(カテゴリースコア!O280),\"\"),\"\")","v":""},{"$f":"IF(F$1<>\"\",IF($A278<>\"\",COUNT(カテゴリースコア!P280),\"\"),\"\")","v":""},{"$f":"IF(G$1<>\"\",IF($A278<>\"\",COUNT(カテゴリースコア!Q280),\"\"),\"\")","v":""},{"$f":"IF(H$1<>\"\",IF($A278<>\"\",COUNT(カテゴリースコア!R280),\"\"),\"\")","v":""},{"$f":"IF(I$1<>\"\",IF($A278<>\"\",COUNT(カテゴリースコア!S280),\"\"),\"\")","v":""},{"$f":"IF(J$1<>\"\",IF($A278<>\"\",COUNT(カテゴリースコア!T280),\"\"),\"\")","v":""},{"$f":"IF(K$1<>\"\",IF($A278<>\"\",COUNT(カテゴリースコア!U280),\"\"),\"\")","v":""}]
[{"$f":"IF(データセット1!C279<>\"\",データセット1!C279,\"\")","v":""},{"$f":"IF(データセット1!C279<>\"\",データセット1!D279-カテゴリースコア!$E$11,\"\")","v":""},{"$f":"IF(C$1<>\"\",IF($A279<>\"\",COUNT(カテゴリースコア!M281),\"\"),\"\")","v":""},{"$f":"IF(D$1<>\"\",IF($A279<>\"\",COUNT(カテゴリースコア!N281),\"\"),\"\")","v":""},{"$f":"IF(E$1<>\"\",IF($A279<>\"\",COUNT(カテゴリースコア!O281),\"\"),\"\")","v":""},{"$f":"IF(F$1<>\"\",IF($A279<>\"\",COUNT(カテゴリースコア!P281),\"\"),\"\")","v":""},{"$f":"IF(G$1<>\"\",IF($A279<>\"\",COUNT(カテゴリースコア!Q281),\"\"),\"\")","v":""},{"$f":"IF(H$1<>\"\",IF($A279<>\"\",COUNT(カテゴリースコア!R281),\"\"),\"\")","v":""},{"$f":"IF(I$1<>\"\",IF($A279<>\"\",COUNT(カテゴリースコア!S281),\"\"),\"\")","v":""},{"$f":"IF(J$1<>\"\",IF($A279<>\"\",COUNT(カテゴリースコア!T281),\"\"),\"\")","v":""},{"$f":"IF(K$1<>\"\",IF($A279<>\"\",COUNT(カテゴリースコア!U281),\"\"),\"\")","v":""}]
[{"$f":"IF(データセット1!C280<>\"\",データセット1!C280,\"\")","v":""},{"$f":"IF(データセット1!C280<>\"\",データセット1!D280-カテゴリースコア!$E$11,\"\")","v":""},{"$f":"IF(C$1<>\"\",IF($A280<>\"\",COUNT(カテゴリースコア!M282),\"\"),\"\")","v":""},{"$f":"IF(D$1<>\"\",IF($A280<>\"\",COUNT(カテゴリースコア!N282),\"\"),\"\")","v":""},{"$f":"IF(E$1<>\"\",IF($A280<>\"\",COUNT(カテゴリースコア!O282),\"\"),\"\")","v":""},{"$f":"IF(F$1<>\"\",IF($A280<>\"\",COUNT(カテゴリースコア!P282),\"\"),\"\")","v":""},{"$f":"IF(G$1<>\"\",IF($A280<>\"\",COUNT(カテゴリースコア!Q282),\"\"),\"\")","v":""},{"$f":"IF(H$1<>\"\",IF($A280<>\"\",COUNT(カテゴリースコア!R282),\"\"),\"\")","v":""},{"$f":"IF(I$1<>\"\",IF($A280<>\"\",COUNT(カテゴリースコア!S282),\"\"),\"\")","v":""},{"$f":"IF(J$1<>\"\",IF($A280<>\"\",COUNT(カテゴリースコア!T282),\"\"),\"\")","v":""},{"$f":"IF(K$1<>\"\",IF($A280<>\"\",COUNT(カテゴリースコア!U282),\"\"),\"\")","v":""}]
[{"$f":"IF(データセット1!C281<>\"\",データセット1!C281,\"\")","v":""},{"$f":"IF(データセット1!C281<>\"\",データセット1!D281-カテゴリースコア!$E$11,\"\")","v":""},{"$f":"IF(C$1<>\"\",IF($A281<>\"\",COUNT(カテゴリースコア!M283),\"\"),\"\")","v":""},{"$f":"IF(D$1<>\"\",IF($A281<>\"\",COUNT(カテゴリースコア!N283),\"\"),\"\")","v":""},{"$f":"IF(E$1<>\"\",IF($A281<>\"\",COUNT(カテゴリースコア!O283),\"\"),\"\")","v":""},{"$f":"IF(F$1<>\"\",IF($A281<>\"\",COUNT(カテゴリースコア!P283),\"\"),\"\")","v":""},{"$f":"IF(G$1<>\"\",IF($A281<>\"\",COUNT(カテゴリースコア!Q283),\"\"),\"\")","v":""},{"$f":"IF(H$1<>\"\",IF($A281<>\"\",COUNT(カテゴリースコア!R283),\"\"),\"\")","v":""},{"$f":"IF(I$1<>\"\",IF($A281<>\"\",COUNT(カテゴリースコア!S283),\"\"),\"\")","v":""},{"$f":"IF(J$1<>\"\",IF($A281<>\"\",COUNT(カテゴリースコア!T283),\"\"),\"\")","v":""},{"$f":"IF(K$1<>\"\",IF($A281<>\"\",COUNT(カテゴリースコア!U283),\"\"),\"\")","v":""}]
[{"$f":"IF(データセット1!C282<>\"\",データセット1!C282,\"\")","v":""},{"$f":"IF(データセット1!C282<>\"\",データセット1!D282-カテゴリースコア!$E$11,\"\")","v":""},{"$f":"IF(C$1<>\"\",IF($A282<>\"\",COUNT(カテゴリースコア!M284),\"\"),\"\")","v":""},{"$f":"IF(D$1<>\"\",IF($A282<>\"\",COUNT(カテゴリースコア!N284),\"\"),\"\")","v":""},{"$f":"IF(E$1<>\"\",IF($A282<>\"\",COUNT(カテゴリースコア!O284),\"\"),\"\")","v":""},{"$f":"IF(F$1<>\"\",IF($A282<>\"\",COUNT(カテゴリースコア!P284),\"\"),\"\")","v":""},{"$f":"IF(G$1<>\"\",IF($A282<>\"\",COUNT(カテゴリースコア!Q284),\"\"),\"\")","v":""},{"$f":"IF(H$1<>\"\",IF($A282<>\"\",COUNT(カテゴリースコア!R284),\"\"),\"\")","v":""},{"$f":"IF(I$1<>\"\",IF($A282<>\"\",COUNT(カテゴリースコア!S284),\"\"),\"\")","v":""},{"$f":"IF(J$1<>\"\",IF($A282<>\"\",COUNT(カテゴリースコア!T284),\"\"),\"\")","v":""},{"$f":"IF(K$1<>\"\",IF($A282<>\"\",COUNT(カテゴリースコア!U284),\"\"),\"\")","v":""}]
[{"$f":"IF(データセット1!C283<>\"\",データセット1!C283,\"\")","v":""},{"$f":"IF(データセット1!C283<>\"\",データセット1!D283-カテゴリースコア!$E$11,\"\")","v":""},{"$f":"IF(C$1<>\"\",IF($A283<>\"\",COUNT(カテゴリースコア!M285),\"\"),\"\")","v":""},{"$f":"IF(D$1<>\"\",IF($A283<>\"\",COUNT(カテゴリースコア!N285),\"\"),\"\")","v":""},{"$f":"IF(E$1<>\"\",IF($A283<>\"\",COUNT(カテゴリースコア!O285),\"\"),\"\")","v":""},{"$f":"IF(F$1<>\"\",IF($A283<>\"\",COUNT(カテゴリースコア!P285),\"\"),\"\")","v":""},{"$f":"IF(G$1<>\"\",IF($A283<>\"\",COUNT(カテゴリースコア!Q285),\"\"),\"\")","v":""},{"$f":"IF(H$1<>\"\",IF($A283<>\"\",COUNT(カテゴリースコア!R285),\"\"),\"\")","v":""},{"$f":"IF(I$1<>\"\",IF($A283<>\"\",COUNT(カテゴリースコア!S285),\"\"),\"\")","v":""},{"$f":"IF(J$1<>\"\",IF($A283<>\"\",COUNT(カテゴリースコア!T285),\"\"),\"\")","v":""},{"$f":"IF(K$1<>\"\",IF($A283<>\"\",COUNT(カテゴリースコア!U285),\"\"),\"\")","v":""}]
[{"$f":"IF(データセット1!C284<>\"\",データセット1!C284,\"\")","v":""},{"$f":"IF(データセット1!C284<>\"\",データセット1!D284-カテゴリースコア!$E$11,\"\")","v":""},{"$f":"IF(C$1<>\"\",IF($A284<>\"\",COUNT(カテゴリースコア!M286),\"\"),\"\")","v":""},{"$f":"IF(D$1<>\"\",IF($A284<>\"\",COUNT(カテゴリースコア!N286),\"\"),\"\")","v":""},{"$f":"IF(E$1<>\"\",IF($A284<>\"\",COUNT(カテゴリースコア!O286),\"\"),\"\")","v":""},{"$f":"IF(F$1<>\"\",IF($A284<>\"\",COUNT(カテゴリースコア!P286),\"\"),\"\")","v":""},{"$f":"IF(G$1<>\"\",IF($A284<>\"\",COUNT(カテゴリースコア!Q286),\"\"),\"\")","v":""},{"$f":"IF(H$1<>\"\",IF($A284<>\"\",COUNT(カテゴリースコア!R286),\"\"),\"\")","v":""},{"$f":"IF(I$1<>\"\",IF($A284<>\"\",COUNT(カテゴリースコア!S286),\"\"),\"\")","v":""},{"$f":"IF(J$1<>\"\",IF($A284<>\"\",COUNT(カテゴリースコア!T286),\"\"),\"\")","v":""},{"$f":"IF(K$1<>\"\",IF($A284<>\"\",COUNT(カテゴリースコア!U286),\"\"),\"\")","v":""}]
[{"$f":"IF(データセット1!C285<>\"\",データセット1!C285,\"\")","v":""},{"$f":"IF(データセット1!C285<>\"\",データセット1!D285-カテゴリースコア!$E$11,\"\")","v":""},{"$f":"IF(C$1<>\"\",IF($A285<>\"\",COUNT(カテゴリースコア!M287),\"\"),\"\")","v":""},{"$f":"IF(D$1<>\"\",IF($A285<>\"\",COUNT(カテゴリースコア!N287),\"\"),\"\")","v":""},{"$f":"IF(E$1<>\"\",IF($A285<>\"\",COUNT(カテゴリースコア!O287),\"\"),\"\")","v":""},{"$f":"IF(F$1<>\"\",IF($A285<>\"\",COUNT(カテゴリースコア!P287),\"\"),\"\")","v":""},{"$f":"IF(G$1<>\"\",IF($A285<>\"\",COUNT(カテゴリースコア!Q287),\"\"),\"\")","v":""},{"$f":"IF(H$1<>\"\",IF($A285<>\"\",COUNT(カテゴリースコア!R287),\"\"),\"\")","v":""},{"$f":"IF(I$1<>\"\",IF($A285<>\"\",COUNT(カテゴリースコア!S287),\"\"),\"\")","v":""},{"$f":"IF(J$1<>\"\",IF($A285<>\"\",COUNT(カテゴリースコア!T287),\"\"),\"\")","v":""},{"$f":"IF(K$1<>\"\",IF($A285<>\"\",COUNT(カテゴリースコア!U287),\"\"),\"\")","v":""}]
[{"$f":"IF(データセット1!C286<>\"\",データセット1!C286,\"\")","v":""},{"$f":"IF(データセット1!C286<>\"\",データセット1!D286-カテゴリースコア!$E$11,\"\")","v":""},{"$f":"IF(C$1<>\"\",IF($A286<>\"\",COUNT(カテゴリースコア!M288),\"\"),\"\")","v":""},{"$f":"IF(D$1<>\"\",IF($A286<>\"\",COUNT(カテゴリースコア!N288),\"\"),\"\")","v":""},{"$f":"IF(E$1<>\"\",IF($A286<>\"\",COUNT(カテゴリースコア!O288),\"\"),\"\")","v":""},{"$f":"IF(F$1<>\"\",IF($A286<>\"\",COUNT(カテゴリースコア!P288),\"\"),\"\")","v":""},{"$f":"IF(G$1<>\"\",IF($A286<>\"\",COUNT(カテゴリースコア!Q288),\"\"),\"\")","v":""},{"$f":"IF(H$1<>\"\",IF($A286<>\"\",COUNT(カテゴリースコア!R288),\"\"),\"\")","v":""},{"$f":"IF(I$1<>\"\",IF($A286<>\"\",COUNT(カテゴリースコア!S288),\"\"),\"\")","v":""},{"$f":"IF(J$1<>\"\",IF($A286<>\"\",COUNT(カテゴリースコア!T288),\"\"),\"\")","v":""},{"$f":"IF(K$1<>\"\",IF($A286<>\"\",COUNT(カテゴリースコア!U288),\"\"),\"\")","v":""}]
[{"$f":"IF(データセット1!C287<>\"\",データセット1!C287,\"\")","v":""},{"$f":"IF(データセット1!C287<>\"\",データセット1!D287-カテゴリースコア!$E$11,\"\")","v":""},{"$f":"IF(C$1<>\"\",IF($A287<>\"\",COUNT(カテゴリースコア!M289),\"\"),\"\")","v":""},{"$f":"IF(D$1<>\"\",IF($A287<>\"\",COUNT(カテゴリースコア!N289),\"\"),\"\")","v":""},{"$f":"IF(E$1<>\"\",IF($A287<>\"\",COUNT(カテゴリースコア!O289),\"\"),\"\")","v":""},{"$f":"IF(F$1<>\"\",IF($A287<>\"\",COUNT(カテゴリースコア!P289),\"\"),\"\")","v":""},{"$f":"IF(G$1<>\"\",IF($A287<>\"\",COUNT(カテゴリースコア!Q289),\"\"),\"\")","v":""},{"$f":"IF(H$1<>\"\",IF($A287<>\"\",COUNT(カテゴリースコア!R289),\"\"),\"\")","v":""},{"$f":"IF(I$1<>\"\",IF($A287<>\"\",COUNT(カテゴリースコア!S289),\"\"),\"\")","v":""},{"$f":"IF(J$1<>\"\",IF($A287<>\"\",COUNT(カテゴリースコア!T289),\"\"),\"\")","v":""},{"$f":"IF(K$1<>\"\",IF($A287<>\"\",COUNT(カテゴリースコア!U289),\"\"),\"\")","v":""}]
[{"$f":"IF(データセット1!C288<>\"\",データセット1!C288,\"\")","v":""},{"$f":"IF(データセット1!C288<>\"\",データセット1!D288-カテゴリースコア!$E$11,\"\")","v":""},{"$f":"IF(C$1<>\"\",IF($A288<>\"\",COUNT(カテゴリースコア!M290),\"\"),\"\")","v":""},{"$f":"IF(D$1<>\"\",IF($A288<>\"\",COUNT(カテゴリースコア!N290),\"\"),\"\")","v":""},{"$f":"IF(E$1<>\"\",IF($A288<>\"\",COUNT(カテゴリースコア!O290),\"\"),\"\")","v":""},{"$f":"IF(F$1<>\"\",IF($A288<>\"\",COUNT(カテゴリースコア!P290),\"\"),\"\")","v":""},{"$f":"IF(G$1<>\"\",IF($A288<>\"\",COUNT(カテゴリースコア!Q290),\"\"),\"\")","v":""},{"$f":"IF(H$1<>\"\",IF($A288<>\"\",COUNT(カテゴリースコア!R290),\"\"),\"\")","v":""},{"$f":"IF(I$1<>\"\",IF($A288<>\"\",COUNT(カテゴリースコア!S290),\"\"),\"\")","v":""},{"$f":"IF(J$1<>\"\",IF($A288<>\"\",COUNT(カテゴリースコア!T290),\"\"),\"\")","v":""},{"$f":"IF(K$1<>\"\",IF($A288<>\"\",COUNT(カテゴリースコア!U290),\"\"),\"\")","v":""}]
[{"$f":"IF(データセット1!C289<>\"\",データセット1!C289,\"\")","v":""},{"$f":"IF(データセット1!C289<>\"\",データセット1!D289-カテゴリースコア!$E$11,\"\")","v":""},{"$f":"IF(C$1<>\"\",IF($A289<>\"\",COUNT(カテゴリースコア!M291),\"\"),\"\")","v":""},{"$f":"IF(D$1<>\"\",IF($A289<>\"\",COUNT(カテゴリースコア!N291),\"\"),\"\")","v":""},{"$f":"IF(E$1<>\"\",IF($A289<>\"\",COUNT(カテゴリースコア!O291),\"\"),\"\")","v":""},{"$f":"IF(F$1<>\"\",IF($A289<>\"\",COUNT(カテゴリースコア!P291),\"\"),\"\")","v":""},{"$f":"IF(G$1<>\"\",IF($A289<>\"\",COUNT(カテゴリースコア!Q291),\"\"),\"\")","v":""},{"$f":"IF(H$1<>\"\",IF($A289<>\"\",COUNT(カテゴリースコア!R291),\"\"),\"\")","v":""},{"$f":"IF(I$1<>\"\",IF($A289<>\"\",COUNT(カテゴリースコア!S291),\"\"),\"\")","v":""},{"$f":"IF(J$1<>\"\",IF($A289<>\"\",COUNT(カテゴリースコア!T291),\"\"),\"\")","v":""},{"$f":"IF(K$1<>\"\",IF($A289<>\"\",COUNT(カテゴリースコア!U291),\"\"),\"\")","v":""}]
[{"$f":"IF(データセット1!C290<>\"\",データセット1!C290,\"\")","v":""},{"$f":"IF(データセット1!C290<>\"\",データセット1!D290-カテゴリースコア!$E$11,\"\")","v":""},{"$f":"IF(C$1<>\"\",IF($A290<>\"\",COUNT(カテゴリースコア!M292),\"\"),\"\")","v":""},{"$f":"IF(D$1<>\"\",IF($A290<>\"\",COUNT(カテゴリースコア!N292),\"\"),\"\")","v":""},{"$f":"IF(E$1<>\"\",IF($A290<>\"\",COUNT(カテゴリースコア!O292),\"\"),\"\")","v":""},{"$f":"IF(F$1<>\"\",IF($A290<>\"\",COUNT(カテゴリースコア!P292),\"\"),\"\")","v":""},{"$f":"IF(G$1<>\"\",IF($A290<>\"\",COUNT(カテゴリースコア!Q292),\"\"),\"\")","v":""},{"$f":"IF(H$1<>\"\",IF($A290<>\"\",COUNT(カテゴリースコア!R292),\"\"),\"\")","v":""},{"$f":"IF(I$1<>\"\",IF($A290<>\"\",COUNT(カテゴリースコア!S292),\"\"),\"\")","v":""},{"$f":"IF(J$1<>\"\",IF($A290<>\"\",COUNT(カテゴリースコア!T292),\"\"),\"\")","v":""},{"$f":"IF(K$1<>\"\",IF($A290<>\"\",COUNT(カテゴリースコア!U292),\"\"),\"\")","v":""}]
[{"$f":"IF(データセット1!C291<>\"\",データセット1!C291,\"\")","v":""},{"$f":"IF(データセット1!C291<>\"\",データセット1!D291-カテゴリースコア!$E$11,\"\")","v":""},{"$f":"IF(C$1<>\"\",IF($A291<>\"\",COUNT(カテゴリースコア!M293),\"\"),\"\")","v":""},{"$f":"IF(D$1<>\"\",IF($A291<>\"\",COUNT(カテゴリースコア!N293),\"\"),\"\")","v":""},{"$f":"IF(E$1<>\"\",IF($A291<>\"\",COUNT(カテゴリースコア!O293),\"\"),\"\")","v":""},{"$f":"IF(F$1<>\"\",IF($A291<>\"\",COUNT(カテゴリースコア!P293),\"\"),\"\")","v":""},{"$f":"IF(G$1<>\"\",IF($A291<>\"\",COUNT(カテゴリースコア!Q293),\"\"),\"\")","v":""},{"$f":"IF(H$1<>\"\",IF($A291<>\"\",COUNT(カテゴリースコア!R293),\"\"),\"\")","v":""},{"$f":"IF(I$1<>\"\",IF($A291<>\"\",COUNT(カテゴリースコア!S293),\"\"),\"\")","v":""},{"$f":"IF(J$1<>\"\",IF($A291<>\"\",COUNT(カテゴリースコア!T293),\"\"),\"\")","v":""},{"$f":"IF(K$1<>\"\",IF($A291<>\"\",COUNT(カテゴリースコア!U293),\"\"),\"\")","v":""}]
[{"$f":"IF(データセット1!C292<>\"\",データセット1!C292,\"\")","v":""},{"$f":"IF(データセット1!C292<>\"\",データセット1!D292-カテゴリースコア!$E$11,\"\")","v":""},{"$f":"IF(C$1<>\"\",IF($A292<>\"\",COUNT(カテゴリースコア!M294),\"\"),\"\")","v":""},{"$f":"IF(D$1<>\"\",IF($A292<>\"\",COUNT(カテゴリースコア!N294),\"\"),\"\")","v":""},{"$f":"IF(E$1<>\"\",IF($A292<>\"\",COUNT(カテゴリースコア!O294),\"\"),\"\")","v":""},{"$f":"IF(F$1<>\"\",IF($A292<>\"\",COUNT(カテゴリースコア!P294),\"\"),\"\")","v":""},{"$f":"IF(G$1<>\"\",IF($A292<>\"\",COUNT(カテゴリースコア!Q294),\"\"),\"\")","v":""},{"$f":"IF(H$1<>\"\",IF($A292<>\"\",COUNT(カテゴリースコア!R294),\"\"),\"\")","v":""},{"$f":"IF(I$1<>\"\",IF($A292<>\"\",COUNT(カテゴリースコア!S294),\"\"),\"\")","v":""},{"$f":"IF(J$1<>\"\",IF($A292<>\"\",COUNT(カテゴリースコア!T294),\"\"),\"\")","v":""},{"$f":"IF(K$1<>\"\",IF($A292<>\"\",COUNT(カテゴリースコア!U294),\"\"),\"\")","v":""}]
[{"$f":"IF(データセット1!C293<>\"\",データセット1!C293,\"\")","v":""},{"$f":"IF(データセット1!C293<>\"\",データセット1!D293-カテゴリースコア!$E$11,\"\")","v":""},{"$f":"IF(C$1<>\"\",IF($A293<>\"\",COUNT(カテゴリースコア!M295),\"\"),\"\")","v":""},{"$f":"IF(D$1<>\"\",IF($A293<>\"\",COUNT(カテゴリースコア!N295),\"\"),\"\")","v":""},{"$f":"IF(E$1<>\"\",IF($A293<>\"\",COUNT(カテゴリースコア!O295),\"\"),\"\")","v":""},{"$f":"IF(F$1<>\"\",IF($A293<>\"\",COUNT(カテゴリースコア!P295),\"\"),\"\")","v":""},{"$f":"IF(G$1<>\"\",IF($A293<>\"\",COUNT(カテゴリースコア!Q295),\"\"),\"\")","v":""},{"$f":"IF(H$1<>\"\",IF($A293<>\"\",COUNT(カテゴリースコア!R295),\"\"),\"\")","v":""},{"$f":"IF(I$1<>\"\",IF($A293<>\"\",COUNT(カテゴリースコア!S295),\"\"),\"\")","v":""},{"$f":"IF(J$1<>\"\",IF($A293<>\"\",COUNT(カテゴリースコア!T295),\"\"),\"\")","v":""},{"$f":"IF(K$1<>\"\",IF($A293<>\"\",COUNT(カテゴリースコア!U295),\"\"),\"\")","v":""}]
[{"$f":"IF(データセット1!C294<>\"\",データセット1!C294,\"\")","v":""},{"$f":"IF(データセット1!C294<>\"\",データセット1!D294-カテゴリースコア!$E$11,\"\")","v":""},{"$f":"IF(C$1<>\"\",IF($A294<>\"\",COUNT(カテゴリースコア!M296),\"\"),\"\")","v":""},{"$f":"IF(D$1<>\"\",IF($A294<>\"\",COUNT(カテゴリースコア!N296),\"\"),\"\")","v":""},{"$f":"IF(E$1<>\"\",IF($A294<>\"\",COUNT(カテゴリースコア!O296),\"\"),\"\")","v":""},{"$f":"IF(F$1<>\"\",IF($A294<>\"\",COUNT(カテゴリースコア!P296),\"\"),\"\")","v":""},{"$f":"IF(G$1<>\"\",IF($A294<>\"\",COUNT(カテゴリースコア!Q296),\"\"),\"\")","v":""},{"$f":"IF(H$1<>\"\",IF($A294<>\"\",COUNT(カテゴリースコア!R296),\"\"),\"\")","v":""},{"$f":"IF(I$1<>\"\",IF($A294<>\"\",COUNT(カテゴリースコア!S296),\"\"),\"\")","v":""},{"$f":"IF(J$1<>\"\",IF($A294<>\"\",COUNT(カテゴリースコア!T296),\"\"),\"\")","v":""},{"$f":"IF(K$1<>\"\",IF($A294<>\"\",COUNT(カテゴリースコア!U296),\"\"),\"\")","v":""}]
[{"$f":"IF(データセット1!C295<>\"\",データセット1!C295,\"\")","v":""},{"$f":"IF(データセット1!C295<>\"\",データセット1!D295-カテゴリースコア!$E$11,\"\")","v":""},{"$f":"IF(C$1<>\"\",IF($A295<>\"\",COUNT(カテゴリースコア!M297),\"\"),\"\")","v":""},{"$f":"IF(D$1<>\"\",IF($A295<>\"\",COUNT(カテゴリースコア!N297),\"\"),\"\")","v":""},{"$f":"IF(E$1<>\"\",IF($A295<>\"\",COUNT(カテゴリースコア!O297),\"\"),\"\")","v":""},{"$f":"IF(F$1<>\"\",IF($A295<>\"\",COUNT(カテゴリースコア!P297),\"\"),\"\")","v":""},{"$f":"IF(G$1<>\"\",IF($A295<>\"\",COUNT(カテゴリースコア!Q297),\"\"),\"\")","v":""},{"$f":"IF(H$1<>\"\",IF($A295<>\"\",COUNT(カテゴリースコア!R297),\"\"),\"\")","v":""},{"$f":"IF(I$1<>\"\",IF($A295<>\"\",COUNT(カテゴリースコア!S297),\"\"),\"\")","v":""},{"$f":"IF(J$1<>\"\",IF($A295<>\"\",COUNT(カテゴリースコア!T297),\"\"),\"\")","v":""},{"$f":"IF(K$1<>\"\",IF($A295<>\"\",COUNT(カテゴリースコア!U297),\"\"),\"\")","v":""}]
[{"$f":"IF(データセット1!C296<>\"\",データセット1!C296,\"\")","v":""},{"$f":"IF(データセット1!C296<>\"\",データセット1!D296-カテゴリースコア!$E$11,\"\")","v":""},{"$f":"IF(C$1<>\"\",IF($A296<>\"\",COUNT(カテゴリースコア!M298),\"\"),\"\")","v":""},{"$f":"IF(D$1<>\"\",IF($A296<>\"\",COUNT(カテゴリースコア!N298),\"\"),\"\")","v":""},{"$f":"IF(E$1<>\"\",IF($A296<>\"\",COUNT(カテゴリースコア!O298),\"\"),\"\")","v":""},{"$f":"IF(F$1<>\"\",IF($A296<>\"\",COUNT(カテゴリースコア!P298),\"\"),\"\")","v":""},{"$f":"IF(G$1<>\"\",IF($A296<>\"\",COUNT(カテゴリースコア!Q298),\"\"),\"\")","v":""},{"$f":"IF(H$1<>\"\",IF($A296<>\"\",COUNT(カテゴリースコア!R298),\"\"),\"\")","v":""},{"$f":"IF(I$1<>\"\",IF($A296<>\"\",COUNT(カテゴリースコア!S298),\"\"),\"\")","v":""},{"$f":"IF(J$1<>\"\",IF($A296<>\"\",COUNT(カテゴリースコア!T298),\"\"),\"\")","v":""},{"$f":"IF(K$1<>\"\",IF($A296<>\"\",COUNT(カテゴリースコア!U298),\"\"),\"\")","v":""}]
[{"$f":"IF(データセット1!C297<>\"\",データセット1!C297,\"\")","v":""},{"$f":"IF(データセット1!C297<>\"\",データセット1!D297-カテゴリースコア!$E$11,\"\")","v":""},{"$f":"IF(C$1<>\"\",IF($A297<>\"\",COUNT(カテゴリースコア!M299),\"\"),\"\")","v":""},{"$f":"IF(D$1<>\"\",IF($A297<>\"\",COUNT(カテゴリースコア!N299),\"\"),\"\")","v":""},{"$f":"IF(E$1<>\"\",IF($A297<>\"\",COUNT(カテゴリースコア!O299),\"\"),\"\")","v":""},{"$f":"IF(F$1<>\"\",IF($A297<>\"\",COUNT(カテゴリースコア!P299),\"\"),\"\")","v":""},{"$f":"IF(G$1<>\"\",IF($A297<>\"\",COUNT(カテゴリースコア!Q299),\"\"),\"\")","v":""},{"$f":"IF(H$1<>\"\",IF($A297<>\"\",COUNT(カテゴリースコア!R299),\"\"),\"\")","v":""},{"$f":"IF(I$1<>\"\",IF($A297<>\"\",COUNT(カテゴリースコア!S299),\"\"),\"\")","v":""},{"$f":"IF(J$1<>\"\",IF($A297<>\"\",COUNT(カテゴリースコア!T299),\"\"),\"\")","v":""},{"$f":"IF(K$1<>\"\",IF($A297<>\"\",COUNT(カテゴリースコア!U299),\"\"),\"\")","v":""}]
[{"$f":"IF(データセット1!C298<>\"\",データセット1!C298,\"\")","v":""},{"$f":"IF(データセット1!C298<>\"\",データセット1!D298-カテゴリースコア!$E$11,\"\")","v":""},{"$f":"IF(C$1<>\"\",IF($A298<>\"\",COUNT(カテゴリースコア!M300),\"\"),\"\")","v":""},{"$f":"IF(D$1<>\"\",IF($A298<>\"\",COUNT(カテゴリースコア!N300),\"\"),\"\")","v":""},{"$f":"IF(E$1<>\"\",IF($A298<>\"\",COUNT(カテゴリースコア!O300),\"\"),\"\")","v":""},{"$f":"IF(F$1<>\"\",IF($A298<>\"\",COUNT(カテゴリースコア!P300),\"\"),\"\")","v":""},{"$f":"IF(G$1<>\"\",IF($A298<>\"\",COUNT(カテゴリースコア!Q300),\"\"),\"\")","v":""},{"$f":"IF(H$1<>\"\",IF($A298<>\"\",COUNT(カテゴリースコア!R300),\"\"),\"\")","v":""},{"$f":"IF(I$1<>\"\",IF($A298<>\"\",COUNT(カテゴリースコア!S300),\"\"),\"\")","v":""},{"$f":"IF(J$1<>\"\",IF($A298<>\"\",COUNT(カテゴリースコア!T300),\"\"),\"\")","v":""},{"$f":"IF(K$1<>\"\",IF($A298<>\"\",COUNT(カテゴリースコア!U300),\"\"),\"\")","v":""}]
[{"$f":"IF(データセット1!C299<>\"\",データセット1!C299,\"\")","v":""},{"$f":"IF(データセット1!C299<>\"\",データセット1!D299-カテゴリースコア!$E$11,\"\")","v":""},{"$f":"IF(C$1<>\"\",IF($A299<>\"\",COUNT(カテゴリースコア!M301),\"\"),\"\")","v":""},{"$f":"IF(D$1<>\"\",IF($A299<>\"\",COUNT(カテゴリースコア!N301),\"\"),\"\")","v":""},{"$f":"IF(E$1<>\"\",IF($A299<>\"\",COUNT(カテゴリースコア!O301),\"\"),\"\")","v":""},{"$f":"IF(F$1<>\"\",IF($A299<>\"\",COUNT(カテゴリースコア!P301),\"\"),\"\")","v":""},{"$f":"IF(G$1<>\"\",IF($A299<>\"\",COUNT(カテゴリースコア!Q301),\"\"),\"\")","v":""},{"$f":"IF(H$1<>\"\",IF($A299<>\"\",COUNT(カテゴリースコア!R301),\"\"),\"\")","v":""},{"$f":"IF(I$1<>\"\",IF($A299<>\"\",COUNT(カテゴリースコア!S301),\"\"),\"\")","v":""},{"$f":"IF(J$1<>\"\",IF($A299<>\"\",COUNT(カテゴリースコア!T301),\"\"),\"\")","v":""},{"$f":"IF(K$1<>\"\",IF($A299<>\"\",COUNT(カテゴリースコア!U301),\"\"),\"\")","v":""}]
[{"$f":"IF(データセット1!C300<>\"\",データセット1!C300,\"\")","v":""},{"$f":"IF(データセット1!C300<>\"\",データセット1!D300-カテゴリースコア!$E$11,\"\")","v":""},{"$f":"IF(C$1<>\"\",IF($A300<>\"\",COUNT(カテゴリースコア!M302),\"\"),\"\")","v":""},{"$f":"IF(D$1<>\"\",IF($A300<>\"\",COUNT(カテゴリースコア!N302),\"\"),\"\")","v":""},{"$f":"IF(E$1<>\"\",IF($A300<>\"\",COUNT(カテゴリースコア!O302),\"\"),\"\")","v":""},{"$f":"IF(F$1<>\"\",IF($A300<>\"\",COUNT(カテゴリースコア!P302),\"\"),\"\")","v":""},{"$f":"IF(G$1<>\"\",IF($A300<>\"\",COUNT(カテゴリースコア!Q302),\"\"),\"\")","v":""},{"$f":"IF(H$1<>\"\",IF($A300<>\"\",COUNT(カテゴリースコア!R302),\"\"),\"\")","v":""},{"$f":"IF(I$1<>\"\",IF($A300<>\"\",COUNT(カテゴリースコア!S302),\"\"),\"\")","v":""},{"$f":"IF(J$1<>\"\",IF($A300<>\"\",COUNT(カテゴリースコア!T302),\"\"),\"\")","v":""},{"$f":"IF(K$1<>\"\",IF($A300<>\"\",COUNT(カテゴリースコア!U302),\"\"),\"\")","v":""}]
[{"$f":"IF(データセット1!C301<>\"\",データセット1!C301,\"\")","v":""},{"$f":"IF(データセット1!C301<>\"\",データセット1!D301-カテゴリースコア!$E$11,\"\")","v":""},{"$f":"IF(C$1<>\"\",IF($A301<>\"\",COUNT(カテゴリースコア!M303),\"\"),\"\")","v":""},{"$f":"IF(D$1<>\"\",IF($A301<>\"\",COUNT(カテゴリースコア!N303),\"\"),\"\")","v":""},{"$f":"IF(E$1<>\"\",IF($A301<>\"\",COUNT(カテゴリースコア!O303),\"\"),\"\")","v":""},{"$f":"IF(F$1<>\"\",IF($A301<>\"\",COUNT(カテゴリースコア!P303),\"\"),\"\")","v":""},{"$f":"IF(G$1<>\"\",IF($A301<>\"\",COUNT(カテゴリースコア!Q303),\"\"),\"\")","v":""},{"$f":"IF(H$1<>\"\",IF($A301<>\"\",COUNT(カテゴリースコア!R303),\"\"),\"\")","v":""},{"$f":"IF(I$1<>\"\",IF($A301<>\"\",COUNT(カテゴリースコア!S303),\"\"),\"\")","v":""},{"$f":"IF(J$1<>\"\",IF($A301<>\"\",COUNT(カテゴリースコア!T303),\"\"),\"\")","v":""},{"$f":"IF(K$1<>\"\",IF($A301<>\"\",COUNT(カテゴリースコア!U303),\"\"),\"\")","v":""}]
[{"$f":"IF(データセット1!C302<>\"\",データセット1!C302,\"\")","v":""},{"$f":"IF(データセット1!C302<>\"\",データセット1!D302-カテゴリースコア!$E$11,\"\")","v":""},{"$f":"IF(C$1<>\"\",IF($A302<>\"\",COUNT(カテゴリースコア!M304),\"\"),\"\")","v":""},{"$f":"IF(D$1<>\"\",IF($A302<>\"\",COUNT(カテゴリースコア!N304),\"\"),\"\")","v":""},{"$f":"IF(E$1<>\"\",IF($A302<>\"\",COUNT(カテゴリースコア!O304),\"\"),\"\")","v":""},{"$f":"IF(F$1<>\"\",IF($A302<>\"\",COUNT(カテゴリースコア!P304),\"\"),\"\")","v":""},{"$f":"IF(G$1<>\"\",IF($A302<>\"\",COUNT(カテゴリースコア!Q304),\"\"),\"\")","v":""},{"$f":"IF(H$1<>\"\",IF($A302<>\"\",COUNT(カテゴリースコア!R304),\"\"),\"\")","v":""},{"$f":"IF(I$1<>\"\",IF($A302<>\"\",COUNT(カテゴリースコア!S304),\"\"),\"\")","v":""},{"$f":"IF(J$1<>\"\",IF($A302<>\"\",COUNT(カテゴリースコア!T304),\"\"),\"\")","v":""},{"$f":"IF(K$1<>\"\",IF($A302<>\"\",COUNT(カテゴリースコア!U304),\"\"),\"\")","v":""}]
[{"$f":"IF(データセット1!C303<>\"\",データセット1!C303,\"\")","v":""},{"$f":"IF(データセット1!C303<>\"\",データセット1!D303-カテゴリースコア!$E$11,\"\")","v":""},{"$f":"IF(C$1<>\"\",IF($A303<>\"\",COUNT(カテゴリースコア!M305),\"\"),\"\")","v":""},{"$f":"IF(D$1<>\"\",IF($A303<>\"\",COUNT(カテゴリースコア!N305),\"\"),\"\")","v":""},{"$f":"IF(E$1<>\"\",IF($A303<>\"\",COUNT(カテゴリースコア!O305),\"\"),\"\")","v":""},{"$f":"IF(F$1<>\"\",IF($A303<>\"\",COUNT(カテゴリースコア!P305),\"\"),\"\")","v":""},{"$f":"IF(G$1<>\"\",IF($A303<>\"\",COUNT(カテゴリースコア!Q305),\"\"),\"\")","v":""},{"$f":"IF(H$1<>\"\",IF($A303<>\"\",COUNT(カテゴリースコア!R305),\"\"),\"\")","v":""},{"$f":"IF(I$1<>\"\",IF($A303<>\"\",COUNT(カテゴリースコア!S305),\"\"),\"\")","v":""},{"$f":"IF(J$1<>\"\",IF($A303<>\"\",COUNT(カテゴリースコア!T305),\"\"),\"\")","v":""},{"$f":"IF(K$1<>\"\",IF($A303<>\"\",COUNT(カテゴリースコア!U305),\"\"),\"\")","v":""}]
[{"$f":"IF(データセット1!C304<>\"\",データセット1!C304,\"\")","v":""},{"$f":"IF(データセット1!C304<>\"\",データセット1!D304-カテゴリースコア!$E$11,\"\")","v":""},{"$f":"IF(C$1<>\"\",IF($A304<>\"\",COUNT(カテゴリースコア!M306),\"\"),\"\")","v":""},{"$f":"IF(D$1<>\"\",IF($A304<>\"\",COUNT(カテゴリースコア!N306),\"\"),\"\")","v":""},{"$f":"IF(E$1<>\"\",IF($A304<>\"\",COUNT(カテゴリースコア!O306),\"\"),\"\")","v":""},{"$f":"IF(F$1<>\"\",IF($A304<>\"\",COUNT(カテゴリースコア!P306),\"\"),\"\")","v":""},{"$f":"IF(G$1<>\"\",IF($A304<>\"\",COUNT(カテゴリースコア!Q306),\"\"),\"\")","v":""},{"$f":"IF(H$1<>\"\",IF($A304<>\"\",COUNT(カテゴリースコア!R306),\"\"),\"\")","v":""},{"$f":"IF(I$1<>\"\",IF($A304<>\"\",COUNT(カテゴリースコア!S306),\"\"),\"\")","v":""},{"$f":"IF(J$1<>\"\",IF($A304<>\"\",COUNT(カテゴリースコア!T306),\"\"),\"\")","v":""},{"$f":"IF(K$1<>\"\",IF($A304<>\"\",COUNT(カテゴリースコア!U306),\"\"),\"\")","v":""}]
[{"$f":"IF(データセット1!C305<>\"\",データセット1!C305,\"\")","v":""},{"$f":"IF(データセット1!C305<>\"\",データセット1!D305-カテゴリースコア!$E$11,\"\")","v":""},{"$f":"IF(C$1<>\"\",IF($A305<>\"\",COUNT(カテゴリースコア!M307),\"\"),\"\")","v":""},{"$f":"IF(D$1<>\"\",IF($A305<>\"\",COUNT(カテゴリースコア!N307),\"\"),\"\")","v":""},{"$f":"IF(E$1<>\"\",IF($A305<>\"\",COUNT(カテゴリースコア!O307),\"\"),\"\")","v":""},{"$f":"IF(F$1<>\"\",IF($A305<>\"\",COUNT(カテゴリースコア!P307),\"\"),\"\")","v":""},{"$f":"IF(G$1<>\"\",IF($A305<>\"\",COUNT(カテゴリースコア!Q307),\"\"),\"\")","v":""},{"$f":"IF(H$1<>\"\",IF($A305<>\"\",COUNT(カテゴリースコア!R307),\"\"),\"\")","v":""},{"$f":"IF(I$1<>\"\",IF($A305<>\"\",COUNT(カテゴリースコア!S307),\"\"),\"\")","v":""},{"$f":"IF(J$1<>\"\",IF($A305<>\"\",COUNT(カテゴリースコア!T307),\"\"),\"\")","v":""},{"$f":"IF(K$1<>\"\",IF($A305<>\"\",COUNT(カテゴリースコア!U307),\"\"),\"\")","v":""}]
[{"$f":"IF(データセット1!C306<>\"\",データセット1!C306,\"\")","v":""},{"$f":"IF(データセット1!C306<>\"\",データセット1!D306-カテゴリースコア!$E$11,\"\")","v":""},{"$f":"IF(C$1<>\"\",IF($A306<>\"\",COUNT(カテゴリースコア!M308),\"\"),\"\")","v":""},{"$f":"IF(D$1<>\"\",IF($A306<>\"\",COUNT(カテゴリースコア!N308),\"\"),\"\")","v":""},{"$f":"IF(E$1<>\"\",IF($A306<>\"\",COUNT(カテゴリースコア!O308),\"\"),\"\")","v":""},{"$f":"IF(F$1<>\"\",IF($A306<>\"\",COUNT(カテゴリースコア!P308),\"\"),\"\")","v":""},{"$f":"IF(G$1<>\"\",IF($A306<>\"\",COUNT(カテゴリースコア!Q308),\"\"),\"\")","v":""},{"$f":"IF(H$1<>\"\",IF($A306<>\"\",COUNT(カテゴリースコア!R308),\"\"),\"\")","v":""},{"$f":"IF(I$1<>\"\",IF($A306<>\"\",COUNT(カテゴリースコア!S308),\"\"),\"\")","v":""},{"$f":"IF(J$1<>\"\",IF($A306<>\"\",COUNT(カテゴリースコア!T308),\"\"),\"\")","v":""},{"$f":"IF(K$1<>\"\",IF($A306<>\"\",COUNT(カテゴリースコア!U308),\"\"),\"\")","v":""}]
[{"$f":"IF(データセット1!C307<>\"\",データセット1!C307,\"\")","v":""},{"$f":"IF(データセット1!C307<>\"\",データセット1!D307-カテゴリースコア!$E$11,\"\")","v":""},{"$f":"IF(C$1<>\"\",IF($A307<>\"\",COUNT(カテゴリースコア!M309),\"\"),\"\")","v":""},{"$f":"IF(D$1<>\"\",IF($A307<>\"\",COUNT(カテゴリースコア!N309),\"\"),\"\")","v":""},{"$f":"IF(E$1<>\"\",IF($A307<>\"\",COUNT(カテゴリースコア!O309),\"\"),\"\")","v":""},{"$f":"IF(F$1<>\"\",IF($A307<>\"\",COUNT(カテゴリースコア!P309),\"\"),\"\")","v":""},{"$f":"IF(G$1<>\"\",IF($A307<>\"\",COUNT(カテゴリースコア!Q309),\"\"),\"\")","v":""},{"$f":"IF(H$1<>\"\",IF($A307<>\"\",COUNT(カテゴリースコア!R309),\"\"),\"\")","v":""},{"$f":"IF(I$1<>\"\",IF($A307<>\"\",COUNT(カテゴリースコア!S309),\"\"),\"\")","v":""},{"$f":"IF(J$1<>\"\",IF($A307<>\"\",COUNT(カテゴリースコア!T309),\"\"),\"\")","v":""},{"$f":"IF(K$1<>\"\",IF($A307<>\"\",COUNT(カテゴリースコア!U309),\"\"),\"\")","v":""}]
[{"$f":"IF(データセット1!C308<>\"\",データセット1!C308,\"\")","v":""},{"$f":"IF(データセット1!C308<>\"\",データセット1!D308-カテゴリースコア!$E$11,\"\")","v":""},{"$f":"IF(C$1<>\"\",IF($A308<>\"\",COUNT(カテゴリースコア!M310),\"\"),\"\")","v":""},{"$f":"IF(D$1<>\"\",IF($A308<>\"\",COUNT(カテゴリースコア!N310),\"\"),\"\")","v":""},{"$f":"IF(E$1<>\"\",IF($A308<>\"\",COUNT(カテゴリースコア!O310),\"\"),\"\")","v":""},{"$f":"IF(F$1<>\"\",IF($A308<>\"\",COUNT(カテゴリースコア!P310),\"\"),\"\")","v":""},{"$f":"IF(G$1<>\"\",IF($A308<>\"\",COUNT(カテゴリースコア!Q310),\"\"),\"\")","v":""},{"$f":"IF(H$1<>\"\",IF($A308<>\"\",COUNT(カテゴリースコア!R310),\"\"),\"\")","v":""},{"$f":"IF(I$1<>\"\",IF($A308<>\"\",COUNT(カテゴリースコア!S310),\"\"),\"\")","v":""},{"$f":"IF(J$1<>\"\",IF($A308<>\"\",COUNT(カテゴリースコア!T310),\"\"),\"\")","v":""},{"$f":"IF(K$1<>\"\",IF($A308<>\"\",COUNT(カテゴリースコア!U310),\"\"),\"\")","v":""}]
[{"$f":"IF(データセット1!C309<>\"\",データセット1!C309,\"\")","v":""},{"$f":"IF(データセット1!C309<>\"\",データセット1!D309-カテゴリースコア!$E$11,\"\")","v":""},{"$f":"IF(C$1<>\"\",IF($A309<>\"\",COUNT(カテゴリースコア!M311),\"\"),\"\")","v":""},{"$f":"IF(D$1<>\"\",IF($A309<>\"\",COUNT(カテゴリースコア!N311),\"\"),\"\")","v":""},{"$f":"IF(E$1<>\"\",IF($A309<>\"\",COUNT(カテゴリースコア!O311),\"\"),\"\")","v":""},{"$f":"IF(F$1<>\"\",IF($A309<>\"\",COUNT(カテゴリースコア!P311),\"\"),\"\")","v":""},{"$f":"IF(G$1<>\"\",IF($A309<>\"\",COUNT(カテゴリースコア!Q311),\"\"),\"\")","v":""},{"$f":"IF(H$1<>\"\",IF($A309<>\"\",COUNT(カテゴリースコア!R311),\"\"),\"\")","v":""},{"$f":"IF(I$1<>\"\",IF($A309<>\"\",COUNT(カテゴリースコア!S311),\"\"),\"\")","v":""},{"$f":"IF(J$1<>\"\",IF($A309<>\"\",COUNT(カテゴリースコア!T311),\"\"),\"\")","v":""},{"$f":"IF(K$1<>\"\",IF($A309<>\"\",COUNT(カテゴリースコア!U311),\"\"),\"\")","v":""}]
[{"$f":"IF(データセット1!C310<>\"\",データセット1!C310,\"\")","v":""},{"$f":"IF(データセット1!C310<>\"\",データセット1!D310-カテゴリースコア!$E$11,\"\")","v":""},{"$f":"IF(C$1<>\"\",IF($A310<>\"\",COUNT(カテゴリースコア!M312),\"\"),\"\")","v":""},{"$f":"IF(D$1<>\"\",IF($A310<>\"\",COUNT(カテゴリースコア!N312),\"\"),\"\")","v":""},{"$f":"IF(E$1<>\"\",IF($A310<>\"\",COUNT(カテゴリースコア!O312),\"\"),\"\")","v":""},{"$f":"IF(F$1<>\"\",IF($A310<>\"\",COUNT(カテゴリースコア!P312),\"\"),\"\")","v":""},{"$f":"IF(G$1<>\"\",IF($A310<>\"\",COUNT(カテゴリースコア!Q312),\"\"),\"\")","v":""},{"$f":"IF(H$1<>\"\",IF($A310<>\"\",COUNT(カテゴリースコア!R312),\"\"),\"\")","v":""},{"$f":"IF(I$1<>\"\",IF($A310<>\"\",COUNT(カテゴリースコア!S312),\"\"),\"\")","v":""},{"$f":"IF(J$1<>\"\",IF($A310<>\"\",COUNT(カテゴリースコア!T312),\"\"),\"\")","v":""},{"$f":"IF(K$1<>\"\",IF($A310<>\"\",COUNT(カテゴリースコア!U312),\"\"),\"\")","v":""}]
[{"$f":"IF(データセット1!C311<>\"\",データセット1!C311,\"\")","v":""},{"$f":"IF(データセット1!C311<>\"\",データセット1!D311-カテゴリースコア!$E$11,\"\")","v":""},{"$f":"IF(C$1<>\"\",IF($A311<>\"\",COUNT(カテゴリースコア!M313),\"\"),\"\")","v":""},{"$f":"IF(D$1<>\"\",IF($A311<>\"\",COUNT(カテゴリースコア!N313),\"\"),\"\")","v":""},{"$f":"IF(E$1<>\"\",IF($A311<>\"\",COUNT(カテゴリースコア!O313),\"\"),\"\")","v":""},{"$f":"IF(F$1<>\"\",IF($A311<>\"\",COUNT(カテゴリースコア!P313),\"\"),\"\")","v":""},{"$f":"IF(G$1<>\"\",IF($A311<>\"\",COUNT(カテゴリースコア!Q313),\"\"),\"\")","v":""},{"$f":"IF(H$1<>\"\",IF($A311<>\"\",COUNT(カテゴリースコア!R313),\"\"),\"\")","v":""},{"$f":"IF(I$1<>\"\",IF($A311<>\"\",COUNT(カテゴリースコア!S313),\"\"),\"\")","v":""},{"$f":"IF(J$1<>\"\",IF($A311<>\"\",COUNT(カテゴリースコア!T313),\"\"),\"\")","v":""},{"$f":"IF(K$1<>\"\",IF($A311<>\"\",COUNT(カテゴリースコア!U313),\"\"),\"\")","v":""}]
[{"$f":"IF(データセット1!C312<>\"\",データセット1!C312,\"\")","v":""},{"$f":"IF(データセット1!C312<>\"\",データセット1!D312-カテゴリースコア!$E$11,\"\")","v":""},{"$f":"IF(C$1<>\"\",IF($A312<>\"\",COUNT(カテゴリースコア!M314),\"\"),\"\")","v":""},{"$f":"IF(D$1<>\"\",IF($A312<>\"\",COUNT(カテゴリースコア!N314),\"\"),\"\")","v":""},{"$f":"IF(E$1<>\"\",IF($A312<>\"\",COUNT(カテゴリースコア!O314),\"\"),\"\")","v":""},{"$f":"IF(F$1<>\"\",IF($A312<>\"\",COUNT(カテゴリースコア!P314),\"\"),\"\")","v":""},{"$f":"IF(G$1<>\"\",IF($A312<>\"\",COUNT(カテゴリースコア!Q314),\"\"),\"\")","v":""},{"$f":"IF(H$1<>\"\",IF($A312<>\"\",COUNT(カテゴリースコア!R314),\"\"),\"\")","v":""},{"$f":"IF(I$1<>\"\",IF($A312<>\"\",COUNT(カテゴリースコア!S314),\"\"),\"\")","v":""},{"$f":"IF(J$1<>\"\",IF($A312<>\"\",COUNT(カテゴリースコア!T314),\"\"),\"\")","v":""},{"$f":"IF(K$1<>\"\",IF($A312<>\"\",COUNT(カテゴリースコア!U314),\"\"),\"\")","v":""}]
[{"$f":"IF(データセット1!C313<>\"\",データセット1!C313,\"\")","v":""},{"$f":"IF(データセット1!C313<>\"\",データセット1!D313-カテゴリースコア!$E$11,\"\")","v":""},{"$f":"IF(C$1<>\"\",IF($A313<>\"\",COUNT(カテゴリースコア!M315),\"\"),\"\")","v":""},{"$f":"IF(D$1<>\"\",IF($A313<>\"\",COUNT(カテゴリースコア!N315),\"\"),\"\")","v":""},{"$f":"IF(E$1<>\"\",IF($A313<>\"\",COUNT(カテゴリースコア!O315),\"\"),\"\")","v":""},{"$f":"IF(F$1<>\"\",IF($A313<>\"\",COUNT(カテゴリースコア!P315),\"\"),\"\")","v":""},{"$f":"IF(G$1<>\"\",IF($A313<>\"\",COUNT(カテゴリースコア!Q315),\"\"),\"\")","v":""},{"$f":"IF(H$1<>\"\",IF($A313<>\"\",COUNT(カテゴリースコア!R315),\"\"),\"\")","v":""},{"$f":"IF(I$1<>\"\",IF($A313<>\"\",COUNT(カテゴリースコア!S315),\"\"),\"\")","v":""},{"$f":"IF(J$1<>\"\",IF($A313<>\"\",COUNT(カテゴリースコア!T315),\"\"),\"\")","v":""},{"$f":"IF(K$1<>\"\",IF($A313<>\"\",COUNT(カテゴリースコア!U315),\"\"),\"\")","v":""}]
[{"$f":"IF(データセット1!C314<>\"\",データセット1!C314,\"\")","v":""},{"$f":"IF(データセット1!C314<>\"\",データセット1!D314-カテゴリースコア!$E$11,\"\")","v":""},{"$f":"IF(C$1<>\"\",IF($A314<>\"\",COUNT(カテゴリースコア!M316),\"\"),\"\")","v":""},{"$f":"IF(D$1<>\"\",IF($A314<>\"\",COUNT(カテゴリースコア!N316),\"\"),\"\")","v":""},{"$f":"IF(E$1<>\"\",IF($A314<>\"\",COUNT(カテゴリースコア!O316),\"\"),\"\")","v":""},{"$f":"IF(F$1<>\"\",IF($A314<>\"\",COUNT(カテゴリースコア!P316),\"\"),\"\")","v":""},{"$f":"IF(G$1<>\"\",IF($A314<>\"\",COUNT(カテゴリースコア!Q316),\"\"),\"\")","v":""},{"$f":"IF(H$1<>\"\",IF($A314<>\"\",COUNT(カテゴリースコア!R316),\"\"),\"\")","v":""},{"$f":"IF(I$1<>\"\",IF($A314<>\"\",COUNT(カテゴリースコア!S316),\"\"),\"\")","v":""},{"$f":"IF(J$1<>\"\",IF($A314<>\"\",COUNT(カテゴリースコア!T316),\"\"),\"\")","v":""},{"$f":"IF(K$1<>\"\",IF($A314<>\"\",COUNT(カテゴリースコア!U316),\"\"),\"\")","v":""}]
[{"$f":"IF(データセット1!C315<>\"\",データセット1!C315,\"\")","v":""},{"$f":"IF(データセット1!C315<>\"\",データセット1!D315-カテゴリースコア!$E$11,\"\")","v":""},{"$f":"IF(C$1<>\"\",IF($A315<>\"\",COUNT(カテゴリースコア!M317),\"\"),\"\")","v":""},{"$f":"IF(D$1<>\"\",IF($A315<>\"\",COUNT(カテゴリースコア!N317),\"\"),\"\")","v":""},{"$f":"IF(E$1<>\"\",IF($A315<>\"\",COUNT(カテゴリースコア!O317),\"\"),\"\")","v":""},{"$f":"IF(F$1<>\"\",IF($A315<>\"\",COUNT(カテゴリースコア!P317),\"\"),\"\")","v":""},{"$f":"IF(G$1<>\"\",IF($A315<>\"\",COUNT(カテゴリースコア!Q317),\"\"),\"\")","v":""},{"$f":"IF(H$1<>\"\",IF($A315<>\"\",COUNT(カテゴリースコア!R317),\"\"),\"\")","v":""},{"$f":"IF(I$1<>\"\",IF($A315<>\"\",COUNT(カテゴリースコア!S317),\"\"),\"\")","v":""},{"$f":"IF(J$1<>\"\",IF($A315<>\"\",COUNT(カテゴリースコア!T317),\"\"),\"\")","v":""},{"$f":"IF(K$1<>\"\",IF($A315<>\"\",COUNT(カテゴリースコア!U317),\"\"),\"\")","v":""}]
[{"$f":"IF(データセット1!C316<>\"\",データセット1!C316,\"\")","v":""},{"$f":"IF(データセット1!C316<>\"\",データセット1!D316-カテゴリースコア!$E$11,\"\")","v":""},{"$f":"IF(C$1<>\"\",IF($A316<>\"\",COUNT(カテゴリースコア!M318),\"\"),\"\")","v":""},{"$f":"IF(D$1<>\"\",IF($A316<>\"\",COUNT(カテゴリースコア!N318),\"\"),\"\")","v":""},{"$f":"IF(E$1<>\"\",IF($A316<>\"\",COUNT(カテゴリースコア!O318),\"\"),\"\")","v":""},{"$f":"IF(F$1<>\"\",IF($A316<>\"\",COUNT(カテゴリースコア!P318),\"\"),\"\")","v":""},{"$f":"IF(G$1<>\"\",IF($A316<>\"\",COUNT(カテゴリースコア!Q318),\"\"),\"\")","v":""},{"$f":"IF(H$1<>\"\",IF($A316<>\"\",COUNT(カテゴリースコア!R318),\"\"),\"\")","v":""},{"$f":"IF(I$1<>\"\",IF($A316<>\"\",COUNT(カテゴリースコア!S318),\"\"),\"\")","v":""},{"$f":"IF(J$1<>\"\",IF($A316<>\"\",COUNT(カテゴリースコア!T318),\"\"),\"\")","v":""},{"$f":"IF(K$1<>\"\",IF($A316<>\"\",COUNT(カテゴリースコア!U318),\"\"),\"\")","v":""}]
[{"$f":"IF(データセット1!C317<>\"\",データセット1!C317,\"\")","v":""},{"$f":"IF(データセット1!C317<>\"\",データセット1!D317-カテゴリースコア!$E$11,\"\")","v":""},{"$f":"IF(C$1<>\"\",IF($A317<>\"\",COUNT(カテゴリースコア!M319),\"\"),\"\")","v":""},{"$f":"IF(D$1<>\"\",IF($A317<>\"\",COUNT(カテゴリースコア!N319),\"\"),\"\")","v":""},{"$f":"IF(E$1<>\"\",IF($A317<>\"\",COUNT(カテゴリースコア!O319),\"\"),\"\")","v":""},{"$f":"IF(F$1<>\"\",IF($A317<>\"\",COUNT(カテゴリースコア!P319),\"\"),\"\")","v":""},{"$f":"IF(G$1<>\"\",IF($A317<>\"\",COUNT(カテゴリースコア!Q319),\"\"),\"\")","v":""},{"$f":"IF(H$1<>\"\",IF($A317<>\"\",COUNT(カテゴリースコア!R319),\"\"),\"\")","v":""},{"$f":"IF(I$1<>\"\",IF($A317<>\"\",COUNT(カテゴリースコア!S319),\"\"),\"\")","v":""},{"$f":"IF(J$1<>\"\",IF($A317<>\"\",COUNT(カテゴリースコア!T319),\"\"),\"\")","v":""},{"$f":"IF(K$1<>\"\",IF($A317<>\"\",COUNT(カテゴリースコア!U319),\"\"),\"\")","v":""}]
[{"$f":"IF(データセット1!C318<>\"\",データセット1!C318,\"\")","v":""},{"$f":"IF(データセット1!C318<>\"\",データセット1!D318-カテゴリースコア!$E$11,\"\")","v":""},{"$f":"IF(C$1<>\"\",IF($A318<>\"\",COUNT(カテゴリースコア!M320),\"\"),\"\")","v":""},{"$f":"IF(D$1<>\"\",IF($A318<>\"\",COUNT(カテゴリースコア!N320),\"\"),\"\")","v":""},{"$f":"IF(E$1<>\"\",IF($A318<>\"\",COUNT(カテゴリースコア!O320),\"\"),\"\")","v":""},{"$f":"IF(F$1<>\"\",IF($A318<>\"\",COUNT(カテゴリースコア!P320),\"\"),\"\")","v":""},{"$f":"IF(G$1<>\"\",IF($A318<>\"\",COUNT(カテゴリースコア!Q320),\"\"),\"\")","v":""},{"$f":"IF(H$1<>\"\",IF($A318<>\"\",COUNT(カテゴリースコア!R320),\"\"),\"\")","v":""},{"$f":"IF(I$1<>\"\",IF($A318<>\"\",COUNT(カテゴリースコア!S320),\"\"),\"\")","v":""},{"$f":"IF(J$1<>\"\",IF($A318<>\"\",COUNT(カテゴリースコア!T320),\"\"),\"\")","v":""},{"$f":"IF(K$1<>\"\",IF($A318<>\"\",COUNT(カテゴリースコア!U320),\"\"),\"\")","v":""}]
[{"$f":"IF(データセット1!C319<>\"\",データセット1!C319,\"\")","v":""},{"$f":"IF(データセット1!C319<>\"\",データセット1!D319-カテゴリースコア!$E$11,\"\")","v":""},{"$f":"IF(C$1<>\"\",IF($A319<>\"\",COUNT(カテゴリースコア!M321),\"\"),\"\")","v":""},{"$f":"IF(D$1<>\"\",IF($A319<>\"\",COUNT(カテゴリースコア!N321),\"\"),\"\")","v":""},{"$f":"IF(E$1<>\"\",IF($A319<>\"\",COUNT(カテゴリースコア!O321),\"\"),\"\")","v":""},{"$f":"IF(F$1<>\"\",IF($A319<>\"\",COUNT(カテゴリースコア!P321),\"\"),\"\")","v":""},{"$f":"IF(G$1<>\"\",IF($A319<>\"\",COUNT(カテゴリースコア!Q321),\"\"),\"\")","v":""},{"$f":"IF(H$1<>\"\",IF($A319<>\"\",COUNT(カテゴリースコア!R321),\"\"),\"\")","v":""},{"$f":"IF(I$1<>\"\",IF($A319<>\"\",COUNT(カテゴリースコア!S321),\"\"),\"\")","v":""},{"$f":"IF(J$1<>\"\",IF($A319<>\"\",COUNT(カテゴリースコア!T321),\"\"),\"\")","v":""},{"$f":"IF(K$1<>\"\",IF($A319<>\"\",COUNT(カテゴリースコア!U321),\"\"),\"\")","v":""}]
[{"$f":"IF(データセット1!C320<>\"\",データセット1!C320,\"\")","v":""},{"$f":"IF(データセット1!C320<>\"\",データセット1!D320-カテゴリースコア!$E$11,\"\")","v":""},{"$f":"IF(C$1<>\"\",IF($A320<>\"\",COUNT(カテゴリースコア!M322),\"\"),\"\")","v":""},{"$f":"IF(D$1<>\"\",IF($A320<>\"\",COUNT(カテゴリースコア!N322),\"\"),\"\")","v":""},{"$f":"IF(E$1<>\"\",IF($A320<>\"\",COUNT(カテゴリースコア!O322),\"\"),\"\")","v":""},{"$f":"IF(F$1<>\"\",IF($A320<>\"\",COUNT(カテゴリースコア!P322),\"\"),\"\")","v":""},{"$f":"IF(G$1<>\"\",IF($A320<>\"\",COUNT(カテゴリースコア!Q322),\"\"),\"\")","v":""},{"$f":"IF(H$1<>\"\",IF($A320<>\"\",COUNT(カテゴリースコア!R322),\"\"),\"\")","v":""},{"$f":"IF(I$1<>\"\",IF($A320<>\"\",COUNT(カテゴリースコア!S322),\"\"),\"\")","v":""},{"$f":"IF(J$1<>\"\",IF($A320<>\"\",COUNT(カテゴリースコア!T322),\"\"),\"\")","v":""},{"$f":"IF(K$1<>\"\",IF($A320<>\"\",COUNT(カテゴリースコア!U322),\"\"),\"\")","v":""}]
[{"$f":"IF(データセット1!C321<>\"\",データセット1!C321,\"\")","v":""},{"$f":"IF(データセット1!C321<>\"\",データセット1!D321-カテゴリースコア!$E$11,\"\")","v":""},{"$f":"IF(C$1<>\"\",IF($A321<>\"\",COUNT(カテゴリースコア!M323),\"\"),\"\")","v":""},{"$f":"IF(D$1<>\"\",IF($A321<>\"\",COUNT(カテゴリースコア!N323),\"\"),\"\")","v":""},{"$f":"IF(E$1<>\"\",IF($A321<>\"\",COUNT(カテゴリースコア!O323),\"\"),\"\")","v":""},{"$f":"IF(F$1<>\"\",IF($A321<>\"\",COUNT(カテゴリースコア!P323),\"\"),\"\")","v":""},{"$f":"IF(G$1<>\"\",IF($A321<>\"\",COUNT(カテゴリースコア!Q323),\"\"),\"\")","v":""},{"$f":"IF(H$1<>\"\",IF($A321<>\"\",COUNT(カテゴリースコア!R323),\"\"),\"\")","v":""},{"$f":"IF(I$1<>\"\",IF($A321<>\"\",COUNT(カテゴリースコア!S323),\"\"),\"\")","v":""},{"$f":"IF(J$1<>\"\",IF($A321<>\"\",COUNT(カテゴリースコア!T323),\"\"),\"\")","v":""},{"$f":"IF(K$1<>\"\",IF($A321<>\"\",COUNT(カテゴリースコア!U323),\"\"),\"\")","v":""}]
[{"$f":"IF(データセット1!C322<>\"\",データセット1!C322,\"\")","v":""},{"$f":"IF(データセット1!C322<>\"\",データセット1!D322-カテゴリースコア!$E$11,\"\")","v":""},{"$f":"IF(C$1<>\"\",IF($A322<>\"\",COUNT(カテゴリースコア!M324),\"\"),\"\")","v":""},{"$f":"IF(D$1<>\"\",IF($A322<>\"\",COUNT(カテゴリースコア!N324),\"\"),\"\")","v":""},{"$f":"IF(E$1<>\"\",IF($A322<>\"\",COUNT(カテゴリースコア!O324),\"\"),\"\")","v":""},{"$f":"IF(F$1<>\"\",IF($A322<>\"\",COUNT(カテゴリースコア!P324),\"\"),\"\")","v":""},{"$f":"IF(G$1<>\"\",IF($A322<>\"\",COUNT(カテゴリースコア!Q324),\"\"),\"\")","v":""},{"$f":"IF(H$1<>\"\",IF($A322<>\"\",COUNT(カテゴリースコア!R324),\"\"),\"\")","v":""},{"$f":"IF(I$1<>\"\",IF($A322<>\"\",COUNT(カテゴリースコア!S324),\"\"),\"\")","v":""},{"$f":"IF(J$1<>\"\",IF($A322<>\"\",COUNT(カテゴリースコア!T324),\"\"),\"\")","v":""},{"$f":"IF(K$1<>\"\",IF($A322<>\"\",COUNT(カテゴリースコア!U324),\"\"),\"\")","v":""}]
[{"$f":"IF(データセット1!C323<>\"\",データセット1!C323,\"\")","v":""},{"$f":"IF(データセット1!C323<>\"\",データセット1!D323-カテゴリースコア!$E$11,\"\")","v":""},{"$f":"IF(C$1<>\"\",IF($A323<>\"\",COUNT(カテゴリースコア!M325),\"\"),\"\")","v":""},{"$f":"IF(D$1<>\"\",IF($A323<>\"\",COUNT(カテゴリースコア!N325),\"\"),\"\")","v":""},{"$f":"IF(E$1<>\"\",IF($A323<>\"\",COUNT(カテゴリースコア!O325),\"\"),\"\")","v":""},{"$f":"IF(F$1<>\"\",IF($A323<>\"\",COUNT(カテゴリースコア!P325),\"\"),\"\")","v":""},{"$f":"IF(G$1<>\"\",IF($A323<>\"\",COUNT(カテゴリースコア!Q325),\"\"),\"\")","v":""},{"$f":"IF(H$1<>\"\",IF($A323<>\"\",COUNT(カテゴリースコア!R325),\"\"),\"\")","v":""},{"$f":"IF(I$1<>\"\",IF($A323<>\"\",COUNT(カテゴリースコア!S325),\"\"),\"\")","v":""},{"$f":"IF(J$1<>\"\",IF($A323<>\"\",COUNT(カテゴリースコア!T325),\"\"),\"\")","v":""},{"$f":"IF(K$1<>\"\",IF($A323<>\"\",COUNT(カテゴリースコア!U325),\"\"),\"\")","v":""}]
[{"$f":"IF(データセット1!C324<>\"\",データセット1!C324,\"\")","v":""},{"$f":"IF(データセット1!C324<>\"\",データセット1!D324-カテゴリースコア!$E$11,\"\")","v":""},{"$f":"IF(C$1<>\"\",IF($A324<>\"\",COUNT(カテゴリースコア!M326),\"\"),\"\")","v":""},{"$f":"IF(D$1<>\"\",IF($A324<>\"\",COUNT(カテゴリースコア!N326),\"\"),\"\")","v":""},{"$f":"IF(E$1<>\"\",IF($A324<>\"\",COUNT(カテゴリースコア!O326),\"\"),\"\")","v":""},{"$f":"IF(F$1<>\"\",IF($A324<>\"\",COUNT(カテゴリースコア!P326),\"\"),\"\")","v":""},{"$f":"IF(G$1<>\"\",IF($A324<>\"\",COUNT(カテゴリースコア!Q326),\"\"),\"\")","v":""},{"$f":"IF(H$1<>\"\",IF($A324<>\"\",COUNT(カテゴリースコア!R326),\"\"),\"\")","v":""},{"$f":"IF(I$1<>\"\",IF($A324<>\"\",COUNT(カテゴリースコア!S326),\"\"),\"\")","v":""},{"$f":"IF(J$1<>\"\",IF($A324<>\"\",COUNT(カテゴリースコア!T326),\"\"),\"\")","v":""},{"$f":"IF(K$1<>\"\",IF($A324<>\"\",COUNT(カテゴリースコア!U326),\"\"),\"\")","v":""}]
[{"$f":"IF(データセット1!C325<>\"\",データセット1!C325,\"\")","v":""},{"$f":"IF(データセット1!C325<>\"\",データセット1!D325-カテゴリースコア!$E$11,\"\")","v":""},{"$f":"IF(C$1<>\"\",IF($A325<>\"\",COUNT(カテゴリースコア!M327),\"\"),\"\")","v":""},{"$f":"IF(D$1<>\"\",IF($A325<>\"\",COUNT(カテゴリースコア!N327),\"\"),\"\")","v":""},{"$f":"IF(E$1<>\"\",IF($A325<>\"\",COUNT(カテゴリースコア!O327),\"\"),\"\")","v":""},{"$f":"IF(F$1<>\"\",IF($A325<>\"\",COUNT(カテゴリースコア!P327),\"\"),\"\")","v":""},{"$f":"IF(G$1<>\"\",IF($A325<>\"\",COUNT(カテゴリースコア!Q327),\"\"),\"\")","v":""},{"$f":"IF(H$1<>\"\",IF($A325<>\"\",COUNT(カテゴリースコア!R327),\"\"),\"\")","v":""},{"$f":"IF(I$1<>\"\",IF($A325<>\"\",COUNT(カテゴリースコア!S327),\"\"),\"\")","v":""},{"$f":"IF(J$1<>\"\",IF($A325<>\"\",COUNT(カテゴリースコア!T327),\"\"),\"\")","v":""},{"$f":"IF(K$1<>\"\",IF($A325<>\"\",COUNT(カテゴリースコア!U327),\"\"),\"\")","v":""}]
[{"$f":"IF(データセット1!C326<>\"\",データセット1!C326,\"\")","v":""},{"$f":"IF(データセット1!C326<>\"\",データセット1!D326-カテゴリースコア!$E$11,\"\")","v":""},{"$f":"IF(C$1<>\"\",IF($A326<>\"\",COUNT(カテゴリースコア!M328),\"\"),\"\")","v":""},{"$f":"IF(D$1<>\"\",IF($A326<>\"\",COUNT(カテゴリースコア!N328),\"\"),\"\")","v":""},{"$f":"IF(E$1<>\"\",IF($A326<>\"\",COUNT(カテゴリースコア!O328),\"\"),\"\")","v":""},{"$f":"IF(F$1<>\"\",IF($A326<>\"\",COUNT(カテゴリースコア!P328),\"\"),\"\")","v":""},{"$f":"IF(G$1<>\"\",IF($A326<>\"\",COUNT(カテゴリースコア!Q328),\"\"),\"\")","v":""},{"$f":"IF(H$1<>\"\",IF($A326<>\"\",COUNT(カテゴリースコア!R328),\"\"),\"\")","v":""},{"$f":"IF(I$1<>\"\",IF($A326<>\"\",COUNT(カテゴリースコア!S328),\"\"),\"\")","v":""},{"$f":"IF(J$1<>\"\",IF($A326<>\"\",COUNT(カテゴリースコア!T328),\"\"),\"\")","v":""},{"$f":"IF(K$1<>\"\",IF($A326<>\"\",COUNT(カテゴリースコア!U328),\"\"),\"\")","v":""}]
[{"$f":"IF(データセット1!C327<>\"\",データセット1!C327,\"\")","v":""},{"$f":"IF(データセット1!C327<>\"\",データセット1!D327-カテゴリースコア!$E$11,\"\")","v":""},{"$f":"IF(C$1<>\"\",IF($A327<>\"\",COUNT(カテゴリースコア!M329),\"\"),\"\")","v":""},{"$f":"IF(D$1<>\"\",IF($A327<>\"\",COUNT(カテゴリースコア!N329),\"\"),\"\")","v":""},{"$f":"IF(E$1<>\"\",IF($A327<>\"\",COUNT(カテゴリースコア!O329),\"\"),\"\")","v":""},{"$f":"IF(F$1<>\"\",IF($A327<>\"\",COUNT(カテゴリースコア!P329),\"\"),\"\")","v":""},{"$f":"IF(G$1<>\"\",IF($A327<>\"\",COUNT(カテゴリースコア!Q329),\"\"),\"\")","v":""},{"$f":"IF(H$1<>\"\",IF($A327<>\"\",COUNT(カテゴリースコア!R329),\"\"),\"\")","v":""},{"$f":"IF(I$1<>\"\",IF($A327<>\"\",COUNT(カテゴリースコア!S329),\"\"),\"\")","v":""},{"$f":"IF(J$1<>\"\",IF($A327<>\"\",COUNT(カテゴリースコア!T329),\"\"),\"\")","v":""},{"$f":"IF(K$1<>\"\",IF($A327<>\"\",COUNT(カテゴリースコア!U329),\"\"),\"\")","v":""}]
[{"$f":"IF(データセット1!C328<>\"\",データセット1!C328,\"\")","v":""},{"$f":"IF(データセット1!C328<>\"\",データセット1!D328-カテゴリースコア!$E$11,\"\")","v":""},{"$f":"IF(C$1<>\"\",IF($A328<>\"\",COUNT(カテゴリースコア!M330),\"\"),\"\")","v":""},{"$f":"IF(D$1<>\"\",IF($A328<>\"\",COUNT(カテゴリースコア!N330),\"\"),\"\")","v":""},{"$f":"IF(E$1<>\"\",IF($A328<>\"\",COUNT(カテゴリースコア!O330),\"\"),\"\")","v":""},{"$f":"IF(F$1<>\"\",IF($A328<>\"\",COUNT(カテゴリースコア!P330),\"\"),\"\")","v":""},{"$f":"IF(G$1<>\"\",IF($A328<>\"\",COUNT(カテゴリースコア!Q330),\"\"),\"\")","v":""},{"$f":"IF(H$1<>\"\",IF($A328<>\"\",COUNT(カテゴリースコア!R330),\"\"),\"\")","v":""},{"$f":"IF(I$1<>\"\",IF($A328<>\"\",COUNT(カテゴリースコア!S330),\"\"),\"\")","v":""},{"$f":"IF(J$1<>\"\",IF($A328<>\"\",COUNT(カテゴリースコア!T330),\"\"),\"\")","v":""},{"$f":"IF(K$1<>\"\",IF($A328<>\"\",COUNT(カテゴリースコア!U330),\"\"),\"\")","v":""}]
[{"$f":"IF(データセット1!C329<>\"\",データセット1!C329,\"\")","v":""},{"$f":"IF(データセット1!C329<>\"\",データセット1!D329-カテゴリースコア!$E$11,\"\")","v":""},{"$f":"IF(C$1<>\"\",IF($A329<>\"\",COUNT(カテゴリースコア!M331),\"\"),\"\")","v":""},{"$f":"IF(D$1<>\"\",IF($A329<>\"\",COUNT(カテゴリースコア!N331),\"\"),\"\")","v":""},{"$f":"IF(E$1<>\"\",IF($A329<>\"\",COUNT(カテゴリースコア!O331),\"\"),\"\")","v":""},{"$f":"IF(F$1<>\"\",IF($A329<>\"\",COUNT(カテゴリースコア!P331),\"\"),\"\")","v":""},{"$f":"IF(G$1<>\"\",IF($A329<>\"\",COUNT(カテゴリースコア!Q331),\"\"),\"\")","v":""},{"$f":"IF(H$1<>\"\",IF($A329<>\"\",COUNT(カテゴリースコア!R331),\"\"),\"\")","v":""},{"$f":"IF(I$1<>\"\",IF($A329<>\"\",COUNT(カテゴリースコア!S331),\"\"),\"\")","v":""},{"$f":"IF(J$1<>\"\",IF($A329<>\"\",COUNT(カテゴリースコア!T331),\"\"),\"\")","v":""},{"$f":"IF(K$1<>\"\",IF($A329<>\"\",COUNT(カテゴリースコア!U331),\"\"),\"\")","v":""}]
[{"$f":"IF(データセット1!C330<>\"\",データセット1!C330,\"\")","v":""},{"$f":"IF(データセット1!C330<>\"\",データセット1!D330-カテゴリースコア!$E$11,\"\")","v":""},{"$f":"IF(C$1<>\"\",IF($A330<>\"\",COUNT(カテゴリースコア!M332),\"\"),\"\")","v":""},{"$f":"IF(D$1<>\"\",IF($A330<>\"\",COUNT(カテゴリースコア!N332),\"\"),\"\")","v":""},{"$f":"IF(E$1<>\"\",IF($A330<>\"\",COUNT(カテゴリースコア!O332),\"\"),\"\")","v":""},{"$f":"IF(F$1<>\"\",IF($A330<>\"\",COUNT(カテゴリースコア!P332),\"\"),\"\")","v":""},{"$f":"IF(G$1<>\"\",IF($A330<>\"\",COUNT(カテゴリースコア!Q332),\"\"),\"\")","v":""},{"$f":"IF(H$1<>\"\",IF($A330<>\"\",COUNT(カテゴリースコア!R332),\"\"),\"\")","v":""},{"$f":"IF(I$1<>\"\",IF($A330<>\"\",COUNT(カテゴリースコア!S332),\"\"),\"\")","v":""},{"$f":"IF(J$1<>\"\",IF($A330<>\"\",COUNT(カテゴリースコア!T332),\"\"),\"\")","v":""},{"$f":"IF(K$1<>\"\",IF($A330<>\"\",COUNT(カテゴリースコア!U332),\"\"),\"\")","v":""}]
[{"$f":"IF(データセット1!C331<>\"\",データセット1!C331,\"\")","v":""},{"$f":"IF(データセット1!C331<>\"\",データセット1!D331-カテゴリースコア!$E$11,\"\")","v":""},{"$f":"IF(C$1<>\"\",IF($A331<>\"\",COUNT(カテゴリースコア!M333),\"\"),\"\")","v":""},{"$f":"IF(D$1<>\"\",IF($A331<>\"\",COUNT(カテゴリースコア!N333),\"\"),\"\")","v":""},{"$f":"IF(E$1<>\"\",IF($A331<>\"\",COUNT(カテゴリースコア!O333),\"\"),\"\")","v":""},{"$f":"IF(F$1<>\"\",IF($A331<>\"\",COUNT(カテゴリースコア!P333),\"\"),\"\")","v":""},{"$f":"IF(G$1<>\"\",IF($A331<>\"\",COUNT(カテゴリースコア!Q333),\"\"),\"\")","v":""},{"$f":"IF(H$1<>\"\",IF($A331<>\"\",COUNT(カテゴリースコア!R333),\"\"),\"\")","v":""},{"$f":"IF(I$1<>\"\",IF($A331<>\"\",COUNT(カテゴリースコア!S333),\"\"),\"\")","v":""},{"$f":"IF(J$1<>\"\",IF($A331<>\"\",COUNT(カテゴリースコア!T333),\"\"),\"\")","v":""},{"$f":"IF(K$1<>\"\",IF($A331<>\"\",COUNT(カテゴリースコア!U333),\"\"),\"\")","v":""}]
[{"$f":"IF(データセット1!C332<>\"\",データセット1!C332,\"\")","v":""},{"$f":"IF(データセット1!C332<>\"\",データセット1!D332-カテゴリースコア!$E$11,\"\")","v":""},{"$f":"IF(C$1<>\"\",IF($A332<>\"\",COUNT(カテゴリースコア!M334),\"\"),\"\")","v":""},{"$f":"IF(D$1<>\"\",IF($A332<>\"\",COUNT(カテゴリースコア!N334),\"\"),\"\")","v":""},{"$f":"IF(E$1<>\"\",IF($A332<>\"\",COUNT(カテゴリースコア!O334),\"\"),\"\")","v":""},{"$f":"IF(F$1<>\"\",IF($A332<>\"\",COUNT(カテゴリースコア!P334),\"\"),\"\")","v":""},{"$f":"IF(G$1<>\"\",IF($A332<>\"\",COUNT(カテゴリースコア!Q334),\"\"),\"\")","v":""},{"$f":"IF(H$1<>\"\",IF($A332<>\"\",COUNT(カテゴリースコア!R334),\"\"),\"\")","v":""},{"$f":"IF(I$1<>\"\",IF($A332<>\"\",COUNT(カテゴリースコア!S334),\"\"),\"\")","v":""},{"$f":"IF(J$1<>\"\",IF($A332<>\"\",COUNT(カテゴリースコア!T334),\"\"),\"\")","v":""},{"$f":"IF(K$1<>\"\",IF($A332<>\"\",COUNT(カテゴリースコア!U334),\"\"),\"\")","v":""}]
[{"$f":"IF(データセット1!C333<>\"\",データセット1!C333,\"\")","v":""},{"$f":"IF(データセット1!C333<>\"\",データセット1!D333-カテゴリースコア!$E$11,\"\")","v":""},{"$f":"IF(C$1<>\"\",IF($A333<>\"\",COUNT(カテゴリースコア!M335),\"\"),\"\")","v":""},{"$f":"IF(D$1<>\"\",IF($A333<>\"\",COUNT(カテゴリースコア!N335),\"\"),\"\")","v":""},{"$f":"IF(E$1<>\"\",IF($A333<>\"\",COUNT(カテゴリースコア!O335),\"\"),\"\")","v":""},{"$f":"IF(F$1<>\"\",IF($A333<>\"\",COUNT(カテゴリースコア!P335),\"\"),\"\")","v":""},{"$f":"IF(G$1<>\"\",IF($A333<>\"\",COUNT(カテゴリースコア!Q335),\"\"),\"\")","v":""},{"$f":"IF(H$1<>\"\",IF($A333<>\"\",COUNT(カテゴリースコア!R335),\"\"),\"\")","v":""},{"$f":"IF(I$1<>\"\",IF($A333<>\"\",COUNT(カテゴリースコア!S335),\"\"),\"\")","v":""},{"$f":"IF(J$1<>\"\",IF($A333<>\"\",COUNT(カテゴリースコア!T335),\"\"),\"\")","v":""},{"$f":"IF(K$1<>\"\",IF($A333<>\"\",COUNT(カテゴリースコア!U335),\"\"),\"\")","v":""}]
[{"$f":"IF(データセット1!C334<>\"\",データセット1!C334,\"\")","v":""},{"$f":"IF(データセット1!C334<>\"\",データセット1!D334-カテゴリースコア!$E$11,\"\")","v":""},{"$f":"IF(C$1<>\"\",IF($A334<>\"\",COUNT(カテゴリースコア!M336),\"\"),\"\")","v":""},{"$f":"IF(D$1<>\"\",IF($A334<>\"\",COUNT(カテゴリースコア!N336),\"\"),\"\")","v":""},{"$f":"IF(E$1<>\"\",IF($A334<>\"\",COUNT(カテゴリースコア!O336),\"\"),\"\")","v":""},{"$f":"IF(F$1<>\"\",IF($A334<>\"\",COUNT(カテゴリースコア!P336),\"\"),\"\")","v":""},{"$f":"IF(G$1<>\"\",IF($A334<>\"\",COUNT(カテゴリースコア!Q336),\"\"),\"\")","v":""},{"$f":"IF(H$1<>\"\",IF($A334<>\"\",COUNT(カテゴリースコア!R336),\"\"),\"\")","v":""},{"$f":"IF(I$1<>\"\",IF($A334<>\"\",COUNT(カテゴリースコア!S336),\"\"),\"\")","v":""},{"$f":"IF(J$1<>\"\",IF($A334<>\"\",COUNT(カテゴリースコア!T336),\"\"),\"\")","v":""},{"$f":"IF(K$1<>\"\",IF($A334<>\"\",COUNT(カテゴリースコア!U336),\"\"),\"\")","v":""}]
[{"$f":"IF(データセット1!C335<>\"\",データセット1!C335,\"\")","v":""},{"$f":"IF(データセット1!C335<>\"\",データセット1!D335-カテゴリースコア!$E$11,\"\")","v":""},{"$f":"IF(C$1<>\"\",IF($A335<>\"\",COUNT(カテゴリースコア!M337),\"\"),\"\")","v":""},{"$f":"IF(D$1<>\"\",IF($A335<>\"\",COUNT(カテゴリースコア!N337),\"\"),\"\")","v":""},{"$f":"IF(E$1<>\"\",IF($A335<>\"\",COUNT(カテゴリースコア!O337),\"\"),\"\")","v":""},{"$f":"IF(F$1<>\"\",IF($A335<>\"\",COUNT(カテゴリースコア!P337),\"\"),\"\")","v":""},{"$f":"IF(G$1<>\"\",IF($A335<>\"\",COUNT(カテゴリースコア!Q337),\"\"),\"\")","v":""},{"$f":"IF(H$1<>\"\",IF($A335<>\"\",COUNT(カテゴリースコア!R337),\"\"),\"\")","v":""},{"$f":"IF(I$1<>\"\",IF($A335<>\"\",COUNT(カテゴリースコア!S337),\"\"),\"\")","v":""},{"$f":"IF(J$1<>\"\",IF($A335<>\"\",COUNT(カテゴリースコア!T337),\"\"),\"\")","v":""},{"$f":"IF(K$1<>\"\",IF($A335<>\"\",COUNT(カテゴリースコア!U337),\"\"),\"\")","v":""}]
[{"$f":"IF(データセット1!C336<>\"\",データセット1!C336,\"\")","v":""},{"$f":"IF(データセット1!C336<>\"\",データセット1!D336-カテゴリースコア!$E$11,\"\")","v":""},{"$f":"IF(C$1<>\"\",IF($A336<>\"\",COUNT(カテゴリースコア!M338),\"\"),\"\")","v":""},{"$f":"IF(D$1<>\"\",IF($A336<>\"\",COUNT(カテゴリースコア!N338),\"\"),\"\")","v":""},{"$f":"IF(E$1<>\"\",IF($A336<>\"\",COUNT(カテゴリースコア!O338),\"\"),\"\")","v":""},{"$f":"IF(F$1<>\"\",IF($A336<>\"\",COUNT(カテゴリースコア!P338),\"\"),\"\")","v":""},{"$f":"IF(G$1<>\"\",IF($A336<>\"\",COUNT(カテゴリースコア!Q338),\"\"),\"\")","v":""},{"$f":"IF(H$1<>\"\",IF($A336<>\"\",COUNT(カテゴリースコア!R338),\"\"),\"\")","v":""},{"$f":"IF(I$1<>\"\",IF($A336<>\"\",COUNT(カテゴリースコア!S338),\"\"),\"\")","v":""},{"$f":"IF(J$1<>\"\",IF($A336<>\"\",COUNT(カテゴリースコア!T338),\"\"),\"\")","v":""},{"$f":"IF(K$1<>\"\",IF($A336<>\"\",COUNT(カテゴリースコア!U338),\"\"),\"\")","v":""}]
[{"$f":"IF(データセット1!C337<>\"\",データセット1!C337,\"\")","v":""},{"$f":"IF(データセット1!C337<>\"\",データセット1!D337-カテゴリースコア!$E$11,\"\")","v":""},{"$f":"IF(C$1<>\"\",IF($A337<>\"\",COUNT(カテゴリースコア!M339),\"\"),\"\")","v":""},{"$f":"IF(D$1<>\"\",IF($A337<>\"\",COUNT(カテゴリースコア!N339),\"\"),\"\")","v":""},{"$f":"IF(E$1<>\"\",IF($A337<>\"\",COUNT(カテゴリースコア!O339),\"\"),\"\")","v":""},{"$f":"IF(F$1<>\"\",IF($A337<>\"\",COUNT(カテゴリースコア!P339),\"\"),\"\")","v":""},{"$f":"IF(G$1<>\"\",IF($A337<>\"\",COUNT(カテゴリースコア!Q339),\"\"),\"\")","v":""},{"$f":"IF(H$1<>\"\",IF($A337<>\"\",COUNT(カテゴリースコア!R339),\"\"),\"\")","v":""},{"$f":"IF(I$1<>\"\",IF($A337<>\"\",COUNT(カテゴリースコア!S339),\"\"),\"\")","v":""},{"$f":"IF(J$1<>\"\",IF($A337<>\"\",COUNT(カテゴリースコア!T339),\"\"),\"\")","v":""},{"$f":"IF(K$1<>\"\",IF($A337<>\"\",COUNT(カテゴリースコア!U339),\"\"),\"\")","v":""}]
[{"$f":"IF(データセット1!C338<>\"\",データセット1!C338,\"\")","v":""},{"$f":"IF(データセット1!C338<>\"\",データセット1!D338-カテゴリースコア!$E$11,\"\")","v":""},{"$f":"IF(C$1<>\"\",IF($A338<>\"\",COUNT(カテゴリースコア!M340),\"\"),\"\")","v":""},{"$f":"IF(D$1<>\"\",IF($A338<>\"\",COUNT(カテゴリースコア!N340),\"\"),\"\")","v":""},{"$f":"IF(E$1<>\"\",IF($A338<>\"\",COUNT(カテゴリースコア!O340),\"\"),\"\")","v":""},{"$f":"IF(F$1<>\"\",IF($A338<>\"\",COUNT(カテゴリースコア!P340),\"\"),\"\")","v":""},{"$f":"IF(G$1<>\"\",IF($A338<>\"\",COUNT(カテゴリースコア!Q340),\"\"),\"\")","v":""},{"$f":"IF(H$1<>\"\",IF($A338<>\"\",COUNT(カテゴリースコア!R340),\"\"),\"\")","v":""},{"$f":"IF(I$1<>\"\",IF($A338<>\"\",COUNT(カテゴリースコア!S340),\"\"),\"\")","v":""},{"$f":"IF(J$1<>\"\",IF($A338<>\"\",COUNT(カテゴリースコア!T340),\"\"),\"\")","v":""},{"$f":"IF(K$1<>\"\",IF($A338<>\"\",COUNT(カテゴリースコア!U340),\"\"),\"\")","v":""}]
[{"$f":"IF(データセット1!C339<>\"\",データセット1!C339,\"\")","v":""},{"$f":"IF(データセット1!C339<>\"\",データセット1!D339-カテゴリースコア!$E$11,\"\")","v":""},{"$f":"IF(C$1<>\"\",IF($A339<>\"\",COUNT(カテゴリースコア!M341),\"\"),\"\")","v":""},{"$f":"IF(D$1<>\"\",IF($A339<>\"\",COUNT(カテゴリースコア!N341),\"\"),\"\")","v":""},{"$f":"IF(E$1<>\"\",IF($A339<>\"\",COUNT(カテゴリースコア!O341),\"\"),\"\")","v":""},{"$f":"IF(F$1<>\"\",IF($A339<>\"\",COUNT(カテゴリースコア!P341),\"\"),\"\")","v":""},{"$f":"IF(G$1<>\"\",IF($A339<>\"\",COUNT(カテゴリースコア!Q341),\"\"),\"\")","v":""},{"$f":"IF(H$1<>\"\",IF($A339<>\"\",COUNT(カテゴリースコア!R341),\"\"),\"\")","v":""},{"$f":"IF(I$1<>\"\",IF($A339<>\"\",COUNT(カテゴリースコア!S341),\"\"),\"\")","v":""},{"$f":"IF(J$1<>\"\",IF($A339<>\"\",COUNT(カテゴリースコア!T341),\"\"),\"\")","v":""},{"$f":"IF(K$1<>\"\",IF($A339<>\"\",COUNT(カテゴリースコア!U341),\"\"),\"\")","v":""}]
[{"$f":"IF(データセット1!C340<>\"\",データセット1!C340,\"\")","v":""},{"$f":"IF(データセット1!C340<>\"\",データセット1!D340-カテゴリースコア!$E$11,\"\")","v":""},{"$f":"IF(C$1<>\"\",IF($A340<>\"\",COUNT(カテゴリースコア!M342),\"\"),\"\")","v":""},{"$f":"IF(D$1<>\"\",IF($A340<>\"\",COUNT(カテゴリースコア!N342),\"\"),\"\")","v":""},{"$f":"IF(E$1<>\"\",IF($A340<>\"\",COUNT(カテゴリースコア!O342),\"\"),\"\")","v":""},{"$f":"IF(F$1<>\"\",IF($A340<>\"\",COUNT(カテゴリースコア!P342),\"\"),\"\")","v":""},{"$f":"IF(G$1<>\"\",IF($A340<>\"\",COUNT(カテゴリースコア!Q342),\"\"),\"\")","v":""},{"$f":"IF(H$1<>\"\",IF($A340<>\"\",COUNT(カテゴリースコア!R342),\"\"),\"\")","v":""},{"$f":"IF(I$1<>\"\",IF($A340<>\"\",COUNT(カテゴリースコア!S342),\"\"),\"\")","v":""},{"$f":"IF(J$1<>\"\",IF($A340<>\"\",COUNT(カテゴリースコア!T342),\"\"),\"\")","v":""},{"$f":"IF(K$1<>\"\",IF($A340<>\"\",COUNT(カテゴリースコア!U342),\"\"),\"\")","v":""}]
[{"$f":"IF(データセット1!C341<>\"\",データセット1!C341,\"\")","v":""},{"$f":"IF(データセット1!C341<>\"\",データセット1!D341-カテゴリースコア!$E$11,\"\")","v":""},{"$f":"IF(C$1<>\"\",IF($A341<>\"\",COUNT(カテゴリースコア!M343),\"\"),\"\")","v":""},{"$f":"IF(D$1<>\"\",IF($A341<>\"\",COUNT(カテゴリースコア!N343),\"\"),\"\")","v":""},{"$f":"IF(E$1<>\"\",IF($A341<>\"\",COUNT(カテゴリースコア!O343),\"\"),\"\")","v":""},{"$f":"IF(F$1<>\"\",IF($A341<>\"\",COUNT(カテゴリースコア!P343),\"\"),\"\")","v":""},{"$f":"IF(G$1<>\"\",IF($A341<>\"\",COUNT(カテゴリースコア!Q343),\"\"),\"\")","v":""},{"$f":"IF(H$1<>\"\",IF($A341<>\"\",COUNT(カテゴリースコア!R343),\"\"),\"\")","v":""},{"$f":"IF(I$1<>\"\",IF($A341<>\"\",COUNT(カテゴリースコア!S343),\"\"),\"\")","v":""},{"$f":"IF(J$1<>\"\",IF($A341<>\"\",COUNT(カテゴリースコア!T343),\"\"),\"\")","v":""},{"$f":"IF(K$1<>\"\",IF($A341<>\"\",COUNT(カテゴリースコア!U343),\"\"),\"\")","v":""}]
[{"$f":"IF(データセット1!C342<>\"\",データセット1!C342,\"\")","v":""},{"$f":"IF(データセット1!C342<>\"\",データセット1!D342-カテゴリースコア!$E$11,\"\")","v":""},{"$f":"IF(C$1<>\"\",IF($A342<>\"\",COUNT(カテゴリースコア!M344),\"\"),\"\")","v":""},{"$f":"IF(D$1<>\"\",IF($A342<>\"\",COUNT(カテゴリースコア!N344),\"\"),\"\")","v":""},{"$f":"IF(E$1<>\"\",IF($A342<>\"\",COUNT(カテゴリースコア!O344),\"\"),\"\")","v":""},{"$f":"IF(F$1<>\"\",IF($A342<>\"\",COUNT(カテゴリースコア!P344),\"\"),\"\")","v":""},{"$f":"IF(G$1<>\"\",IF($A342<>\"\",COUNT(カテゴリースコア!Q344),\"\"),\"\")","v":""},{"$f":"IF(H$1<>\"\",IF($A342<>\"\",COUNT(カテゴリースコア!R344),\"\"),\"\")","v":""},{"$f":"IF(I$1<>\"\",IF($A342<>\"\",COUNT(カテゴリースコア!S344),\"\"),\"\")","v":""},{"$f":"IF(J$1<>\"\",IF($A342<>\"\",COUNT(カテゴリースコア!T344),\"\"),\"\")","v":""},{"$f":"IF(K$1<>\"\",IF($A342<>\"\",COUNT(カテゴリースコア!U344),\"\"),\"\")","v":""}]
[{"$f":"IF(データセット1!C343<>\"\",データセット1!C343,\"\")","v":""},{"$f":"IF(データセット1!C343<>\"\",データセット1!D343-カテゴリースコア!$E$11,\"\")","v":""},{"$f":"IF(C$1<>\"\",IF($A343<>\"\",COUNT(カテゴリースコア!M345),\"\"),\"\")","v":""},{"$f":"IF(D$1<>\"\",IF($A343<>\"\",COUNT(カテゴリースコア!N345),\"\"),\"\")","v":""},{"$f":"IF(E$1<>\"\",IF($A343<>\"\",COUNT(カテゴリースコア!O345),\"\"),\"\")","v":""},{"$f":"IF(F$1<>\"\",IF($A343<>\"\",COUNT(カテゴリースコア!P345),\"\"),\"\")","v":""},{"$f":"IF(G$1<>\"\",IF($A343<>\"\",COUNT(カテゴリースコア!Q345),\"\"),\"\")","v":""},{"$f":"IF(H$1<>\"\",IF($A343<>\"\",COUNT(カテゴリースコア!R345),\"\"),\"\")","v":""},{"$f":"IF(I$1<>\"\",IF($A343<>\"\",COUNT(カテゴリースコア!S345),\"\"),\"\")","v":""},{"$f":"IF(J$1<>\"\",IF($A343<>\"\",COUNT(カテゴリースコア!T345),\"\"),\"\")","v":""},{"$f":"IF(K$1<>\"\",IF($A343<>\"\",COUNT(カテゴリースコア!U345),\"\"),\"\")","v":""}]
[{"$f":"IF(データセット1!C344<>\"\",データセット1!C344,\"\")","v":""},{"$f":"IF(データセット1!C344<>\"\",データセット1!D344-カテゴリースコア!$E$11,\"\")","v":""},{"$f":"IF(C$1<>\"\",IF($A344<>\"\",COUNT(カテゴリースコア!M346),\"\"),\"\")","v":""},{"$f":"IF(D$1<>\"\",IF($A344<>\"\",COUNT(カテゴリースコア!N346),\"\"),\"\")","v":""},{"$f":"IF(E$1<>\"\",IF($A344<>\"\",COUNT(カテゴリースコア!O346),\"\"),\"\")","v":""},{"$f":"IF(F$1<>\"\",IF($A344<>\"\",COUNT(カテゴリースコア!P346),\"\"),\"\")","v":""},{"$f":"IF(G$1<>\"\",IF($A344<>\"\",COUNT(カテゴリースコア!Q346),\"\"),\"\")","v":""},{"$f":"IF(H$1<>\"\",IF($A344<>\"\",COUNT(カテゴリースコア!R346),\"\"),\"\")","v":""},{"$f":"IF(I$1<>\"\",IF($A344<>\"\",COUNT(カテゴリースコア!S346),\"\"),\"\")","v":""},{"$f":"IF(J$1<>\"\",IF($A344<>\"\",COUNT(カテゴリースコア!T346),\"\"),\"\")","v":""},{"$f":"IF(K$1<>\"\",IF($A344<>\"\",COUNT(カテゴリースコア!U346),\"\"),\"\")","v":""}]
[{"$f":"IF(データセット1!C345<>\"\",データセット1!C345,\"\")","v":""},{"$f":"IF(データセット1!C345<>\"\",データセット1!D345-カテゴリースコア!$E$11,\"\")","v":""},{"$f":"IF(C$1<>\"\",IF($A345<>\"\",COUNT(カテゴリースコア!M347),\"\"),\"\")","v":""},{"$f":"IF(D$1<>\"\",IF($A345<>\"\",COUNT(カテゴリースコア!N347),\"\"),\"\")","v":""},{"$f":"IF(E$1<>\"\",IF($A345<>\"\",COUNT(カテゴリースコア!O347),\"\"),\"\")","v":""},{"$f":"IF(F$1<>\"\",IF($A345<>\"\",COUNT(カテゴリースコア!P347),\"\"),\"\")","v":""},{"$f":"IF(G$1<>\"\",IF($A345<>\"\",COUNT(カテゴリースコア!Q347),\"\"),\"\")","v":""},{"$f":"IF(H$1<>\"\",IF($A345<>\"\",COUNT(カテゴリースコア!R347),\"\"),\"\")","v":""},{"$f":"IF(I$1<>\"\",IF($A345<>\"\",COUNT(カテゴリースコア!S347),\"\"),\"\")","v":""},{"$f":"IF(J$1<>\"\",IF($A345<>\"\",COUNT(カテゴリースコア!T347),\"\"),\"\")","v":""},{"$f":"IF(K$1<>\"\",IF($A345<>\"\",COUNT(カテゴリースコア!U347),\"\"),\"\")","v":""}]
[{"$f":"IF(データセット1!C346<>\"\",データセット1!C346,\"\")","v":""},{"$f":"IF(データセット1!C346<>\"\",データセット1!D346-カテゴリースコア!$E$11,\"\")","v":""},{"$f":"IF(C$1<>\"\",IF($A346<>\"\",COUNT(カテゴリースコア!M348),\"\"),\"\")","v":""},{"$f":"IF(D$1<>\"\",IF($A346<>\"\",COUNT(カテゴリースコア!N348),\"\"),\"\")","v":""},{"$f":"IF(E$1<>\"\",IF($A346<>\"\",COUNT(カテゴリースコア!O348),\"\"),\"\")","v":""},{"$f":"IF(F$1<>\"\",IF($A346<>\"\",COUNT(カテゴリースコア!P348),\"\"),\"\")","v":""},{"$f":"IF(G$1<>\"\",IF($A346<>\"\",COUNT(カテゴリースコア!Q348),\"\"),\"\")","v":""},{"$f":"IF(H$1<>\"\",IF($A346<>\"\",COUNT(カテゴリースコア!R348),\"\"),\"\")","v":""},{"$f":"IF(I$1<>\"\",IF($A346<>\"\",COUNT(カテゴリースコア!S348),\"\"),\"\")","v":""},{"$f":"IF(J$1<>\"\",IF($A346<>\"\",COUNT(カテゴリースコア!T348),\"\"),\"\")","v":""},{"$f":"IF(K$1<>\"\",IF($A346<>\"\",COUNT(カテゴリースコア!U348),\"\"),\"\")","v":""}]
[{"$f":"IF(データセット1!C347<>\"\",データセット1!C347,\"\")","v":""},{"$f":"IF(データセット1!C347<>\"\",データセット1!D347-カテゴリースコア!$E$11,\"\")","v":""},{"$f":"IF(C$1<>\"\",IF($A347<>\"\",COUNT(カテゴリースコア!M349),\"\"),\"\")","v":""},{"$f":"IF(D$1<>\"\",IF($A347<>\"\",COUNT(カテゴリースコア!N349),\"\"),\"\")","v":""},{"$f":"IF(E$1<>\"\",IF($A347<>\"\",COUNT(カテゴリースコア!O349),\"\"),\"\")","v":""},{"$f":"IF(F$1<>\"\",IF($A347<>\"\",COUNT(カテゴリースコア!P349),\"\"),\"\")","v":""},{"$f":"IF(G$1<>\"\",IF($A347<>\"\",COUNT(カテゴリースコア!Q349),\"\"),\"\")","v":""},{"$f":"IF(H$1<>\"\",IF($A347<>\"\",COUNT(カテゴリースコア!R349),\"\"),\"\")","v":""},{"$f":"IF(I$1<>\"\",IF($A347<>\"\",COUNT(カテゴリースコア!S349),\"\"),\"\")","v":""},{"$f":"IF(J$1<>\"\",IF($A347<>\"\",COUNT(カテゴリースコア!T349),\"\"),\"\")","v":""},{"$f":"IF(K$1<>\"\",IF($A347<>\"\",COUNT(カテゴリースコア!U349),\"\"),\"\")","v":""}]
[{"$f":"IF(データセット1!C348<>\"\",データセット1!C348,\"\")","v":""},{"$f":"IF(データセット1!C348<>\"\",データセット1!D348-カテゴリースコア!$E$11,\"\")","v":""},{"$f":"IF(C$1<>\"\",IF($A348<>\"\",COUNT(カテゴリースコア!M350),\"\"),\"\")","v":""},{"$f":"IF(D$1<>\"\",IF($A348<>\"\",COUNT(カテゴリースコア!N350),\"\"),\"\")","v":""},{"$f":"IF(E$1<>\"\",IF($A348<>\"\",COUNT(カテゴリースコア!O350),\"\"),\"\")","v":""},{"$f":"IF(F$1<>\"\",IF($A348<>\"\",COUNT(カテゴリースコア!P350),\"\"),\"\")","v":""},{"$f":"IF(G$1<>\"\",IF($A348<>\"\",COUNT(カテゴリースコア!Q350),\"\"),\"\")","v":""},{"$f":"IF(H$1<>\"\",IF($A348<>\"\",COUNT(カテゴリースコア!R350),\"\"),\"\")","v":""},{"$f":"IF(I$1<>\"\",IF($A348<>\"\",COUNT(カテゴリースコア!S350),\"\"),\"\")","v":""},{"$f":"IF(J$1<>\"\",IF($A348<>\"\",COUNT(カテゴリースコア!T350),\"\"),\"\")","v":""},{"$f":"IF(K$1<>\"\",IF($A348<>\"\",COUNT(カテゴリースコア!U350),\"\"),\"\")","v":""}]
[{"$f":"IF(データセット1!C349<>\"\",データセット1!C349,\"\")","v":""},{"$f":"IF(データセット1!C349<>\"\",データセット1!D349-カテゴリースコア!$E$11,\"\")","v":""},{"$f":"IF(C$1<>\"\",IF($A349<>\"\",COUNT(カテゴリースコア!M351),\"\"),\"\")","v":""},{"$f":"IF(D$1<>\"\",IF($A349<>\"\",COUNT(カテゴリースコア!N351),\"\"),\"\")","v":""},{"$f":"IF(E$1<>\"\",IF($A349<>\"\",COUNT(カテゴリースコア!O351),\"\"),\"\")","v":""},{"$f":"IF(F$1<>\"\",IF($A349<>\"\",COUNT(カテゴリースコア!P351),\"\"),\"\")","v":""},{"$f":"IF(G$1<>\"\",IF($A349<>\"\",COUNT(カテゴリースコア!Q351),\"\"),\"\")","v":""},{"$f":"IF(H$1<>\"\",IF($A349<>\"\",COUNT(カテゴリースコア!R351),\"\"),\"\")","v":""},{"$f":"IF(I$1<>\"\",IF($A349<>\"\",COUNT(カテゴリースコア!S351),\"\"),\"\")","v":""},{"$f":"IF(J$1<>\"\",IF($A349<>\"\",COUNT(カテゴリースコア!T351),\"\"),\"\")","v":""},{"$f":"IF(K$1<>\"\",IF($A349<>\"\",COUNT(カテゴリースコア!U351),\"\"),\"\")","v":""}]
[{"$f":"IF(データセット1!C350<>\"\",データセット1!C350,\"\")","v":""},{"$f":"IF(データセット1!C350<>\"\",データセット1!D350-カテゴリースコア!$E$11,\"\")","v":""},{"$f":"IF(C$1<>\"\",IF($A350<>\"\",COUNT(カテゴリースコア!M352),\"\"),\"\")","v":""},{"$f":"IF(D$1<>\"\",IF($A350<>\"\",COUNT(カテゴリースコア!N352),\"\"),\"\")","v":""},{"$f":"IF(E$1<>\"\",IF($A350<>\"\",COUNT(カテゴリースコア!O352),\"\"),\"\")","v":""},{"$f":"IF(F$1<>\"\",IF($A350<>\"\",COUNT(カテゴリースコア!P352),\"\"),\"\")","v":""},{"$f":"IF(G$1<>\"\",IF($A350<>\"\",COUNT(カテゴリースコア!Q352),\"\"),\"\")","v":""},{"$f":"IF(H$1<>\"\",IF($A350<>\"\",COUNT(カテゴリースコア!R352),\"\"),\"\")","v":""},{"$f":"IF(I$1<>\"\",IF($A350<>\"\",COUNT(カテゴリースコア!S352),\"\"),\"\")","v":""},{"$f":"IF(J$1<>\"\",IF($A350<>\"\",COUNT(カテゴリースコア!T352),\"\"),\"\")","v":""},{"$f":"IF(K$1<>\"\",IF($A350<>\"\",COUNT(カテゴリースコア!U352),\"\"),\"\")","v":""}]
[{"$f":"IF(データセット1!C351<>\"\",データセット1!C351,\"\")","v":""},{"$f":"IF(データセット1!C351<>\"\",データセット1!D351-カテゴリースコア!$E$11,\"\")","v":""},{"$f":"IF(C$1<>\"\",IF($A351<>\"\",COUNT(カテゴリースコア!M353),\"\"),\"\")","v":""},{"$f":"IF(D$1<>\"\",IF($A351<>\"\",COUNT(カテゴリースコア!N353),\"\"),\"\")","v":""},{"$f":"IF(E$1<>\"\",IF($A351<>\"\",COUNT(カテゴリースコア!O353),\"\"),\"\")","v":""},{"$f":"IF(F$1<>\"\",IF($A351<>\"\",COUNT(カテゴリースコア!P353),\"\"),\"\")","v":""},{"$f":"IF(G$1<>\"\",IF($A351<>\"\",COUNT(カテゴリースコア!Q353),\"\"),\"\")","v":""},{"$f":"IF(H$1<>\"\",IF($A351<>\"\",COUNT(カテゴリースコア!R353),\"\"),\"\")","v":""},{"$f":"IF(I$1<>\"\",IF($A351<>\"\",COUNT(カテゴリースコア!S353),\"\"),\"\")","v":""},{"$f":"IF(J$1<>\"\",IF($A351<>\"\",COUNT(カテゴリースコア!T353),\"\"),\"\")","v":""},{"$f":"IF(K$1<>\"\",IF($A351<>\"\",COUNT(カテゴリースコア!U353),\"\"),\"\")","v":""}]
[{"$f":"IF(データセット1!C352<>\"\",データセット1!C352,\"\")","v":""},{"$f":"IF(データセット1!C352<>\"\",データセット1!D352-カテゴリースコア!$E$11,\"\")","v":""},{"$f":"IF(C$1<>\"\",IF($A352<>\"\",COUNT(カテゴリースコア!M354),\"\"),\"\")","v":""},{"$f":"IF(D$1<>\"\",IF($A352<>\"\",COUNT(カテゴリースコア!N354),\"\"),\"\")","v":""},{"$f":"IF(E$1<>\"\",IF($A352<>\"\",COUNT(カテゴリースコア!O354),\"\"),\"\")","v":""},{"$f":"IF(F$1<>\"\",IF($A352<>\"\",COUNT(カテゴリースコア!P354),\"\"),\"\")","v":""},{"$f":"IF(G$1<>\"\",IF($A352<>\"\",COUNT(カテゴリースコア!Q354),\"\"),\"\")","v":""},{"$f":"IF(H$1<>\"\",IF($A352<>\"\",COUNT(カテゴリースコア!R354),\"\"),\"\")","v":""},{"$f":"IF(I$1<>\"\",IF($A352<>\"\",COUNT(カテゴリースコア!S354),\"\"),\"\")","v":""},{"$f":"IF(J$1<>\"\",IF($A352<>\"\",COUNT(カテゴリースコア!T354),\"\"),\"\")","v":""},{"$f":"IF(K$1<>\"\",IF($A352<>\"\",COUNT(カテゴリースコア!U354),\"\"),\"\")","v":""}]
[{"$f":"IF(データセット1!C353<>\"\",データセット1!C353,\"\")","v":""},{"$f":"IF(データセット1!C353<>\"\",データセット1!D353-カテゴリースコア!$E$11,\"\")","v":""},{"$f":"IF(C$1<>\"\",IF($A353<>\"\",COUNT(カテゴリースコア!M355),\"\"),\"\")","v":""},{"$f":"IF(D$1<>\"\",IF($A353<>\"\",COUNT(カテゴリースコア!N355),\"\"),\"\")","v":""},{"$f":"IF(E$1<>\"\",IF($A353<>\"\",COUNT(カテゴリースコア!O355),\"\"),\"\")","v":""},{"$f":"IF(F$1<>\"\",IF($A353<>\"\",COUNT(カテゴリースコア!P355),\"\"),\"\")","v":""},{"$f":"IF(G$1<>\"\",IF($A353<>\"\",COUNT(カテゴリースコア!Q355),\"\"),\"\")","v":""},{"$f":"IF(H$1<>\"\",IF($A353<>\"\",COUNT(カテゴリースコア!R355),\"\"),\"\")","v":""},{"$f":"IF(I$1<>\"\",IF($A353<>\"\",COUNT(カテゴリースコア!S355),\"\"),\"\")","v":""},{"$f":"IF(J$1<>\"\",IF($A353<>\"\",COUNT(カテゴリースコア!T355),\"\"),\"\")","v":""},{"$f":"IF(K$1<>\"\",IF($A353<>\"\",COUNT(カテゴリースコア!U355),\"\"),\"\")","v":""}]
[{"$f":"IF(データセット1!C354<>\"\",データセット1!C354,\"\")","v":""},{"$f":"IF(データセット1!C354<>\"\",データセット1!D354-カテゴリースコア!$E$11,\"\")","v":""},{"$f":"IF(C$1<>\"\",IF($A354<>\"\",COUNT(カテゴリースコア!M356),\"\"),\"\")","v":""},{"$f":"IF(D$1<>\"\",IF($A354<>\"\",COUNT(カテゴリースコア!N356),\"\"),\"\")","v":""},{"$f":"IF(E$1<>\"\",IF($A354<>\"\",COUNT(カテゴリースコア!O356),\"\"),\"\")","v":""},{"$f":"IF(F$1<>\"\",IF($A354<>\"\",COUNT(カテゴリースコア!P356),\"\"),\"\")","v":""},{"$f":"IF(G$1<>\"\",IF($A354<>\"\",COUNT(カテゴリースコア!Q356),\"\"),\"\")","v":""},{"$f":"IF(H$1<>\"\",IF($A354<>\"\",COUNT(カテゴリースコア!R356),\"\"),\"\")","v":""},{"$f":"IF(I$1<>\"\",IF($A354<>\"\",COUNT(カテゴリースコア!S356),\"\"),\"\")","v":""},{"$f":"IF(J$1<>\"\",IF($A354<>\"\",COUNT(カテゴリースコア!T356),\"\"),\"\")","v":""},{"$f":"IF(K$1<>\"\",IF($A354<>\"\",COUNT(カテゴリースコア!U356),\"\"),\"\")","v":""}]
[{"$f":"IF(データセット1!C355<>\"\",データセット1!C355,\"\")","v":""},{"$f":"IF(データセット1!C355<>\"\",データセット1!D355-カテゴリースコア!$E$11,\"\")","v":""},{"$f":"IF(C$1<>\"\",IF($A355<>\"\",COUNT(カテゴリースコア!M357),\"\"),\"\")","v":""},{"$f":"IF(D$1<>\"\",IF($A355<>\"\",COUNT(カテゴリースコア!N357),\"\"),\"\")","v":""},{"$f":"IF(E$1<>\"\",IF($A355<>\"\",COUNT(カテゴリースコア!O357),\"\"),\"\")","v":""},{"$f":"IF(F$1<>\"\",IF($A355<>\"\",COUNT(カテゴリースコア!P357),\"\"),\"\")","v":""},{"$f":"IF(G$1<>\"\",IF($A355<>\"\",COUNT(カテゴリースコア!Q357),\"\"),\"\")","v":""},{"$f":"IF(H$1<>\"\",IF($A355<>\"\",COUNT(カテゴリースコア!R357),\"\"),\"\")","v":""},{"$f":"IF(I$1<>\"\",IF($A355<>\"\",COUNT(カテゴリースコア!S357),\"\"),\"\")","v":""},{"$f":"IF(J$1<>\"\",IF($A355<>\"\",COUNT(カテゴリースコア!T357),\"\"),\"\")","v":""},{"$f":"IF(K$1<>\"\",IF($A355<>\"\",COUNT(カテゴリースコア!U357),\"\"),\"\")","v":""}]
[{"$f":"IF(データセット1!C356<>\"\",データセット1!C356,\"\")","v":""},{"$f":"IF(データセット1!C356<>\"\",データセット1!D356-カテゴリースコア!$E$11,\"\")","v":""},{"$f":"IF(C$1<>\"\",IF($A356<>\"\",COUNT(カテゴリースコア!M358),\"\"),\"\")","v":""},{"$f":"IF(D$1<>\"\",IF($A356<>\"\",COUNT(カテゴリースコア!N358),\"\"),\"\")","v":""},{"$f":"IF(E$1<>\"\",IF($A356<>\"\",COUNT(カテゴリースコア!O358),\"\"),\"\")","v":""},{"$f":"IF(F$1<>\"\",IF($A356<>\"\",COUNT(カテゴリースコア!P358),\"\"),\"\")","v":""},{"$f":"IF(G$1<>\"\",IF($A356<>\"\",COUNT(カテゴリースコア!Q358),\"\"),\"\")","v":""},{"$f":"IF(H$1<>\"\",IF($A356<>\"\",COUNT(カテゴリースコア!R358),\"\"),\"\")","v":""},{"$f":"IF(I$1<>\"\",IF($A356<>\"\",COUNT(カテゴリースコア!S358),\"\"),\"\")","v":""},{"$f":"IF(J$1<>\"\",IF($A356<>\"\",COUNT(カテゴリースコア!T358),\"\"),\"\")","v":""},{"$f":"IF(K$1<>\"\",IF($A356<>\"\",COUNT(カテゴリースコア!U358),\"\"),\"\")","v":""}]
[{"$f":"IF(データセット1!C357<>\"\",データセット1!C357,\"\")","v":""},{"$f":"IF(データセット1!C357<>\"\",データセット1!D357-カテゴリースコア!$E$11,\"\")","v":""},{"$f":"IF(C$1<>\"\",IF($A357<>\"\",COUNT(カテゴリースコア!M359),\"\"),\"\")","v":""},{"$f":"IF(D$1<>\"\",IF($A357<>\"\",COUNT(カテゴリースコア!N359),\"\"),\"\")","v":""},{"$f":"IF(E$1<>\"\",IF($A357<>\"\",COUNT(カテゴリースコア!O359),\"\"),\"\")","v":""},{"$f":"IF(F$1<>\"\",IF($A357<>\"\",COUNT(カテゴリースコア!P359),\"\"),\"\")","v":""},{"$f":"IF(G$1<>\"\",IF($A357<>\"\",COUNT(カテゴリースコア!Q359),\"\"),\"\")","v":""},{"$f":"IF(H$1<>\"\",IF($A357<>\"\",COUNT(カテゴリースコア!R359),\"\"),\"\")","v":""},{"$f":"IF(I$1<>\"\",IF($A357<>\"\",COUNT(カテゴリースコア!S359),\"\"),\"\")","v":""},{"$f":"IF(J$1<>\"\",IF($A357<>\"\",COUNT(カテゴリースコア!T359),\"\"),\"\")","v":""},{"$f":"IF(K$1<>\"\",IF($A357<>\"\",COUNT(カテゴリースコア!U359),\"\"),\"\")","v":""}]
[{"$f":"IF(データセット1!C358<>\"\",データセット1!C358,\"\")","v":""},{"$f":"IF(データセット1!C358<>\"\",データセット1!D358-カテゴリースコア!$E$11,\"\")","v":""},{"$f":"IF(C$1<>\"\",IF($A358<>\"\",COUNT(カテゴリースコア!M360),\"\"),\"\")","v":""},{"$f":"IF(D$1<>\"\",IF($A358<>\"\",COUNT(カテゴリースコア!N360),\"\"),\"\")","v":""},{"$f":"IF(E$1<>\"\",IF($A358<>\"\",COUNT(カテゴリースコア!O360),\"\"),\"\")","v":""},{"$f":"IF(F$1<>\"\",IF($A358<>\"\",COUNT(カテゴリースコア!P360),\"\"),\"\")","v":""},{"$f":"IF(G$1<>\"\",IF($A358<>\"\",COUNT(カテゴリースコア!Q360),\"\"),\"\")","v":""},{"$f":"IF(H$1<>\"\",IF($A358<>\"\",COUNT(カテゴリースコア!R360),\"\"),\"\")","v":""},{"$f":"IF(I$1<>\"\",IF($A358<>\"\",COUNT(カテゴリースコア!S360),\"\"),\"\")","v":""},{"$f":"IF(J$1<>\"\",IF($A358<>\"\",COUNT(カテゴリースコア!T360),\"\"),\"\")","v":""},{"$f":"IF(K$1<>\"\",IF($A358<>\"\",COUNT(カテゴリースコア!U360),\"\"),\"\")","v":""}]
[{"$f":"IF(データセット1!C359<>\"\",データセット1!C359,\"\")","v":""},{"$f":"IF(データセット1!C359<>\"\",データセット1!D359-カテゴリースコア!$E$11,\"\")","v":""},{"$f":"IF(C$1<>\"\",IF($A359<>\"\",COUNT(カテゴリースコア!M361),\"\"),\"\")","v":""},{"$f":"IF(D$1<>\"\",IF($A359<>\"\",COUNT(カテゴリースコア!N361),\"\"),\"\")","v":""},{"$f":"IF(E$1<>\"\",IF($A359<>\"\",COUNT(カテゴリースコア!O361),\"\"),\"\")","v":""},{"$f":"IF(F$1<>\"\",IF($A359<>\"\",COUNT(カテゴリースコア!P361),\"\"),\"\")","v":""},{"$f":"IF(G$1<>\"\",IF($A359<>\"\",COUNT(カテゴリースコア!Q361),\"\"),\"\")","v":""},{"$f":"IF(H$1<>\"\",IF($A359<>\"\",COUNT(カテゴリースコア!R361),\"\"),\"\")","v":""},{"$f":"IF(I$1<>\"\",IF($A359<>\"\",COUNT(カテゴリースコア!S361),\"\"),\"\")","v":""},{"$f":"IF(J$1<>\"\",IF($A359<>\"\",COUNT(カテゴリースコア!T361),\"\"),\"\")","v":""},{"$f":"IF(K$1<>\"\",IF($A359<>\"\",COUNT(カテゴリースコア!U361),\"\"),\"\")","v":""}]
[{"$f":"IF(データセット1!C360<>\"\",データセット1!C360,\"\")","v":""},{"$f":"IF(データセット1!C360<>\"\",データセット1!D360-カテゴリースコア!$E$11,\"\")","v":""},{"$f":"IF(C$1<>\"\",IF($A360<>\"\",COUNT(カテゴリースコア!M362),\"\"),\"\")","v":""},{"$f":"IF(D$1<>\"\",IF($A360<>\"\",COUNT(カテゴリースコア!N362),\"\"),\"\")","v":""},{"$f":"IF(E$1<>\"\",IF($A360<>\"\",COUNT(カテゴリースコア!O362),\"\"),\"\")","v":""},{"$f":"IF(F$1<>\"\",IF($A360<>\"\",COUNT(カテゴリースコア!P362),\"\"),\"\")","v":""},{"$f":"IF(G$1<>\"\",IF($A360<>\"\",COUNT(カテゴリースコア!Q362),\"\"),\"\")","v":""},{"$f":"IF(H$1<>\"\",IF($A360<>\"\",COUNT(カテゴリースコア!R362),\"\"),\"\")","v":""},{"$f":"IF(I$1<>\"\",IF($A360<>\"\",COUNT(カテゴリースコア!S362),\"\"),\"\")","v":""},{"$f":"IF(J$1<>\"\",IF($A360<>\"\",COUNT(カテゴリースコア!T362),\"\"),\"\")","v":""},{"$f":"IF(K$1<>\"\",IF($A360<>\"\",COUNT(カテゴリースコア!U362),\"\"),\"\")","v":""}]
[{"$f":"IF(データセット1!C361<>\"\",データセット1!C361,\"\")","v":""},{"$f":"IF(データセット1!C361<>\"\",データセット1!D361-カテゴリースコア!$E$11,\"\")","v":""},{"$f":"IF(C$1<>\"\",IF($A361<>\"\",COUNT(カテゴリースコア!M363),\"\"),\"\")","v":""},{"$f":"IF(D$1<>\"\",IF($A361<>\"\",COUNT(カテゴリースコア!N363),\"\"),\"\")","v":""},{"$f":"IF(E$1<>\"\",IF($A361<>\"\",COUNT(カテゴリースコア!O363),\"\"),\"\")","v":""},{"$f":"IF(F$1<>\"\",IF($A361<>\"\",COUNT(カテゴリースコア!P363),\"\"),\"\")","v":""},{"$f":"IF(G$1<>\"\",IF($A361<>\"\",COUNT(カテゴリースコア!Q363),\"\"),\"\")","v":""},{"$f":"IF(H$1<>\"\",IF($A361<>\"\",COUNT(カテゴリースコア!R363),\"\"),\"\")","v":""},{"$f":"IF(I$1<>\"\",IF($A361<>\"\",COUNT(カテゴリースコア!S363),\"\"),\"\")","v":""},{"$f":"IF(J$1<>\"\",IF($A361<>\"\",COUNT(カテゴリースコア!T363),\"\"),\"\")","v":""},{"$f":"IF(K$1<>\"\",IF($A361<>\"\",COUNT(カテゴリースコア!U363),\"\"),\"\")","v":""}]
[{"$f":"IF(データセット1!C362<>\"\",データセット1!C362,\"\")","v":""},{"$f":"IF(データセット1!C362<>\"\",データセット1!D362-カテゴリースコア!$E$11,\"\")","v":""},{"$f":"IF(C$1<>\"\",IF($A362<>\"\",COUNT(カテゴリースコア!M364),\"\"),\"\")","v":""},{"$f":"IF(D$1<>\"\",IF($A362<>\"\",COUNT(カテゴリースコア!N364),\"\"),\"\")","v":""},{"$f":"IF(E$1<>\"\",IF($A362<>\"\",COUNT(カテゴリースコア!O364),\"\"),\"\")","v":""},{"$f":"IF(F$1<>\"\",IF($A362<>\"\",COUNT(カテゴリースコア!P364),\"\"),\"\")","v":""},{"$f":"IF(G$1<>\"\",IF($A362<>\"\",COUNT(カテゴリースコア!Q364),\"\"),\"\")","v":""},{"$f":"IF(H$1<>\"\",IF($A362<>\"\",COUNT(カテゴリースコア!R364),\"\"),\"\")","v":""},{"$f":"IF(I$1<>\"\",IF($A362<>\"\",COUNT(カテゴリースコア!S364),\"\"),\"\")","v":""},{"$f":"IF(J$1<>\"\",IF($A362<>\"\",COUNT(カテゴリースコア!T364),\"\"),\"\")","v":""},{"$f":"IF(K$1<>\"\",IF($A362<>\"\",COUNT(カテゴリースコア!U364),\"\"),\"\")","v":""}]
[{"$f":"IF(データセット1!C363<>\"\",データセット1!C363,\"\")","v":""},{"$f":"IF(データセット1!C363<>\"\",データセット1!D363-カテゴリースコア!$E$11,\"\")","v":""},{"$f":"IF(C$1<>\"\",IF($A363<>\"\",COUNT(カテゴリースコア!M365),\"\"),\"\")","v":""},{"$f":"IF(D$1<>\"\",IF($A363<>\"\",COUNT(カテゴリースコア!N365),\"\"),\"\")","v":""},{"$f":"IF(E$1<>\"\",IF($A363<>\"\",COUNT(カテゴリースコア!O365),\"\"),\"\")","v":""},{"$f":"IF(F$1<>\"\",IF($A363<>\"\",COUNT(カテゴリースコア!P365),\"\"),\"\")","v":""},{"$f":"IF(G$1<>\"\",IF($A363<>\"\",COUNT(カテゴリースコア!Q365),\"\"),\"\")","v":""},{"$f":"IF(H$1<>\"\",IF($A363<>\"\",COUNT(カテゴリースコア!R365),\"\"),\"\")","v":""},{"$f":"IF(I$1<>\"\",IF($A363<>\"\",COUNT(カテゴリースコア!S365),\"\"),\"\")","v":""},{"$f":"IF(J$1<>\"\",IF($A363<>\"\",COUNT(カテゴリースコア!T365),\"\"),\"\")","v":""},{"$f":"IF(K$1<>\"\",IF($A363<>\"\",COUNT(カテゴリースコア!U365),\"\"),\"\")","v":""}]
[{"$f":"IF(データセット1!C364<>\"\",データセット1!C364,\"\")","v":""},{"$f":"IF(データセット1!C364<>\"\",データセット1!D364-カテゴリースコア!$E$11,\"\")","v":""},{"$f":"IF(C$1<>\"\",IF($A364<>\"\",COUNT(カテゴリースコア!M366),\"\"),\"\")","v":""},{"$f":"IF(D$1<>\"\",IF($A364<>\"\",COUNT(カテゴリースコア!N366),\"\"),\"\")","v":""},{"$f":"IF(E$1<>\"\",IF($A364<>\"\",COUNT(カテゴリースコア!O366),\"\"),\"\")","v":""},{"$f":"IF(F$1<>\"\",IF($A364<>\"\",COUNT(カテゴリースコア!P366),\"\"),\"\")","v":""},{"$f":"IF(G$1<>\"\",IF($A364<>\"\",COUNT(カテゴリースコア!Q366),\"\"),\"\")","v":""},{"$f":"IF(H$1<>\"\",IF($A364<>\"\",COUNT(カテゴリースコア!R366),\"\"),\"\")","v":""},{"$f":"IF(I$1<>\"\",IF($A364<>\"\",COUNT(カテゴリースコア!S366),\"\"),\"\")","v":""},{"$f":"IF(J$1<>\"\",IF($A364<>\"\",COUNT(カテゴリースコア!T366),\"\"),\"\")","v":""},{"$f":"IF(K$1<>\"\",IF($A364<>\"\",COUNT(カテゴリースコア!U366),\"\"),\"\")","v":""}]
[{"$f":"IF(データセット1!C365<>\"\",データセット1!C365,\"\")","v":""},{"$f":"IF(データセット1!C365<>\"\",データセット1!D365-カテゴリースコア!$E$11,\"\")","v":""},{"$f":"IF(C$1<>\"\",IF($A365<>\"\",COUNT(カテゴリースコア!M367),\"\"),\"\")","v":""},{"$f":"IF(D$1<>\"\",IF($A365<>\"\",COUNT(カテゴリースコア!N367),\"\"),\"\")","v":""},{"$f":"IF(E$1<>\"\",IF($A365<>\"\",COUNT(カテゴリースコア!O367),\"\"),\"\")","v":""},{"$f":"IF(F$1<>\"\",IF($A365<>\"\",COUNT(カテゴリースコア!P367),\"\"),\"\")","v":""},{"$f":"IF(G$1<>\"\",IF($A365<>\"\",COUNT(カテゴリースコア!Q367),\"\"),\"\")","v":""},{"$f":"IF(H$1<>\"\",IF($A365<>\"\",COUNT(カテゴリースコア!R367),\"\"),\"\")","v":""},{"$f":"IF(I$1<>\"\",IF($A365<>\"\",COUNT(カテゴリースコア!S367),\"\"),\"\")","v":""},{"$f":"IF(J$1<>\"\",IF($A365<>\"\",COUNT(カテゴリースコア!T367),\"\"),\"\")","v":""},{"$f":"IF(K$1<>\"\",IF($A365<>\"\",COUNT(カテゴリースコア!U367),\"\"),\"\")","v":""}]
[{"$f":"IF(データセット1!C366<>\"\",データセット1!C366,\"\")","v":""},{"$f":"IF(データセット1!C366<>\"\",データセット1!D366-カテゴリースコア!$E$11,\"\")","v":""},{"$f":"IF(C$1<>\"\",IF($A366<>\"\",COUNT(カテゴリースコア!M368),\"\"),\"\")","v":""},{"$f":"IF(D$1<>\"\",IF($A366<>\"\",COUNT(カテゴリースコア!N368),\"\"),\"\")","v":""},{"$f":"IF(E$1<>\"\",IF($A366<>\"\",COUNT(カテゴリースコア!O368),\"\"),\"\")","v":""},{"$f":"IF(F$1<>\"\",IF($A366<>\"\",COUNT(カテゴリースコア!P368),\"\"),\"\")","v":""},{"$f":"IF(G$1<>\"\",IF($A366<>\"\",COUNT(カテゴリースコア!Q368),\"\"),\"\")","v":""},{"$f":"IF(H$1<>\"\",IF($A366<>\"\",COUNT(カテゴリースコア!R368),\"\"),\"\")","v":""},{"$f":"IF(I$1<>\"\",IF($A366<>\"\",COUNT(カテゴリースコア!S368),\"\"),\"\")","v":""},{"$f":"IF(J$1<>\"\",IF($A366<>\"\",COUNT(カテゴリースコア!T368),\"\"),\"\")","v":""},{"$f":"IF(K$1<>\"\",IF($A366<>\"\",COUNT(カテゴリースコア!U368),\"\"),\"\")","v":""}]
[{"$f":"IF(データセット1!C367<>\"\",データセット1!C367,\"\")","v":""},{"$f":"IF(データセット1!C367<>\"\",データセット1!D367-カテゴリースコア!$E$11,\"\")","v":""},{"$f":"IF(C$1<>\"\",IF($A367<>\"\",COUNT(カテゴリースコア!M369),\"\"),\"\")","v":""},{"$f":"IF(D$1<>\"\",IF($A367<>\"\",COUNT(カテゴリースコア!N369),\"\"),\"\")","v":""},{"$f":"IF(E$1<>\"\",IF($A367<>\"\",COUNT(カテゴリースコア!O369),\"\"),\"\")","v":""},{"$f":"IF(F$1<>\"\",IF($A367<>\"\",COUNT(カテゴリースコア!P369),\"\"),\"\")","v":""},{"$f":"IF(G$1<>\"\",IF($A367<>\"\",COUNT(カテゴリースコア!Q369),\"\"),\"\")","v":""},{"$f":"IF(H$1<>\"\",IF($A367<>\"\",COUNT(カテゴリースコア!R369),\"\"),\"\")","v":""},{"$f":"IF(I$1<>\"\",IF($A367<>\"\",COUNT(カテゴリースコア!S369),\"\"),\"\")","v":""},{"$f":"IF(J$1<>\"\",IF($A367<>\"\",COUNT(カテゴリースコア!T369),\"\"),\"\")","v":""},{"$f":"IF(K$1<>\"\",IF($A367<>\"\",COUNT(カテゴリースコア!U369),\"\"),\"\")","v":""}]
[{"$f":"IF(データセット1!C368<>\"\",データセット1!C368,\"\")","v":""},{"$f":"IF(データセット1!C368<>\"\",データセット1!D368-カテゴリースコア!$E$11,\"\")","v":""},{"$f":"IF(C$1<>\"\",IF($A368<>\"\",COUNT(カテゴリースコア!M370),\"\"),\"\")","v":""},{"$f":"IF(D$1<>\"\",IF($A368<>\"\",COUNT(カテゴリースコア!N370),\"\"),\"\")","v":""},{"$f":"IF(E$1<>\"\",IF($A368<>\"\",COUNT(カテゴリースコア!O370),\"\"),\"\")","v":""},{"$f":"IF(F$1<>\"\",IF($A368<>\"\",COUNT(カテゴリースコア!P370),\"\"),\"\")","v":""},{"$f":"IF(G$1<>\"\",IF($A368<>\"\",COUNT(カテゴリースコア!Q370),\"\"),\"\")","v":""},{"$f":"IF(H$1<>\"\",IF($A368<>\"\",COUNT(カテゴリースコア!R370),\"\"),\"\")","v":""},{"$f":"IF(I$1<>\"\",IF($A368<>\"\",COUNT(カテゴリースコア!S370),\"\"),\"\")","v":""},{"$f":"IF(J$1<>\"\",IF($A368<>\"\",COUNT(カテゴリースコア!T370),\"\"),\"\")","v":""},{"$f":"IF(K$1<>\"\",IF($A368<>\"\",COUNT(カテゴリースコア!U370),\"\"),\"\")","v":""}]
[{"$f":"IF(データセット1!C369<>\"\",データセット1!C369,\"\")","v":""},{"$f":"IF(データセット1!C369<>\"\",データセット1!D369-カテゴリースコア!$E$11,\"\")","v":""},{"$f":"IF(C$1<>\"\",IF($A369<>\"\",COUNT(カテゴリースコア!M371),\"\"),\"\")","v":""},{"$f":"IF(D$1<>\"\",IF($A369<>\"\",COUNT(カテゴリースコア!N371),\"\"),\"\")","v":""},{"$f":"IF(E$1<>\"\",IF($A369<>\"\",COUNT(カテゴリースコア!O371),\"\"),\"\")","v":""},{"$f":"IF(F$1<>\"\",IF($A369<>\"\",COUNT(カテゴリースコア!P371),\"\"),\"\")","v":""},{"$f":"IF(G$1<>\"\",IF($A369<>\"\",COUNT(カテゴリースコア!Q371),\"\"),\"\")","v":""},{"$f":"IF(H$1<>\"\",IF($A369<>\"\",COUNT(カテゴリースコア!R371),\"\"),\"\")","v":""},{"$f":"IF(I$1<>\"\",IF($A369<>\"\",COUNT(カテゴリースコア!S371),\"\"),\"\")","v":""},{"$f":"IF(J$1<>\"\",IF($A369<>\"\",COUNT(カテゴリースコア!T371),\"\"),\"\")","v":""},{"$f":"IF(K$1<>\"\",IF($A369<>\"\",COUNT(カテゴリースコア!U371),\"\"),\"\")","v":""}]
[{"$f":"IF(データセット1!C370<>\"\",データセット1!C370,\"\")","v":""},{"$f":"IF(データセット1!C370<>\"\",データセット1!D370-カテゴリースコア!$E$11,\"\")","v":""},{"$f":"IF(C$1<>\"\",IF($A370<>\"\",COUNT(カテゴリースコア!M372),\"\"),\"\")","v":""},{"$f":"IF(D$1<>\"\",IF($A370<>\"\",COUNT(カテゴリースコア!N372),\"\"),\"\")","v":""},{"$f":"IF(E$1<>\"\",IF($A370<>\"\",COUNT(カテゴリースコア!O372),\"\"),\"\")","v":""},{"$f":"IF(F$1<>\"\",IF($A370<>\"\",COUNT(カテゴリースコア!P372),\"\"),\"\")","v":""},{"$f":"IF(G$1<>\"\",IF($A370<>\"\",COUNT(カテゴリースコア!Q372),\"\"),\"\")","v":""},{"$f":"IF(H$1<>\"\",IF($A370<>\"\",COUNT(カテゴリースコア!R372),\"\"),\"\")","v":""},{"$f":"IF(I$1<>\"\",IF($A370<>\"\",COUNT(カテゴリースコア!S372),\"\"),\"\")","v":""},{"$f":"IF(J$1<>\"\",IF($A370<>\"\",COUNT(カテゴリースコア!T372),\"\"),\"\")","v":""},{"$f":"IF(K$1<>\"\",IF($A370<>\"\",COUNT(カテゴリースコア!U372),\"\"),\"\")","v":""}]
[{"$f":"IF(データセット1!C371<>\"\",データセット1!C371,\"\")","v":""},{"$f":"IF(データセット1!C371<>\"\",データセット1!D371-カテゴリースコア!$E$11,\"\")","v":""},{"$f":"IF(C$1<>\"\",IF($A371<>\"\",COUNT(カテゴリースコア!M373),\"\"),\"\")","v":""},{"$f":"IF(D$1<>\"\",IF($A371<>\"\",COUNT(カテゴリースコア!N373),\"\"),\"\")","v":""},{"$f":"IF(E$1<>\"\",IF($A371<>\"\",COUNT(カテゴリースコア!O373),\"\"),\"\")","v":""},{"$f":"IF(F$1<>\"\",IF($A371<>\"\",COUNT(カテゴリースコア!P373),\"\"),\"\")","v":""},{"$f":"IF(G$1<>\"\",IF($A371<>\"\",COUNT(カテゴリースコア!Q373),\"\"),\"\")","v":""},{"$f":"IF(H$1<>\"\",IF($A371<>\"\",COUNT(カテゴリースコア!R373),\"\"),\"\")","v":""},{"$f":"IF(I$1<>\"\",IF($A371<>\"\",COUNT(カテゴリースコア!S373),\"\"),\"\")","v":""},{"$f":"IF(J$1<>\"\",IF($A371<>\"\",COUNT(カテゴリースコア!T373),\"\"),\"\")","v":""},{"$f":"IF(K$1<>\"\",IF($A371<>\"\",COUNT(カテゴリースコア!U373),\"\"),\"\")","v":""}]
[{"$f":"IF(データセット1!C372<>\"\",データセット1!C372,\"\")","v":""},{"$f":"IF(データセット1!C372<>\"\",データセット1!D372-カテゴリースコア!$E$11,\"\")","v":""},{"$f":"IF(C$1<>\"\",IF($A372<>\"\",COUNT(カテゴリースコア!M374),\"\"),\"\")","v":""},{"$f":"IF(D$1<>\"\",IF($A372<>\"\",COUNT(カテゴリースコア!N374),\"\"),\"\")","v":""},{"$f":"IF(E$1<>\"\",IF($A372<>\"\",COUNT(カテゴリースコア!O374),\"\"),\"\")","v":""},{"$f":"IF(F$1<>\"\",IF($A372<>\"\",COUNT(カテゴリースコア!P374),\"\"),\"\")","v":""},{"$f":"IF(G$1<>\"\",IF($A372<>\"\",COUNT(カテゴリースコア!Q374),\"\"),\"\")","v":""},{"$f":"IF(H$1<>\"\",IF($A372<>\"\",COUNT(カテゴリースコア!R374),\"\"),\"\")","v":""},{"$f":"IF(I$1<>\"\",IF($A372<>\"\",COUNT(カテゴリースコア!S374),\"\"),\"\")","v":""},{"$f":"IF(J$1<>\"\",IF($A372<>\"\",COUNT(カテゴリースコア!T374),\"\"),\"\")","v":""},{"$f":"IF(K$1<>\"\",IF($A372<>\"\",COUNT(カテゴリースコア!U374),\"\"),\"\")","v":""}]
[{"$f":"IF(データセット1!C373<>\"\",データセット1!C373,\"\")","v":""},{"$f":"IF(データセット1!C373<>\"\",データセット1!D373-カテゴリースコア!$E$11,\"\")","v":""},{"$f":"IF(C$1<>\"\",IF($A373<>\"\",COUNT(カテゴリースコア!M375),\"\"),\"\")","v":""},{"$f":"IF(D$1<>\"\",IF($A373<>\"\",COUNT(カテゴリースコア!N375),\"\"),\"\")","v":""},{"$f":"IF(E$1<>\"\",IF($A373<>\"\",COUNT(カテゴリースコア!O375),\"\"),\"\")","v":""},{"$f":"IF(F$1<>\"\",IF($A373<>\"\",COUNT(カテゴリースコア!P375),\"\"),\"\")","v":""},{"$f":"IF(G$1<>\"\",IF($A373<>\"\",COUNT(カテゴリースコア!Q375),\"\"),\"\")","v":""},{"$f":"IF(H$1<>\"\",IF($A373<>\"\",COUNT(カテゴリースコア!R375),\"\"),\"\")","v":""},{"$f":"IF(I$1<>\"\",IF($A373<>\"\",COUNT(カテゴリースコア!S375),\"\"),\"\")","v":""},{"$f":"IF(J$1<>\"\",IF($A373<>\"\",COUNT(カテゴリースコア!T375),\"\"),\"\")","v":""},{"$f":"IF(K$1<>\"\",IF($A373<>\"\",COUNT(カテゴリースコア!U375),\"\"),\"\")","v":""}]
[{"$f":"IF(データセット1!C374<>\"\",データセット1!C374,\"\")","v":""},{"$f":"IF(データセット1!C374<>\"\",データセット1!D374-カテゴリースコア!$E$11,\"\")","v":""},{"$f":"IF(C$1<>\"\",IF($A374<>\"\",COUNT(カテゴリースコア!M376),\"\"),\"\")","v":""},{"$f":"IF(D$1<>\"\",IF($A374<>\"\",COUNT(カテゴリースコア!N376),\"\"),\"\")","v":""},{"$f":"IF(E$1<>\"\",IF($A374<>\"\",COUNT(カテゴリースコア!O376),\"\"),\"\")","v":""},{"$f":"IF(F$1<>\"\",IF($A374<>\"\",COUNT(カテゴリースコア!P376),\"\"),\"\")","v":""},{"$f":"IF(G$1<>\"\",IF($A374<>\"\",COUNT(カテゴリースコア!Q376),\"\"),\"\")","v":""},{"$f":"IF(H$1<>\"\",IF($A374<>\"\",COUNT(カテゴリースコア!R376),\"\"),\"\")","v":""},{"$f":"IF(I$1<>\"\",IF($A374<>\"\",COUNT(カテゴリースコア!S376),\"\"),\"\")","v":""},{"$f":"IF(J$1<>\"\",IF($A374<>\"\",COUNT(カテゴリースコア!T376),\"\"),\"\")","v":""},{"$f":"IF(K$1<>\"\",IF($A374<>\"\",COUNT(カテゴリースコア!U376),\"\"),\"\")","v":""}]
[{"$f":"IF(データセット1!C375<>\"\",データセット1!C375,\"\")","v":""},{"$f":"IF(データセット1!C375<>\"\",データセット1!D375-カテゴリースコア!$E$11,\"\")","v":""},{"$f":"IF(C$1<>\"\",IF($A375<>\"\",COUNT(カテゴリースコア!M377),\"\"),\"\")","v":""},{"$f":"IF(D$1<>\"\",IF($A375<>\"\",COUNT(カテゴリースコア!N377),\"\"),\"\")","v":""},{"$f":"IF(E$1<>\"\",IF($A375<>\"\",COUNT(カテゴリースコア!O377),\"\"),\"\")","v":""},{"$f":"IF(F$1<>\"\",IF($A375<>\"\",COUNT(カテゴリースコア!P377),\"\"),\"\")","v":""},{"$f":"IF(G$1<>\"\",IF($A375<>\"\",COUNT(カテゴリースコア!Q377),\"\"),\"\")","v":""},{"$f":"IF(H$1<>\"\",IF($A375<>\"\",COUNT(カテゴリースコア!R377),\"\"),\"\")","v":""},{"$f":"IF(I$1<>\"\",IF($A375<>\"\",COUNT(カテゴリースコア!S377),\"\"),\"\")","v":""},{"$f":"IF(J$1<>\"\",IF($A375<>\"\",COUNT(カテゴリースコア!T377),\"\"),\"\")","v":""},{"$f":"IF(K$1<>\"\",IF($A375<>\"\",COUNT(カテゴリースコア!U377),\"\"),\"\")","v":""}]
[{"$f":"IF(データセット1!C376<>\"\",データセット1!C376,\"\")","v":""},{"$f":"IF(データセット1!C376<>\"\",データセット1!D376-カテゴリースコア!$E$11,\"\")","v":""},{"$f":"IF(C$1<>\"\",IF($A376<>\"\",COUNT(カテゴリースコア!M378),\"\"),\"\")","v":""},{"$f":"IF(D$1<>\"\",IF($A376<>\"\",COUNT(カテゴリースコア!N378),\"\"),\"\")","v":""},{"$f":"IF(E$1<>\"\",IF($A376<>\"\",COUNT(カテゴリースコア!O378),\"\"),\"\")","v":""},{"$f":"IF(F$1<>\"\",IF($A376<>\"\",COUNT(カテゴリースコア!P378),\"\"),\"\")","v":""},{"$f":"IF(G$1<>\"\",IF($A376<>\"\",COUNT(カテゴリースコア!Q378),\"\"),\"\")","v":""},{"$f":"IF(H$1<>\"\",IF($A376<>\"\",COUNT(カテゴリースコア!R378),\"\"),\"\")","v":""},{"$f":"IF(I$1<>\"\",IF($A376<>\"\",COUNT(カテゴリースコア!S378),\"\"),\"\")","v":""},{"$f":"IF(J$1<>\"\",IF($A376<>\"\",COUNT(カテゴリースコア!T378),\"\"),\"\")","v":""},{"$f":"IF(K$1<>\"\",IF($A376<>\"\",COUNT(カテゴリースコア!U378),\"\"),\"\")","v":""}]
[{"$f":"IF(データセット1!C377<>\"\",データセット1!C377,\"\")","v":""},{"$f":"IF(データセット1!C377<>\"\",データセット1!D377-カテゴリースコア!$E$11,\"\")","v":""},{"$f":"IF(C$1<>\"\",IF($A377<>\"\",COUNT(カテゴリースコア!M379),\"\"),\"\")","v":""},{"$f":"IF(D$1<>\"\",IF($A377<>\"\",COUNT(カテゴリースコア!N379),\"\"),\"\")","v":""},{"$f":"IF(E$1<>\"\",IF($A377<>\"\",COUNT(カテゴリースコア!O379),\"\"),\"\")","v":""},{"$f":"IF(F$1<>\"\",IF($A377<>\"\",COUNT(カテゴリースコア!P379),\"\"),\"\")","v":""},{"$f":"IF(G$1<>\"\",IF($A377<>\"\",COUNT(カテゴリースコア!Q379),\"\"),\"\")","v":""},{"$f":"IF(H$1<>\"\",IF($A377<>\"\",COUNT(カテゴリースコア!R379),\"\"),\"\")","v":""},{"$f":"IF(I$1<>\"\",IF($A377<>\"\",COUNT(カテゴリースコア!S379),\"\"),\"\")","v":""},{"$f":"IF(J$1<>\"\",IF($A377<>\"\",COUNT(カテゴリースコア!T379),\"\"),\"\")","v":""},{"$f":"IF(K$1<>\"\",IF($A377<>\"\",COUNT(カテゴリースコア!U379),\"\"),\"\")","v":""}]
[{"$f":"IF(データセット1!C378<>\"\",データセット1!C378,\"\")","v":""},{"$f":"IF(データセット1!C378<>\"\",データセット1!D378-カテゴリースコア!$E$11,\"\")","v":""},{"$f":"IF(C$1<>\"\",IF($A378<>\"\",COUNT(カテゴリースコア!M380),\"\"),\"\")","v":""},{"$f":"IF(D$1<>\"\",IF($A378<>\"\",COUNT(カテゴリースコア!N380),\"\"),\"\")","v":""},{"$f":"IF(E$1<>\"\",IF($A378<>\"\",COUNT(カテゴリースコア!O380),\"\"),\"\")","v":""},{"$f":"IF(F$1<>\"\",IF($A378<>\"\",COUNT(カテゴリースコア!P380),\"\"),\"\")","v":""},{"$f":"IF(G$1<>\"\",IF($A378<>\"\",COUNT(カテゴリースコア!Q380),\"\"),\"\")","v":""},{"$f":"IF(H$1<>\"\",IF($A378<>\"\",COUNT(カテゴリースコア!R380),\"\"),\"\")","v":""},{"$f":"IF(I$1<>\"\",IF($A378<>\"\",COUNT(カテゴリースコア!S380),\"\"),\"\")","v":""},{"$f":"IF(J$1<>\"\",IF($A378<>\"\",COUNT(カテゴリースコア!T380),\"\"),\"\")","v":""},{"$f":"IF(K$1<>\"\",IF($A378<>\"\",COUNT(カテゴリースコア!U380),\"\"),\"\")","v":""}]
[{"$f":"IF(データセット1!C379<>\"\",データセット1!C379,\"\")","v":""},{"$f":"IF(データセット1!C379<>\"\",データセット1!D379-カテゴリースコア!$E$11,\"\")","v":""},{"$f":"IF(C$1<>\"\",IF($A379<>\"\",COUNT(カテゴリースコア!M381),\"\"),\"\")","v":""},{"$f":"IF(D$1<>\"\",IF($A379<>\"\",COUNT(カテゴリースコア!N381),\"\"),\"\")","v":""},{"$f":"IF(E$1<>\"\",IF($A379<>\"\",COUNT(カテゴリースコア!O381),\"\"),\"\")","v":""},{"$f":"IF(F$1<>\"\",IF($A379<>\"\",COUNT(カテゴリースコア!P381),\"\"),\"\")","v":""},{"$f":"IF(G$1<>\"\",IF($A379<>\"\",COUNT(カテゴリースコア!Q381),\"\"),\"\")","v":""},{"$f":"IF(H$1<>\"\",IF($A379<>\"\",COUNT(カテゴリースコア!R381),\"\"),\"\")","v":""},{"$f":"IF(I$1<>\"\",IF($A379<>\"\",COUNT(カテゴリースコア!S381),\"\"),\"\")","v":""},{"$f":"IF(J$1<>\"\",IF($A379<>\"\",COUNT(カテゴリースコア!T381),\"\"),\"\")","v":""},{"$f":"IF(K$1<>\"\",IF($A379<>\"\",COUNT(カテゴリースコア!U381),\"\"),\"\")","v":""}]
[{"$f":"IF(データセット1!C380<>\"\",データセット1!C380,\"\")","v":""},{"$f":"IF(データセット1!C380<>\"\",データセット1!D380-カテゴリースコア!$E$11,\"\")","v":""},{"$f":"IF(C$1<>\"\",IF($A380<>\"\",COUNT(カテゴリースコア!M382),\"\"),\"\")","v":""},{"$f":"IF(D$1<>\"\",IF($A380<>\"\",COUNT(カテゴリースコア!N382),\"\"),\"\")","v":""},{"$f":"IF(E$1<>\"\",IF($A380<>\"\",COUNT(カテゴリースコア!O382),\"\"),\"\")","v":""},{"$f":"IF(F$1<>\"\",IF($A380<>\"\",COUNT(カテゴリースコア!P382),\"\"),\"\")","v":""},{"$f":"IF(G$1<>\"\",IF($A380<>\"\",COUNT(カテゴリースコア!Q382),\"\"),\"\")","v":""},{"$f":"IF(H$1<>\"\",IF($A380<>\"\",COUNT(カテゴリースコア!R382),\"\"),\"\")","v":""},{"$f":"IF(I$1<>\"\",IF($A380<>\"\",COUNT(カテゴリースコア!S382),\"\"),\"\")","v":""},{"$f":"IF(J$1<>\"\",IF($A380<>\"\",COUNT(カテゴリースコア!T382),\"\"),\"\")","v":""},{"$f":"IF(K$1<>\"\",IF($A380<>\"\",COUNT(カテゴリースコア!U382),\"\"),\"\")","v":""}]
[{"$f":"IF(データセット1!C381<>\"\",データセット1!C381,\"\")","v":""},{"$f":"IF(データセット1!C381<>\"\",データセット1!D381-カテゴリースコア!$E$11,\"\")","v":""},{"$f":"IF(C$1<>\"\",IF($A381<>\"\",COUNT(カテゴリースコア!M383),\"\"),\"\")","v":""},{"$f":"IF(D$1<>\"\",IF($A381<>\"\",COUNT(カテゴリースコア!N383),\"\"),\"\")","v":""},{"$f":"IF(E$1<>\"\",IF($A381<>\"\",COUNT(カテゴリースコア!O383),\"\"),\"\")","v":""},{"$f":"IF(F$1<>\"\",IF($A381<>\"\",COUNT(カテゴリースコア!P383),\"\"),\"\")","v":""},{"$f":"IF(G$1<>\"\",IF($A381<>\"\",COUNT(カテゴリースコア!Q383),\"\"),\"\")","v":""},{"$f":"IF(H$1<>\"\",IF($A381<>\"\",COUNT(カテゴリースコア!R383),\"\"),\"\")","v":""},{"$f":"IF(I$1<>\"\",IF($A381<>\"\",COUNT(カテゴリースコア!S383),\"\"),\"\")","v":""},{"$f":"IF(J$1<>\"\",IF($A381<>\"\",COUNT(カテゴリースコア!T383),\"\"),\"\")","v":""},{"$f":"IF(K$1<>\"\",IF($A381<>\"\",COUNT(カテゴリースコア!U383),\"\"),\"\")","v":""}]
[{"$f":"IF(データセット1!C382<>\"\",データセット1!C382,\"\")","v":""},{"$f":"IF(データセット1!C382<>\"\",データセット1!D382-カテゴリースコア!$E$11,\"\")","v":""},{"$f":"IF(C$1<>\"\",IF($A382<>\"\",COUNT(カテゴリースコア!M384),\"\"),\"\")","v":""},{"$f":"IF(D$1<>\"\",IF($A382<>\"\",COUNT(カテゴリースコア!N384),\"\"),\"\")","v":""},{"$f":"IF(E$1<>\"\",IF($A382<>\"\",COUNT(カテゴリースコア!O384),\"\"),\"\")","v":""},{"$f":"IF(F$1<>\"\",IF($A382<>\"\",COUNT(カテゴリースコア!P384),\"\"),\"\")","v":""},{"$f":"IF(G$1<>\"\",IF($A382<>\"\",COUNT(カテゴリースコア!Q384),\"\"),\"\")","v":""},{"$f":"IF(H$1<>\"\",IF($A382<>\"\",COUNT(カテゴリースコア!R384),\"\"),\"\")","v":""},{"$f":"IF(I$1<>\"\",IF($A382<>\"\",COUNT(カテゴリースコア!S384),\"\"),\"\")","v":""},{"$f":"IF(J$1<>\"\",IF($A382<>\"\",COUNT(カテゴリースコア!T384),\"\"),\"\")","v":""},{"$f":"IF(K$1<>\"\",IF($A382<>\"\",COUNT(カテゴリースコア!U384),\"\"),\"\")","v":""}]
[{"$f":"IF(データセット1!C383<>\"\",データセット1!C383,\"\")","v":""},{"$f":"IF(データセット1!C383<>\"\",データセット1!D383-カテゴリースコア!$E$11,\"\")","v":""},{"$f":"IF(C$1<>\"\",IF($A383<>\"\",COUNT(カテゴリースコア!M385),\"\"),\"\")","v":""},{"$f":"IF(D$1<>\"\",IF($A383<>\"\",COUNT(カテゴリースコア!N385),\"\"),\"\")","v":""},{"$f":"IF(E$1<>\"\",IF($A383<>\"\",COUNT(カテゴリースコア!O385),\"\"),\"\")","v":""},{"$f":"IF(F$1<>\"\",IF($A383<>\"\",COUNT(カテゴリースコア!P385),\"\"),\"\")","v":""},{"$f":"IF(G$1<>\"\",IF($A383<>\"\",COUNT(カテゴリースコア!Q385),\"\"),\"\")","v":""},{"$f":"IF(H$1<>\"\",IF($A383<>\"\",COUNT(カテゴリースコア!R385),\"\"),\"\")","v":""},{"$f":"IF(I$1<>\"\",IF($A383<>\"\",COUNT(カテゴリースコア!S385),\"\"),\"\")","v":""},{"$f":"IF(J$1<>\"\",IF($A383<>\"\",COUNT(カテゴリースコア!T385),\"\"),\"\")","v":""},{"$f":"IF(K$1<>\"\",IF($A383<>\"\",COUNT(カテゴリースコア!U385),\"\"),\"\")","v":""}]
[{"$f":"IF(データセット1!C384<>\"\",データセット1!C384,\"\")","v":""},{"$f":"IF(データセット1!C384<>\"\",データセット1!D384-カテゴリースコア!$E$11,\"\")","v":""},{"$f":"IF(C$1<>\"\",IF($A384<>\"\",COUNT(カテゴリースコア!M386),\"\"),\"\")","v":""},{"$f":"IF(D$1<>\"\",IF($A384<>\"\",COUNT(カテゴリースコア!N386),\"\"),\"\")","v":""},{"$f":"IF(E$1<>\"\",IF($A384<>\"\",COUNT(カテゴリースコア!O386),\"\"),\"\")","v":""},{"$f":"IF(F$1<>\"\",IF($A384<>\"\",COUNT(カテゴリースコア!P386),\"\"),\"\")","v":""},{"$f":"IF(G$1<>\"\",IF($A384<>\"\",COUNT(カテゴリースコア!Q386),\"\"),\"\")","v":""},{"$f":"IF(H$1<>\"\",IF($A384<>\"\",COUNT(カテゴリースコア!R386),\"\"),\"\")","v":""},{"$f":"IF(I$1<>\"\",IF($A384<>\"\",COUNT(カテゴリースコア!S386),\"\"),\"\")","v":""},{"$f":"IF(J$1<>\"\",IF($A384<>\"\",COUNT(カテゴリースコア!T386),\"\"),\"\")","v":""},{"$f":"IF(K$1<>\"\",IF($A384<>\"\",COUNT(カテゴリースコア!U386),\"\"),\"\")","v":""}]
[{"$f":"IF(データセット1!C385<>\"\",データセット1!C385,\"\")","v":""},{"$f":"IF(データセット1!C385<>\"\",データセット1!D385-カテゴリースコア!$E$11,\"\")","v":""},{"$f":"IF(C$1<>\"\",IF($A385<>\"\",COUNT(カテゴリースコア!M387),\"\"),\"\")","v":""},{"$f":"IF(D$1<>\"\",IF($A385<>\"\",COUNT(カテゴリースコア!N387),\"\"),\"\")","v":""},{"$f":"IF(E$1<>\"\",IF($A385<>\"\",COUNT(カテゴリースコア!O387),\"\"),\"\")","v":""},{"$f":"IF(F$1<>\"\",IF($A385<>\"\",COUNT(カテゴリースコア!P387),\"\"),\"\")","v":""},{"$f":"IF(G$1<>\"\",IF($A385<>\"\",COUNT(カテゴリースコア!Q387),\"\"),\"\")","v":""},{"$f":"IF(H$1<>\"\",IF($A385<>\"\",COUNT(カテゴリースコア!R387),\"\"),\"\")","v":""},{"$f":"IF(I$1<>\"\",IF($A385<>\"\",COUNT(カテゴリースコア!S387),\"\"),\"\")","v":""},{"$f":"IF(J$1<>\"\",IF($A385<>\"\",COUNT(カテゴリースコア!T387),\"\"),\"\")","v":""},{"$f":"IF(K$1<>\"\",IF($A385<>\"\",COUNT(カテゴリースコア!U387),\"\"),\"\")","v":""}]
[{"$f":"IF(データセット1!C386<>\"\",データセット1!C386,\"\")","v":""},{"$f":"IF(データセット1!C386<>\"\",データセット1!D386-カテゴリースコア!$E$11,\"\")","v":""},{"$f":"IF(C$1<>\"\",IF($A386<>\"\",COUNT(カテゴリースコア!M388),\"\"),\"\")","v":""},{"$f":"IF(D$1<>\"\",IF($A386<>\"\",COUNT(カテゴリースコア!N388),\"\"),\"\")","v":""},{"$f":"IF(E$1<>\"\",IF($A386<>\"\",COUNT(カテゴリースコア!O388),\"\"),\"\")","v":""},{"$f":"IF(F$1<>\"\",IF($A386<>\"\",COUNT(カテゴリースコア!P388),\"\"),\"\")","v":""},{"$f":"IF(G$1<>\"\",IF($A386<>\"\",COUNT(カテゴリースコア!Q388),\"\"),\"\")","v":""},{"$f":"IF(H$1<>\"\",IF($A386<>\"\",COUNT(カテゴリースコア!R388),\"\"),\"\")","v":""},{"$f":"IF(I$1<>\"\",IF($A386<>\"\",COUNT(カテゴリースコア!S388),\"\"),\"\")","v":""},{"$f":"IF(J$1<>\"\",IF($A386<>\"\",COUNT(カテゴリースコア!T388),\"\"),\"\")","v":""},{"$f":"IF(K$1<>\"\",IF($A386<>\"\",COUNT(カテゴリースコア!U388),\"\"),\"\")","v":""}]
[{"$f":"IF(データセット1!C387<>\"\",データセット1!C387,\"\")","v":""},{"$f":"IF(データセット1!C387<>\"\",データセット1!D387-カテゴリースコア!$E$11,\"\")","v":""},{"$f":"IF(C$1<>\"\",IF($A387<>\"\",COUNT(カテゴリースコア!M389),\"\"),\"\")","v":""},{"$f":"IF(D$1<>\"\",IF($A387<>\"\",COUNT(カテゴリースコア!N389),\"\"),\"\")","v":""},{"$f":"IF(E$1<>\"\",IF($A387<>\"\",COUNT(カテゴリースコア!O389),\"\"),\"\")","v":""},{"$f":"IF(F$1<>\"\",IF($A387<>\"\",COUNT(カテゴリースコア!P389),\"\"),\"\")","v":""},{"$f":"IF(G$1<>\"\",IF($A387<>\"\",COUNT(カテゴリースコア!Q389),\"\"),\"\")","v":""},{"$f":"IF(H$1<>\"\",IF($A387<>\"\",COUNT(カテゴリースコア!R389),\"\"),\"\")","v":""},{"$f":"IF(I$1<>\"\",IF($A387<>\"\",COUNT(カテゴリースコア!S389),\"\"),\"\")","v":""},{"$f":"IF(J$1<>\"\",IF($A387<>\"\",COUNT(カテゴリースコア!T389),\"\"),\"\")","v":""},{"$f":"IF(K$1<>\"\",IF($A387<>\"\",COUNT(カテゴリースコア!U389),\"\"),\"\")","v":""}]
[{"$f":"IF(データセット1!C388<>\"\",データセット1!C388,\"\")","v":""},{"$f":"IF(データセット1!C388<>\"\",データセット1!D388-カテゴリースコア!$E$11,\"\")","v":""},{"$f":"IF(C$1<>\"\",IF($A388<>\"\",COUNT(カテゴリースコア!M390),\"\"),\"\")","v":""},{"$f":"IF(D$1<>\"\",IF($A388<>\"\",COUNT(カテゴリースコア!N390),\"\"),\"\")","v":""},{"$f":"IF(E$1<>\"\",IF($A388<>\"\",COUNT(カテゴリースコア!O390),\"\"),\"\")","v":""},{"$f":"IF(F$1<>\"\",IF($A388<>\"\",COUNT(カテゴリースコア!P390),\"\"),\"\")","v":""},{"$f":"IF(G$1<>\"\",IF($A388<>\"\",COUNT(カテゴリースコア!Q390),\"\"),\"\")","v":""},{"$f":"IF(H$1<>\"\",IF($A388<>\"\",COUNT(カテゴリースコア!R390),\"\"),\"\")","v":""},{"$f":"IF(I$1<>\"\",IF($A388<>\"\",COUNT(カテゴリースコア!S390),\"\"),\"\")","v":""},{"$f":"IF(J$1<>\"\",IF($A388<>\"\",COUNT(カテゴリースコア!T390),\"\"),\"\")","v":""},{"$f":"IF(K$1<>\"\",IF($A388<>\"\",COUNT(カテゴリースコア!U390),\"\"),\"\")","v":""}]
[{"$f":"IF(データセット1!C389<>\"\",データセット1!C389,\"\")","v":""},{"$f":"IF(データセット1!C389<>\"\",データセット1!D389-カテゴリースコア!$E$11,\"\")","v":""},{"$f":"IF(C$1<>\"\",IF($A389<>\"\",COUNT(カテゴリースコア!M391),\"\"),\"\")","v":""},{"$f":"IF(D$1<>\"\",IF($A389<>\"\",COUNT(カテゴリースコア!N391),\"\"),\"\")","v":""},{"$f":"IF(E$1<>\"\",IF($A389<>\"\",COUNT(カテゴリースコア!O391),\"\"),\"\")","v":""},{"$f":"IF(F$1<>\"\",IF($A389<>\"\",COUNT(カテゴリースコア!P391),\"\"),\"\")","v":""},{"$f":"IF(G$1<>\"\",IF($A389<>\"\",COUNT(カテゴリースコア!Q391),\"\"),\"\")","v":""},{"$f":"IF(H$1<>\"\",IF($A389<>\"\",COUNT(カテゴリースコア!R391),\"\"),\"\")","v":""},{"$f":"IF(I$1<>\"\",IF($A389<>\"\",COUNT(カテゴリースコア!S391),\"\"),\"\")","v":""},{"$f":"IF(J$1<>\"\",IF($A389<>\"\",COUNT(カテゴリースコア!T391),\"\"),\"\")","v":""},{"$f":"IF(K$1<>\"\",IF($A389<>\"\",COUNT(カテゴリースコア!U391),\"\"),\"\")","v":""}]
[{"$f":"IF(データセット1!C390<>\"\",データセット1!C390,\"\")","v":""},{"$f":"IF(データセット1!C390<>\"\",データセット1!D390-カテゴリースコア!$E$11,\"\")","v":""},{"$f":"IF(C$1<>\"\",IF($A390<>\"\",COUNT(カテゴリースコア!M392),\"\"),\"\")","v":""},{"$f":"IF(D$1<>\"\",IF($A390<>\"\",COUNT(カテゴリースコア!N392),\"\"),\"\")","v":""},{"$f":"IF(E$1<>\"\",IF($A390<>\"\",COUNT(カテゴリースコア!O392),\"\"),\"\")","v":""},{"$f":"IF(F$1<>\"\",IF($A390<>\"\",COUNT(カテゴリースコア!P392),\"\"),\"\")","v":""},{"$f":"IF(G$1<>\"\",IF($A390<>\"\",COUNT(カテゴリースコア!Q392),\"\"),\"\")","v":""},{"$f":"IF(H$1<>\"\",IF($A390<>\"\",COUNT(カテゴリースコア!R392),\"\"),\"\")","v":""},{"$f":"IF(I$1<>\"\",IF($A390<>\"\",COUNT(カテゴリースコア!S392),\"\"),\"\")","v":""},{"$f":"IF(J$1<>\"\",IF($A390<>\"\",COUNT(カテゴリースコア!T392),\"\"),\"\")","v":""},{"$f":"IF(K$1<>\"\",IF($A390<>\"\",COUNT(カテゴリースコア!U392),\"\"),\"\")","v":""}]
[{"$f":"IF(データセット1!C391<>\"\",データセット1!C391,\"\")","v":""},{"$f":"IF(データセット1!C391<>\"\",データセット1!D391-カテゴリースコア!$E$11,\"\")","v":""},{"$f":"IF(C$1<>\"\",IF($A391<>\"\",COUNT(カテゴリースコア!M393),\"\"),\"\")","v":""},{"$f":"IF(D$1<>\"\",IF($A391<>\"\",COUNT(カテゴリースコア!N393),\"\"),\"\")","v":""},{"$f":"IF(E$1<>\"\",IF($A391<>\"\",COUNT(カテゴリースコア!O393),\"\"),\"\")","v":""},{"$f":"IF(F$1<>\"\",IF($A391<>\"\",COUNT(カテゴリースコア!P393),\"\"),\"\")","v":""},{"$f":"IF(G$1<>\"\",IF($A391<>\"\",COUNT(カテゴリースコア!Q393),\"\"),\"\")","v":""},{"$f":"IF(H$1<>\"\",IF($A391<>\"\",COUNT(カテゴリースコア!R393),\"\"),\"\")","v":""},{"$f":"IF(I$1<>\"\",IF($A391<>\"\",COUNT(カテゴリースコア!S393),\"\"),\"\")","v":""},{"$f":"IF(J$1<>\"\",IF($A391<>\"\",COUNT(カテゴリースコア!T393),\"\"),\"\")","v":""},{"$f":"IF(K$1<>\"\",IF($A391<>\"\",COUNT(カテゴリースコア!U393),\"\"),\"\")","v":""}]
[{"$f":"IF(データセット1!C392<>\"\",データセット1!C392,\"\")","v":""},{"$f":"IF(データセット1!C392<>\"\",データセット1!D392-カテゴリースコア!$E$11,\"\")","v":""},{"$f":"IF(C$1<>\"\",IF($A392<>\"\",COUNT(カテゴリースコア!M394),\"\"),\"\")","v":""},{"$f":"IF(D$1<>\"\",IF($A392<>\"\",COUNT(カテゴリースコア!N394),\"\"),\"\")","v":""},{"$f":"IF(E$1<>\"\",IF($A392<>\"\",COUNT(カテゴリースコア!O394),\"\"),\"\")","v":""},{"$f":"IF(F$1<>\"\",IF($A392<>\"\",COUNT(カテゴリースコア!P394),\"\"),\"\")","v":""},{"$f":"IF(G$1<>\"\",IF($A392<>\"\",COUNT(カテゴリースコア!Q394),\"\"),\"\")","v":""},{"$f":"IF(H$1<>\"\",IF($A392<>\"\",COUNT(カテゴリースコア!R394),\"\"),\"\")","v":""},{"$f":"IF(I$1<>\"\",IF($A392<>\"\",COUNT(カテゴリースコア!S394),\"\"),\"\")","v":""},{"$f":"IF(J$1<>\"\",IF($A392<>\"\",COUNT(カテゴリースコア!T394),\"\"),\"\")","v":""},{"$f":"IF(K$1<>\"\",IF($A392<>\"\",COUNT(カテゴリースコア!U394),\"\"),\"\")","v":""}]
[{"$f":"IF(データセット1!C393<>\"\",データセット1!C393,\"\")","v":""},{"$f":"IF(データセット1!C393<>\"\",データセット1!D393-カテゴリースコア!$E$11,\"\")","v":""},{"$f":"IF(C$1<>\"\",IF($A393<>\"\",COUNT(カテゴリースコア!M395),\"\"),\"\")","v":""},{"$f":"IF(D$1<>\"\",IF($A393<>\"\",COUNT(カテゴリースコア!N395),\"\"),\"\")","v":""},{"$f":"IF(E$1<>\"\",IF($A393<>\"\",COUNT(カテゴリースコア!O395),\"\"),\"\")","v":""},{"$f":"IF(F$1<>\"\",IF($A393<>\"\",COUNT(カテゴリースコア!P395),\"\"),\"\")","v":""},{"$f":"IF(G$1<>\"\",IF($A393<>\"\",COUNT(カテゴリースコア!Q395),\"\"),\"\")","v":""},{"$f":"IF(H$1<>\"\",IF($A393<>\"\",COUNT(カテゴリースコア!R395),\"\"),\"\")","v":""},{"$f":"IF(I$1<>\"\",IF($A393<>\"\",COUNT(カテゴリースコア!S395),\"\"),\"\")","v":""},{"$f":"IF(J$1<>\"\",IF($A393<>\"\",COUNT(カテゴリースコア!T395),\"\"),\"\")","v":""},{"$f":"IF(K$1<>\"\",IF($A393<>\"\",COUNT(カテゴリースコア!U395),\"\"),\"\")","v":""}]
[{"$f":"IF(データセット1!C394<>\"\",データセット1!C394,\"\")","v":""},{"$f":"IF(データセット1!C394<>\"\",データセット1!D394-カテゴリースコア!$E$11,\"\")","v":""},{"$f":"IF(C$1<>\"\",IF($A394<>\"\",COUNT(カテゴリースコア!M396),\"\"),\"\")","v":""},{"$f":"IF(D$1<>\"\",IF($A394<>\"\",COUNT(カテゴリースコア!N396),\"\"),\"\")","v":""},{"$f":"IF(E$1<>\"\",IF($A394<>\"\",COUNT(カテゴリースコア!O396),\"\"),\"\")","v":""},{"$f":"IF(F$1<>\"\",IF($A394<>\"\",COUNT(カテゴリースコア!P396),\"\"),\"\")","v":""},{"$f":"IF(G$1<>\"\",IF($A394<>\"\",COUNT(カテゴリースコア!Q396),\"\"),\"\")","v":""},{"$f":"IF(H$1<>\"\",IF($A394<>\"\",COUNT(カテゴリースコア!R396),\"\"),\"\")","v":""},{"$f":"IF(I$1<>\"\",IF($A394<>\"\",COUNT(カテゴリースコア!S396),\"\"),\"\")","v":""},{"$f":"IF(J$1<>\"\",IF($A394<>\"\",COUNT(カテゴリースコア!T396),\"\"),\"\")","v":""},{"$f":"IF(K$1<>\"\",IF($A394<>\"\",COUNT(カテゴリースコア!U396),\"\"),\"\")","v":""}]
[{"$f":"IF(データセット1!C395<>\"\",データセット1!C395,\"\")","v":""},{"$f":"IF(データセット1!C395<>\"\",データセット1!D395-カテゴリースコア!$E$11,\"\")","v":""},{"$f":"IF(C$1<>\"\",IF($A395<>\"\",COUNT(カテゴリースコア!M397),\"\"),\"\")","v":""},{"$f":"IF(D$1<>\"\",IF($A395<>\"\",COUNT(カテゴリースコア!N397),\"\"),\"\")","v":""},{"$f":"IF(E$1<>\"\",IF($A395<>\"\",COUNT(カテゴリースコア!O397),\"\"),\"\")","v":""},{"$f":"IF(F$1<>\"\",IF($A395<>\"\",COUNT(カテゴリースコア!P397),\"\"),\"\")","v":""},{"$f":"IF(G$1<>\"\",IF($A395<>\"\",COUNT(カテゴリースコア!Q397),\"\"),\"\")","v":""},{"$f":"IF(H$1<>\"\",IF($A395<>\"\",COUNT(カテゴリースコア!R397),\"\"),\"\")","v":""},{"$f":"IF(I$1<>\"\",IF($A395<>\"\",COUNT(カテゴリースコア!S397),\"\"),\"\")","v":""},{"$f":"IF(J$1<>\"\",IF($A395<>\"\",COUNT(カテゴリースコア!T397),\"\"),\"\")","v":""},{"$f":"IF(K$1<>\"\",IF($A395<>\"\",COUNT(カテゴリースコア!U397),\"\"),\"\")","v":""}]
[{"$f":"IF(データセット1!C396<>\"\",データセット1!C396,\"\")","v":""},{"$f":"IF(データセット1!C396<>\"\",データセット1!D396-カテゴリースコア!$E$11,\"\")","v":""},{"$f":"IF(C$1<>\"\",IF($A396<>\"\",COUNT(カテゴリースコア!M398),\"\"),\"\")","v":""},{"$f":"IF(D$1<>\"\",IF($A396<>\"\",COUNT(カテゴリースコア!N398),\"\"),\"\")","v":""},{"$f":"IF(E$1<>\"\",IF($A396<>\"\",COUNT(カテゴリースコア!O398),\"\"),\"\")","v":""},{"$f":"IF(F$1<>\"\",IF($A396<>\"\",COUNT(カテゴリースコア!P398),\"\"),\"\")","v":""},{"$f":"IF(G$1<>\"\",IF($A396<>\"\",COUNT(カテゴリースコア!Q398),\"\"),\"\")","v":""},{"$f":"IF(H$1<>\"\",IF($A396<>\"\",COUNT(カテゴリースコア!R398),\"\"),\"\")","v":""},{"$f":"IF(I$1<>\"\",IF($A396<>\"\",COUNT(カテゴリースコア!S398),\"\"),\"\")","v":""},{"$f":"IF(J$1<>\"\",IF($A396<>\"\",COUNT(カテゴリースコア!T398),\"\"),\"\")","v":""},{"$f":"IF(K$1<>\"\",IF($A396<>\"\",COUNT(カテゴリースコア!U398),\"\"),\"\")","v":""}]
[{"$f":"IF(データセット1!C397<>\"\",データセット1!C397,\"\")","v":""},{"$f":"IF(データセット1!C397<>\"\",データセット1!D397-カテゴリースコア!$E$11,\"\")","v":""},{"$f":"IF(C$1<>\"\",IF($A397<>\"\",COUNT(カテゴリースコア!M399),\"\"),\"\")","v":""},{"$f":"IF(D$1<>\"\",IF($A397<>\"\",COUNT(カテゴリースコア!N399),\"\"),\"\")","v":""},{"$f":"IF(E$1<>\"\",IF($A397<>\"\",COUNT(カテゴリースコア!O399),\"\"),\"\")","v":""},{"$f":"IF(F$1<>\"\",IF($A397<>\"\",COUNT(カテゴリースコア!P399),\"\"),\"\")","v":""},{"$f":"IF(G$1<>\"\",IF($A397<>\"\",COUNT(カテゴリースコア!Q399),\"\"),\"\")","v":""},{"$f":"IF(H$1<>\"\",IF($A397<>\"\",COUNT(カテゴリースコア!R399),\"\"),\"\")","v":""},{"$f":"IF(I$1<>\"\",IF($A397<>\"\",COUNT(カテゴリースコア!S399),\"\"),\"\")","v":""},{"$f":"IF(J$1<>\"\",IF($A397<>\"\",COUNT(カテゴリースコア!T399),\"\"),\"\")","v":""},{"$f":"IF(K$1<>\"\",IF($A397<>\"\",COUNT(カテゴリースコア!U399),\"\"),\"\")","v":""}]
[{"$f":"IF(データセット1!C398<>\"\",データセット1!C398,\"\")","v":""},{"$f":"IF(データセット1!C398<>\"\",データセット1!D398-カテゴリースコア!$E$11,\"\")","v":""},{"$f":"IF(C$1<>\"\",IF($A398<>\"\",COUNT(カテゴリースコア!M400),\"\"),\"\")","v":""},{"$f":"IF(D$1<>\"\",IF($A398<>\"\",COUNT(カテゴリースコア!N400),\"\"),\"\")","v":""},{"$f":"IF(E$1<>\"\",IF($A398<>\"\",COUNT(カテゴリースコア!O400),\"\"),\"\")","v":""},{"$f":"IF(F$1<>\"\",IF($A398<>\"\",COUNT(カテゴリースコア!P400),\"\"),\"\")","v":""},{"$f":"IF(G$1<>\"\",IF($A398<>\"\",COUNT(カテゴリースコア!Q400),\"\"),\"\")","v":""},{"$f":"IF(H$1<>\"\",IF($A398<>\"\",COUNT(カテゴリースコア!R400),\"\"),\"\")","v":""},{"$f":"IF(I$1<>\"\",IF($A398<>\"\",COUNT(カテゴリースコア!S400),\"\"),\"\")","v":""},{"$f":"IF(J$1<>\"\",IF($A398<>\"\",COUNT(カテゴリースコア!T400),\"\"),\"\")","v":""},{"$f":"IF(K$1<>\"\",IF($A398<>\"\",COUNT(カテゴリースコア!U400),\"\"),\"\")","v":""}]
[{"$f":"IF(データセット1!C399<>\"\",データセット1!C399,\"\")","v":""},{"$f":"IF(データセット1!C399<>\"\",データセット1!D399-カテゴリースコア!$E$11,\"\")","v":""},{"$f":"IF(C$1<>\"\",IF($A399<>\"\",COUNT(カテゴリースコア!M401),\"\"),\"\")","v":""},{"$f":"IF(D$1<>\"\",IF($A399<>\"\",COUNT(カテゴリースコア!N401),\"\"),\"\")","v":""},{"$f":"IF(E$1<>\"\",IF($A399<>\"\",COUNT(カテゴリースコア!O401),\"\"),\"\")","v":""},{"$f":"IF(F$1<>\"\",IF($A399<>\"\",COUNT(カテゴリースコア!P401),\"\"),\"\")","v":""},{"$f":"IF(G$1<>\"\",IF($A399<>\"\",COUNT(カテゴリースコア!Q401),\"\"),\"\")","v":""},{"$f":"IF(H$1<>\"\",IF($A399<>\"\",COUNT(カテゴリースコア!R401),\"\"),\"\")","v":""},{"$f":"IF(I$1<>\"\",IF($A399<>\"\",COUNT(カテゴリースコア!S401),\"\"),\"\")","v":""},{"$f":"IF(J$1<>\"\",IF($A399<>\"\",COUNT(カテゴリースコア!T401),\"\"),\"\")","v":""},{"$f":"IF(K$1<>\"\",IF($A399<>\"\",COUNT(カテゴリースコア!U401),\"\"),\"\")","v":""}]
[{"$f":"IF(データセット1!C400<>\"\",データセット1!C400,\"\")","v":""},{"$f":"IF(データセット1!C400<>\"\",データセット1!D400-カテゴリースコア!$E$11,\"\")","v":""},{"$f":"IF(C$1<>\"\",IF($A400<>\"\",COUNT(カテゴリースコア!M402),\"\"),\"\")","v":""},{"$f":"IF(D$1<>\"\",IF($A400<>\"\",COUNT(カテゴリースコア!N402),\"\"),\"\")","v":""},{"$f":"IF(E$1<>\"\",IF($A400<>\"\",COUNT(カテゴリースコア!O402),\"\"),\"\")","v":""},{"$f":"IF(F$1<>\"\",IF($A400<>\"\",COUNT(カテゴリースコア!P402),\"\"),\"\")","v":""},{"$f":"IF(G$1<>\"\",IF($A400<>\"\",COUNT(カテゴリースコア!Q402),\"\"),\"\")","v":""},{"$f":"IF(H$1<>\"\",IF($A400<>\"\",COUNT(カテゴリースコア!R402),\"\"),\"\")","v":""},{"$f":"IF(I$1<>\"\",IF($A400<>\"\",COUNT(カテゴリースコア!S402),\"\"),\"\")","v":""},{"$f":"IF(J$1<>\"\",IF($A400<>\"\",COUNT(カテゴリースコア!T402),\"\"),\"\")","v":""},{"$f":"IF(K$1<>\"\",IF($A400<>\"\",COUNT(カテゴリースコア!U402),\"\"),\"\")","v":""}]
[{"$f":"IF(データセット1!C401<>\"\",データセット1!C401,\"\")","v":""},{"$f":"IF(データセット1!C401<>\"\",データセット1!D401-カテゴリースコア!$E$11,\"\")","v":""},{"$f":"IF(C$1<>\"\",IF($A401<>\"\",COUNT(カテゴリースコア!M403),\"\"),\"\")","v":""},{"$f":"IF(D$1<>\"\",IF($A401<>\"\",COUNT(カテゴリースコア!N403),\"\"),\"\")","v":""},{"$f":"IF(E$1<>\"\",IF($A401<>\"\",COUNT(カテゴリースコア!O403),\"\"),\"\")","v":""},{"$f":"IF(F$1<>\"\",IF($A401<>\"\",COUNT(カテゴリースコア!P403),\"\"),\"\")","v":""},{"$f":"IF(G$1<>\"\",IF($A401<>\"\",COUNT(カテゴリースコア!Q403),\"\"),\"\")","v":""},{"$f":"IF(H$1<>\"\",IF($A401<>\"\",COUNT(カテゴリースコア!R403),\"\"),\"\")","v":""},{"$f":"IF(I$1<>\"\",IF($A401<>\"\",COUNT(カテゴリースコア!S403),\"\"),\"\")","v":""},{"$f":"IF(J$1<>\"\",IF($A401<>\"\",COUNT(カテゴリースコア!T403),\"\"),\"\")","v":""},{"$f":"IF(K$1<>\"\",IF($A401<>\"\",COUNT(カテゴリースコア!U403),\"\"),\"\")","v":""}]
[{"$f":"IF(データセット1!C402<>\"\",データセット1!C402,\"\")","v":""},{"$f":"IF(データセット1!C402<>\"\",データセット1!D402-カテゴリースコア!$E$11,\"\")","v":""},{"$f":"IF(C$1<>\"\",IF($A402<>\"\",COUNT(カテゴリースコア!M404),\"\"),\"\")","v":""},{"$f":"IF(D$1<>\"\",IF($A402<>\"\",COUNT(カテゴリースコア!N404),\"\"),\"\")","v":""},{"$f":"IF(E$1<>\"\",IF($A402<>\"\",COUNT(カテゴリースコア!O404),\"\"),\"\")","v":""},{"$f":"IF(F$1<>\"\",IF($A402<>\"\",COUNT(カテゴリースコア!P404),\"\"),\"\")","v":""},{"$f":"IF(G$1<>\"\",IF($A402<>\"\",COUNT(カテゴリースコア!Q404),\"\"),\"\")","v":""},{"$f":"IF(H$1<>\"\",IF($A402<>\"\",COUNT(カテゴリースコア!R404),\"\"),\"\")","v":""},{"$f":"IF(I$1<>\"\",IF($A402<>\"\",COUNT(カテゴリースコア!S404),\"\"),\"\")","v":""},{"$f":"IF(J$1<>\"\",IF($A402<>\"\",COUNT(カテゴリースコア!T404),\"\"),\"\")","v":""},{"$f":"IF(K$1<>\"\",IF($A402<>\"\",COUNT(カテゴリースコア!U404),\"\"),\"\")","v":""}]
[{"$f":"IF(データセット1!C403<>\"\",データセット1!C403,\"\")","v":""},{"$f":"IF(データセット1!C403<>\"\",データセット1!D403-カテゴリースコア!$E$11,\"\")","v":""},{"$f":"IF(C$1<>\"\",IF($A403<>\"\",COUNT(カテゴリースコア!M405),\"\"),\"\")","v":""},{"$f":"IF(D$1<>\"\",IF($A403<>\"\",COUNT(カテゴリースコア!N405),\"\"),\"\")","v":""},{"$f":"IF(E$1<>\"\",IF($A403<>\"\",COUNT(カテゴリースコア!O405),\"\"),\"\")","v":""},{"$f":"IF(F$1<>\"\",IF($A403<>\"\",COUNT(カテゴリースコア!P405),\"\"),\"\")","v":""},{"$f":"IF(G$1<>\"\",IF($A403<>\"\",COUNT(カテゴリースコア!Q405),\"\"),\"\")","v":""},{"$f":"IF(H$1<>\"\",IF($A403<>\"\",COUNT(カテゴリースコア!R405),\"\"),\"\")","v":""},{"$f":"IF(I$1<>\"\",IF($A403<>\"\",COUNT(カテゴリースコア!S405),\"\"),\"\")","v":""},{"$f":"IF(J$1<>\"\",IF($A403<>\"\",COUNT(カテゴリースコア!T405),\"\"),\"\")","v":""},{"$f":"IF(K$1<>\"\",IF($A403<>\"\",COUNT(カテゴリースコア!U405),\"\"),\"\")","v":""}]
[{"$f":"IF(データセット1!C404<>\"\",データセット1!C404,\"\")","v":""},{"$f":"IF(データセット1!C404<>\"\",データセット1!D404-カテゴリースコア!$E$11,\"\")","v":""},{"$f":"IF(C$1<>\"\",IF($A404<>\"\",COUNT(カテゴリースコア!M406),\"\"),\"\")","v":""},{"$f":"IF(D$1<>\"\",IF($A404<>\"\",COUNT(カテゴリースコア!N406),\"\"),\"\")","v":""},{"$f":"IF(E$1<>\"\",IF($A404<>\"\",COUNT(カテゴリースコア!O406),\"\"),\"\")","v":""},{"$f":"IF(F$1<>\"\",IF($A404<>\"\",COUNT(カテゴリースコア!P406),\"\"),\"\")","v":""},{"$f":"IF(G$1<>\"\",IF($A404<>\"\",COUNT(カテゴリースコア!Q406),\"\"),\"\")","v":""},{"$f":"IF(H$1<>\"\",IF($A404<>\"\",COUNT(カテゴリースコア!R406),\"\"),\"\")","v":""},{"$f":"IF(I$1<>\"\",IF($A404<>\"\",COUNT(カテゴリースコア!S406),\"\"),\"\")","v":""},{"$f":"IF(J$1<>\"\",IF($A404<>\"\",COUNT(カテゴリースコア!T406),\"\"),\"\")","v":""},{"$f":"IF(K$1<>\"\",IF($A404<>\"\",COUNT(カテゴリースコア!U406),\"\"),\"\")","v":""}]
[{"$f":"IF(データセット1!C405<>\"\",データセット1!C405,\"\")","v":""},{"$f":"IF(データセット1!C405<>\"\",データセット1!D405-カテゴリースコア!$E$11,\"\")","v":""},{"$f":"IF(C$1<>\"\",IF($A405<>\"\",COUNT(カテゴリースコア!M407),\"\"),\"\")","v":""},{"$f":"IF(D$1<>\"\",IF($A405<>\"\",COUNT(カテゴリースコア!N407),\"\"),\"\")","v":""},{"$f":"IF(E$1<>\"\",IF($A405<>\"\",COUNT(カテゴリースコア!O407),\"\"),\"\")","v":""},{"$f":"IF(F$1<>\"\",IF($A405<>\"\",COUNT(カテゴリースコア!P407),\"\"),\"\")","v":""},{"$f":"IF(G$1<>\"\",IF($A405<>\"\",COUNT(カテゴリースコア!Q407),\"\"),\"\")","v":""},{"$f":"IF(H$1<>\"\",IF($A405<>\"\",COUNT(カテゴリースコア!R407),\"\"),\"\")","v":""},{"$f":"IF(I$1<>\"\",IF($A405<>\"\",COUNT(カテゴリースコア!S407),\"\"),\"\")","v":""},{"$f":"IF(J$1<>\"\",IF($A405<>\"\",COUNT(カテゴリースコア!T407),\"\"),\"\")","v":""},{"$f":"IF(K$1<>\"\",IF($A405<>\"\",COUNT(カテゴリースコア!U407),\"\"),\"\")","v":""}]
[{"$f":"IF(データセット1!C406<>\"\",データセット1!C406,\"\")","v":""},{"$f":"IF(データセット1!C406<>\"\",データセット1!D406-カテゴリースコア!$E$11,\"\")","v":""},{"$f":"IF(C$1<>\"\",IF($A406<>\"\",COUNT(カテゴリースコア!M408),\"\"),\"\")","v":""},{"$f":"IF(D$1<>\"\",IF($A406<>\"\",COUNT(カテゴリースコア!N408),\"\"),\"\")","v":""},{"$f":"IF(E$1<>\"\",IF($A406<>\"\",COUNT(カテゴリースコア!O408),\"\"),\"\")","v":""},{"$f":"IF(F$1<>\"\",IF($A406<>\"\",COUNT(カテゴリースコア!P408),\"\"),\"\")","v":""},{"$f":"IF(G$1<>\"\",IF($A406<>\"\",COUNT(カテゴリースコア!Q408),\"\"),\"\")","v":""},{"$f":"IF(H$1<>\"\",IF($A406<>\"\",COUNT(カテゴリースコア!R408),\"\"),\"\")","v":""},{"$f":"IF(I$1<>\"\",IF($A406<>\"\",COUNT(カテゴリースコア!S408),\"\"),\"\")","v":""},{"$f":"IF(J$1<>\"\",IF($A406<>\"\",COUNT(カテゴリースコア!T408),\"\"),\"\")","v":""},{"$f":"IF(K$1<>\"\",IF($A406<>\"\",COUNT(カテゴリースコア!U408),\"\"),\"\")","v":""}]
[{"$f":"IF(データセット1!C407<>\"\",データセット1!C407,\"\")","v":""},{"$f":"IF(データセット1!C407<>\"\",データセット1!D407-カテゴリースコア!$E$11,\"\")","v":""},{"$f":"IF(C$1<>\"\",IF($A407<>\"\",COUNT(カテゴリースコア!M409),\"\"),\"\")","v":""},{"$f":"IF(D$1<>\"\",IF($A407<>\"\",COUNT(カテゴリースコア!N409),\"\"),\"\")","v":""},{"$f":"IF(E$1<>\"\",IF($A407<>\"\",COUNT(カテゴリースコア!O409),\"\"),\"\")","v":""},{"$f":"IF(F$1<>\"\",IF($A407<>\"\",COUNT(カテゴリースコア!P409),\"\"),\"\")","v":""},{"$f":"IF(G$1<>\"\",IF($A407<>\"\",COUNT(カテゴリースコア!Q409),\"\"),\"\")","v":""},{"$f":"IF(H$1<>\"\",IF($A407<>\"\",COUNT(カテゴリースコア!R409),\"\"),\"\")","v":""},{"$f":"IF(I$1<>\"\",IF($A407<>\"\",COUNT(カテゴリースコア!S409),\"\"),\"\")","v":""},{"$f":"IF(J$1<>\"\",IF($A407<>\"\",COUNT(カテゴリースコア!T409),\"\"),\"\")","v":""},{"$f":"IF(K$1<>\"\",IF($A407<>\"\",COUNT(カテゴリースコア!U409),\"\"),\"\")","v":""}]
[{"$f":"IF(データセット1!C408<>\"\",データセット1!C408,\"\")","v":""},{"$f":"IF(データセット1!C408<>\"\",データセット1!D408-カテゴリースコア!$E$11,\"\")","v":""},{"$f":"IF(C$1<>\"\",IF($A408<>\"\",COUNT(カテゴリースコア!M410),\"\"),\"\")","v":""},{"$f":"IF(D$1<>\"\",IF($A408<>\"\",COUNT(カテゴリースコア!N410),\"\"),\"\")","v":""},{"$f":"IF(E$1<>\"\",IF($A408<>\"\",COUNT(カテゴリースコア!O410),\"\"),\"\")","v":""},{"$f":"IF(F$1<>\"\",IF($A408<>\"\",COUNT(カテゴリースコア!P410),\"\"),\"\")","v":""},{"$f":"IF(G$1<>\"\",IF($A408<>\"\",COUNT(カテゴリースコア!Q410),\"\"),\"\")","v":""},{"$f":"IF(H$1<>\"\",IF($A408<>\"\",COUNT(カテゴリースコア!R410),\"\"),\"\")","v":""},{"$f":"IF(I$1<>\"\",IF($A408<>\"\",COUNT(カテゴリースコア!S410),\"\"),\"\")","v":""},{"$f":"IF(J$1<>\"\",IF($A408<>\"\",COUNT(カテゴリースコア!T410),\"\"),\"\")","v":""},{"$f":"IF(K$1<>\"\",IF($A408<>\"\",COUNT(カテゴリースコア!U410),\"\"),\"\")","v":""}]
[{"$f":"IF(データセット1!C409<>\"\",データセット1!C409,\"\")","v":""},{"$f":"IF(データセット1!C409<>\"\",データセット1!D409-カテゴリースコア!$E$11,\"\")","v":""},{"$f":"IF(C$1<>\"\",IF($A409<>\"\",COUNT(カテゴリースコア!M411),\"\"),\"\")","v":""},{"$f":"IF(D$1<>\"\",IF($A409<>\"\",COUNT(カテゴリースコア!N411),\"\"),\"\")","v":""},{"$f":"IF(E$1<>\"\",IF($A409<>\"\",COUNT(カテゴリースコア!O411),\"\"),\"\")","v":""},{"$f":"IF(F$1<>\"\",IF($A409<>\"\",COUNT(カテゴリースコア!P411),\"\"),\"\")","v":""},{"$f":"IF(G$1<>\"\",IF($A409<>\"\",COUNT(カテゴリースコア!Q411),\"\"),\"\")","v":""},{"$f":"IF(H$1<>\"\",IF($A409<>\"\",COUNT(カテゴリースコア!R411),\"\"),\"\")","v":""},{"$f":"IF(I$1<>\"\",IF($A409<>\"\",COUNT(カテゴリースコア!S411),\"\"),\"\")","v":""},{"$f":"IF(J$1<>\"\",IF($A409<>\"\",COUNT(カテゴリースコア!T411),\"\"),\"\")","v":""},{"$f":"IF(K$1<>\"\",IF($A409<>\"\",COUNT(カテゴリースコア!U411),\"\"),\"\")","v":""}]
[{"$f":"IF(データセット1!C410<>\"\",データセット1!C410,\"\")","v":""},{"$f":"IF(データセット1!C410<>\"\",データセット1!D410-カテゴリースコア!$E$11,\"\")","v":""},{"$f":"IF(C$1<>\"\",IF($A410<>\"\",COUNT(カテゴリースコア!M412),\"\"),\"\")","v":""},{"$f":"IF(D$1<>\"\",IF($A410<>\"\",COUNT(カテゴリースコア!N412),\"\"),\"\")","v":""},{"$f":"IF(E$1<>\"\",IF($A410<>\"\",COUNT(カテゴリースコア!O412),\"\"),\"\")","v":""},{"$f":"IF(F$1<>\"\",IF($A410<>\"\",COUNT(カテゴリースコア!P412),\"\"),\"\")","v":""},{"$f":"IF(G$1<>\"\",IF($A410<>\"\",COUNT(カテゴリースコア!Q412),\"\"),\"\")","v":""},{"$f":"IF(H$1<>\"\",IF($A410<>\"\",COUNT(カテゴリースコア!R412),\"\"),\"\")","v":""},{"$f":"IF(I$1<>\"\",IF($A410<>\"\",COUNT(カテゴリースコア!S412),\"\"),\"\")","v":""},{"$f":"IF(J$1<>\"\",IF($A410<>\"\",COUNT(カテゴリースコア!T412),\"\"),\"\")","v":""},{"$f":"IF(K$1<>\"\",IF($A410<>\"\",COUNT(カテゴリースコア!U412),\"\"),\"\")","v":""}]
[{"$f":"IF(データセット1!C411<>\"\",データセット1!C411,\"\")","v":""},{"$f":"IF(データセット1!C411<>\"\",データセット1!D411-カテゴリースコア!$E$11,\"\")","v":""},{"$f":"IF(C$1<>\"\",IF($A411<>\"\",COUNT(カテゴリースコア!M413),\"\"),\"\")","v":""},{"$f":"IF(D$1<>\"\",IF($A411<>\"\",COUNT(カテゴリースコア!N413),\"\"),\"\")","v":""},{"$f":"IF(E$1<>\"\",IF($A411<>\"\",COUNT(カテゴリースコア!O413),\"\"),\"\")","v":""},{"$f":"IF(F$1<>\"\",IF($A411<>\"\",COUNT(カテゴリースコア!P413),\"\"),\"\")","v":""},{"$f":"IF(G$1<>\"\",IF($A411<>\"\",COUNT(カテゴリースコア!Q413),\"\"),\"\")","v":""},{"$f":"IF(H$1<>\"\",IF($A411<>\"\",COUNT(カテゴリースコア!R413),\"\"),\"\")","v":""},{"$f":"IF(I$1<>\"\",IF($A411<>\"\",COUNT(カテゴリースコア!S413),\"\"),\"\")","v":""},{"$f":"IF(J$1<>\"\",IF($A411<>\"\",COUNT(カテゴリースコア!T413),\"\"),\"\")","v":""},{"$f":"IF(K$1<>\"\",IF($A411<>\"\",COUNT(カテゴリースコア!U413),\"\"),\"\")","v":""}]
[{"$f":"IF(データセット1!C412<>\"\",データセット1!C412,\"\")","v":""},{"$f":"IF(データセット1!C412<>\"\",データセット1!D412-カテゴリースコア!$E$11,\"\")","v":""},{"$f":"IF(C$1<>\"\",IF($A412<>\"\",COUNT(カテゴリースコア!M414),\"\"),\"\")","v":""},{"$f":"IF(D$1<>\"\",IF($A412<>\"\",COUNT(カテゴリースコア!N414),\"\"),\"\")","v":""},{"$f":"IF(E$1<>\"\",IF($A412<>\"\",COUNT(カテゴリースコア!O414),\"\"),\"\")","v":""},{"$f":"IF(F$1<>\"\",IF($A412<>\"\",COUNT(カテゴリースコア!P414),\"\"),\"\")","v":""},{"$f":"IF(G$1<>\"\",IF($A412<>\"\",COUNT(カテゴリースコア!Q414),\"\"),\"\")","v":""},{"$f":"IF(H$1<>\"\",IF($A412<>\"\",COUNT(カテゴリースコア!R414),\"\"),\"\")","v":""},{"$f":"IF(I$1<>\"\",IF($A412<>\"\",COUNT(カテゴリースコア!S414),\"\"),\"\")","v":""},{"$f":"IF(J$1<>\"\",IF($A412<>\"\",COUNT(カテゴリースコア!T414),\"\"),\"\")","v":""},{"$f":"IF(K$1<>\"\",IF($A412<>\"\",COUNT(カテゴリースコア!U414),\"\"),\"\")","v":""}]
[{"$f":"IF(データセット1!C413<>\"\",データセット1!C413,\"\")","v":""},{"$f":"IF(データセット1!C413<>\"\",データセット1!D413-カテゴリースコア!$E$11,\"\")","v":""},{"$f":"IF(C$1<>\"\",IF($A413<>\"\",COUNT(カテゴリースコア!M415),\"\"),\"\")","v":""},{"$f":"IF(D$1<>\"\",IF($A413<>\"\",COUNT(カテゴリースコア!N415),\"\"),\"\")","v":""},{"$f":"IF(E$1<>\"\",IF($A413<>\"\",COUNT(カテゴリースコア!O415),\"\"),\"\")","v":""},{"$f":"IF(F$1<>\"\",IF($A413<>\"\",COUNT(カテゴリースコア!P415),\"\"),\"\")","v":""},{"$f":"IF(G$1<>\"\",IF($A413<>\"\",COUNT(カテゴリースコア!Q415),\"\"),\"\")","v":""},{"$f":"IF(H$1<>\"\",IF($A413<>\"\",COUNT(カテゴリースコア!R415),\"\"),\"\")","v":""},{"$f":"IF(I$1<>\"\",IF($A413<>\"\",COUNT(カテゴリースコア!S415),\"\"),\"\")","v":""},{"$f":"IF(J$1<>\"\",IF($A413<>\"\",COUNT(カテゴリースコア!T415),\"\"),\"\")","v":""},{"$f":"IF(K$1<>\"\",IF($A413<>\"\",COUNT(カテゴリースコア!U415),\"\"),\"\")","v":""}]
[{"$f":"IF(データセット1!C414<>\"\",データセット1!C414,\"\")","v":""},{"$f":"IF(データセット1!C414<>\"\",データセット1!D414-カテゴリースコア!$E$11,\"\")","v":""},{"$f":"IF(C$1<>\"\",IF($A414<>\"\",COUNT(カテゴリースコア!M416),\"\"),\"\")","v":""},{"$f":"IF(D$1<>\"\",IF($A414<>\"\",COUNT(カテゴリースコア!N416),\"\"),\"\")","v":""},{"$f":"IF(E$1<>\"\",IF($A414<>\"\",COUNT(カテゴリースコア!O416),\"\"),\"\")","v":""},{"$f":"IF(F$1<>\"\",IF($A414<>\"\",COUNT(カテゴリースコア!P416),\"\"),\"\")","v":""},{"$f":"IF(G$1<>\"\",IF($A414<>\"\",COUNT(カテゴリースコア!Q416),\"\"),\"\")","v":""},{"$f":"IF(H$1<>\"\",IF($A414<>\"\",COUNT(カテゴリースコア!R416),\"\"),\"\")","v":""},{"$f":"IF(I$1<>\"\",IF($A414<>\"\",COUNT(カテゴリースコア!S416),\"\"),\"\")","v":""},{"$f":"IF(J$1<>\"\",IF($A414<>\"\",COUNT(カテゴリースコア!T416),\"\"),\"\")","v":""},{"$f":"IF(K$1<>\"\",IF($A414<>\"\",COUNT(カテゴリースコア!U416),\"\"),\"\")","v":""}]
[{"$f":"IF(データセット1!C415<>\"\",データセット1!C415,\"\")","v":""},{"$f":"IF(データセット1!C415<>\"\",データセット1!D415-カテゴリースコア!$E$11,\"\")","v":""},{"$f":"IF(C$1<>\"\",IF($A415<>\"\",COUNT(カテゴリースコア!M417),\"\"),\"\")","v":""},{"$f":"IF(D$1<>\"\",IF($A415<>\"\",COUNT(カテゴリースコア!N417),\"\"),\"\")","v":""},{"$f":"IF(E$1<>\"\",IF($A415<>\"\",COUNT(カテゴリースコア!O417),\"\"),\"\")","v":""},{"$f":"IF(F$1<>\"\",IF($A415<>\"\",COUNT(カテゴリースコア!P417),\"\"),\"\")","v":""},{"$f":"IF(G$1<>\"\",IF($A415<>\"\",COUNT(カテゴリースコア!Q417),\"\"),\"\")","v":""},{"$f":"IF(H$1<>\"\",IF($A415<>\"\",COUNT(カテゴリースコア!R417),\"\"),\"\")","v":""},{"$f":"IF(I$1<>\"\",IF($A415<>\"\",COUNT(カテゴリースコア!S417),\"\"),\"\")","v":""},{"$f":"IF(J$1<>\"\",IF($A415<>\"\",COUNT(カテゴリースコア!T417),\"\"),\"\")","v":""},{"$f":"IF(K$1<>\"\",IF($A415<>\"\",COUNT(カテゴリースコア!U417),\"\"),\"\")","v":""}]
[{"$f":"IF(データセット1!C416<>\"\",データセット1!C416,\"\")","v":""},{"$f":"IF(データセット1!C416<>\"\",データセット1!D416-カテゴリースコア!$E$11,\"\")","v":""},{"$f":"IF(C$1<>\"\",IF($A416<>\"\",COUNT(カテゴリースコア!M418),\"\"),\"\")","v":""},{"$f":"IF(D$1<>\"\",IF($A416<>\"\",COUNT(カテゴリースコア!N418),\"\"),\"\")","v":""},{"$f":"IF(E$1<>\"\",IF($A416<>\"\",COUNT(カテゴリースコア!O418),\"\"),\"\")","v":""},{"$f":"IF(F$1<>\"\",IF($A416<>\"\",COUNT(カテゴリースコア!P418),\"\"),\"\")","v":""},{"$f":"IF(G$1<>\"\",IF($A416<>\"\",COUNT(カテゴリースコア!Q418),\"\"),\"\")","v":""},{"$f":"IF(H$1<>\"\",IF($A416<>\"\",COUNT(カテゴリースコア!R418),\"\"),\"\")","v":""},{"$f":"IF(I$1<>\"\",IF($A416<>\"\",COUNT(カテゴリースコア!S418),\"\"),\"\")","v":""},{"$f":"IF(J$1<>\"\",IF($A416<>\"\",COUNT(カテゴリースコア!T418),\"\"),\"\")","v":""},{"$f":"IF(K$1<>\"\",IF($A416<>\"\",COUNT(カテゴリースコア!U418),\"\"),\"\")","v":""}]
[{"$f":"IF(データセット1!C417<>\"\",データセット1!C417,\"\")","v":""},{"$f":"IF(データセット1!C417<>\"\",データセット1!D417-カテゴリースコア!$E$11,\"\")","v":""},{"$f":"IF(C$1<>\"\",IF($A417<>\"\",COUNT(カテゴリースコア!M419),\"\"),\"\")","v":""},{"$f":"IF(D$1<>\"\",IF($A417<>\"\",COUNT(カテゴリースコア!N419),\"\"),\"\")","v":""},{"$f":"IF(E$1<>\"\",IF($A417<>\"\",COUNT(カテゴリースコア!O419),\"\"),\"\")","v":""},{"$f":"IF(F$1<>\"\",IF($A417<>\"\",COUNT(カテゴリースコア!P419),\"\"),\"\")","v":""},{"$f":"IF(G$1<>\"\",IF($A417<>\"\",COUNT(カテゴリースコア!Q419),\"\"),\"\")","v":""},{"$f":"IF(H$1<>\"\",IF($A417<>\"\",COUNT(カテゴリースコア!R419),\"\"),\"\")","v":""},{"$f":"IF(I$1<>\"\",IF($A417<>\"\",COUNT(カテゴリースコア!S419),\"\"),\"\")","v":""},{"$f":"IF(J$1<>\"\",IF($A417<>\"\",COUNT(カテゴリースコア!T419),\"\"),\"\")","v":""},{"$f":"IF(K$1<>\"\",IF($A417<>\"\",COUNT(カテゴリースコア!U419),\"\"),\"\")","v":""}]
[{"$f":"IF(データセット1!C418<>\"\",データセット1!C418,\"\")","v":""},{"$f":"IF(データセット1!C418<>\"\",データセット1!D418-カテゴリースコア!$E$11,\"\")","v":""},{"$f":"IF(C$1<>\"\",IF($A418<>\"\",COUNT(カテゴリースコア!M420),\"\"),\"\")","v":""},{"$f":"IF(D$1<>\"\",IF($A418<>\"\",COUNT(カテゴリースコア!N420),\"\"),\"\")","v":""},{"$f":"IF(E$1<>\"\",IF($A418<>\"\",COUNT(カテゴリースコア!O420),\"\"),\"\")","v":""},{"$f":"IF(F$1<>\"\",IF($A418<>\"\",COUNT(カテゴリースコア!P420),\"\"),\"\")","v":""},{"$f":"IF(G$1<>\"\",IF($A418<>\"\",COUNT(カテゴリースコア!Q420),\"\"),\"\")","v":""},{"$f":"IF(H$1<>\"\",IF($A418<>\"\",COUNT(カテゴリースコア!R420),\"\"),\"\")","v":""},{"$f":"IF(I$1<>\"\",IF($A418<>\"\",COUNT(カテゴリースコア!S420),\"\"),\"\")","v":""},{"$f":"IF(J$1<>\"\",IF($A418<>\"\",COUNT(カテゴリースコア!T420),\"\"),\"\")","v":""},{"$f":"IF(K$1<>\"\",IF($A418<>\"\",COUNT(カテゴリースコア!U420),\"\"),\"\")","v":""}]
[{"$f":"IF(データセット1!C419<>\"\",データセット1!C419,\"\")","v":""},{"$f":"IF(データセット1!C419<>\"\",データセット1!D419-カテゴリースコア!$E$11,\"\")","v":""},{"$f":"IF(C$1<>\"\",IF($A419<>\"\",COUNT(カテゴリースコア!M421),\"\"),\"\")","v":""},{"$f":"IF(D$1<>\"\",IF($A419<>\"\",COUNT(カテゴリースコア!N421),\"\"),\"\")","v":""},{"$f":"IF(E$1<>\"\",IF($A419<>\"\",COUNT(カテゴリースコア!O421),\"\"),\"\")","v":""},{"$f":"IF(F$1<>\"\",IF($A419<>\"\",COUNT(カテゴリースコア!P421),\"\"),\"\")","v":""},{"$f":"IF(G$1<>\"\",IF($A419<>\"\",COUNT(カテゴリースコア!Q421),\"\"),\"\")","v":""},{"$f":"IF(H$1<>\"\",IF($A419<>\"\",COUNT(カテゴリースコア!R421),\"\"),\"\")","v":""},{"$f":"IF(I$1<>\"\",IF($A419<>\"\",COUNT(カテゴリースコア!S421),\"\"),\"\")","v":""},{"$f":"IF(J$1<>\"\",IF($A419<>\"\",COUNT(カテゴリースコア!T421),\"\"),\"\")","v":""},{"$f":"IF(K$1<>\"\",IF($A419<>\"\",COUNT(カテゴリースコア!U421),\"\"),\"\")","v":""}]
[{"$f":"IF(データセット1!C420<>\"\",データセット1!C420,\"\")","v":""},{"$f":"IF(データセット1!C420<>\"\",データセット1!D420-カテゴリースコア!$E$11,\"\")","v":""},{"$f":"IF(C$1<>\"\",IF($A420<>\"\",COUNT(カテゴリースコア!M422),\"\"),\"\")","v":""},{"$f":"IF(D$1<>\"\",IF($A420<>\"\",COUNT(カテゴリースコア!N422),\"\"),\"\")","v":""},{"$f":"IF(E$1<>\"\",IF($A420<>\"\",COUNT(カテゴリースコア!O422),\"\"),\"\")","v":""},{"$f":"IF(F$1<>\"\",IF($A420<>\"\",COUNT(カテゴリースコア!P422),\"\"),\"\")","v":""},{"$f":"IF(G$1<>\"\",IF($A420<>\"\",COUNT(カテゴリースコア!Q422),\"\"),\"\")","v":""},{"$f":"IF(H$1<>\"\",IF($A420<>\"\",COUNT(カテゴリースコア!R422),\"\"),\"\")","v":""},{"$f":"IF(I$1<>\"\",IF($A420<>\"\",COUNT(カテゴリースコア!S422),\"\"),\"\")","v":""},{"$f":"IF(J$1<>\"\",IF($A420<>\"\",COUNT(カテゴリースコア!T422),\"\"),\"\")","v":""},{"$f":"IF(K$1<>\"\",IF($A420<>\"\",COUNT(カテゴリースコア!U422),\"\"),\"\")","v":""}]
[{"$f":"IF(データセット1!C421<>\"\",データセット1!C421,\"\")","v":""},{"$f":"IF(データセット1!C421<>\"\",データセット1!D421-カテゴリースコア!$E$11,\"\")","v":""},{"$f":"IF(C$1<>\"\",IF($A421<>\"\",COUNT(カテゴリースコア!M423),\"\"),\"\")","v":""},{"$f":"IF(D$1<>\"\",IF($A421<>\"\",COUNT(カテゴリースコア!N423),\"\"),\"\")","v":""},{"$f":"IF(E$1<>\"\",IF($A421<>\"\",COUNT(カテゴリースコア!O423),\"\"),\"\")","v":""},{"$f":"IF(F$1<>\"\",IF($A421<>\"\",COUNT(カテゴリースコア!P423),\"\"),\"\")","v":""},{"$f":"IF(G$1<>\"\",IF($A421<>\"\",COUNT(カテゴリースコア!Q423),\"\"),\"\")","v":""},{"$f":"IF(H$1<>\"\",IF($A421<>\"\",COUNT(カテゴリースコア!R423),\"\"),\"\")","v":""},{"$f":"IF(I$1<>\"\",IF($A421<>\"\",COUNT(カテゴリースコア!S423),\"\"),\"\")","v":""},{"$f":"IF(J$1<>\"\",IF($A421<>\"\",COUNT(カテゴリースコア!T423),\"\"),\"\")","v":""},{"$f":"IF(K$1<>\"\",IF($A421<>\"\",COUNT(カテゴリースコア!U423),\"\"),\"\")","v":""}]
[{"$f":"IF(データセット1!C422<>\"\",データセット1!C422,\"\")","v":""},{"$f":"IF(データセット1!C422<>\"\",データセット1!D422-カテゴリースコア!$E$11,\"\")","v":""},{"$f":"IF(C$1<>\"\",IF($A422<>\"\",COUNT(カテゴリースコア!M424),\"\"),\"\")","v":""},{"$f":"IF(D$1<>\"\",IF($A422<>\"\",COUNT(カテゴリースコア!N424),\"\"),\"\")","v":""},{"$f":"IF(E$1<>\"\",IF($A422<>\"\",COUNT(カテゴリースコア!O424),\"\"),\"\")","v":""},{"$f":"IF(F$1<>\"\",IF($A422<>\"\",COUNT(カテゴリースコア!P424),\"\"),\"\")","v":""},{"$f":"IF(G$1<>\"\",IF($A422<>\"\",COUNT(カテゴリースコア!Q424),\"\"),\"\")","v":""},{"$f":"IF(H$1<>\"\",IF($A422<>\"\",COUNT(カテゴリースコア!R424),\"\"),\"\")","v":""},{"$f":"IF(I$1<>\"\",IF($A422<>\"\",COUNT(カテゴリースコア!S424),\"\"),\"\")","v":""},{"$f":"IF(J$1<>\"\",IF($A422<>\"\",COUNT(カテゴリースコア!T424),\"\"),\"\")","v":""},{"$f":"IF(K$1<>\"\",IF($A422<>\"\",COUNT(カテゴリースコア!U424),\"\"),\"\")","v":""}]
[{"$f":"IF(データセット1!C423<>\"\",データセット1!C423,\"\")","v":""},{"$f":"IF(データセット1!C423<>\"\",データセット1!D423-カテゴリースコア!$E$11,\"\")","v":""},{"$f":"IF(C$1<>\"\",IF($A423<>\"\",COUNT(カテゴリースコア!M425),\"\"),\"\")","v":""},{"$f":"IF(D$1<>\"\",IF($A423<>\"\",COUNT(カテゴリースコア!N425),\"\"),\"\")","v":""},{"$f":"IF(E$1<>\"\",IF($A423<>\"\",COUNT(カテゴリースコア!O425),\"\"),\"\")","v":""},{"$f":"IF(F$1<>\"\",IF($A423<>\"\",COUNT(カテゴリースコア!P425),\"\"),\"\")","v":""},{"$f":"IF(G$1<>\"\",IF($A423<>\"\",COUNT(カテゴリースコア!Q425),\"\"),\"\")","v":""},{"$f":"IF(H$1<>\"\",IF($A423<>\"\",COUNT(カテゴリースコア!R425),\"\"),\"\")","v":""},{"$f":"IF(I$1<>\"\",IF($A423<>\"\",COUNT(カテゴリースコア!S425),\"\"),\"\")","v":""},{"$f":"IF(J$1<>\"\",IF($A423<>\"\",COUNT(カテゴリースコア!T425),\"\"),\"\")","v":""},{"$f":"IF(K$1<>\"\",IF($A423<>\"\",COUNT(カテゴリースコア!U425),\"\"),\"\")","v":""}]
[{"$f":"IF(データセット1!C424<>\"\",データセット1!C424,\"\")","v":""},{"$f":"IF(データセット1!C424<>\"\",データセット1!D424-カテゴリースコア!$E$11,\"\")","v":""},{"$f":"IF(C$1<>\"\",IF($A424<>\"\",COUNT(カテゴリースコア!M426),\"\"),\"\")","v":""},{"$f":"IF(D$1<>\"\",IF($A424<>\"\",COUNT(カテゴリースコア!N426),\"\"),\"\")","v":""},{"$f":"IF(E$1<>\"\",IF($A424<>\"\",COUNT(カテゴリースコア!O426),\"\"),\"\")","v":""},{"$f":"IF(F$1<>\"\",IF($A424<>\"\",COUNT(カテゴリースコア!P426),\"\"),\"\")","v":""},{"$f":"IF(G$1<>\"\",IF($A424<>\"\",COUNT(カテゴリースコア!Q426),\"\"),\"\")","v":""},{"$f":"IF(H$1<>\"\",IF($A424<>\"\",COUNT(カテゴリースコア!R426),\"\"),\"\")","v":""},{"$f":"IF(I$1<>\"\",IF($A424<>\"\",COUNT(カテゴリースコア!S426),\"\"),\"\")","v":""},{"$f":"IF(J$1<>\"\",IF($A424<>\"\",COUNT(カテゴリースコア!T426),\"\"),\"\")","v":""},{"$f":"IF(K$1<>\"\",IF($A424<>\"\",COUNT(カテゴリースコア!U426),\"\"),\"\")","v":""}]
[{"$f":"IF(データセット1!C425<>\"\",データセット1!C425,\"\")","v":""},{"$f":"IF(データセット1!C425<>\"\",データセット1!D425-カテゴリースコア!$E$11,\"\")","v":""},{"$f":"IF(C$1<>\"\",IF($A425<>\"\",COUNT(カテゴリースコア!M427),\"\"),\"\")","v":""},{"$f":"IF(D$1<>\"\",IF($A425<>\"\",COUNT(カテゴリースコア!N427),\"\"),\"\")","v":""},{"$f":"IF(E$1<>\"\",IF($A425<>\"\",COUNT(カテゴリースコア!O427),\"\"),\"\")","v":""},{"$f":"IF(F$1<>\"\",IF($A425<>\"\",COUNT(カテゴリースコア!P427),\"\"),\"\")","v":""},{"$f":"IF(G$1<>\"\",IF($A425<>\"\",COUNT(カテゴリースコア!Q427),\"\"),\"\")","v":""},{"$f":"IF(H$1<>\"\",IF($A425<>\"\",COUNT(カテゴリースコア!R427),\"\"),\"\")","v":""},{"$f":"IF(I$1<>\"\",IF($A425<>\"\",COUNT(カテゴリースコア!S427),\"\"),\"\")","v":""},{"$f":"IF(J$1<>\"\",IF($A425<>\"\",COUNT(カテゴリースコア!T427),\"\"),\"\")","v":""},{"$f":"IF(K$1<>\"\",IF($A425<>\"\",COUNT(カテゴリースコア!U427),\"\"),\"\")","v":""}]
[{"$f":"IF(データセット1!C426<>\"\",データセット1!C426,\"\")","v":""},{"$f":"IF(データセット1!C426<>\"\",データセット1!D426-カテゴリースコア!$E$11,\"\")","v":""},{"$f":"IF(C$1<>\"\",IF($A426<>\"\",COUNT(カテゴリースコア!M428),\"\"),\"\")","v":""},{"$f":"IF(D$1<>\"\",IF($A426<>\"\",COUNT(カテゴリースコア!N428),\"\"),\"\")","v":""},{"$f":"IF(E$1<>\"\",IF($A426<>\"\",COUNT(カテゴリースコア!O428),\"\"),\"\")","v":""},{"$f":"IF(F$1<>\"\",IF($A426<>\"\",COUNT(カテゴリースコア!P428),\"\"),\"\")","v":""},{"$f":"IF(G$1<>\"\",IF($A426<>\"\",COUNT(カテゴリースコア!Q428),\"\"),\"\")","v":""},{"$f":"IF(H$1<>\"\",IF($A426<>\"\",COUNT(カテゴリースコア!R428),\"\"),\"\")","v":""},{"$f":"IF(I$1<>\"\",IF($A426<>\"\",COUNT(カテゴリースコア!S428),\"\"),\"\")","v":""},{"$f":"IF(J$1<>\"\",IF($A426<>\"\",COUNT(カテゴリースコア!T428),\"\"),\"\")","v":""},{"$f":"IF(K$1<>\"\",IF($A426<>\"\",COUNT(カテゴリースコア!U428),\"\"),\"\")","v":""}]
[{"$f":"IF(データセット1!C427<>\"\",データセット1!C427,\"\")","v":""},{"$f":"IF(データセット1!C427<>\"\",データセット1!D427-カテゴリースコア!$E$11,\"\")","v":""},{"$f":"IF(C$1<>\"\",IF($A427<>\"\",COUNT(カテゴリースコア!M429),\"\"),\"\")","v":""},{"$f":"IF(D$1<>\"\",IF($A427<>\"\",COUNT(カテゴリースコア!N429),\"\"),\"\")","v":""},{"$f":"IF(E$1<>\"\",IF($A427<>\"\",COUNT(カテゴリースコア!O429),\"\"),\"\")","v":""},{"$f":"IF(F$1<>\"\",IF($A427<>\"\",COUNT(カテゴリースコア!P429),\"\"),\"\")","v":""},{"$f":"IF(G$1<>\"\",IF($A427<>\"\",COUNT(カテゴリースコア!Q429),\"\"),\"\")","v":""},{"$f":"IF(H$1<>\"\",IF($A427<>\"\",COUNT(カテゴリースコア!R429),\"\"),\"\")","v":""},{"$f":"IF(I$1<>\"\",IF($A427<>\"\",COUNT(カテゴリースコア!S429),\"\"),\"\")","v":""},{"$f":"IF(J$1<>\"\",IF($A427<>\"\",COUNT(カテゴリースコア!T429),\"\"),\"\")","v":""},{"$f":"IF(K$1<>\"\",IF($A427<>\"\",COUNT(カテゴリースコア!U429),\"\"),\"\")","v":""}]
[{"$f":"IF(データセット1!C428<>\"\",データセット1!C428,\"\")","v":""},{"$f":"IF(データセット1!C428<>\"\",データセット1!D428-カテゴリースコア!$E$11,\"\")","v":""},{"$f":"IF(C$1<>\"\",IF($A428<>\"\",COUNT(カテゴリースコア!M430),\"\"),\"\")","v":""},{"$f":"IF(D$1<>\"\",IF($A428<>\"\",COUNT(カテゴリースコア!N430),\"\"),\"\")","v":""},{"$f":"IF(E$1<>\"\",IF($A428<>\"\",COUNT(カテゴリースコア!O430),\"\"),\"\")","v":""},{"$f":"IF(F$1<>\"\",IF($A428<>\"\",COUNT(カテゴリースコア!P430),\"\"),\"\")","v":""},{"$f":"IF(G$1<>\"\",IF($A428<>\"\",COUNT(カテゴリースコア!Q430),\"\"),\"\")","v":""},{"$f":"IF(H$1<>\"\",IF($A428<>\"\",COUNT(カテゴリースコア!R430),\"\"),\"\")","v":""},{"$f":"IF(I$1<>\"\",IF($A428<>\"\",COUNT(カテゴリースコア!S430),\"\"),\"\")","v":""},{"$f":"IF(J$1<>\"\",IF($A428<>\"\",COUNT(カテゴリースコア!T430),\"\"),\"\")","v":""},{"$f":"IF(K$1<>\"\",IF($A428<>\"\",COUNT(カテゴリースコア!U430),\"\"),\"\")","v":""}]
[{"$f":"IF(データセット1!C429<>\"\",データセット1!C429,\"\")","v":""},{"$f":"IF(データセット1!C429<>\"\",データセット1!D429-カテゴリースコア!$E$11,\"\")","v":""},{"$f":"IF(C$1<>\"\",IF($A429<>\"\",COUNT(カテゴリースコア!M431),\"\"),\"\")","v":""},{"$f":"IF(D$1<>\"\",IF($A429<>\"\",COUNT(カテゴリースコア!N431),\"\"),\"\")","v":""},{"$f":"IF(E$1<>\"\",IF($A429<>\"\",COUNT(カテゴリースコア!O431),\"\"),\"\")","v":""},{"$f":"IF(F$1<>\"\",IF($A429<>\"\",COUNT(カテゴリースコア!P431),\"\"),\"\")","v":""},{"$f":"IF(G$1<>\"\",IF($A429<>\"\",COUNT(カテゴリースコア!Q431),\"\"),\"\")","v":""},{"$f":"IF(H$1<>\"\",IF($A429<>\"\",COUNT(カテゴリースコア!R431),\"\"),\"\")","v":""},{"$f":"IF(I$1<>\"\",IF($A429<>\"\",COUNT(カテゴリースコア!S431),\"\"),\"\")","v":""},{"$f":"IF(J$1<>\"\",IF($A429<>\"\",COUNT(カテゴリースコア!T431),\"\"),\"\")","v":""},{"$f":"IF(K$1<>\"\",IF($A429<>\"\",COUNT(カテゴリースコア!U431),\"\"),\"\")","v":""}]
[{"$f":"IF(データセット1!C430<>\"\",データセット1!C430,\"\")","v":""},{"$f":"IF(データセット1!C430<>\"\",データセット1!D430-カテゴリースコア!$E$11,\"\")","v":""},{"$f":"IF(C$1<>\"\",IF($A430<>\"\",COUNT(カテゴリースコア!M432),\"\"),\"\")","v":""},{"$f":"IF(D$1<>\"\",IF($A430<>\"\",COUNT(カテゴリースコア!N432),\"\"),\"\")","v":""},{"$f":"IF(E$1<>\"\",IF($A430<>\"\",COUNT(カテゴリースコア!O432),\"\"),\"\")","v":""},{"$f":"IF(F$1<>\"\",IF($A430<>\"\",COUNT(カテゴリースコア!P432),\"\"),\"\")","v":""},{"$f":"IF(G$1<>\"\",IF($A430<>\"\",COUNT(カテゴリースコア!Q432),\"\"),\"\")","v":""},{"$f":"IF(H$1<>\"\",IF($A430<>\"\",COUNT(カテゴリースコア!R432),\"\"),\"\")","v":""},{"$f":"IF(I$1<>\"\",IF($A430<>\"\",COUNT(カテゴリースコア!S432),\"\"),\"\")","v":""},{"$f":"IF(J$1<>\"\",IF($A430<>\"\",COUNT(カテゴリースコア!T432),\"\"),\"\")","v":""},{"$f":"IF(K$1<>\"\",IF($A430<>\"\",COUNT(カテゴリースコア!U432),\"\"),\"\")","v":""}]
[{"$f":"IF(データセット1!C431<>\"\",データセット1!C431,\"\")","v":""},{"$f":"IF(データセット1!C431<>\"\",データセット1!D431-カテゴリースコア!$E$11,\"\")","v":""},{"$f":"IF(C$1<>\"\",IF($A431<>\"\",COUNT(カテゴリースコア!M433),\"\"),\"\")","v":""},{"$f":"IF(D$1<>\"\",IF($A431<>\"\",COUNT(カテゴリースコア!N433),\"\"),\"\")","v":""},{"$f":"IF(E$1<>\"\",IF($A431<>\"\",COUNT(カテゴリースコア!O433),\"\"),\"\")","v":""},{"$f":"IF(F$1<>\"\",IF($A431<>\"\",COUNT(カテゴリースコア!P433),\"\"),\"\")","v":""},{"$f":"IF(G$1<>\"\",IF($A431<>\"\",COUNT(カテゴリースコア!Q433),\"\"),\"\")","v":""},{"$f":"IF(H$1<>\"\",IF($A431<>\"\",COUNT(カテゴリースコア!R433),\"\"),\"\")","v":""},{"$f":"IF(I$1<>\"\",IF($A431<>\"\",COUNT(カテゴリースコア!S433),\"\"),\"\")","v":""},{"$f":"IF(J$1<>\"\",IF($A431<>\"\",COUNT(カテゴリースコア!T433),\"\"),\"\")","v":""},{"$f":"IF(K$1<>\"\",IF($A431<>\"\",COUNT(カテゴリースコア!U433),\"\"),\"\")","v":""}]
[{"$f":"IF(データセット1!C432<>\"\",データセット1!C432,\"\")","v":""},{"$f":"IF(データセット1!C432<>\"\",データセット1!D432-カテゴリースコア!$E$11,\"\")","v":""},{"$f":"IF(C$1<>\"\",IF($A432<>\"\",COUNT(カテゴリースコア!M434),\"\"),\"\")","v":""},{"$f":"IF(D$1<>\"\",IF($A432<>\"\",COUNT(カテゴリースコア!N434),\"\"),\"\")","v":""},{"$f":"IF(E$1<>\"\",IF($A432<>\"\",COUNT(カテゴリースコア!O434),\"\"),\"\")","v":""},{"$f":"IF(F$1<>\"\",IF($A432<>\"\",COUNT(カテゴリースコア!P434),\"\"),\"\")","v":""},{"$f":"IF(G$1<>\"\",IF($A432<>\"\",COUNT(カテゴリースコア!Q434),\"\"),\"\")","v":""},{"$f":"IF(H$1<>\"\",IF($A432<>\"\",COUNT(カテゴリースコア!R434),\"\"),\"\")","v":""},{"$f":"IF(I$1<>\"\",IF($A432<>\"\",COUNT(カテゴリースコア!S434),\"\"),\"\")","v":""},{"$f":"IF(J$1<>\"\",IF($A432<>\"\",COUNT(カテゴリースコア!T434),\"\"),\"\")","v":""},{"$f":"IF(K$1<>\"\",IF($A432<>\"\",COUNT(カテゴリースコア!U434),\"\"),\"\")","v":""}]
[{"$f":"IF(データセット1!C433<>\"\",データセット1!C433,\"\")","v":""},{"$f":"IF(データセット1!C433<>\"\",データセット1!D433-カテゴリースコア!$E$11,\"\")","v":""},{"$f":"IF(C$1<>\"\",IF($A433<>\"\",COUNT(カテゴリースコア!M435),\"\"),\"\")","v":""},{"$f":"IF(D$1<>\"\",IF($A433<>\"\",COUNT(カテゴリースコア!N435),\"\"),\"\")","v":""},{"$f":"IF(E$1<>\"\",IF($A433<>\"\",COUNT(カテゴリースコア!O435),\"\"),\"\")","v":""},{"$f":"IF(F$1<>\"\",IF($A433<>\"\",COUNT(カテゴリースコア!P435),\"\"),\"\")","v":""},{"$f":"IF(G$1<>\"\",IF($A433<>\"\",COUNT(カテゴリースコア!Q435),\"\"),\"\")","v":""},{"$f":"IF(H$1<>\"\",IF($A433<>\"\",COUNT(カテゴリースコア!R435),\"\"),\"\")","v":""},{"$f":"IF(I$1<>\"\",IF($A433<>\"\",COUNT(カテゴリースコア!S435),\"\"),\"\")","v":""},{"$f":"IF(J$1<>\"\",IF($A433<>\"\",COUNT(カテゴリースコア!T435),\"\"),\"\")","v":""},{"$f":"IF(K$1<>\"\",IF($A433<>\"\",COUNT(カテゴリースコア!U435),\"\"),\"\")","v":""}]
[{"$f":"IF(データセット1!C434<>\"\",データセット1!C434,\"\")","v":""},{"$f":"IF(データセット1!C434<>\"\",データセット1!D434-カテゴリースコア!$E$11,\"\")","v":""},{"$f":"IF(C$1<>\"\",IF($A434<>\"\",COUNT(カテゴリースコア!M436),\"\"),\"\")","v":""},{"$f":"IF(D$1<>\"\",IF($A434<>\"\",COUNT(カテゴリースコア!N436),\"\"),\"\")","v":""},{"$f":"IF(E$1<>\"\",IF($A434<>\"\",COUNT(カテゴリースコア!O436),\"\"),\"\")","v":""},{"$f":"IF(F$1<>\"\",IF($A434<>\"\",COUNT(カテゴリースコア!P436),\"\"),\"\")","v":""},{"$f":"IF(G$1<>\"\",IF($A434<>\"\",COUNT(カテゴリースコア!Q436),\"\"),\"\")","v":""},{"$f":"IF(H$1<>\"\",IF($A434<>\"\",COUNT(カテゴリースコア!R436),\"\"),\"\")","v":""},{"$f":"IF(I$1<>\"\",IF($A434<>\"\",COUNT(カテゴリースコア!S436),\"\"),\"\")","v":""},{"$f":"IF(J$1<>\"\",IF($A434<>\"\",COUNT(カテゴリースコア!T436),\"\"),\"\")","v":""},{"$f":"IF(K$1<>\"\",IF($A434<>\"\",COUNT(カテゴリースコア!U436),\"\"),\"\")","v":""}]
[{"$f":"IF(データセット1!C435<>\"\",データセット1!C435,\"\")","v":""},{"$f":"IF(データセット1!C435<>\"\",データセット1!D435-カテゴリースコア!$E$11,\"\")","v":""},{"$f":"IF(C$1<>\"\",IF($A435<>\"\",COUNT(カテゴリースコア!M437),\"\"),\"\")","v":""},{"$f":"IF(D$1<>\"\",IF($A435<>\"\",COUNT(カテゴリースコア!N437),\"\"),\"\")","v":""},{"$f":"IF(E$1<>\"\",IF($A435<>\"\",COUNT(カテゴリースコア!O437),\"\"),\"\")","v":""},{"$f":"IF(F$1<>\"\",IF($A435<>\"\",COUNT(カテゴリースコア!P437),\"\"),\"\")","v":""},{"$f":"IF(G$1<>\"\",IF($A435<>\"\",COUNT(カテゴリースコア!Q437),\"\"),\"\")","v":""},{"$f":"IF(H$1<>\"\",IF($A435<>\"\",COUNT(カテゴリースコア!R437),\"\"),\"\")","v":""},{"$f":"IF(I$1<>\"\",IF($A435<>\"\",COUNT(カテゴリースコア!S437),\"\"),\"\")","v":""},{"$f":"IF(J$1<>\"\",IF($A435<>\"\",COUNT(カテゴリースコア!T437),\"\"),\"\")","v":""},{"$f":"IF(K$1<>\"\",IF($A435<>\"\",COUNT(カテゴリースコア!U437),\"\"),\"\")","v":""}]
[{"$f":"IF(データセット1!C436<>\"\",データセット1!C436,\"\")","v":""},{"$f":"IF(データセット1!C436<>\"\",データセット1!D436-カテゴリースコア!$E$11,\"\")","v":""},{"$f":"IF(C$1<>\"\",IF($A436<>\"\",COUNT(カテゴリースコア!M438),\"\"),\"\")","v":""},{"$f":"IF(D$1<>\"\",IF($A436<>\"\",COUNT(カテゴリースコア!N438),\"\"),\"\")","v":""},{"$f":"IF(E$1<>\"\",IF($A436<>\"\",COUNT(カテゴリースコア!O438),\"\"),\"\")","v":""},{"$f":"IF(F$1<>\"\",IF($A436<>\"\",COUNT(カテゴリースコア!P438),\"\"),\"\")","v":""},{"$f":"IF(G$1<>\"\",IF($A436<>\"\",COUNT(カテゴリースコア!Q438),\"\"),\"\")","v":""},{"$f":"IF(H$1<>\"\",IF($A436<>\"\",COUNT(カテゴリースコア!R438),\"\"),\"\")","v":""},{"$f":"IF(I$1<>\"\",IF($A436<>\"\",COUNT(カテゴリースコア!S438),\"\"),\"\")","v":""},{"$f":"IF(J$1<>\"\",IF($A436<>\"\",COUNT(カテゴリースコア!T438),\"\"),\"\")","v":""},{"$f":"IF(K$1<>\"\",IF($A436<>\"\",COUNT(カテゴリースコア!U438),\"\"),\"\")","v":""}]
[{"$f":"IF(データセット1!C437<>\"\",データセット1!C437,\"\")","v":""},{"$f":"IF(データセット1!C437<>\"\",データセット1!D437-カテゴリースコア!$E$11,\"\")","v":""},{"$f":"IF(C$1<>\"\",IF($A437<>\"\",COUNT(カテゴリースコア!M439),\"\"),\"\")","v":""},{"$f":"IF(D$1<>\"\",IF($A437<>\"\",COUNT(カテゴリースコア!N439),\"\"),\"\")","v":""},{"$f":"IF(E$1<>\"\",IF($A437<>\"\",COUNT(カテゴリースコア!O439),\"\"),\"\")","v":""},{"$f":"IF(F$1<>\"\",IF($A437<>\"\",COUNT(カテゴリースコア!P439),\"\"),\"\")","v":""},{"$f":"IF(G$1<>\"\",IF($A437<>\"\",COUNT(カテゴリースコア!Q439),\"\"),\"\")","v":""},{"$f":"IF(H$1<>\"\",IF($A437<>\"\",COUNT(カテゴリースコア!R439),\"\"),\"\")","v":""},{"$f":"IF(I$1<>\"\",IF($A437<>\"\",COUNT(カテゴリースコア!S439),\"\"),\"\")","v":""},{"$f":"IF(J$1<>\"\",IF($A437<>\"\",COUNT(カテゴリースコア!T439),\"\"),\"\")","v":""},{"$f":"IF(K$1<>\"\",IF($A437<>\"\",COUNT(カテゴリースコア!U439),\"\"),\"\")","v":""}]
[{"$f":"IF(データセット1!C438<>\"\",データセット1!C438,\"\")","v":""},{"$f":"IF(データセット1!C438<>\"\",データセット1!D438-カテゴリースコア!$E$11,\"\")","v":""},{"$f":"IF(C$1<>\"\",IF($A438<>\"\",COUNT(カテゴリースコア!M440),\"\"),\"\")","v":""},{"$f":"IF(D$1<>\"\",IF($A438<>\"\",COUNT(カテゴリースコア!N440),\"\"),\"\")","v":""},{"$f":"IF(E$1<>\"\",IF($A438<>\"\",COUNT(カテゴリースコア!O440),\"\"),\"\")","v":""},{"$f":"IF(F$1<>\"\",IF($A438<>\"\",COUNT(カテゴリースコア!P440),\"\"),\"\")","v":""},{"$f":"IF(G$1<>\"\",IF($A438<>\"\",COUNT(カテゴリースコア!Q440),\"\"),\"\")","v":""},{"$f":"IF(H$1<>\"\",IF($A438<>\"\",COUNT(カテゴリースコア!R440),\"\"),\"\")","v":""},{"$f":"IF(I$1<>\"\",IF($A438<>\"\",COUNT(カテゴリースコア!S440),\"\"),\"\")","v":""},{"$f":"IF(J$1<>\"\",IF($A438<>\"\",COUNT(カテゴリースコア!T440),\"\"),\"\")","v":""},{"$f":"IF(K$1<>\"\",IF($A438<>\"\",COUNT(カテゴリースコア!U440),\"\"),\"\")","v":""}]
[{"$f":"IF(データセット1!C439<>\"\",データセット1!C439,\"\")","v":""},{"$f":"IF(データセット1!C439<>\"\",データセット1!D439-カテゴリースコア!$E$11,\"\")","v":""},{"$f":"IF(C$1<>\"\",IF($A439<>\"\",COUNT(カテゴリースコア!M441),\"\"),\"\")","v":""},{"$f":"IF(D$1<>\"\",IF($A439<>\"\",COUNT(カテゴリースコア!N441),\"\"),\"\")","v":""},{"$f":"IF(E$1<>\"\",IF($A439<>\"\",COUNT(カテゴリースコア!O441),\"\"),\"\")","v":""},{"$f":"IF(F$1<>\"\",IF($A439<>\"\",COUNT(カテゴリースコア!P441),\"\"),\"\")","v":""},{"$f":"IF(G$1<>\"\",IF($A439<>\"\",COUNT(カテゴリースコア!Q441),\"\"),\"\")","v":""},{"$f":"IF(H$1<>\"\",IF($A439<>\"\",COUNT(カテゴリースコア!R441),\"\"),\"\")","v":""},{"$f":"IF(I$1<>\"\",IF($A439<>\"\",COUNT(カテゴリースコア!S441),\"\"),\"\")","v":""},{"$f":"IF(J$1<>\"\",IF($A439<>\"\",COUNT(カテゴリースコア!T441),\"\"),\"\")","v":""},{"$f":"IF(K$1<>\"\",IF($A439<>\"\",COUNT(カテゴリースコア!U441),\"\"),\"\")","v":""}]
[{"$f":"IF(データセット1!C440<>\"\",データセット1!C440,\"\")","v":""},{"$f":"IF(データセット1!C440<>\"\",データセット1!D440-カテゴリースコア!$E$11,\"\")","v":""},{"$f":"IF(C$1<>\"\",IF($A440<>\"\",COUNT(カテゴリースコア!M442),\"\"),\"\")","v":""},{"$f":"IF(D$1<>\"\",IF($A440<>\"\",COUNT(カテゴリースコア!N442),\"\"),\"\")","v":""},{"$f":"IF(E$1<>\"\",IF($A440<>\"\",COUNT(カテゴリースコア!O442),\"\"),\"\")","v":""},{"$f":"IF(F$1<>\"\",IF($A440<>\"\",COUNT(カテゴリースコア!P442),\"\"),\"\")","v":""},{"$f":"IF(G$1<>\"\",IF($A440<>\"\",COUNT(カテゴリースコア!Q442),\"\"),\"\")","v":""},{"$f":"IF(H$1<>\"\",IF($A440<>\"\",COUNT(カテゴリースコア!R442),\"\"),\"\")","v":""},{"$f":"IF(I$1<>\"\",IF($A440<>\"\",COUNT(カテゴリースコア!S442),\"\"),\"\")","v":""},{"$f":"IF(J$1<>\"\",IF($A440<>\"\",COUNT(カテゴリースコア!T442),\"\"),\"\")","v":""},{"$f":"IF(K$1<>\"\",IF($A440<>\"\",COUNT(カテゴリースコア!U442),\"\"),\"\")","v":""}]
[{"$f":"IF(データセット1!C441<>\"\",データセット1!C441,\"\")","v":""},{"$f":"IF(データセット1!C441<>\"\",データセット1!D441-カテゴリースコア!$E$11,\"\")","v":""},{"$f":"IF(C$1<>\"\",IF($A441<>\"\",COUNT(カテゴリースコア!M443),\"\"),\"\")","v":""},{"$f":"IF(D$1<>\"\",IF($A441<>\"\",COUNT(カテゴリースコア!N443),\"\"),\"\")","v":""},{"$f":"IF(E$1<>\"\",IF($A441<>\"\",COUNT(カテゴリースコア!O443),\"\"),\"\")","v":""},{"$f":"IF(F$1<>\"\",IF($A441<>\"\",COUNT(カテゴリースコア!P443),\"\"),\"\")","v":""},{"$f":"IF(G$1<>\"\",IF($A441<>\"\",COUNT(カテゴリースコア!Q443),\"\"),\"\")","v":""},{"$f":"IF(H$1<>\"\",IF($A441<>\"\",COUNT(カテゴリースコア!R443),\"\"),\"\")","v":""},{"$f":"IF(I$1<>\"\",IF($A441<>\"\",COUNT(カテゴリースコア!S443),\"\"),\"\")","v":""},{"$f":"IF(J$1<>\"\",IF($A441<>\"\",COUNT(カテゴリースコア!T443),\"\"),\"\")","v":""},{"$f":"IF(K$1<>\"\",IF($A441<>\"\",COUNT(カテゴリースコア!U443),\"\"),\"\")","v":""}]
[{"$f":"IF(データセット1!C442<>\"\",データセット1!C442,\"\")","v":""},{"$f":"IF(データセット1!C442<>\"\",データセット1!D442-カテゴリースコア!$E$11,\"\")","v":""},{"$f":"IF(C$1<>\"\",IF($A442<>\"\",COUNT(カテゴリースコア!M444),\"\"),\"\")","v":""},{"$f":"IF(D$1<>\"\",IF($A442<>\"\",COUNT(カテゴリースコア!N444),\"\"),\"\")","v":""},{"$f":"IF(E$1<>\"\",IF($A442<>\"\",COUNT(カテゴリースコア!O444),\"\"),\"\")","v":""},{"$f":"IF(F$1<>\"\",IF($A442<>\"\",COUNT(カテゴリースコア!P444),\"\"),\"\")","v":""},{"$f":"IF(G$1<>\"\",IF($A442<>\"\",COUNT(カテゴリースコア!Q444),\"\"),\"\")","v":""},{"$f":"IF(H$1<>\"\",IF($A442<>\"\",COUNT(カテゴリースコア!R444),\"\"),\"\")","v":""},{"$f":"IF(I$1<>\"\",IF($A442<>\"\",COUNT(カテゴリースコア!S444),\"\"),\"\")","v":""},{"$f":"IF(J$1<>\"\",IF($A442<>\"\",COUNT(カテゴリースコア!T444),\"\"),\"\")","v":""},{"$f":"IF(K$1<>\"\",IF($A442<>\"\",COUNT(カテゴリースコア!U444),\"\"),\"\")","v":""}]
[{"$f":"IF(データセット1!C443<>\"\",データセット1!C443,\"\")","v":""},{"$f":"IF(データセット1!C443<>\"\",データセット1!D443-カテゴリースコア!$E$11,\"\")","v":""},{"$f":"IF(C$1<>\"\",IF($A443<>\"\",COUNT(カテゴリースコア!M445),\"\"),\"\")","v":""},{"$f":"IF(D$1<>\"\",IF($A443<>\"\",COUNT(カテゴリースコア!N445),\"\"),\"\")","v":""},{"$f":"IF(E$1<>\"\",IF($A443<>\"\",COUNT(カテゴリースコア!O445),\"\"),\"\")","v":""},{"$f":"IF(F$1<>\"\",IF($A443<>\"\",COUNT(カテゴリースコア!P445),\"\"),\"\")","v":""},{"$f":"IF(G$1<>\"\",IF($A443<>\"\",COUNT(カテゴリースコア!Q445),\"\"),\"\")","v":""},{"$f":"IF(H$1<>\"\",IF($A443<>\"\",COUNT(カテゴリースコア!R445),\"\"),\"\")","v":""},{"$f":"IF(I$1<>\"\",IF($A443<>\"\",COUNT(カテゴリースコア!S445),\"\"),\"\")","v":""},{"$f":"IF(J$1<>\"\",IF($A443<>\"\",COUNT(カテゴリースコア!T445),\"\"),\"\")","v":""},{"$f":"IF(K$1<>\"\",IF($A443<>\"\",COUNT(カテゴリースコア!U445),\"\"),\"\")","v":""}]
[{"$f":"IF(データセット1!C444<>\"\",データセット1!C444,\"\")","v":""},{"$f":"IF(データセット1!C444<>\"\",データセット1!D444-カテゴリースコア!$E$11,\"\")","v":""},{"$f":"IF(C$1<>\"\",IF($A444<>\"\",COUNT(カテゴリースコア!M446),\"\"),\"\")","v":""},{"$f":"IF(D$1<>\"\",IF($A444<>\"\",COUNT(カテゴリースコア!N446),\"\"),\"\")","v":""},{"$f":"IF(E$1<>\"\",IF($A444<>\"\",COUNT(カテゴリースコア!O446),\"\"),\"\")","v":""},{"$f":"IF(F$1<>\"\",IF($A444<>\"\",COUNT(カテゴリースコア!P446),\"\"),\"\")","v":""},{"$f":"IF(G$1<>\"\",IF($A444<>\"\",COUNT(カテゴリースコア!Q446),\"\"),\"\")","v":""},{"$f":"IF(H$1<>\"\",IF($A444<>\"\",COUNT(カテゴリースコア!R446),\"\"),\"\")","v":""},{"$f":"IF(I$1<>\"\",IF($A444<>\"\",COUNT(カテゴリースコア!S446),\"\"),\"\")","v":""},{"$f":"IF(J$1<>\"\",IF($A444<>\"\",COUNT(カテゴリースコア!T446),\"\"),\"\")","v":""},{"$f":"IF(K$1<>\"\",IF($A444<>\"\",COUNT(カテゴリースコア!U446),\"\"),\"\")","v":""}]
[{"$f":"IF(データセット1!C445<>\"\",データセット1!C445,\"\")","v":""},{"$f":"IF(データセット1!C445<>\"\",データセット1!D445-カテゴリースコア!$E$11,\"\")","v":""},{"$f":"IF(C$1<>\"\",IF($A445<>\"\",COUNT(カテゴリースコア!M447),\"\"),\"\")","v":""},{"$f":"IF(D$1<>\"\",IF($A445<>\"\",COUNT(カテゴリースコア!N447),\"\"),\"\")","v":""},{"$f":"IF(E$1<>\"\",IF($A445<>\"\",COUNT(カテゴリースコア!O447),\"\"),\"\")","v":""},{"$f":"IF(F$1<>\"\",IF($A445<>\"\",COUNT(カテゴリースコア!P447),\"\"),\"\")","v":""},{"$f":"IF(G$1<>\"\",IF($A445<>\"\",COUNT(カテゴリースコア!Q447),\"\"),\"\")","v":""},{"$f":"IF(H$1<>\"\",IF($A445<>\"\",COUNT(カテゴリースコア!R447),\"\"),\"\")","v":""},{"$f":"IF(I$1<>\"\",IF($A445<>\"\",COUNT(カテゴリースコア!S447),\"\"),\"\")","v":""},{"$f":"IF(J$1<>\"\",IF($A445<>\"\",COUNT(カテゴリースコア!T447),\"\"),\"\")","v":""},{"$f":"IF(K$1<>\"\",IF($A445<>\"\",COUNT(カテゴリースコア!U447),\"\"),\"\")","v":""}]
[{"$f":"IF(データセット1!C446<>\"\",データセット1!C446,\"\")","v":""},{"$f":"IF(データセット1!C446<>\"\",データセット1!D446-カテゴリースコア!$E$11,\"\")","v":""},{"$f":"IF(C$1<>\"\",IF($A446<>\"\",COUNT(カテゴリースコア!M448),\"\"),\"\")","v":""},{"$f":"IF(D$1<>\"\",IF($A446<>\"\",COUNT(カテゴリースコア!N448),\"\"),\"\")","v":""},{"$f":"IF(E$1<>\"\",IF($A446<>\"\",COUNT(カテゴリースコア!O448),\"\"),\"\")","v":""},{"$f":"IF(F$1<>\"\",IF($A446<>\"\",COUNT(カテゴリースコア!P448),\"\"),\"\")","v":""},{"$f":"IF(G$1<>\"\",IF($A446<>\"\",COUNT(カテゴリースコア!Q448),\"\"),\"\")","v":""},{"$f":"IF(H$1<>\"\",IF($A446<>\"\",COUNT(カテゴリースコア!R448),\"\"),\"\")","v":""},{"$f":"IF(I$1<>\"\",IF($A446<>\"\",COUNT(カテゴリースコア!S448),\"\"),\"\")","v":""},{"$f":"IF(J$1<>\"\",IF($A446<>\"\",COUNT(カテゴリースコア!T448),\"\"),\"\")","v":""},{"$f":"IF(K$1<>\"\",IF($A446<>\"\",COUNT(カテゴリースコア!U448),\"\"),\"\")","v":""}]
[{"$f":"IF(データセット1!C447<>\"\",データセット1!C447,\"\")","v":""},{"$f":"IF(データセット1!C447<>\"\",データセット1!D447-カテゴリースコア!$E$11,\"\")","v":""},{"$f":"IF(C$1<>\"\",IF($A447<>\"\",COUNT(カテゴリースコア!M449),\"\"),\"\")","v":""},{"$f":"IF(D$1<>\"\",IF($A447<>\"\",COUNT(カテゴリースコア!N449),\"\"),\"\")","v":""},{"$f":"IF(E$1<>\"\",IF($A447<>\"\",COUNT(カテゴリースコア!O449),\"\"),\"\")","v":""},{"$f":"IF(F$1<>\"\",IF($A447<>\"\",COUNT(カテゴリースコア!P449),\"\"),\"\")","v":""},{"$f":"IF(G$1<>\"\",IF($A447<>\"\",COUNT(カテゴリースコア!Q449),\"\"),\"\")","v":""},{"$f":"IF(H$1<>\"\",IF($A447<>\"\",COUNT(カテゴリースコア!R449),\"\"),\"\")","v":""},{"$f":"IF(I$1<>\"\",IF($A447<>\"\",COUNT(カテゴリースコア!S449),\"\"),\"\")","v":""},{"$f":"IF(J$1<>\"\",IF($A447<>\"\",COUNT(カテゴリースコア!T449),\"\"),\"\")","v":""},{"$f":"IF(K$1<>\"\",IF($A447<>\"\",COUNT(カテゴリースコア!U449),\"\"),\"\")","v":""}]
[{"$f":"IF(データセット1!C448<>\"\",データセット1!C448,\"\")","v":""},{"$f":"IF(データセット1!C448<>\"\",データセット1!D448-カテゴリースコア!$E$11,\"\")","v":""},{"$f":"IF(C$1<>\"\",IF($A448<>\"\",COUNT(カテゴリースコア!M450),\"\"),\"\")","v":""},{"$f":"IF(D$1<>\"\",IF($A448<>\"\",COUNT(カテゴリースコア!N450),\"\"),\"\")","v":""},{"$f":"IF(E$1<>\"\",IF($A448<>\"\",COUNT(カテゴリースコア!O450),\"\"),\"\")","v":""},{"$f":"IF(F$1<>\"\",IF($A448<>\"\",COUNT(カテゴリースコア!P450),\"\"),\"\")","v":""},{"$f":"IF(G$1<>\"\",IF($A448<>\"\",COUNT(カテゴリースコア!Q450),\"\"),\"\")","v":""},{"$f":"IF(H$1<>\"\",IF($A448<>\"\",COUNT(カテゴリースコア!R450),\"\"),\"\")","v":""},{"$f":"IF(I$1<>\"\",IF($A448<>\"\",COUNT(カテゴリースコア!S450),\"\"),\"\")","v":""},{"$f":"IF(J$1<>\"\",IF($A448<>\"\",COUNT(カテゴリースコア!T450),\"\"),\"\")","v":""},{"$f":"IF(K$1<>\"\",IF($A448<>\"\",COUNT(カテゴリースコア!U450),\"\"),\"\")","v":""}]
[{"$f":"IF(データセット1!C449<>\"\",データセット1!C449,\"\")","v":""},{"$f":"IF(データセット1!C449<>\"\",データセット1!D449-カテゴリースコア!$E$11,\"\")","v":""},{"$f":"IF(C$1<>\"\",IF($A449<>\"\",COUNT(カテゴリースコア!M451),\"\"),\"\")","v":""},{"$f":"IF(D$1<>\"\",IF($A449<>\"\",COUNT(カテゴリースコア!N451),\"\"),\"\")","v":""},{"$f":"IF(E$1<>\"\",IF($A449<>\"\",COUNT(カテゴリースコア!O451),\"\"),\"\")","v":""},{"$f":"IF(F$1<>\"\",IF($A449<>\"\",COUNT(カテゴリースコア!P451),\"\"),\"\")","v":""},{"$f":"IF(G$1<>\"\",IF($A449<>\"\",COUNT(カテゴリースコア!Q451),\"\"),\"\")","v":""},{"$f":"IF(H$1<>\"\",IF($A449<>\"\",COUNT(カテゴリースコア!R451),\"\"),\"\")","v":""},{"$f":"IF(I$1<>\"\",IF($A449<>\"\",COUNT(カテゴリースコア!S451),\"\"),\"\")","v":""},{"$f":"IF(J$1<>\"\",IF($A449<>\"\",COUNT(カテゴリースコア!T451),\"\"),\"\")","v":""},{"$f":"IF(K$1<>\"\",IF($A449<>\"\",COUNT(カテゴリースコア!U451),\"\"),\"\")","v":""}]
[{"$f":"IF(データセット1!C450<>\"\",データセット1!C450,\"\")","v":""},{"$f":"IF(データセット1!C450<>\"\",データセット1!D450-カテゴリースコア!$E$11,\"\")","v":""},{"$f":"IF(C$1<>\"\",IF($A450<>\"\",COUNT(カテゴリースコア!M452),\"\"),\"\")","v":""},{"$f":"IF(D$1<>\"\",IF($A450<>\"\",COUNT(カテゴリースコア!N452),\"\"),\"\")","v":""},{"$f":"IF(E$1<>\"\",IF($A450<>\"\",COUNT(カテゴリースコア!O452),\"\"),\"\")","v":""},{"$f":"IF(F$1<>\"\",IF($A450<>\"\",COUNT(カテゴリースコア!P452),\"\"),\"\")","v":""},{"$f":"IF(G$1<>\"\",IF($A450<>\"\",COUNT(カテゴリースコア!Q452),\"\"),\"\")","v":""},{"$f":"IF(H$1<>\"\",IF($A450<>\"\",COUNT(カテゴリースコア!R452),\"\"),\"\")","v":""},{"$f":"IF(I$1<>\"\",IF($A450<>\"\",COUNT(カテゴリースコア!S452),\"\"),\"\")","v":""},{"$f":"IF(J$1<>\"\",IF($A450<>\"\",COUNT(カテゴリースコア!T452),\"\"),\"\")","v":""},{"$f":"IF(K$1<>\"\",IF($A450<>\"\",COUNT(カテゴリースコア!U452),\"\"),\"\")","v":""}]
[{"$f":"IF(データセット1!C451<>\"\",データセット1!C451,\"\")","v":""},{"$f":"IF(データセット1!C451<>\"\",データセット1!D451-カテゴリースコア!$E$11,\"\")","v":""},{"$f":"IF(C$1<>\"\",IF($A451<>\"\",COUNT(カテゴリースコア!M453),\"\"),\"\")","v":""},{"$f":"IF(D$1<>\"\",IF($A451<>\"\",COUNT(カテゴリースコア!N453),\"\"),\"\")","v":""},{"$f":"IF(E$1<>\"\",IF($A451<>\"\",COUNT(カテゴリースコア!O453),\"\"),\"\")","v":""},{"$f":"IF(F$1<>\"\",IF($A451<>\"\",COUNT(カテゴリースコア!P453),\"\"),\"\")","v":""},{"$f":"IF(G$1<>\"\",IF($A451<>\"\",COUNT(カテゴリースコア!Q453),\"\"),\"\")","v":""},{"$f":"IF(H$1<>\"\",IF($A451<>\"\",COUNT(カテゴリースコア!R453),\"\"),\"\")","v":""},{"$f":"IF(I$1<>\"\",IF($A451<>\"\",COUNT(カテゴリースコア!S453),\"\"),\"\")","v":""},{"$f":"IF(J$1<>\"\",IF($A451<>\"\",COUNT(カテゴリースコア!T453),\"\"),\"\")","v":""},{"$f":"IF(K$1<>\"\",IF($A451<>\"\",COUNT(カテゴリースコア!U453),\"\"),\"\")","v":""}]
[{"$f":"IF(データセット1!C452<>\"\",データセット1!C452,\"\")","v":""},{"$f":"IF(データセット1!C452<>\"\",データセット1!D452-カテゴリースコア!$E$11,\"\")","v":""},{"$f":"IF(C$1<>\"\",IF($A452<>\"\",COUNT(カテゴリースコア!M454),\"\"),\"\")","v":""},{"$f":"IF(D$1<>\"\",IF($A452<>\"\",COUNT(カテゴリースコア!N454),\"\"),\"\")","v":""},{"$f":"IF(E$1<>\"\",IF($A452<>\"\",COUNT(カテゴリースコア!O454),\"\"),\"\")","v":""},{"$f":"IF(F$1<>\"\",IF($A452<>\"\",COUNT(カテゴリースコア!P454),\"\"),\"\")","v":""},{"$f":"IF(G$1<>\"\",IF($A452<>\"\",COUNT(カテゴリースコア!Q454),\"\"),\"\")","v":""},{"$f":"IF(H$1<>\"\",IF($A452<>\"\",COUNT(カテゴリースコア!R454),\"\"),\"\")","v":""},{"$f":"IF(I$1<>\"\",IF($A452<>\"\",COUNT(カテゴリースコア!S454),\"\"),\"\")","v":""},{"$f":"IF(J$1<>\"\",IF($A452<>\"\",COUNT(カテゴリースコア!T454),\"\"),\"\")","v":""},{"$f":"IF(K$1<>\"\",IF($A452<>\"\",COUNT(カテゴリースコア!U454),\"\"),\"\")","v":""}]
[{"$f":"IF(データセット1!C453<>\"\",データセット1!C453,\"\")","v":""},{"$f":"IF(データセット1!C453<>\"\",データセット1!D453-カテゴリースコア!$E$11,\"\")","v":""},{"$f":"IF(C$1<>\"\",IF($A453<>\"\",COUNT(カテゴリースコア!M455),\"\"),\"\")","v":""},{"$f":"IF(D$1<>\"\",IF($A453<>\"\",COUNT(カテゴリースコア!N455),\"\"),\"\")","v":""},{"$f":"IF(E$1<>\"\",IF($A453<>\"\",COUNT(カテゴリースコア!O455),\"\"),\"\")","v":""},{"$f":"IF(F$1<>\"\",IF($A453<>\"\",COUNT(カテゴリースコア!P455),\"\"),\"\")","v":""},{"$f":"IF(G$1<>\"\",IF($A453<>\"\",COUNT(カテゴリースコア!Q455),\"\"),\"\")","v":""},{"$f":"IF(H$1<>\"\",IF($A453<>\"\",COUNT(カテゴリースコア!R455),\"\"),\"\")","v":""},{"$f":"IF(I$1<>\"\",IF($A453<>\"\",COUNT(カテゴリースコア!S455),\"\"),\"\")","v":""},{"$f":"IF(J$1<>\"\",IF($A453<>\"\",COUNT(カテゴリースコア!T455),\"\"),\"\")","v":""},{"$f":"IF(K$1<>\"\",IF($A453<>\"\",COUNT(カテゴリースコア!U455),\"\"),\"\")","v":""}]
[{"$f":"IF(データセット1!C454<>\"\",データセット1!C454,\"\")","v":""},{"$f":"IF(データセット1!C454<>\"\",データセット1!D454-カテゴリースコア!$E$11,\"\")","v":""},{"$f":"IF(C$1<>\"\",IF($A454<>\"\",COUNT(カテゴリースコア!M456),\"\"),\"\")","v":""},{"$f":"IF(D$1<>\"\",IF($A454<>\"\",COUNT(カテゴリースコア!N456),\"\"),\"\")","v":""},{"$f":"IF(E$1<>\"\",IF($A454<>\"\",COUNT(カテゴリースコア!O456),\"\"),\"\")","v":""},{"$f":"IF(F$1<>\"\",IF($A454<>\"\",COUNT(カテゴリースコア!P456),\"\"),\"\")","v":""},{"$f":"IF(G$1<>\"\",IF($A454<>\"\",COUNT(カテゴリースコア!Q456),\"\"),\"\")","v":""},{"$f":"IF(H$1<>\"\",IF($A454<>\"\",COUNT(カテゴリースコア!R456),\"\"),\"\")","v":""},{"$f":"IF(I$1<>\"\",IF($A454<>\"\",COUNT(カテゴリースコア!S456),\"\"),\"\")","v":""},{"$f":"IF(J$1<>\"\",IF($A454<>\"\",COUNT(カテゴリースコア!T456),\"\"),\"\")","v":""},{"$f":"IF(K$1<>\"\",IF($A454<>\"\",COUNT(カテゴリースコア!U456),\"\"),\"\")","v":""}]
[{"$f":"IF(データセット1!C455<>\"\",データセット1!C455,\"\")","v":""},{"$f":"IF(データセット1!C455<>\"\",データセット1!D455-カテゴリースコア!$E$11,\"\")","v":""},{"$f":"IF(C$1<>\"\",IF($A455<>\"\",COUNT(カテゴリースコア!M457),\"\"),\"\")","v":""},{"$f":"IF(D$1<>\"\",IF($A455<>\"\",COUNT(カテゴリースコア!N457),\"\"),\"\")","v":""},{"$f":"IF(E$1<>\"\",IF($A455<>\"\",COUNT(カテゴリースコア!O457),\"\"),\"\")","v":""},{"$f":"IF(F$1<>\"\",IF($A455<>\"\",COUNT(カテゴリースコア!P457),\"\"),\"\")","v":""},{"$f":"IF(G$1<>\"\",IF($A455<>\"\",COUNT(カテゴリースコア!Q457),\"\"),\"\")","v":""},{"$f":"IF(H$1<>\"\",IF($A455<>\"\",COUNT(カテゴリースコア!R457),\"\"),\"\")","v":""},{"$f":"IF(I$1<>\"\",IF($A455<>\"\",COUNT(カテゴリースコア!S457),\"\"),\"\")","v":""},{"$f":"IF(J$1<>\"\",IF($A455<>\"\",COUNT(カテゴリースコア!T457),\"\"),\"\")","v":""},{"$f":"IF(K$1<>\"\",IF($A455<>\"\",COUNT(カテゴリースコア!U457),\"\"),\"\")","v":""}]
[{"$f":"IF(データセット1!C456<>\"\",データセット1!C456,\"\")","v":""},{"$f":"IF(データセット1!C456<>\"\",データセット1!D456-カテゴリースコア!$E$11,\"\")","v":""},{"$f":"IF(C$1<>\"\",IF($A456<>\"\",COUNT(カテゴリースコア!M458),\"\"),\"\")","v":""},{"$f":"IF(D$1<>\"\",IF($A456<>\"\",COUNT(カテゴリースコア!N458),\"\"),\"\")","v":""},{"$f":"IF(E$1<>\"\",IF($A456<>\"\",COUNT(カテゴリースコア!O458),\"\"),\"\")","v":""},{"$f":"IF(F$1<>\"\",IF($A456<>\"\",COUNT(カテゴリースコア!P458),\"\"),\"\")","v":""},{"$f":"IF(G$1<>\"\",IF($A456<>\"\",COUNT(カテゴリースコア!Q458),\"\"),\"\")","v":""},{"$f":"IF(H$1<>\"\",IF($A456<>\"\",COUNT(カテゴリースコア!R458),\"\"),\"\")","v":""},{"$f":"IF(I$1<>\"\",IF($A456<>\"\",COUNT(カテゴリースコア!S458),\"\"),\"\")","v":""},{"$f":"IF(J$1<>\"\",IF($A456<>\"\",COUNT(カテゴリースコア!T458),\"\"),\"\")","v":""},{"$f":"IF(K$1<>\"\",IF($A456<>\"\",COUNT(カテゴリースコア!U458),\"\"),\"\")","v":""}]
[{"$f":"IF(データセット1!C457<>\"\",データセット1!C457,\"\")","v":""},{"$f":"IF(データセット1!C457<>\"\",データセット1!D457-カテゴリースコア!$E$11,\"\")","v":""},{"$f":"IF(C$1<>\"\",IF($A457<>\"\",COUNT(カテゴリースコア!M459),\"\"),\"\")","v":""},{"$f":"IF(D$1<>\"\",IF($A457<>\"\",COUNT(カテゴリースコア!N459),\"\"),\"\")","v":""},{"$f":"IF(E$1<>\"\",IF($A457<>\"\",COUNT(カテゴリースコア!O459),\"\"),\"\")","v":""},{"$f":"IF(F$1<>\"\",IF($A457<>\"\",COUNT(カテゴリースコア!P459),\"\"),\"\")","v":""},{"$f":"IF(G$1<>\"\",IF($A457<>\"\",COUNT(カテゴリースコア!Q459),\"\"),\"\")","v":""},{"$f":"IF(H$1<>\"\",IF($A457<>\"\",COUNT(カテゴリースコア!R459),\"\"),\"\")","v":""},{"$f":"IF(I$1<>\"\",IF($A457<>\"\",COUNT(カテゴリースコア!S459),\"\"),\"\")","v":""},{"$f":"IF(J$1<>\"\",IF($A457<>\"\",COUNT(カテゴリースコア!T459),\"\"),\"\")","v":""},{"$f":"IF(K$1<>\"\",IF($A457<>\"\",COUNT(カテゴリースコア!U459),\"\"),\"\")","v":""}]
[{"$f":"IF(データセット1!C458<>\"\",データセット1!C458,\"\")","v":""},{"$f":"IF(データセット1!C458<>\"\",データセット1!D458-カテゴリースコア!$E$11,\"\")","v":""},{"$f":"IF(C$1<>\"\",IF($A458<>\"\",COUNT(カテゴリースコア!M460),\"\"),\"\")","v":""},{"$f":"IF(D$1<>\"\",IF($A458<>\"\",COUNT(カテゴリースコア!N460),\"\"),\"\")","v":""},{"$f":"IF(E$1<>\"\",IF($A458<>\"\",COUNT(カテゴリースコア!O460),\"\"),\"\")","v":""},{"$f":"IF(F$1<>\"\",IF($A458<>\"\",COUNT(カテゴリースコア!P460),\"\"),\"\")","v":""},{"$f":"IF(G$1<>\"\",IF($A458<>\"\",COUNT(カテゴリースコア!Q460),\"\"),\"\")","v":""},{"$f":"IF(H$1<>\"\",IF($A458<>\"\",COUNT(カテゴリースコア!R460),\"\"),\"\")","v":""},{"$f":"IF(I$1<>\"\",IF($A458<>\"\",COUNT(カテゴリースコア!S460),\"\"),\"\")","v":""},{"$f":"IF(J$1<>\"\",IF($A458<>\"\",COUNT(カテゴリースコア!T460),\"\"),\"\")","v":""},{"$f":"IF(K$1<>\"\",IF($A458<>\"\",COUNT(カテゴリースコア!U460),\"\"),\"\")","v":""}]
[{"$f":"IF(データセット1!C459<>\"\",データセット1!C459,\"\")","v":""},{"$f":"IF(データセット1!C459<>\"\",データセット1!D459-カテゴリースコア!$E$11,\"\")","v":""},{"$f":"IF(C$1<>\"\",IF($A459<>\"\",COUNT(カテゴリースコア!M461),\"\"),\"\")","v":""},{"$f":"IF(D$1<>\"\",IF($A459<>\"\",COUNT(カテゴリースコア!N461),\"\"),\"\")","v":""},{"$f":"IF(E$1<>\"\",IF($A459<>\"\",COUNT(カテゴリースコア!O461),\"\"),\"\")","v":""},{"$f":"IF(F$1<>\"\",IF($A459<>\"\",COUNT(カテゴリースコア!P461),\"\"),\"\")","v":""},{"$f":"IF(G$1<>\"\",IF($A459<>\"\",COUNT(カテゴリースコア!Q461),\"\"),\"\")","v":""},{"$f":"IF(H$1<>\"\",IF($A459<>\"\",COUNT(カテゴリースコア!R461),\"\"),\"\")","v":""},{"$f":"IF(I$1<>\"\",IF($A459<>\"\",COUNT(カテゴリースコア!S461),\"\"),\"\")","v":""},{"$f":"IF(J$1<>\"\",IF($A459<>\"\",COUNT(カテゴリースコア!T461),\"\"),\"\")","v":""},{"$f":"IF(K$1<>\"\",IF($A459<>\"\",COUNT(カテゴリースコア!U461),\"\"),\"\")","v":""}]
[{"$f":"IF(データセット1!C460<>\"\",データセット1!C460,\"\")","v":""},{"$f":"IF(データセット1!C460<>\"\",データセット1!D460-カテゴリースコア!$E$11,\"\")","v":""},{"$f":"IF(C$1<>\"\",IF($A460<>\"\",COUNT(カテゴリースコア!M462),\"\"),\"\")","v":""},{"$f":"IF(D$1<>\"\",IF($A460<>\"\",COUNT(カテゴリースコア!N462),\"\"),\"\")","v":""},{"$f":"IF(E$1<>\"\",IF($A460<>\"\",COUNT(カテゴリースコア!O462),\"\"),\"\")","v":""},{"$f":"IF(F$1<>\"\",IF($A460<>\"\",COUNT(カテゴリースコア!P462),\"\"),\"\")","v":""},{"$f":"IF(G$1<>\"\",IF($A460<>\"\",COUNT(カテゴリースコア!Q462),\"\"),\"\")","v":""},{"$f":"IF(H$1<>\"\",IF($A460<>\"\",COUNT(カテゴリースコア!R462),\"\"),\"\")","v":""},{"$f":"IF(I$1<>\"\",IF($A460<>\"\",COUNT(カテゴリースコア!S462),\"\"),\"\")","v":""},{"$f":"IF(J$1<>\"\",IF($A460<>\"\",COUNT(カテゴリースコア!T462),\"\"),\"\")","v":""},{"$f":"IF(K$1<>\"\",IF($A460<>\"\",COUNT(カテゴリースコア!U462),\"\"),\"\")","v":""}]
[{"$f":"IF(データセット1!C461<>\"\",データセット1!C461,\"\")","v":""},{"$f":"IF(データセット1!C461<>\"\",データセット1!D461-カテゴリースコア!$E$11,\"\")","v":""},{"$f":"IF(C$1<>\"\",IF($A461<>\"\",COUNT(カテゴリースコア!M463),\"\"),\"\")","v":""},{"$f":"IF(D$1<>\"\",IF($A461<>\"\",COUNT(カテゴリースコア!N463),\"\"),\"\")","v":""},{"$f":"IF(E$1<>\"\",IF($A461<>\"\",COUNT(カテゴリースコア!O463),\"\"),\"\")","v":""},{"$f":"IF(F$1<>\"\",IF($A461<>\"\",COUNT(カテゴリースコア!P463),\"\"),\"\")","v":""},{"$f":"IF(G$1<>\"\",IF($A461<>\"\",COUNT(カテゴリースコア!Q463),\"\"),\"\")","v":""},{"$f":"IF(H$1<>\"\",IF($A461<>\"\",COUNT(カテゴリースコア!R463),\"\"),\"\")","v":""},{"$f":"IF(I$1<>\"\",IF($A461<>\"\",COUNT(カテゴリースコア!S463),\"\"),\"\")","v":""},{"$f":"IF(J$1<>\"\",IF($A461<>\"\",COUNT(カテゴリースコア!T463),\"\"),\"\")","v":""},{"$f":"IF(K$1<>\"\",IF($A461<>\"\",COUNT(カテゴリースコア!U463),\"\"),\"\")","v":""}]
[{"$f":"IF(データセット1!C462<>\"\",データセット1!C462,\"\")","v":""},{"$f":"IF(データセット1!C462<>\"\",データセット1!D462-カテゴリースコア!$E$11,\"\")","v":""},{"$f":"IF(C$1<>\"\",IF($A462<>\"\",COUNT(カテゴリースコア!M464),\"\"),\"\")","v":""},{"$f":"IF(D$1<>\"\",IF($A462<>\"\",COUNT(カテゴリースコア!N464),\"\"),\"\")","v":""},{"$f":"IF(E$1<>\"\",IF($A462<>\"\",COUNT(カテゴリースコア!O464),\"\"),\"\")","v":""},{"$f":"IF(F$1<>\"\",IF($A462<>\"\",COUNT(カテゴリースコア!P464),\"\"),\"\")","v":""},{"$f":"IF(G$1<>\"\",IF($A462<>\"\",COUNT(カテゴリースコア!Q464),\"\"),\"\")","v":""},{"$f":"IF(H$1<>\"\",IF($A462<>\"\",COUNT(カテゴリースコア!R464),\"\"),\"\")","v":""},{"$f":"IF(I$1<>\"\",IF($A462<>\"\",COUNT(カテゴリースコア!S464),\"\"),\"\")","v":""},{"$f":"IF(J$1<>\"\",IF($A462<>\"\",COUNT(カテゴリースコア!T464),\"\"),\"\")","v":""},{"$f":"IF(K$1<>\"\",IF($A462<>\"\",COUNT(カテゴリースコア!U464),\"\"),\"\")","v":""}]
[{"$f":"IF(データセット1!C463<>\"\",データセット1!C463,\"\")","v":""},{"$f":"IF(データセット1!C463<>\"\",データセット1!D463-カテゴリースコア!$E$11,\"\")","v":""},{"$f":"IF(C$1<>\"\",IF($A463<>\"\",COUNT(カテゴリースコア!M465),\"\"),\"\")","v":""},{"$f":"IF(D$1<>\"\",IF($A463<>\"\",COUNT(カテゴリースコア!N465),\"\"),\"\")","v":""},{"$f":"IF(E$1<>\"\",IF($A463<>\"\",COUNT(カテゴリースコア!O465),\"\"),\"\")","v":""},{"$f":"IF(F$1<>\"\",IF($A463<>\"\",COUNT(カテゴリースコア!P465),\"\"),\"\")","v":""},{"$f":"IF(G$1<>\"\",IF($A463<>\"\",COUNT(カテゴリースコア!Q465),\"\"),\"\")","v":""},{"$f":"IF(H$1<>\"\",IF($A463<>\"\",COUNT(カテゴリースコア!R465),\"\"),\"\")","v":""},{"$f":"IF(I$1<>\"\",IF($A463<>\"\",COUNT(カテゴリースコア!S465),\"\"),\"\")","v":""},{"$f":"IF(J$1<>\"\",IF($A463<>\"\",COUNT(カテゴリースコア!T465),\"\"),\"\")","v":""},{"$f":"IF(K$1<>\"\",IF($A463<>\"\",COUNT(カテゴリースコア!U465),\"\"),\"\")","v":""}]
[{"$f":"IF(データセット1!C464<>\"\",データセット1!C464,\"\")","v":""},{"$f":"IF(データセット1!C464<>\"\",データセット1!D464-カテゴリースコア!$E$11,\"\")","v":""},{"$f":"IF(C$1<>\"\",IF($A464<>\"\",COUNT(カテゴリースコア!M466),\"\"),\"\")","v":""},{"$f":"IF(D$1<>\"\",IF($A464<>\"\",COUNT(カテゴリースコア!N466),\"\"),\"\")","v":""},{"$f":"IF(E$1<>\"\",IF($A464<>\"\",COUNT(カテゴリースコア!O466),\"\"),\"\")","v":""},{"$f":"IF(F$1<>\"\",IF($A464<>\"\",COUNT(カテゴリースコア!P466),\"\"),\"\")","v":""},{"$f":"IF(G$1<>\"\",IF($A464<>\"\",COUNT(カテゴリースコア!Q466),\"\"),\"\")","v":""},{"$f":"IF(H$1<>\"\",IF($A464<>\"\",COUNT(カテゴリースコア!R466),\"\"),\"\")","v":""},{"$f":"IF(I$1<>\"\",IF($A464<>\"\",COUNT(カテゴリースコア!S466),\"\"),\"\")","v":""},{"$f":"IF(J$1<>\"\",IF($A464<>\"\",COUNT(カテゴリースコア!T466),\"\"),\"\")","v":""},{"$f":"IF(K$1<>\"\",IF($A464<>\"\",COUNT(カテゴリースコア!U466),\"\"),\"\")","v":""}]
[{"$f":"IF(データセット1!C465<>\"\",データセット1!C465,\"\")","v":""},{"$f":"IF(データセット1!C465<>\"\",データセット1!D465-カテゴリースコア!$E$11,\"\")","v":""},{"$f":"IF(C$1<>\"\",IF($A465<>\"\",COUNT(カテゴリースコア!M467),\"\"),\"\")","v":""},{"$f":"IF(D$1<>\"\",IF($A465<>\"\",COUNT(カテゴリースコア!N467),\"\"),\"\")","v":""},{"$f":"IF(E$1<>\"\",IF($A465<>\"\",COUNT(カテゴリースコア!O467),\"\"),\"\")","v":""},{"$f":"IF(F$1<>\"\",IF($A465<>\"\",COUNT(カテゴリースコア!P467),\"\"),\"\")","v":""},{"$f":"IF(G$1<>\"\",IF($A465<>\"\",COUNT(カテゴリースコア!Q467),\"\"),\"\")","v":""},{"$f":"IF(H$1<>\"\",IF($A465<>\"\",COUNT(カテゴリースコア!R467),\"\"),\"\")","v":""},{"$f":"IF(I$1<>\"\",IF($A465<>\"\",COUNT(カテゴリースコア!S467),\"\"),\"\")","v":""},{"$f":"IF(J$1<>\"\",IF($A465<>\"\",COUNT(カテゴリースコア!T467),\"\"),\"\")","v":""},{"$f":"IF(K$1<>\"\",IF($A465<>\"\",COUNT(カテゴリースコア!U467),\"\"),\"\")","v":""}]
[{"$f":"IF(データセット1!C466<>\"\",データセット1!C466,\"\")","v":""},{"$f":"IF(データセット1!C466<>\"\",データセット1!D466-カテゴリースコア!$E$11,\"\")","v":""},{"$f":"IF(C$1<>\"\",IF($A466<>\"\",COUNT(カテゴリースコア!M468),\"\"),\"\")","v":""},{"$f":"IF(D$1<>\"\",IF($A466<>\"\",COUNT(カテゴリースコア!N468),\"\"),\"\")","v":""},{"$f":"IF(E$1<>\"\",IF($A466<>\"\",COUNT(カテゴリースコア!O468),\"\"),\"\")","v":""},{"$f":"IF(F$1<>\"\",IF($A466<>\"\",COUNT(カテゴリースコア!P468),\"\"),\"\")","v":""},{"$f":"IF(G$1<>\"\",IF($A466<>\"\",COUNT(カテゴリースコア!Q468),\"\"),\"\")","v":""},{"$f":"IF(H$1<>\"\",IF($A466<>\"\",COUNT(カテゴリースコア!R468),\"\"),\"\")","v":""},{"$f":"IF(I$1<>\"\",IF($A466<>\"\",COUNT(カテゴリースコア!S468),\"\"),\"\")","v":""},{"$f":"IF(J$1<>\"\",IF($A466<>\"\",COUNT(カテゴリースコア!T468),\"\"),\"\")","v":""},{"$f":"IF(K$1<>\"\",IF($A466<>\"\",COUNT(カテゴリースコア!U468),\"\"),\"\")","v":""}]
[{"$f":"IF(データセット1!C467<>\"\",データセット1!C467,\"\")","v":""},{"$f":"IF(データセット1!C467<>\"\",データセット1!D467-カテゴリースコア!$E$11,\"\")","v":""},{"$f":"IF(C$1<>\"\",IF($A467<>\"\",COUNT(カテゴリースコア!M469),\"\"),\"\")","v":""},{"$f":"IF(D$1<>\"\",IF($A467<>\"\",COUNT(カテゴリースコア!N469),\"\"),\"\")","v":""},{"$f":"IF(E$1<>\"\",IF($A467<>\"\",COUNT(カテゴリースコア!O469),\"\"),\"\")","v":""},{"$f":"IF(F$1<>\"\",IF($A467<>\"\",COUNT(カテゴリースコア!P469),\"\"),\"\")","v":""},{"$f":"IF(G$1<>\"\",IF($A467<>\"\",COUNT(カテゴリースコア!Q469),\"\"),\"\")","v":""},{"$f":"IF(H$1<>\"\",IF($A467<>\"\",COUNT(カテゴリースコア!R469),\"\"),\"\")","v":""},{"$f":"IF(I$1<>\"\",IF($A467<>\"\",COUNT(カテゴリースコア!S469),\"\"),\"\")","v":""},{"$f":"IF(J$1<>\"\",IF($A467<>\"\",COUNT(カテゴリースコア!T469),\"\"),\"\")","v":""},{"$f":"IF(K$1<>\"\",IF($A467<>\"\",COUNT(カテゴリースコア!U469),\"\"),\"\")","v":""}]
[{"$f":"IF(データセット1!C468<>\"\",データセット1!C468,\"\")","v":""},{"$f":"IF(データセット1!C468<>\"\",データセット1!D468-カテゴリースコア!$E$11,\"\")","v":""},{"$f":"IF(C$1<>\"\",IF($A468<>\"\",COUNT(カテゴリースコア!M470),\"\"),\"\")","v":""},{"$f":"IF(D$1<>\"\",IF($A468<>\"\",COUNT(カテゴリースコア!N470),\"\"),\"\")","v":""},{"$f":"IF(E$1<>\"\",IF($A468<>\"\",COUNT(カテゴリースコア!O470),\"\"),\"\")","v":""},{"$f":"IF(F$1<>\"\",IF($A468<>\"\",COUNT(カテゴリースコア!P470),\"\"),\"\")","v":""},{"$f":"IF(G$1<>\"\",IF($A468<>\"\",COUNT(カテゴリースコア!Q470),\"\"),\"\")","v":""},{"$f":"IF(H$1<>\"\",IF($A468<>\"\",COUNT(カテゴリースコア!R470),\"\"),\"\")","v":""},{"$f":"IF(I$1<>\"\",IF($A468<>\"\",COUNT(カテゴリースコア!S470),\"\"),\"\")","v":""},{"$f":"IF(J$1<>\"\",IF($A468<>\"\",COUNT(カテゴリースコア!T470),\"\"),\"\")","v":""},{"$f":"IF(K$1<>\"\",IF($A468<>\"\",COUNT(カテゴリースコア!U470),\"\"),\"\")","v":""}]
[{"$f":"IF(データセット1!C469<>\"\",データセット1!C469,\"\")","v":""},{"$f":"IF(データセット1!C469<>\"\",データセット1!D469-カテゴリースコア!$E$11,\"\")","v":""},{"$f":"IF(C$1<>\"\",IF($A469<>\"\",COUNT(カテゴリースコア!M471),\"\"),\"\")","v":""},{"$f":"IF(D$1<>\"\",IF($A469<>\"\",COUNT(カテゴリースコア!N471),\"\"),\"\")","v":""},{"$f":"IF(E$1<>\"\",IF($A469<>\"\",COUNT(カテゴリースコア!O471),\"\"),\"\")","v":""},{"$f":"IF(F$1<>\"\",IF($A469<>\"\",COUNT(カテゴリースコア!P471),\"\"),\"\")","v":""},{"$f":"IF(G$1<>\"\",IF($A469<>\"\",COUNT(カテゴリースコア!Q471),\"\"),\"\")","v":""},{"$f":"IF(H$1<>\"\",IF($A469<>\"\",COUNT(カテゴリースコア!R471),\"\"),\"\")","v":""},{"$f":"IF(I$1<>\"\",IF($A469<>\"\",COUNT(カテゴリースコア!S471),\"\"),\"\")","v":""},{"$f":"IF(J$1<>\"\",IF($A469<>\"\",COUNT(カテゴリースコア!T471),\"\"),\"\")","v":""},{"$f":"IF(K$1<>\"\",IF($A469<>\"\",COUNT(カテゴリースコア!U471),\"\"),\"\")","v":""}]
[{"$f":"IF(データセット1!C470<>\"\",データセット1!C470,\"\")","v":""},{"$f":"IF(データセット1!C470<>\"\",データセット1!D470-カテゴリースコア!$E$11,\"\")","v":""},{"$f":"IF(C$1<>\"\",IF($A470<>\"\",COUNT(カテゴリースコア!M472),\"\"),\"\")","v":""},{"$f":"IF(D$1<>\"\",IF($A470<>\"\",COUNT(カテゴリースコア!N472),\"\"),\"\")","v":""},{"$f":"IF(E$1<>\"\",IF($A470<>\"\",COUNT(カテゴリースコア!O472),\"\"),\"\")","v":""},{"$f":"IF(F$1<>\"\",IF($A470<>\"\",COUNT(カテゴリースコア!P472),\"\"),\"\")","v":""},{"$f":"IF(G$1<>\"\",IF($A470<>\"\",COUNT(カテゴリースコア!Q472),\"\"),\"\")","v":""},{"$f":"IF(H$1<>\"\",IF($A470<>\"\",COUNT(カテゴリースコア!R472),\"\"),\"\")","v":""},{"$f":"IF(I$1<>\"\",IF($A470<>\"\",COUNT(カテゴリースコア!S472),\"\"),\"\")","v":""},{"$f":"IF(J$1<>\"\",IF($A470<>\"\",COUNT(カテゴリースコア!T472),\"\"),\"\")","v":""},{"$f":"IF(K$1<>\"\",IF($A470<>\"\",COUNT(カテゴリースコア!U472),\"\"),\"\")","v":""}]
[{"$f":"IF(データセット1!C471<>\"\",データセット1!C471,\"\")","v":""},{"$f":"IF(データセット1!C471<>\"\",データセット1!D471-カテゴリースコア!$E$11,\"\")","v":""},{"$f":"IF(C$1<>\"\",IF($A471<>\"\",COUNT(カテゴリースコア!M473),\"\"),\"\")","v":""},{"$f":"IF(D$1<>\"\",IF($A471<>\"\",COUNT(カテゴリースコア!N473),\"\"),\"\")","v":""},{"$f":"IF(E$1<>\"\",IF($A471<>\"\",COUNT(カテゴリースコア!O473),\"\"),\"\")","v":""},{"$f":"IF(F$1<>\"\",IF($A471<>\"\",COUNT(カテゴリースコア!P473),\"\"),\"\")","v":""},{"$f":"IF(G$1<>\"\",IF($A471<>\"\",COUNT(カテゴリースコア!Q473),\"\"),\"\")","v":""},{"$f":"IF(H$1<>\"\",IF($A471<>\"\",COUNT(カテゴリースコア!R473),\"\"),\"\")","v":""},{"$f":"IF(I$1<>\"\",IF($A471<>\"\",COUNT(カテゴリースコア!S473),\"\"),\"\")","v":""},{"$f":"IF(J$1<>\"\",IF($A471<>\"\",COUNT(カテゴリースコア!T473),\"\"),\"\")","v":""},{"$f":"IF(K$1<>\"\",IF($A471<>\"\",COUNT(カテゴリースコア!U473),\"\"),\"\")","v":""}]
[{"$f":"IF(データセット1!C472<>\"\",データセット1!C472,\"\")","v":""},{"$f":"IF(データセット1!C472<>\"\",データセット1!D472-カテゴリースコア!$E$11,\"\")","v":""},{"$f":"IF(C$1<>\"\",IF($A472<>\"\",COUNT(カテゴリースコア!M474),\"\"),\"\")","v":""},{"$f":"IF(D$1<>\"\",IF($A472<>\"\",COUNT(カテゴリースコア!N474),\"\"),\"\")","v":""},{"$f":"IF(E$1<>\"\",IF($A472<>\"\",COUNT(カテゴリースコア!O474),\"\"),\"\")","v":""},{"$f":"IF(F$1<>\"\",IF($A472<>\"\",COUNT(カテゴリースコア!P474),\"\"),\"\")","v":""},{"$f":"IF(G$1<>\"\",IF($A472<>\"\",COUNT(カテゴリースコア!Q474),\"\"),\"\")","v":""},{"$f":"IF(H$1<>\"\",IF($A472<>\"\",COUNT(カテゴリースコア!R474),\"\"),\"\")","v":""},{"$f":"IF(I$1<>\"\",IF($A472<>\"\",COUNT(カテゴリースコア!S474),\"\"),\"\")","v":""},{"$f":"IF(J$1<>\"\",IF($A472<>\"\",COUNT(カテゴリースコア!T474),\"\"),\"\")","v":""},{"$f":"IF(K$1<>\"\",IF($A472<>\"\",COUNT(カテゴリースコア!U474),\"\"),\"\")","v":""}]
[{"$f":"IF(データセット1!C473<>\"\",データセット1!C473,\"\")","v":""},{"$f":"IF(データセット1!C473<>\"\",データセット1!D473-カテゴリースコア!$E$11,\"\")","v":""},{"$f":"IF(C$1<>\"\",IF($A473<>\"\",COUNT(カテゴリースコア!M475),\"\"),\"\")","v":""},{"$f":"IF(D$1<>\"\",IF($A473<>\"\",COUNT(カテゴリースコア!N475),\"\"),\"\")","v":""},{"$f":"IF(E$1<>\"\",IF($A473<>\"\",COUNT(カテゴリースコア!O475),\"\"),\"\")","v":""},{"$f":"IF(F$1<>\"\",IF($A473<>\"\",COUNT(カテゴリースコア!P475),\"\"),\"\")","v":""},{"$f":"IF(G$1<>\"\",IF($A473<>\"\",COUNT(カテゴリースコア!Q475),\"\"),\"\")","v":""},{"$f":"IF(H$1<>\"\",IF($A473<>\"\",COUNT(カテゴリースコア!R475),\"\"),\"\")","v":""},{"$f":"IF(I$1<>\"\",IF($A473<>\"\",COUNT(カテゴリースコア!S475),\"\"),\"\")","v":""},{"$f":"IF(J$1<>\"\",IF($A473<>\"\",COUNT(カテゴリースコア!T475),\"\"),\"\")","v":""},{"$f":"IF(K$1<>\"\",IF($A473<>\"\",COUNT(カテゴリースコア!U475),\"\"),\"\")","v":""}]
[{"$f":"IF(データセット1!C474<>\"\",データセット1!C474,\"\")","v":""},{"$f":"IF(データセット1!C474<>\"\",データセット1!D474-カテゴリースコア!$E$11,\"\")","v":""},{"$f":"IF(C$1<>\"\",IF($A474<>\"\",COUNT(カテゴリースコア!M476),\"\"),\"\")","v":""},{"$f":"IF(D$1<>\"\",IF($A474<>\"\",COUNT(カテゴリースコア!N476),\"\"),\"\")","v":""},{"$f":"IF(E$1<>\"\",IF($A474<>\"\",COUNT(カテゴリースコア!O476),\"\"),\"\")","v":""},{"$f":"IF(F$1<>\"\",IF($A474<>\"\",COUNT(カテゴリースコア!P476),\"\"),\"\")","v":""},{"$f":"IF(G$1<>\"\",IF($A474<>\"\",COUNT(カテゴリースコア!Q476),\"\"),\"\")","v":""},{"$f":"IF(H$1<>\"\",IF($A474<>\"\",COUNT(カテゴリースコア!R476),\"\"),\"\")","v":""},{"$f":"IF(I$1<>\"\",IF($A474<>\"\",COUNT(カテゴリースコア!S476),\"\"),\"\")","v":""},{"$f":"IF(J$1<>\"\",IF($A474<>\"\",COUNT(カテゴリースコア!T476),\"\"),\"\")","v":""},{"$f":"IF(K$1<>\"\",IF($A474<>\"\",COUNT(カテゴリースコア!U476),\"\"),\"\")","v":""}]
[{"$f":"IF(データセット1!C475<>\"\",データセット1!C475,\"\")","v":""},{"$f":"IF(データセット1!C475<>\"\",データセット1!D475-カテゴリースコア!$E$11,\"\")","v":""},{"$f":"IF(C$1<>\"\",IF($A475<>\"\",COUNT(カテゴリースコア!M477),\"\"),\"\")","v":""},{"$f":"IF(D$1<>\"\",IF($A475<>\"\",COUNT(カテゴリースコア!N477),\"\"),\"\")","v":""},{"$f":"IF(E$1<>\"\",IF($A475<>\"\",COUNT(カテゴリースコア!O477),\"\"),\"\")","v":""},{"$f":"IF(F$1<>\"\",IF($A475<>\"\",COUNT(カテゴリースコア!P477),\"\"),\"\")","v":""},{"$f":"IF(G$1<>\"\",IF($A475<>\"\",COUNT(カテゴリースコア!Q477),\"\"),\"\")","v":""},{"$f":"IF(H$1<>\"\",IF($A475<>\"\",COUNT(カテゴリースコア!R477),\"\"),\"\")","v":""},{"$f":"IF(I$1<>\"\",IF($A475<>\"\",COUNT(カテゴリースコア!S477),\"\"),\"\")","v":""},{"$f":"IF(J$1<>\"\",IF($A475<>\"\",COUNT(カテゴリースコア!T477),\"\"),\"\")","v":""},{"$f":"IF(K$1<>\"\",IF($A475<>\"\",COUNT(カテゴリースコア!U477),\"\"),\"\")","v":""}]
[{"$f":"IF(データセット1!C476<>\"\",データセット1!C476,\"\")","v":""},{"$f":"IF(データセット1!C476<>\"\",データセット1!D476-カテゴリースコア!$E$11,\"\")","v":""},{"$f":"IF(C$1<>\"\",IF($A476<>\"\",COUNT(カテゴリースコア!M478),\"\"),\"\")","v":""},{"$f":"IF(D$1<>\"\",IF($A476<>\"\",COUNT(カテゴリースコア!N478),\"\"),\"\")","v":""},{"$f":"IF(E$1<>\"\",IF($A476<>\"\",COUNT(カテゴリースコア!O478),\"\"),\"\")","v":""},{"$f":"IF(F$1<>\"\",IF($A476<>\"\",COUNT(カテゴリースコア!P478),\"\"),\"\")","v":""},{"$f":"IF(G$1<>\"\",IF($A476<>\"\",COUNT(カテゴリースコア!Q478),\"\"),\"\")","v":""},{"$f":"IF(H$1<>\"\",IF($A476<>\"\",COUNT(カテゴリースコア!R478),\"\"),\"\")","v":""},{"$f":"IF(I$1<>\"\",IF($A476<>\"\",COUNT(カテゴリースコア!S478),\"\"),\"\")","v":""},{"$f":"IF(J$1<>\"\",IF($A476<>\"\",COUNT(カテゴリースコア!T478),\"\"),\"\")","v":""},{"$f":"IF(K$1<>\"\",IF($A476<>\"\",COUNT(カテゴリースコア!U478),\"\"),\"\")","v":""}]
[{"$f":"IF(データセット1!C477<>\"\",データセット1!C477,\"\")","v":""},{"$f":"IF(データセット1!C477<>\"\",データセット1!D477-カテゴリースコア!$E$11,\"\")","v":""},{"$f":"IF(C$1<>\"\",IF($A477<>\"\",COUNT(カテゴリースコア!M479),\"\"),\"\")","v":""},{"$f":"IF(D$1<>\"\",IF($A477<>\"\",COUNT(カテゴリースコア!N479),\"\"),\"\")","v":""},{"$f":"IF(E$1<>\"\",IF($A477<>\"\",COUNT(カテゴリースコア!O479),\"\"),\"\")","v":""},{"$f":"IF(F$1<>\"\",IF($A477<>\"\",COUNT(カテゴリースコア!P479),\"\"),\"\")","v":""},{"$f":"IF(G$1<>\"\",IF($A477<>\"\",COUNT(カテゴリースコア!Q479),\"\"),\"\")","v":""},{"$f":"IF(H$1<>\"\",IF($A477<>\"\",COUNT(カテゴリースコア!R479),\"\"),\"\")","v":""},{"$f":"IF(I$1<>\"\",IF($A477<>\"\",COUNT(カテゴリースコア!S479),\"\"),\"\")","v":""},{"$f":"IF(J$1<>\"\",IF($A477<>\"\",COUNT(カテゴリースコア!T479),\"\"),\"\")","v":""},{"$f":"IF(K$1<>\"\",IF($A477<>\"\",COUNT(カテゴリースコア!U479),\"\"),\"\")","v":""}]
[{"$f":"IF(データセット1!C478<>\"\",データセット1!C478,\"\")","v":""},{"$f":"IF(データセット1!C478<>\"\",データセット1!D478-カテゴリースコア!$E$11,\"\")","v":""},{"$f":"IF(C$1<>\"\",IF($A478<>\"\",COUNT(カテゴリースコア!M480),\"\"),\"\")","v":""},{"$f":"IF(D$1<>\"\",IF($A478<>\"\",COUNT(カテゴリースコア!N480),\"\"),\"\")","v":""},{"$f":"IF(E$1<>\"\",IF($A478<>\"\",COUNT(カテゴリースコア!O480),\"\"),\"\")","v":""},{"$f":"IF(F$1<>\"\",IF($A478<>\"\",COUNT(カテゴリースコア!P480),\"\"),\"\")","v":""},{"$f":"IF(G$1<>\"\",IF($A478<>\"\",COUNT(カテゴリースコア!Q480),\"\"),\"\")","v":""},{"$f":"IF(H$1<>\"\",IF($A478<>\"\",COUNT(カテゴリースコア!R480),\"\"),\"\")","v":""},{"$f":"IF(I$1<>\"\",IF($A478<>\"\",COUNT(カテゴリースコア!S480),\"\"),\"\")","v":""},{"$f":"IF(J$1<>\"\",IF($A478<>\"\",COUNT(カテゴリースコア!T480),\"\"),\"\")","v":""},{"$f":"IF(K$1<>\"\",IF($A478<>\"\",COUNT(カテゴリースコア!U480),\"\"),\"\")","v":""}]
[{"$f":"IF(データセット1!C479<>\"\",データセット1!C479,\"\")","v":""},{"$f":"IF(データセット1!C479<>\"\",データセット1!D479-カテゴリースコア!$E$11,\"\")","v":""},{"$f":"IF(C$1<>\"\",IF($A479<>\"\",COUNT(カテゴリースコア!M481),\"\"),\"\")","v":""},{"$f":"IF(D$1<>\"\",IF($A479<>\"\",COUNT(カテゴリースコア!N481),\"\"),\"\")","v":""},{"$f":"IF(E$1<>\"\",IF($A479<>\"\",COUNT(カテゴリースコア!O481),\"\"),\"\")","v":""},{"$f":"IF(F$1<>\"\",IF($A479<>\"\",COUNT(カテゴリースコア!P481),\"\"),\"\")","v":""},{"$f":"IF(G$1<>\"\",IF($A479<>\"\",COUNT(カテゴリースコア!Q481),\"\"),\"\")","v":""},{"$f":"IF(H$1<>\"\",IF($A479<>\"\",COUNT(カテゴリースコア!R481),\"\"),\"\")","v":""},{"$f":"IF(I$1<>\"\",IF($A479<>\"\",COUNT(カテゴリースコア!S481),\"\"),\"\")","v":""},{"$f":"IF(J$1<>\"\",IF($A479<>\"\",COUNT(カテゴリースコア!T481),\"\"),\"\")","v":""},{"$f":"IF(K$1<>\"\",IF($A479<>\"\",COUNT(カテゴリースコア!U481),\"\"),\"\")","v":""}]
[{"$f":"IF(データセット1!C480<>\"\",データセット1!C480,\"\")","v":""},{"$f":"IF(データセット1!C480<>\"\",データセット1!D480-カテゴリースコア!$E$11,\"\")","v":""},{"$f":"IF(C$1<>\"\",IF($A480<>\"\",COUNT(カテゴリースコア!M482),\"\"),\"\")","v":""},{"$f":"IF(D$1<>\"\",IF($A480<>\"\",COUNT(カテゴリースコア!N482),\"\"),\"\")","v":""},{"$f":"IF(E$1<>\"\",IF($A480<>\"\",COUNT(カテゴリースコア!O482),\"\"),\"\")","v":""},{"$f":"IF(F$1<>\"\",IF($A480<>\"\",COUNT(カテゴリースコア!P482),\"\"),\"\")","v":""},{"$f":"IF(G$1<>\"\",IF($A480<>\"\",COUNT(カテゴリースコア!Q482),\"\"),\"\")","v":""},{"$f":"IF(H$1<>\"\",IF($A480<>\"\",COUNT(カテゴリースコア!R482),\"\"),\"\")","v":""},{"$f":"IF(I$1<>\"\",IF($A480<>\"\",COUNT(カテゴリースコア!S482),\"\"),\"\")","v":""},{"$f":"IF(J$1<>\"\",IF($A480<>\"\",COUNT(カテゴリースコア!T482),\"\"),\"\")","v":""},{"$f":"IF(K$1<>\"\",IF($A480<>\"\",COUNT(カテゴリースコア!U482),\"\"),\"\")","v":""}]
[{"$f":"IF(データセット1!C481<>\"\",データセット1!C481,\"\")","v":""},{"$f":"IF(データセット1!C481<>\"\",データセット1!D481-カテゴリースコア!$E$11,\"\")","v":""},{"$f":"IF(C$1<>\"\",IF($A481<>\"\",COUNT(カテゴリースコア!M483),\"\"),\"\")","v":""},{"$f":"IF(D$1<>\"\",IF($A481<>\"\",COUNT(カテゴリースコア!N483),\"\"),\"\")","v":""},{"$f":"IF(E$1<>\"\",IF($A481<>\"\",COUNT(カテゴリースコア!O483),\"\"),\"\")","v":""},{"$f":"IF(F$1<>\"\",IF($A481<>\"\",COUNT(カテゴリースコア!P483),\"\"),\"\")","v":""},{"$f":"IF(G$1<>\"\",IF($A481<>\"\",COUNT(カテゴリースコア!Q483),\"\"),\"\")","v":""},{"$f":"IF(H$1<>\"\",IF($A481<>\"\",COUNT(カテゴリースコア!R483),\"\"),\"\")","v":""},{"$f":"IF(I$1<>\"\",IF($A481<>\"\",COUNT(カテゴリースコア!S483),\"\"),\"\")","v":""},{"$f":"IF(J$1<>\"\",IF($A481<>\"\",COUNT(カテゴリースコア!T483),\"\"),\"\")","v":""},{"$f":"IF(K$1<>\"\",IF($A481<>\"\",COUNT(カテゴリースコア!U483),\"\"),\"\")","v":""}]
[{"$f":"IF(データセット1!C482<>\"\",データセット1!C482,\"\")","v":""},{"$f":"IF(データセット1!C482<>\"\",データセット1!D482-カテゴリースコア!$E$11,\"\")","v":""},{"$f":"IF(C$1<>\"\",IF($A482<>\"\",COUNT(カテゴリースコア!M484),\"\"),\"\")","v":""},{"$f":"IF(D$1<>\"\",IF($A482<>\"\",COUNT(カテゴリースコア!N484),\"\"),\"\")","v":""},{"$f":"IF(E$1<>\"\",IF($A482<>\"\",COUNT(カテゴリースコア!O484),\"\"),\"\")","v":""},{"$f":"IF(F$1<>\"\",IF($A482<>\"\",COUNT(カテゴリースコア!P484),\"\"),\"\")","v":""},{"$f":"IF(G$1<>\"\",IF($A482<>\"\",COUNT(カテゴリースコア!Q484),\"\"),\"\")","v":""},{"$f":"IF(H$1<>\"\",IF($A482<>\"\",COUNT(カテゴリースコア!R484),\"\"),\"\")","v":""},{"$f":"IF(I$1<>\"\",IF($A482<>\"\",COUNT(カテゴリースコア!S484),\"\"),\"\")","v":""},{"$f":"IF(J$1<>\"\",IF($A482<>\"\",COUNT(カテゴリースコア!T484),\"\"),\"\")","v":""},{"$f":"IF(K$1<>\"\",IF($A482<>\"\",COUNT(カテゴリースコア!U484),\"\"),\"\")","v":""}]
[{"$f":"IF(データセット1!C483<>\"\",データセット1!C483,\"\")","v":""},{"$f":"IF(データセット1!C483<>\"\",データセット1!D483-カテゴリースコア!$E$11,\"\")","v":""},{"$f":"IF(C$1<>\"\",IF($A483<>\"\",COUNT(カテゴリースコア!M485),\"\"),\"\")","v":""},{"$f":"IF(D$1<>\"\",IF($A483<>\"\",COUNT(カテゴリースコア!N485),\"\"),\"\")","v":""},{"$f":"IF(E$1<>\"\",IF($A483<>\"\",COUNT(カテゴリースコア!O485),\"\"),\"\")","v":""},{"$f":"IF(F$1<>\"\",IF($A483<>\"\",COUNT(カテゴリースコア!P485),\"\"),\"\")","v":""},{"$f":"IF(G$1<>\"\",IF($A483<>\"\",COUNT(カテゴリースコア!Q485),\"\"),\"\")","v":""},{"$f":"IF(H$1<>\"\",IF($A483<>\"\",COUNT(カテゴリースコア!R485),\"\"),\"\")","v":""},{"$f":"IF(I$1<>\"\",IF($A483<>\"\",COUNT(カテゴリースコア!S485),\"\"),\"\")","v":""},{"$f":"IF(J$1<>\"\",IF($A483<>\"\",COUNT(カテゴリースコア!T485),\"\"),\"\")","v":""},{"$f":"IF(K$1<>\"\",IF($A483<>\"\",COUNT(カテゴリースコア!U485),\"\"),\"\")","v":""}]
[{"$f":"IF(データセット1!C484<>\"\",データセット1!C484,\"\")","v":""},{"$f":"IF(データセット1!C484<>\"\",データセット1!D484-カテゴリースコア!$E$11,\"\")","v":""},{"$f":"IF(C$1<>\"\",IF($A484<>\"\",COUNT(カテゴリースコア!M486),\"\"),\"\")","v":""},{"$f":"IF(D$1<>\"\",IF($A484<>\"\",COUNT(カテゴリースコア!N486),\"\"),\"\")","v":""},{"$f":"IF(E$1<>\"\",IF($A484<>\"\",COUNT(カテゴリースコア!O486),\"\"),\"\")","v":""},{"$f":"IF(F$1<>\"\",IF($A484<>\"\",COUNT(カテゴリースコア!P486),\"\"),\"\")","v":""},{"$f":"IF(G$1<>\"\",IF($A484<>\"\",COUNT(カテゴリースコア!Q486),\"\"),\"\")","v":""},{"$f":"IF(H$1<>\"\",IF($A484<>\"\",COUNT(カテゴリースコア!R486),\"\"),\"\")","v":""},{"$f":"IF(I$1<>\"\",IF($A484<>\"\",COUNT(カテゴリースコア!S486),\"\"),\"\")","v":""},{"$f":"IF(J$1<>\"\",IF($A484<>\"\",COUNT(カテゴリースコア!T486),\"\"),\"\")","v":""},{"$f":"IF(K$1<>\"\",IF($A484<>\"\",COUNT(カテゴリースコア!U486),\"\"),\"\")","v":""}]
[{"$f":"IF(データセット1!C485<>\"\",データセット1!C485,\"\")","v":""},{"$f":"IF(データセット1!C485<>\"\",データセット1!D485-カテゴリースコア!$E$11,\"\")","v":""},{"$f":"IF(C$1<>\"\",IF($A485<>\"\",COUNT(カテゴリースコア!M487),\"\"),\"\")","v":""},{"$f":"IF(D$1<>\"\",IF($A485<>\"\",COUNT(カテゴリースコア!N487),\"\"),\"\")","v":""},{"$f":"IF(E$1<>\"\",IF($A485<>\"\",COUNT(カテゴリースコア!O487),\"\"),\"\")","v":""},{"$f":"IF(F$1<>\"\",IF($A485<>\"\",COUNT(カテゴリースコア!P487),\"\"),\"\")","v":""},{"$f":"IF(G$1<>\"\",IF($A485<>\"\",COUNT(カテゴリースコア!Q487),\"\"),\"\")","v":""},{"$f":"IF(H$1<>\"\",IF($A485<>\"\",COUNT(カテゴリースコア!R487),\"\"),\"\")","v":""},{"$f":"IF(I$1<>\"\",IF($A485<>\"\",COUNT(カテゴリースコア!S487),\"\"),\"\")","v":""},{"$f":"IF(J$1<>\"\",IF($A485<>\"\",COUNT(カテゴリースコア!T487),\"\"),\"\")","v":""},{"$f":"IF(K$1<>\"\",IF($A485<>\"\",COUNT(カテゴリースコア!U487),\"\"),\"\")","v":""}]
[{"$f":"IF(データセット1!C486<>\"\",データセット1!C486,\"\")","v":""},{"$f":"IF(データセット1!C486<>\"\",データセット1!D486-カテゴリースコア!$E$11,\"\")","v":""},{"$f":"IF(C$1<>\"\",IF($A486<>\"\",COUNT(カテゴリースコア!M488),\"\"),\"\")","v":""},{"$f":"IF(D$1<>\"\",IF($A486<>\"\",COUNT(カテゴリースコア!N488),\"\"),\"\")","v":""},{"$f":"IF(E$1<>\"\",IF($A486<>\"\",COUNT(カテゴリースコア!O488),\"\"),\"\")","v":""},{"$f":"IF(F$1<>\"\",IF($A486<>\"\",COUNT(カテゴリースコア!P488),\"\"),\"\")","v":""},{"$f":"IF(G$1<>\"\",IF($A486<>\"\",COUNT(カテゴリースコア!Q488),\"\"),\"\")","v":""},{"$f":"IF(H$1<>\"\",IF($A486<>\"\",COUNT(カテゴリースコア!R488),\"\"),\"\")","v":""},{"$f":"IF(I$1<>\"\",IF($A486<>\"\",COUNT(カテゴリースコア!S488),\"\"),\"\")","v":""},{"$f":"IF(J$1<>\"\",IF($A486<>\"\",COUNT(カテゴリースコア!T488),\"\"),\"\")","v":""},{"$f":"IF(K$1<>\"\",IF($A486<>\"\",COUNT(カテゴリースコア!U488),\"\"),\"\")","v":""}]
[{"$f":"IF(データセット1!C487<>\"\",データセット1!C487,\"\")","v":""},{"$f":"IF(データセット1!C487<>\"\",データセット1!D487-カテゴリースコア!$E$11,\"\")","v":""},{"$f":"IF(C$1<>\"\",IF($A487<>\"\",COUNT(カテゴリースコア!M489),\"\"),\"\")","v":""},{"$f":"IF(D$1<>\"\",IF($A487<>\"\",COUNT(カテゴリースコア!N489),\"\"),\"\")","v":""},{"$f":"IF(E$1<>\"\",IF($A487<>\"\",COUNT(カテゴリースコア!O489),\"\"),\"\")","v":""},{"$f":"IF(F$1<>\"\",IF($A487<>\"\",COUNT(カテゴリースコア!P489),\"\"),\"\")","v":""},{"$f":"IF(G$1<>\"\",IF($A487<>\"\",COUNT(カテゴリースコア!Q489),\"\"),\"\")","v":""},{"$f":"IF(H$1<>\"\",IF($A487<>\"\",COUNT(カテゴリースコア!R489),\"\"),\"\")","v":""},{"$f":"IF(I$1<>\"\",IF($A487<>\"\",COUNT(カテゴリースコア!S489),\"\"),\"\")","v":""},{"$f":"IF(J$1<>\"\",IF($A487<>\"\",COUNT(カテゴリースコア!T489),\"\"),\"\")","v":""},{"$f":"IF(K$1<>\"\",IF($A487<>\"\",COUNT(カテゴリースコア!U489),\"\"),\"\")","v":""}]
[{"$f":"IF(データセット1!C488<>\"\",データセット1!C488,\"\")","v":""},{"$f":"IF(データセット1!C488<>\"\",データセット1!D488-カテゴリースコア!$E$11,\"\")","v":""},{"$f":"IF(C$1<>\"\",IF($A488<>\"\",COUNT(カテゴリースコア!M490),\"\"),\"\")","v":""},{"$f":"IF(D$1<>\"\",IF($A488<>\"\",COUNT(カテゴリースコア!N490),\"\"),\"\")","v":""},{"$f":"IF(E$1<>\"\",IF($A488<>\"\",COUNT(カテゴリースコア!O490),\"\"),\"\")","v":""},{"$f":"IF(F$1<>\"\",IF($A488<>\"\",COUNT(カテゴリースコア!P490),\"\"),\"\")","v":""},{"$f":"IF(G$1<>\"\",IF($A488<>\"\",COUNT(カテゴリースコア!Q490),\"\"),\"\")","v":""},{"$f":"IF(H$1<>\"\",IF($A488<>\"\",COUNT(カテゴリースコア!R490),\"\"),\"\")","v":""},{"$f":"IF(I$1<>\"\",IF($A488<>\"\",COUNT(カテゴリースコア!S490),\"\"),\"\")","v":""},{"$f":"IF(J$1<>\"\",IF($A488<>\"\",COUNT(カテゴリースコア!T490),\"\"),\"\")","v":""},{"$f":"IF(K$1<>\"\",IF($A488<>\"\",COUNT(カテゴリースコア!U490),\"\"),\"\")","v":""}]
[{"$f":"IF(データセット1!C489<>\"\",データセット1!C489,\"\")","v":""},{"$f":"IF(データセット1!C489<>\"\",データセット1!D489-カテゴリースコア!$E$11,\"\")","v":""},{"$f":"IF(C$1<>\"\",IF($A489<>\"\",COUNT(カテゴリースコア!M491),\"\"),\"\")","v":""},{"$f":"IF(D$1<>\"\",IF($A489<>\"\",COUNT(カテゴリースコア!N491),\"\"),\"\")","v":""},{"$f":"IF(E$1<>\"\",IF($A489<>\"\",COUNT(カテゴリースコア!O491),\"\"),\"\")","v":""},{"$f":"IF(F$1<>\"\",IF($A489<>\"\",COUNT(カテゴリースコア!P491),\"\"),\"\")","v":""},{"$f":"IF(G$1<>\"\",IF($A489<>\"\",COUNT(カテゴリースコア!Q491),\"\"),\"\")","v":""},{"$f":"IF(H$1<>\"\",IF($A489<>\"\",COUNT(カテゴリースコア!R491),\"\"),\"\")","v":""},{"$f":"IF(I$1<>\"\",IF($A489<>\"\",COUNT(カテゴリースコア!S491),\"\"),\"\")","v":""},{"$f":"IF(J$1<>\"\",IF($A489<>\"\",COUNT(カテゴリースコア!T491),\"\"),\"\")","v":""},{"$f":"IF(K$1<>\"\",IF($A489<>\"\",COUNT(カテゴリースコア!U491),\"\"),\"\")","v":""}]
[{"$f":"IF(データセット1!C490<>\"\",データセット1!C490,\"\")","v":""},{"$f":"IF(データセット1!C490<>\"\",データセット1!D490-カテゴリースコア!$E$11,\"\")","v":""},{"$f":"IF(C$1<>\"\",IF($A490<>\"\",COUNT(カテゴリースコア!M492),\"\"),\"\")","v":""},{"$f":"IF(D$1<>\"\",IF($A490<>\"\",COUNT(カテゴリースコア!N492),\"\"),\"\")","v":""},{"$f":"IF(E$1<>\"\",IF($A490<>\"\",COUNT(カテゴリースコア!O492),\"\"),\"\")","v":""},{"$f":"IF(F$1<>\"\",IF($A490<>\"\",COUNT(カテゴリースコア!P492),\"\"),\"\")","v":""},{"$f":"IF(G$1<>\"\",IF($A490<>\"\",COUNT(カテゴリースコア!Q492),\"\"),\"\")","v":""},{"$f":"IF(H$1<>\"\",IF($A490<>\"\",COUNT(カテゴリースコア!R492),\"\"),\"\")","v":""},{"$f":"IF(I$1<>\"\",IF($A490<>\"\",COUNT(カテゴリースコア!S492),\"\"),\"\")","v":""},{"$f":"IF(J$1<>\"\",IF($A490<>\"\",COUNT(カテゴリースコア!T492),\"\"),\"\")","v":""},{"$f":"IF(K$1<>\"\",IF($A490<>\"\",COUNT(カテゴリースコア!U492),\"\"),\"\")","v":""}]
[{"$f":"IF(データセット1!C491<>\"\",データセット1!C491,\"\")","v":""},{"$f":"IF(データセット1!C491<>\"\",データセット1!D491-カテゴリースコア!$E$11,\"\")","v":""},{"$f":"IF(C$1<>\"\",IF($A491<>\"\",COUNT(カテゴリースコア!M493),\"\"),\"\")","v":""},{"$f":"IF(D$1<>\"\",IF($A491<>\"\",COUNT(カテゴリースコア!N493),\"\"),\"\")","v":""},{"$f":"IF(E$1<>\"\",IF($A491<>\"\",COUNT(カテゴリースコア!O493),\"\"),\"\")","v":""},{"$f":"IF(F$1<>\"\",IF($A491<>\"\",COUNT(カテゴリースコア!P493),\"\"),\"\")","v":""},{"$f":"IF(G$1<>\"\",IF($A491<>\"\",COUNT(カテゴリースコア!Q493),\"\"),\"\")","v":""},{"$f":"IF(H$1<>\"\",IF($A491<>\"\",COUNT(カテゴリースコア!R493),\"\"),\"\")","v":""},{"$f":"IF(I$1<>\"\",IF($A491<>\"\",COUNT(カテゴリースコア!S493),\"\"),\"\")","v":""},{"$f":"IF(J$1<>\"\",IF($A491<>\"\",COUNT(カテゴリースコア!T493),\"\"),\"\")","v":""},{"$f":"IF(K$1<>\"\",IF($A491<>\"\",COUNT(カテゴリースコア!U493),\"\"),\"\")","v":""}]
[{"$f":"IF(データセット1!C492<>\"\",データセット1!C492,\"\")","v":""},{"$f":"IF(データセット1!C492<>\"\",データセット1!D492-カテゴリースコア!$E$11,\"\")","v":""},{"$f":"IF(C$1<>\"\",IF($A492<>\"\",COUNT(カテゴリースコア!M494),\"\"),\"\")","v":""},{"$f":"IF(D$1<>\"\",IF($A492<>\"\",COUNT(カテゴリースコア!N494),\"\"),\"\")","v":""},{"$f":"IF(E$1<>\"\",IF($A492<>\"\",COUNT(カテゴリースコア!O494),\"\"),\"\")","v":""},{"$f":"IF(F$1<>\"\",IF($A492<>\"\",COUNT(カテゴリースコア!P494),\"\"),\"\")","v":""},{"$f":"IF(G$1<>\"\",IF($A492<>\"\",COUNT(カテゴリースコア!Q494),\"\"),\"\")","v":""},{"$f":"IF(H$1<>\"\",IF($A492<>\"\",COUNT(カテゴリースコア!R494),\"\"),\"\")","v":""},{"$f":"IF(I$1<>\"\",IF($A492<>\"\",COUNT(カテゴリースコア!S494),\"\"),\"\")","v":""},{"$f":"IF(J$1<>\"\",IF($A492<>\"\",COUNT(カテゴリースコア!T494),\"\"),\"\")","v":""},{"$f":"IF(K$1<>\"\",IF($A492<>\"\",COUNT(カテゴリースコア!U494),\"\"),\"\")","v":""}]
[{"$f":"IF(データセット1!C493<>\"\",データセット1!C493,\"\")","v":""},{"$f":"IF(データセット1!C493<>\"\",データセット1!D493-カテゴリースコア!$E$11,\"\")","v":""},{"$f":"IF(C$1<>\"\",IF($A493<>\"\",COUNT(カテゴリースコア!M495),\"\"),\"\")","v":""},{"$f":"IF(D$1<>\"\",IF($A493<>\"\",COUNT(カテゴリースコア!N495),\"\"),\"\")","v":""},{"$f":"IF(E$1<>\"\",IF($A493<>\"\",COUNT(カテゴリースコア!O495),\"\"),\"\")","v":""},{"$f":"IF(F$1<>\"\",IF($A493<>\"\",COUNT(カテゴリースコア!P495),\"\"),\"\")","v":""},{"$f":"IF(G$1<>\"\",IF($A493<>\"\",COUNT(カテゴリースコア!Q495),\"\"),\"\")","v":""},{"$f":"IF(H$1<>\"\",IF($A493<>\"\",COUNT(カテゴリースコア!R495),\"\"),\"\")","v":""},{"$f":"IF(I$1<>\"\",IF($A493<>\"\",COUNT(カテゴリースコア!S495),\"\"),\"\")","v":""},{"$f":"IF(J$1<>\"\",IF($A493<>\"\",COUNT(カテゴリースコア!T495),\"\"),\"\")","v":""},{"$f":"IF(K$1<>\"\",IF($A493<>\"\",COUNT(カテゴリースコア!U495),\"\"),\"\")","v":""}]
[{"$f":"IF(データセット1!C494<>\"\",データセット1!C494,\"\")","v":""},{"$f":"IF(データセット1!C494<>\"\",データセット1!D494-カテゴリースコア!$E$11,\"\")","v":""},{"$f":"IF(C$1<>\"\",IF($A494<>\"\",COUNT(カテゴリースコア!M496),\"\"),\"\")","v":""},{"$f":"IF(D$1<>\"\",IF($A494<>\"\",COUNT(カテゴリースコア!N496),\"\"),\"\")","v":""},{"$f":"IF(E$1<>\"\",IF($A494<>\"\",COUNT(カテゴリースコア!O496),\"\"),\"\")","v":""},{"$f":"IF(F$1<>\"\",IF($A494<>\"\",COUNT(カテゴリースコア!P496),\"\"),\"\")","v":""},{"$f":"IF(G$1<>\"\",IF($A494<>\"\",COUNT(カテゴリースコア!Q496),\"\"),\"\")","v":""},{"$f":"IF(H$1<>\"\",IF($A494<>\"\",COUNT(カテゴリースコア!R496),\"\"),\"\")","v":""},{"$f":"IF(I$1<>\"\",IF($A494<>\"\",COUNT(カテゴリースコア!S496),\"\"),\"\")","v":""},{"$f":"IF(J$1<>\"\",IF($A494<>\"\",COUNT(カテゴリースコア!T496),\"\"),\"\")","v":""},{"$f":"IF(K$1<>\"\",IF($A494<>\"\",COUNT(カテゴリースコア!U496),\"\"),\"\")","v":""}]
[{"$f":"IF(データセット1!C495<>\"\",データセット1!C495,\"\")","v":""},{"$f":"IF(データセット1!C495<>\"\",データセット1!D495-カテゴリースコア!$E$11,\"\")","v":""},{"$f":"IF(C$1<>\"\",IF($A495<>\"\",COUNT(カテゴリースコア!M497),\"\"),\"\")","v":""},{"$f":"IF(D$1<>\"\",IF($A495<>\"\",COUNT(カテゴリースコア!N497),\"\"),\"\")","v":""},{"$f":"IF(E$1<>\"\",IF($A495<>\"\",COUNT(カテゴリースコア!O497),\"\"),\"\")","v":""},{"$f":"IF(F$1<>\"\",IF($A495<>\"\",COUNT(カテゴリースコア!P497),\"\"),\"\")","v":""},{"$f":"IF(G$1<>\"\",IF($A495<>\"\",COUNT(カテゴリースコア!Q497),\"\"),\"\")","v":""},{"$f":"IF(H$1<>\"\",IF($A495<>\"\",COUNT(カテゴリースコア!R497),\"\"),\"\")","v":""},{"$f":"IF(I$1<>\"\",IF($A495<>\"\",COUNT(カテゴリースコア!S497),\"\"),\"\")","v":""},{"$f":"IF(J$1<>\"\",IF($A495<>\"\",COUNT(カテゴリースコア!T497),\"\"),\"\")","v":""},{"$f":"IF(K$1<>\"\",IF($A495<>\"\",COUNT(カテゴリースコア!U497),\"\"),\"\")","v":""}]
[{"$f":"IF(データセット1!C496<>\"\",データセット1!C496,\"\")","v":""},{"$f":"IF(データセット1!C496<>\"\",データセット1!D496-カテゴリースコア!$E$11,\"\")","v":""},{"$f":"IF(C$1<>\"\",IF($A496<>\"\",COUNT(カテゴリースコア!M498),\"\"),\"\")","v":""},{"$f":"IF(D$1<>\"\",IF($A496<>\"\",COUNT(カテゴリースコア!N498),\"\"),\"\")","v":""},{"$f":"IF(E$1<>\"\",IF($A496<>\"\",COUNT(カテゴリースコア!O498),\"\"),\"\")","v":""},{"$f":"IF(F$1<>\"\",IF($A496<>\"\",COUNT(カテゴリースコア!P498),\"\"),\"\")","v":""},{"$f":"IF(G$1<>\"\",IF($A496<>\"\",COUNT(カテゴリースコア!Q498),\"\"),\"\")","v":""},{"$f":"IF(H$1<>\"\",IF($A496<>\"\",COUNT(カテゴリースコア!R498),\"\"),\"\")","v":""},{"$f":"IF(I$1<>\"\",IF($A496<>\"\",COUNT(カテゴリースコア!S498),\"\"),\"\")","v":""},{"$f":"IF(J$1<>\"\",IF($A496<>\"\",COUNT(カテゴリースコア!T498),\"\"),\"\")","v":""},{"$f":"IF(K$1<>\"\",IF($A496<>\"\",COUNT(カテゴリースコア!U498),\"\"),\"\")","v":""}]
[{"$f":"IF(データセット1!C497<>\"\",データセット1!C497,\"\")","v":""},{"$f":"IF(データセット1!C497<>\"\",データセット1!D497-カテゴリースコア!$E$11,\"\")","v":""},{"$f":"IF(C$1<>\"\",IF($A497<>\"\",COUNT(カテゴリースコア!M499),\"\"),\"\")","v":""},{"$f":"IF(D$1<>\"\",IF($A497<>\"\",COUNT(カテゴリースコア!N499),\"\"),\"\")","v":""},{"$f":"IF(E$1<>\"\",IF($A497<>\"\",COUNT(カテゴリースコア!O499),\"\"),\"\")","v":""},{"$f":"IF(F$1<>\"\",IF($A497<>\"\",COUNT(カテゴリースコア!P499),\"\"),\"\")","v":""},{"$f":"IF(G$1<>\"\",IF($A497<>\"\",COUNT(カテゴリースコア!Q499),\"\"),\"\")","v":""},{"$f":"IF(H$1<>\"\",IF($A497<>\"\",COUNT(カテゴリースコア!R499),\"\"),\"\")","v":""},{"$f":"IF(I$1<>\"\",IF($A497<>\"\",COUNT(カテゴリースコア!S499),\"\"),\"\")","v":""},{"$f":"IF(J$1<>\"\",IF($A497<>\"\",COUNT(カテゴリースコア!T499),\"\"),\"\")","v":""},{"$f":"IF(K$1<>\"\",IF($A497<>\"\",COUNT(カテゴリースコア!U499),\"\"),\"\")","v":""}]
[{"$f":"IF(データセット1!C498<>\"\",データセット1!C498,\"\")","v":""},{"$f":"IF(データセット1!C498<>\"\",データセット1!D498-カテゴリースコア!$E$11,\"\")","v":""},{"$f":"IF(C$1<>\"\",IF($A498<>\"\",COUNT(カテゴリースコア!M500),\"\"),\"\")","v":""},{"$f":"IF(D$1<>\"\",IF($A498<>\"\",COUNT(カテゴリースコア!N500),\"\"),\"\")","v":""},{"$f":"IF(E$1<>\"\",IF($A498<>\"\",COUNT(カテゴリースコア!O500),\"\"),\"\")","v":""},{"$f":"IF(F$1<>\"\",IF($A498<>\"\",COUNT(カテゴリースコア!P500),\"\"),\"\")","v":""},{"$f":"IF(G$1<>\"\",IF($A498<>\"\",COUNT(カテゴリースコア!Q500),\"\"),\"\")","v":""},{"$f":"IF(H$1<>\"\",IF($A498<>\"\",COUNT(カテゴリースコア!R500),\"\"),\"\")","v":""},{"$f":"IF(I$1<>\"\",IF($A498<>\"\",COUNT(カテゴリースコア!S500),\"\"),\"\")","v":""},{"$f":"IF(J$1<>\"\",IF($A498<>\"\",COUNT(カテゴリースコア!T500),\"\"),\"\")","v":""},{"$f":"IF(K$1<>\"\",IF($A498<>\"\",COUNT(カテゴリースコア!U500),\"\"),\"\")","v":""}]
[{"$f":"IF(データセット1!C499<>\"\",データセット1!C499,\"\")","v":""},{"$f":"IF(データセット1!C499<>\"\",データセット1!D499-カテゴリースコア!$E$11,\"\")","v":""},{"$f":"IF(C$1<>\"\",IF($A499<>\"\",COUNT(カテゴリースコア!M501),\"\"),\"\")","v":""},{"$f":"IF(D$1<>\"\",IF($A499<>\"\",COUNT(カテゴリースコア!N501),\"\"),\"\")","v":""},{"$f":"IF(E$1<>\"\",IF($A499<>\"\",COUNT(カテゴリースコア!O501),\"\"),\"\")","v":""},{"$f":"IF(F$1<>\"\",IF($A499<>\"\",COUNT(カテゴリースコア!P501),\"\"),\"\")","v":""},{"$f":"IF(G$1<>\"\",IF($A499<>\"\",COUNT(カテゴリースコア!Q501),\"\"),\"\")","v":""},{"$f":"IF(H$1<>\"\",IF($A499<>\"\",COUNT(カテゴリースコア!R501),\"\"),\"\")","v":""},{"$f":"IF(I$1<>\"\",IF($A499<>\"\",COUNT(カテゴリースコア!S501),\"\"),\"\")","v":""},{"$f":"IF(J$1<>\"\",IF($A499<>\"\",COUNT(カテゴリースコア!T501),\"\"),\"\")","v":""},{"$f":"IF(K$1<>\"\",IF($A499<>\"\",COUNT(カテゴリースコア!U501),\"\"),\"\")","v":""}]
[{"$f":"IF(データセット1!C500<>\"\",データセット1!C500,\"\")","v":""},{"$f":"IF(データセット1!C500<>\"\",データセット1!D500-カテゴリースコア!$E$11,\"\")","v":""},{"$f":"IF(C$1<>\"\",IF($A500<>\"\",COUNT(カテゴリースコア!M502),\"\"),\"\")","v":""},{"$f":"IF(D$1<>\"\",IF($A500<>\"\",COUNT(カテゴリースコア!N502),\"\"),\"\")","v":""},{"$f":"IF(E$1<>\"\",IF($A500<>\"\",COUNT(カテゴリースコア!O502),\"\"),\"\")","v":""},{"$f":"IF(F$1<>\"\",IF($A500<>\"\",COUNT(カテゴリースコア!P502),\"\"),\"\")","v":""},{"$f":"IF(G$1<>\"\",IF($A500<>\"\",COUNT(カテゴリースコア!Q502),\"\"),\"\")","v":""},{"$f":"IF(H$1<>\"\",IF($A500<>\"\",COUNT(カテゴリースコア!R502),\"\"),\"\")","v":""},{"$f":"IF(I$1<>\"\",IF($A500<>\"\",COUNT(カテゴリースコア!S502),\"\"),\"\")","v":""},{"$f":"IF(J$1<>\"\",IF($A500<>\"\",COUNT(カテゴリースコア!T502),\"\"),\"\")","v":""},{"$f":"IF(K$1<>\"\",IF($A500<>\"\",COUNT(カテゴリースコア!U502),\"\"),\"\")","v":""}]
[{"$f":"IF(データセット1!C501<>\"\",データセット1!C501,\"\")","v":""},{"$f":"IF(データセット1!C501<>\"\",データセット1!D501-カテゴリースコア!$E$11,\"\")","v":""},{"$f":"IF(C$1<>\"\",IF($A501<>\"\",COUNT(カテゴリースコア!M503),\"\"),\"\")","v":""},{"$f":"IF(D$1<>\"\",IF($A501<>\"\",COUNT(カテゴリースコア!N503),\"\"),\"\")","v":""},{"$f":"IF(E$1<>\"\",IF($A501<>\"\",COUNT(カテゴリースコア!O503),\"\"),\"\")","v":""},{"$f":"IF(F$1<>\"\",IF($A501<>\"\",COUNT(カテゴリースコア!P503),\"\"),\"\")","v":""},{"$f":"IF(G$1<>\"\",IF($A501<>\"\",COUNT(カテゴリースコア!Q503),\"\"),\"\")","v":""},{"$f":"IF(H$1<>\"\",IF($A501<>\"\",COUNT(カテゴリースコア!R503),\"\"),\"\")","v":""},{"$f":"IF(I$1<>\"\",IF($A501<>\"\",COUNT(カテゴリースコア!S503),\"\"),\"\")","v":""},{"$f":"IF(J$1<>\"\",IF($A501<>\"\",COUNT(カテゴリースコア!T503),\"\"),\"\")","v":""},{"$f":"IF(K$1<>\"\",IF($A501<>\"\",COUNT(カテゴリースコア!U503),\"\"),\"\")","v":""}]
[{"$f":"IF(データセット1!C502<>\"\",データセット1!C502,\"\")","v":""},{"$f":"IF(データセット1!C502<>\"\",データセット1!D502-カテゴリースコア!$E$11,\"\")","v":""},{"$f":"IF(C$1<>\"\",IF($A502<>\"\",COUNT(カテゴリースコア!M504),\"\"),\"\")","v":""},{"$f":"IF(D$1<>\"\",IF($A502<>\"\",COUNT(カテゴリースコア!N504),\"\"),\"\")","v":""},{"$f":"IF(E$1<>\"\",IF($A502<>\"\",COUNT(カテゴリースコア!O504),\"\"),\"\")","v":""},{"$f":"IF(F$1<>\"\",IF($A502<>\"\",COUNT(カテゴリースコア!P504),\"\"),\"\")","v":""},{"$f":"IF(G$1<>\"\",IF($A502<>\"\",COUNT(カテゴリースコア!Q504),\"\"),\"\")","v":""},{"$f":"IF(H$1<>\"\",IF($A502<>\"\",COUNT(カテゴリースコア!R504),\"\"),\"\")","v":""},{"$f":"IF(I$1<>\"\",IF($A502<>\"\",COUNT(カテゴリースコア!S504),\"\"),\"\")","v":""},{"$f":"IF(J$1<>\"\",IF($A502<>\"\",COUNT(カテゴリースコア!T504),\"\"),\"\")","v":""},{"$f":"IF(K$1<>\"\",IF($A502<>\"\",COUNT(カテゴリースコア!U504),\"\"),\"\")","v":""}]
[{"$f":"IF(データセット1!C503<>\"\",データセット1!C503,\"\")","v":""},{"$f":"IF(データセット1!C503<>\"\",データセット1!D503-カテゴリースコア!$E$11,\"\")","v":""},{"$f":"IF(C$1<>\"\",IF($A503<>\"\",COUNT(カテゴリースコア!M505),\"\"),\"\")","v":""},{"$f":"IF(D$1<>\"\",IF($A503<>\"\",COUNT(カテゴリースコア!N505),\"\"),\"\")","v":""},{"$f":"IF(E$1<>\"\",IF($A503<>\"\",COUNT(カテゴリースコア!O505),\"\"),\"\")","v":""},{"$f":"IF(F$1<>\"\",IF($A503<>\"\",COUNT(カテゴリースコア!P505),\"\"),\"\")","v":""},{"$f":"IF(G$1<>\"\",IF($A503<>\"\",COUNT(カテゴリースコア!Q505),\"\"),\"\")","v":""},{"$f":"IF(H$1<>\"\",IF($A503<>\"\",COUNT(カテゴリースコア!R505),\"\"),\"\")","v":""},{"$f":"IF(I$1<>\"\",IF($A503<>\"\",COUNT(カテゴリースコア!S505),\"\"),\"\")","v":""},{"$f":"IF(J$1<>\"\",IF($A503<>\"\",COUNT(カテゴリースコア!T505),\"\"),\"\")","v":""},{"$f":"IF(K$1<>\"\",IF($A503<>\"\",COUNT(カテゴリースコア!U505),\"\"),\"\")","v":""}]
[{"$f":"IF(データセット1!C504<>\"\",データセット1!C504,\"\")","v":""},{"$f":"IF(データセット1!C504<>\"\",データセット1!D504-カテゴリースコア!$E$11,\"\")","v":""},{"$f":"IF(C$1<>\"\",IF($A504<>\"\",COUNT(カテゴリースコア!M506),\"\"),\"\")","v":""},{"$f":"IF(D$1<>\"\",IF($A504<>\"\",COUNT(カテゴリースコア!N506),\"\"),\"\")","v":""},{"$f":"IF(E$1<>\"\",IF($A504<>\"\",COUNT(カテゴリースコア!O506),\"\"),\"\")","v":""},{"$f":"IF(F$1<>\"\",IF($A504<>\"\",COUNT(カテゴリースコア!P506),\"\"),\"\")","v":""},{"$f":"IF(G$1<>\"\",IF($A504<>\"\",COUNT(カテゴリースコア!Q506),\"\"),\"\")","v":""},{"$f":"IF(H$1<>\"\",IF($A504<>\"\",COUNT(カテゴリースコア!R506),\"\"),\"\")","v":""},{"$f":"IF(I$1<>\"\",IF($A504<>\"\",COUNT(カテゴリースコア!S506),\"\"),\"\")","v":""},{"$f":"IF(J$1<>\"\",IF($A504<>\"\",COUNT(カテゴリースコア!T506),\"\"),\"\")","v":""},{"$f":"IF(K$1<>\"\",IF($A504<>\"\",COUNT(カテゴリースコア!U506),\"\"),\"\")","v":""}]
[{"$f":"IF(データセット1!C505<>\"\",データセット1!C505,\"\")","v":""},{"$f":"IF(データセット1!C505<>\"\",データセット1!D505-カテゴリースコア!$E$11,\"\")","v":""},{"$f":"IF(C$1<>\"\",IF($A505<>\"\",COUNT(カテゴリースコア!M507),\"\"),\"\")","v":""},{"$f":"IF(D$1<>\"\",IF($A505<>\"\",COUNT(カテゴリースコア!N507),\"\"),\"\")","v":""},{"$f":"IF(E$1<>\"\",IF($A505<>\"\",COUNT(カテゴリースコア!O507),\"\"),\"\")","v":""},{"$f":"IF(F$1<>\"\",IF($A505<>\"\",COUNT(カテゴリースコア!P507),\"\"),\"\")","v":""},{"$f":"IF(G$1<>\"\",IF($A505<>\"\",COUNT(カテゴリースコア!Q507),\"\"),\"\")","v":""},{"$f":"IF(H$1<>\"\",IF($A505<>\"\",COUNT(カテゴリースコア!R507),\"\"),\"\")","v":""},{"$f":"IF(I$1<>\"\",IF($A505<>\"\",COUNT(カテゴリースコア!S507),\"\"),\"\")","v":""},{"$f":"IF(J$1<>\"\",IF($A505<>\"\",COUNT(カテゴリースコア!T507),\"\"),\"\")","v":""},{"$f":"IF(K$1<>\"\",IF($A505<>\"\",COUNT(カテゴリースコア!U507),\"\"),\"\")","v":""}]
[{"$f":"IF(データセット1!C506<>\"\",データセット1!C506,\"\")","v":""},{"$f":"IF(データセット1!C506<>\"\",データセット1!D506-カテゴリースコア!$E$11,\"\")","v":""},{"$f":"IF(C$1<>\"\",IF($A506<>\"\",COUNT(カテゴリースコア!M508),\"\"),\"\")","v":""},{"$f":"IF(D$1<>\"\",IF($A506<>\"\",COUNT(カテゴリースコア!N508),\"\"),\"\")","v":""},{"$f":"IF(E$1<>\"\",IF($A506<>\"\",COUNT(カテゴリースコア!O508),\"\"),\"\")","v":""},{"$f":"IF(F$1<>\"\",IF($A506<>\"\",COUNT(カテゴリースコア!P508),\"\"),\"\")","v":""},{"$f":"IF(G$1<>\"\",IF($A506<>\"\",COUNT(カテゴリースコア!Q508),\"\"),\"\")","v":""},{"$f":"IF(H$1<>\"\",IF($A506<>\"\",COUNT(カテゴリースコア!R508),\"\"),\"\")","v":""},{"$f":"IF(I$1<>\"\",IF($A506<>\"\",COUNT(カテゴリースコア!S508),\"\"),\"\")","v":""},{"$f":"IF(J$1<>\"\",IF($A506<>\"\",COUNT(カテゴリースコア!T508),\"\"),\"\")","v":""},{"$f":"IF(K$1<>\"\",IF($A506<>\"\",COUNT(カテゴリースコア!U508),\"\"),\"\")","v":""}]
[{"$f":"IF(データセット1!C507<>\"\",データセット1!C507,\"\")","v":""},{"$f":"IF(データセット1!C507<>\"\",データセット1!D507-カテゴリースコア!$E$11,\"\")","v":""},{"$f":"IF(C$1<>\"\",IF($A507<>\"\",COUNT(カテゴリースコア!M509),\"\"),\"\")","v":""},{"$f":"IF(D$1<>\"\",IF($A507<>\"\",COUNT(カテゴリースコア!N509),\"\"),\"\")","v":""},{"$f":"IF(E$1<>\"\",IF($A507<>\"\",COUNT(カテゴリースコア!O509),\"\"),\"\")","v":""},{"$f":"IF(F$1<>\"\",IF($A507<>\"\",COUNT(カテゴリースコア!P509),\"\"),\"\")","v":""},{"$f":"IF(G$1<>\"\",IF($A507<>\"\",COUNT(カテゴリースコア!Q509),\"\"),\"\")","v":""},{"$f":"IF(H$1<>\"\",IF($A507<>\"\",COUNT(カテゴリースコア!R509),\"\"),\"\")","v":""},{"$f":"IF(I$1<>\"\",IF($A507<>\"\",COUNT(カテゴリースコア!S509),\"\"),\"\")","v":""},{"$f":"IF(J$1<>\"\",IF($A507<>\"\",COUNT(カテゴリースコア!T509),\"\"),\"\")","v":""},{"$f":"IF(K$1<>\"\",IF($A507<>\"\",COUNT(カテゴリースコア!U509),\"\"),\"\")","v":""}]
[{"$f":"IF(データセット1!C508<>\"\",データセット1!C508,\"\")","v":""},{"$f":"IF(データセット1!C508<>\"\",データセット1!D508-カテゴリースコア!$E$11,\"\")","v":""},{"$f":"IF(C$1<>\"\",IF($A508<>\"\",COUNT(カテゴリースコア!M510),\"\"),\"\")","v":""},{"$f":"IF(D$1<>\"\",IF($A508<>\"\",COUNT(カテゴリースコア!N510),\"\"),\"\")","v":""},{"$f":"IF(E$1<>\"\",IF($A508<>\"\",COUNT(カテゴリースコア!O510),\"\"),\"\")","v":""},{"$f":"IF(F$1<>\"\",IF($A508<>\"\",COUNT(カテゴリースコア!P510),\"\"),\"\")","v":""},{"$f":"IF(G$1<>\"\",IF($A508<>\"\",COUNT(カテゴリースコア!Q510),\"\"),\"\")","v":""},{"$f":"IF(H$1<>\"\",IF($A508<>\"\",COUNT(カテゴリースコア!R510),\"\"),\"\")","v":""},{"$f":"IF(I$1<>\"\",IF($A508<>\"\",COUNT(カテゴリースコア!S510),\"\"),\"\")","v":""},{"$f":"IF(J$1<>\"\",IF($A508<>\"\",COUNT(カテゴリースコア!T510),\"\"),\"\")","v":""},{"$f":"IF(K$1<>\"\",IF($A508<>\"\",COUNT(カテゴリースコア!U510),\"\"),\"\")","v":""}]
[{"$f":"IF(データセット1!C509<>\"\",データセット1!C509,\"\")","v":""},{"$f":"IF(データセット1!C509<>\"\",データセット1!D509-カテゴリースコア!$E$11,\"\")","v":""},{"$f":"IF(C$1<>\"\",IF($A509<>\"\",COUNT(カテゴリースコア!M511),\"\"),\"\")","v":""},{"$f":"IF(D$1<>\"\",IF($A509<>\"\",COUNT(カテゴリースコア!N511),\"\"),\"\")","v":""},{"$f":"IF(E$1<>\"\",IF($A509<>\"\",COUNT(カテゴリースコア!O511),\"\"),\"\")","v":""},{"$f":"IF(F$1<>\"\",IF($A509<>\"\",COUNT(カテゴリースコア!P511),\"\"),\"\")","v":""},{"$f":"IF(G$1<>\"\",IF($A509<>\"\",COUNT(カテゴリースコア!Q511),\"\"),\"\")","v":""},{"$f":"IF(H$1<>\"\",IF($A509<>\"\",COUNT(カテゴリースコア!R511),\"\"),\"\")","v":""},{"$f":"IF(I$1<>\"\",IF($A509<>\"\",COUNT(カテゴリースコア!S511),\"\"),\"\")","v":""},{"$f":"IF(J$1<>\"\",IF($A509<>\"\",COUNT(カテゴリースコア!T511),\"\"),\"\")","v":""},{"$f":"IF(K$1<>\"\",IF($A509<>\"\",COUNT(カテゴリースコア!U511),\"\"),\"\")","v":""}]
[{"$f":"IF(データセット1!C510<>\"\",データセット1!C510,\"\")","v":""},{"$f":"IF(データセット1!C510<>\"\",データセット1!D510-カテゴリースコア!$E$11,\"\")","v":""},{"$f":"IF(C$1<>\"\",IF($A510<>\"\",COUNT(カテゴリースコア!M512),\"\"),\"\")","v":""},{"$f":"IF(D$1<>\"\",IF($A510<>\"\",COUNT(カテゴリースコア!N512),\"\"),\"\")","v":""},{"$f":"IF(E$1<>\"\",IF($A510<>\"\",COUNT(カテゴリースコア!O512),\"\"),\"\")","v":""},{"$f":"IF(F$1<>\"\",IF($A510<>\"\",COUNT(カテゴリースコア!P512),\"\"),\"\")","v":""},{"$f":"IF(G$1<>\"\",IF($A510<>\"\",COUNT(カテゴリースコア!Q512),\"\"),\"\")","v":""},{"$f":"IF(H$1<>\"\",IF($A510<>\"\",COUNT(カテゴリースコア!R512),\"\"),\"\")","v":""},{"$f":"IF(I$1<>\"\",IF($A510<>\"\",COUNT(カテゴリースコア!S512),\"\"),\"\")","v":""},{"$f":"IF(J$1<>\"\",IF($A510<>\"\",COUNT(カテゴリースコア!T512),\"\"),\"\")","v":""},{"$f":"IF(K$1<>\"\",IF($A510<>\"\",COUNT(カテゴリースコア!U512),\"\"),\"\")","v":""}]
[{"$f":"IF(データセット1!C511<>\"\",データセット1!C511,\"\")","v":""},{"$f":"IF(データセット1!C511<>\"\",データセット1!D511-カテゴリースコア!$E$11,\"\")","v":""},{"$f":"IF(C$1<>\"\",IF($A511<>\"\",COUNT(カテゴリースコア!M513),\"\"),\"\")","v":""},{"$f":"IF(D$1<>\"\",IF($A511<>\"\",COUNT(カテゴリースコア!N513),\"\"),\"\")","v":""},{"$f":"IF(E$1<>\"\",IF($A511<>\"\",COUNT(カテゴリースコア!O513),\"\"),\"\")","v":""},{"$f":"IF(F$1<>\"\",IF($A511<>\"\",COUNT(カテゴリースコア!P513),\"\"),\"\")","v":""},{"$f":"IF(G$1<>\"\",IF($A511<>\"\",COUNT(カテゴリースコア!Q513),\"\"),\"\")","v":""},{"$f":"IF(H$1<>\"\",IF($A511<>\"\",COUNT(カテゴリースコア!R513),\"\"),\"\")","v":""},{"$f":"IF(I$1<>\"\",IF($A511<>\"\",COUNT(カテゴリースコア!S513),\"\"),\"\")","v":""},{"$f":"IF(J$1<>\"\",IF($A511<>\"\",COUNT(カテゴリースコア!T513),\"\"),\"\")","v":""},{"$f":"IF(K$1<>\"\",IF($A511<>\"\",COUNT(カテゴリースコア!U513),\"\"),\"\")","v":""}]
[{"$f":"IF(データセット1!C512<>\"\",データセット1!C512,\"\")","v":""},{"$f":"IF(データセット1!C512<>\"\",データセット1!D512-カテゴリースコア!$E$11,\"\")","v":""},{"$f":"IF(C$1<>\"\",IF($A512<>\"\",COUNT(カテゴリースコア!M514),\"\"),\"\")","v":""},{"$f":"IF(D$1<>\"\",IF($A512<>\"\",COUNT(カテゴリースコア!N514),\"\"),\"\")","v":""},{"$f":"IF(E$1<>\"\",IF($A512<>\"\",COUNT(カテゴリースコア!O514),\"\"),\"\")","v":""},{"$f":"IF(F$1<>\"\",IF($A512<>\"\",COUNT(カテゴリースコア!P514),\"\"),\"\")","v":""},{"$f":"IF(G$1<>\"\",IF($A512<>\"\",COUNT(カテゴリースコア!Q514),\"\"),\"\")","v":""},{"$f":"IF(H$1<>\"\",IF($A512<>\"\",COUNT(カテゴリースコア!R514),\"\"),\"\")","v":""},{"$f":"IF(I$1<>\"\",IF($A512<>\"\",COUNT(カテゴリースコア!S514),\"\"),\"\")","v":""},{"$f":"IF(J$1<>\"\",IF($A512<>\"\",COUNT(カテゴリースコア!T514),\"\"),\"\")","v":""},{"$f":"IF(K$1<>\"\",IF($A512<>\"\",COUNT(カテゴリースコア!U514),\"\"),\"\")","v":""}]
[{"$f":"IF(データセット1!C513<>\"\",データセット1!C513,\"\")","v":""},{"$f":"IF(データセット1!C513<>\"\",データセット1!D513-カテゴリースコア!$E$11,\"\")","v":""},{"$f":"IF(C$1<>\"\",IF($A513<>\"\",COUNT(カテゴリースコア!M515),\"\"),\"\")","v":""},{"$f":"IF(D$1<>\"\",IF($A513<>\"\",COUNT(カテゴリースコア!N515),\"\"),\"\")","v":""},{"$f":"IF(E$1<>\"\",IF($A513<>\"\",COUNT(カテゴリースコア!O515),\"\"),\"\")","v":""},{"$f":"IF(F$1<>\"\",IF($A513<>\"\",COUNT(カテゴリースコア!P515),\"\"),\"\")","v":""},{"$f":"IF(G$1<>\"\",IF($A513<>\"\",COUNT(カテゴリースコア!Q515),\"\"),\"\")","v":""},{"$f":"IF(H$1<>\"\",IF($A513<>\"\",COUNT(カテゴリースコア!R515),\"\"),\"\")","v":""},{"$f":"IF(I$1<>\"\",IF($A513<>\"\",COUNT(カテゴリースコア!S515),\"\"),\"\")","v":""},{"$f":"IF(J$1<>\"\",IF($A513<>\"\",COUNT(カテゴリースコア!T515),\"\"),\"\")","v":""},{"$f":"IF(K$1<>\"\",IF($A513<>\"\",COUNT(カテゴリースコア!U515),\"\"),\"\")","v":""}]
[{"$f":"IF(データセット1!C514<>\"\",データセット1!C514,\"\")","v":""},{"$f":"IF(データセット1!C514<>\"\",データセット1!D514-カテゴリースコア!$E$11,\"\")","v":""},{"$f":"IF(C$1<>\"\",IF($A514<>\"\",COUNT(カテゴリースコア!M516),\"\"),\"\")","v":""},{"$f":"IF(D$1<>\"\",IF($A514<>\"\",COUNT(カテゴリースコア!N516),\"\"),\"\")","v":""},{"$f":"IF(E$1<>\"\",IF($A514<>\"\",COUNT(カテゴリースコア!O516),\"\"),\"\")","v":""},{"$f":"IF(F$1<>\"\",IF($A514<>\"\",COUNT(カテゴリースコア!P516),\"\"),\"\")","v":""},{"$f":"IF(G$1<>\"\",IF($A514<>\"\",COUNT(カテゴリースコア!Q516),\"\"),\"\")","v":""},{"$f":"IF(H$1<>\"\",IF($A514<>\"\",COUNT(カテゴリースコア!R516),\"\"),\"\")","v":""},{"$f":"IF(I$1<>\"\",IF($A514<>\"\",COUNT(カテゴリースコア!S516),\"\"),\"\")","v":""},{"$f":"IF(J$1<>\"\",IF($A514<>\"\",COUNT(カテゴリースコア!T516),\"\"),\"\")","v":""},{"$f":"IF(K$1<>\"\",IF($A514<>\"\",COUNT(カテゴリースコア!U516),\"\"),\"\")","v":""}]
[{"$f":"IF(データセット1!C515<>\"\",データセット1!C515,\"\")","v":""},{"$f":"IF(データセット1!C515<>\"\",データセット1!D515-カテゴリースコア!$E$11,\"\")","v":""},{"$f":"IF(C$1<>\"\",IF($A515<>\"\",COUNT(カテゴリースコア!M517),\"\"),\"\")","v":""},{"$f":"IF(D$1<>\"\",IF($A515<>\"\",COUNT(カテゴリースコア!N517),\"\"),\"\")","v":""},{"$f":"IF(E$1<>\"\",IF($A515<>\"\",COUNT(カテゴリースコア!O517),\"\"),\"\")","v":""},{"$f":"IF(F$1<>\"\",IF($A515<>\"\",COUNT(カテゴリースコア!P517),\"\"),\"\")","v":""},{"$f":"IF(G$1<>\"\",IF($A515<>\"\",COUNT(カテゴリースコア!Q517),\"\"),\"\")","v":""},{"$f":"IF(H$1<>\"\",IF($A515<>\"\",COUNT(カテゴリースコア!R517),\"\"),\"\")","v":""},{"$f":"IF(I$1<>\"\",IF($A515<>\"\",COUNT(カテゴリースコア!S517),\"\"),\"\")","v":""},{"$f":"IF(J$1<>\"\",IF($A515<>\"\",COUNT(カテゴリースコア!T517),\"\"),\"\")","v":""},{"$f":"IF(K$1<>\"\",IF($A515<>\"\",COUNT(カテゴリースコア!U517),\"\"),\"\")","v":""}]
[{"$f":"IF(データセット1!C516<>\"\",データセット1!C516,\"\")","v":""},{"$f":"IF(データセット1!C516<>\"\",データセット1!D516-カテゴリースコア!$E$11,\"\")","v":""},{"$f":"IF(C$1<>\"\",IF($A516<>\"\",COUNT(カテゴリースコア!M518),\"\"),\"\")","v":""},{"$f":"IF(D$1<>\"\",IF($A516<>\"\",COUNT(カテゴリースコア!N518),\"\"),\"\")","v":""},{"$f":"IF(E$1<>\"\",IF($A516<>\"\",COUNT(カテゴリースコア!O518),\"\"),\"\")","v":""},{"$f":"IF(F$1<>\"\",IF($A516<>\"\",COUNT(カテゴリースコア!P518),\"\"),\"\")","v":""},{"$f":"IF(G$1<>\"\",IF($A516<>\"\",COUNT(カテゴリースコア!Q518),\"\"),\"\")","v":""},{"$f":"IF(H$1<>\"\",IF($A516<>\"\",COUNT(カテゴリースコア!R518),\"\"),\"\")","v":""},{"$f":"IF(I$1<>\"\",IF($A516<>\"\",COUNT(カテゴリースコア!S518),\"\"),\"\")","v":""},{"$f":"IF(J$1<>\"\",IF($A516<>\"\",COUNT(カテゴリースコア!T518),\"\"),\"\")","v":""},{"$f":"IF(K$1<>\"\",IF($A516<>\"\",COUNT(カテゴリースコア!U518),\"\"),\"\")","v":""}]
[{"$f":"IF(データセット1!C517<>\"\",データセット1!C517,\"\")","v":""},{"$f":"IF(データセット1!C517<>\"\",データセット1!D517-カテゴリースコア!$E$11,\"\")","v":""},{"$f":"IF(C$1<>\"\",IF($A517<>\"\",COUNT(カテゴリースコア!M519),\"\"),\"\")","v":""},{"$f":"IF(D$1<>\"\",IF($A517<>\"\",COUNT(カテゴリースコア!N519),\"\"),\"\")","v":""},{"$f":"IF(E$1<>\"\",IF($A517<>\"\",COUNT(カテゴリースコア!O519),\"\"),\"\")","v":""},{"$f":"IF(F$1<>\"\",IF($A517<>\"\",COUNT(カテゴリースコア!P519),\"\"),\"\")","v":""},{"$f":"IF(G$1<>\"\",IF($A517<>\"\",COUNT(カテゴリースコア!Q519),\"\"),\"\")","v":""},{"$f":"IF(H$1<>\"\",IF($A517<>\"\",COUNT(カテゴリースコア!R519),\"\"),\"\")","v":""},{"$f":"IF(I$1<>\"\",IF($A517<>\"\",COUNT(カテゴリースコア!S519),\"\"),\"\")","v":""},{"$f":"IF(J$1<>\"\",IF($A517<>\"\",COUNT(カテゴリースコア!T519),\"\"),\"\")","v":""},{"$f":"IF(K$1<>\"\",IF($A517<>\"\",COUNT(カテゴリースコア!U519),\"\"),\"\")","v":""}]
[{"$f":"IF(データセット1!C518<>\"\",データセット1!C518,\"\")","v":""},{"$f":"IF(データセット1!C518<>\"\",データセット1!D518-カテゴリースコア!$E$11,\"\")","v":""},{"$f":"IF(C$1<>\"\",IF($A518<>\"\",COUNT(カテゴリースコア!M520),\"\"),\"\")","v":""},{"$f":"IF(D$1<>\"\",IF($A518<>\"\",COUNT(カテゴリースコア!N520),\"\"),\"\")","v":""},{"$f":"IF(E$1<>\"\",IF($A518<>\"\",COUNT(カテゴリースコア!O520),\"\"),\"\")","v":""},{"$f":"IF(F$1<>\"\",IF($A518<>\"\",COUNT(カテゴリースコア!P520),\"\"),\"\")","v":""},{"$f":"IF(G$1<>\"\",IF($A518<>\"\",COUNT(カテゴリースコア!Q520),\"\"),\"\")","v":""},{"$f":"IF(H$1<>\"\",IF($A518<>\"\",COUNT(カテゴリースコア!R520),\"\"),\"\")","v":""},{"$f":"IF(I$1<>\"\",IF($A518<>\"\",COUNT(カテゴリースコア!S520),\"\"),\"\")","v":""},{"$f":"IF(J$1<>\"\",IF($A518<>\"\",COUNT(カテゴリースコア!T520),\"\"),\"\")","v":""},{"$f":"IF(K$1<>\"\",IF($A518<>\"\",COUNT(カテゴリースコア!U520),\"\"),\"\")","v":""}]
[{"$f":"IF(データセット1!C519<>\"\",データセット1!C519,\"\")","v":""},{"$f":"IF(データセット1!C519<>\"\",データセット1!D519-カテゴリースコア!$E$11,\"\")","v":""},{"$f":"IF(C$1<>\"\",IF($A519<>\"\",COUNT(カテゴリースコア!M521),\"\"),\"\")","v":""},{"$f":"IF(D$1<>\"\",IF($A519<>\"\",COUNT(カテゴリースコア!N521),\"\"),\"\")","v":""},{"$f":"IF(E$1<>\"\",IF($A519<>\"\",COUNT(カテゴリースコア!O521),\"\"),\"\")","v":""},{"$f":"IF(F$1<>\"\",IF($A519<>\"\",COUNT(カテゴリースコア!P521),\"\"),\"\")","v":""},{"$f":"IF(G$1<>\"\",IF($A519<>\"\",COUNT(カテゴリースコア!Q521),\"\"),\"\")","v":""},{"$f":"IF(H$1<>\"\",IF($A519<>\"\",COUNT(カテゴリースコア!R521),\"\"),\"\")","v":""},{"$f":"IF(I$1<>\"\",IF($A519<>\"\",COUNT(カテゴリースコア!S521),\"\"),\"\")","v":""},{"$f":"IF(J$1<>\"\",IF($A519<>\"\",COUNT(カテゴリースコア!T521),\"\"),\"\")","v":""},{"$f":"IF(K$1<>\"\",IF($A519<>\"\",COUNT(カテゴリースコア!U521),\"\"),\"\")","v":""}]
[{"$f":"IF(データセット1!C520<>\"\",データセット1!C520,\"\")","v":""},{"$f":"IF(データセット1!C520<>\"\",データセット1!D520-カテゴリースコア!$E$11,\"\")","v":""},{"$f":"IF(C$1<>\"\",IF($A520<>\"\",COUNT(カテゴリースコア!M522),\"\"),\"\")","v":""},{"$f":"IF(D$1<>\"\",IF($A520<>\"\",COUNT(カテゴリースコア!N522),\"\"),\"\")","v":""},{"$f":"IF(E$1<>\"\",IF($A520<>\"\",COUNT(カテゴリースコア!O522),\"\"),\"\")","v":""},{"$f":"IF(F$1<>\"\",IF($A520<>\"\",COUNT(カテゴリースコア!P522),\"\"),\"\")","v":""},{"$f":"IF(G$1<>\"\",IF($A520<>\"\",COUNT(カテゴリースコア!Q522),\"\"),\"\")","v":""},{"$f":"IF(H$1<>\"\",IF($A520<>\"\",COUNT(カテゴリースコア!R522),\"\"),\"\")","v":""},{"$f":"IF(I$1<>\"\",IF($A520<>\"\",COUNT(カテゴリースコア!S522),\"\"),\"\")","v":""},{"$f":"IF(J$1<>\"\",IF($A520<>\"\",COUNT(カテゴリースコア!T522),\"\"),\"\")","v":""},{"$f":"IF(K$1<>\"\",IF($A520<>\"\",COUNT(カテゴリースコア!U522),\"\"),\"\")","v":""}]
[{"$f":"IF(データセット1!C521<>\"\",データセット1!C521,\"\")","v":""},{"$f":"IF(データセット1!C521<>\"\",データセット1!D521-カテゴリースコア!$E$11,\"\")","v":""},{"$f":"IF(C$1<>\"\",IF($A521<>\"\",COUNT(カテゴリースコア!M523),\"\"),\"\")","v":""},{"$f":"IF(D$1<>\"\",IF($A521<>\"\",COUNT(カテゴリースコア!N523),\"\"),\"\")","v":""},{"$f":"IF(E$1<>\"\",IF($A521<>\"\",COUNT(カテゴリースコア!O523),\"\"),\"\")","v":""},{"$f":"IF(F$1<>\"\",IF($A521<>\"\",COUNT(カテゴリースコア!P523),\"\"),\"\")","v":""},{"$f":"IF(G$1<>\"\",IF($A521<>\"\",COUNT(カテゴリースコア!Q523),\"\"),\"\")","v":""},{"$f":"IF(H$1<>\"\",IF($A521<>\"\",COUNT(カテゴリースコア!R523),\"\"),\"\")","v":""},{"$f":"IF(I$1<>\"\",IF($A521<>\"\",COUNT(カテゴリースコア!S523),\"\"),\"\")","v":""},{"$f":"IF(J$1<>\"\",IF($A521<>\"\",COUNT(カテゴリースコア!T523),\"\"),\"\")","v":""},{"$f":"IF(K$1<>\"\",IF($A521<>\"\",COUNT(カテゴリースコア!U523),\"\"),\"\")","v":""}]
[{"$f":"IF(データセット1!C522<>\"\",データセット1!C522,\"\")","v":""},{"$f":"IF(データセット1!C522<>\"\",データセット1!D522-カテゴリースコア!$E$11,\"\")","v":""},{"$f":"IF(C$1<>\"\",IF($A522<>\"\",COUNT(カテゴリースコア!M524),\"\"),\"\")","v":""},{"$f":"IF(D$1<>\"\",IF($A522<>\"\",COUNT(カテゴリースコア!N524),\"\"),\"\")","v":""},{"$f":"IF(E$1<>\"\",IF($A522<>\"\",COUNT(カテゴリースコア!O524),\"\"),\"\")","v":""},{"$f":"IF(F$1<>\"\",IF($A522<>\"\",COUNT(カテゴリースコア!P524),\"\"),\"\")","v":""},{"$f":"IF(G$1<>\"\",IF($A522<>\"\",COUNT(カテゴリースコア!Q524),\"\"),\"\")","v":""},{"$f":"IF(H$1<>\"\",IF($A522<>\"\",COUNT(カテゴリースコア!R524),\"\"),\"\")","v":""},{"$f":"IF(I$1<>\"\",IF($A522<>\"\",COUNT(カテゴリースコア!S524),\"\"),\"\")","v":""},{"$f":"IF(J$1<>\"\",IF($A522<>\"\",COUNT(カテゴリースコア!T524),\"\"),\"\")","v":""},{"$f":"IF(K$1<>\"\",IF($A522<>\"\",COUNT(カテゴリースコア!U524),\"\"),\"\")","v":""}]
[{"$f":"IF(データセット1!C523<>\"\",データセット1!C523,\"\")","v":""},{"$f":"IF(データセット1!C523<>\"\",データセット1!D523-カテゴリースコア!$E$11,\"\")","v":""},{"$f":"IF(C$1<>\"\",IF($A523<>\"\",COUNT(カテゴリースコア!M525),\"\"),\"\")","v":""},{"$f":"IF(D$1<>\"\",IF($A523<>\"\",COUNT(カテゴリースコア!N525),\"\"),\"\")","v":""},{"$f":"IF(E$1<>\"\",IF($A523<>\"\",COUNT(カテゴリースコア!O525),\"\"),\"\")","v":""},{"$f":"IF(F$1<>\"\",IF($A523<>\"\",COUNT(カテゴリースコア!P525),\"\"),\"\")","v":""},{"$f":"IF(G$1<>\"\",IF($A523<>\"\",COUNT(カテゴリースコア!Q525),\"\"),\"\")","v":""},{"$f":"IF(H$1<>\"\",IF($A523<>\"\",COUNT(カテゴリースコア!R525),\"\"),\"\")","v":""},{"$f":"IF(I$1<>\"\",IF($A523<>\"\",COUNT(カテゴリースコア!S525),\"\"),\"\")","v":""},{"$f":"IF(J$1<>\"\",IF($A523<>\"\",COUNT(カテゴリースコア!T525),\"\"),\"\")","v":""},{"$f":"IF(K$1<>\"\",IF($A523<>\"\",COUNT(カテゴリースコア!U525),\"\"),\"\")","v":""}]
[{"$f":"IF(データセット1!C524<>\"\",データセット1!C524,\"\")","v":""},{"$f":"IF(データセット1!C524<>\"\",データセット1!D524-カテゴリースコア!$E$11,\"\")","v":""},{"$f":"IF(C$1<>\"\",IF($A524<>\"\",COUNT(カテゴリースコア!M526),\"\"),\"\")","v":""},{"$f":"IF(D$1<>\"\",IF($A524<>\"\",COUNT(カテゴリースコア!N526),\"\"),\"\")","v":""},{"$f":"IF(E$1<>\"\",IF($A524<>\"\",COUNT(カテゴリースコア!O526),\"\"),\"\")","v":""},{"$f":"IF(F$1<>\"\",IF($A524<>\"\",COUNT(カテゴリースコア!P526),\"\"),\"\")","v":""},{"$f":"IF(G$1<>\"\",IF($A524<>\"\",COUNT(カテゴリースコア!Q526),\"\"),\"\")","v":""},{"$f":"IF(H$1<>\"\",IF($A524<>\"\",COUNT(カテゴリースコア!R526),\"\"),\"\")","v":""},{"$f":"IF(I$1<>\"\",IF($A524<>\"\",COUNT(カテゴリースコア!S526),\"\"),\"\")","v":""},{"$f":"IF(J$1<>\"\",IF($A524<>\"\",COUNT(カテゴリースコア!T526),\"\"),\"\")","v":""},{"$f":"IF(K$1<>\"\",IF($A524<>\"\",COUNT(カテゴリースコア!U526),\"\"),\"\")","v":""}]
[{"$f":"IF(データセット1!C525<>\"\",データセット1!C525,\"\")","v":""},{"$f":"IF(データセット1!C525<>\"\",データセット1!D525-カテゴリースコア!$E$11,\"\")","v":""},{"$f":"IF(C$1<>\"\",IF($A525<>\"\",COUNT(カテゴリースコア!M527),\"\"),\"\")","v":""},{"$f":"IF(D$1<>\"\",IF($A525<>\"\",COUNT(カテゴリースコア!N527),\"\"),\"\")","v":""},{"$f":"IF(E$1<>\"\",IF($A525<>\"\",COUNT(カテゴリースコア!O527),\"\"),\"\")","v":""},{"$f":"IF(F$1<>\"\",IF($A525<>\"\",COUNT(カテゴリースコア!P527),\"\"),\"\")","v":""},{"$f":"IF(G$1<>\"\",IF($A525<>\"\",COUNT(カテゴリースコア!Q527),\"\"),\"\")","v":""},{"$f":"IF(H$1<>\"\",IF($A525<>\"\",COUNT(カテゴリースコア!R527),\"\"),\"\")","v":""},{"$f":"IF(I$1<>\"\",IF($A525<>\"\",COUNT(カテゴリースコア!S527),\"\"),\"\")","v":""},{"$f":"IF(J$1<>\"\",IF($A525<>\"\",COUNT(カテゴリースコア!T527),\"\"),\"\")","v":""},{"$f":"IF(K$1<>\"\",IF($A525<>\"\",COUNT(カテゴリースコア!U527),\"\"),\"\")","v":""}]
[{"$f":"IF(データセット1!C526<>\"\",データセット1!C526,\"\")","v":""},{"$f":"IF(データセット1!C526<>\"\",データセット1!D526-カテゴリースコア!$E$11,\"\")","v":""},{"$f":"IF(C$1<>\"\",IF($A526<>\"\",COUNT(カテゴリースコア!M528),\"\"),\"\")","v":""},{"$f":"IF(D$1<>\"\",IF($A526<>\"\",COUNT(カテゴリースコア!N528),\"\"),\"\")","v":""},{"$f":"IF(E$1<>\"\",IF($A526<>\"\",COUNT(カテゴリースコア!O528),\"\"),\"\")","v":""},{"$f":"IF(F$1<>\"\",IF($A526<>\"\",COUNT(カテゴリースコア!P528),\"\"),\"\")","v":""},{"$f":"IF(G$1<>\"\",IF($A526<>\"\",COUNT(カテゴリースコア!Q528),\"\"),\"\")","v":""},{"$f":"IF(H$1<>\"\",IF($A526<>\"\",COUNT(カテゴリースコア!R528),\"\"),\"\")","v":""},{"$f":"IF(I$1<>\"\",IF($A526<>\"\",COUNT(カテゴリースコア!S528),\"\"),\"\")","v":""},{"$f":"IF(J$1<>\"\",IF($A526<>\"\",COUNT(カテゴリースコア!T528),\"\"),\"\")","v":""},{"$f":"IF(K$1<>\"\",IF($A526<>\"\",COUNT(カテゴリースコア!U528),\"\"),\"\")","v":""}]
[{"$f":"IF(データセット1!C527<>\"\",データセット1!C527,\"\")","v":""},{"$f":"IF(データセット1!C527<>\"\",データセット1!D527-カテゴリースコア!$E$11,\"\")","v":""},{"$f":"IF(C$1<>\"\",IF($A527<>\"\",COUNT(カテゴリースコア!M529),\"\"),\"\")","v":""},{"$f":"IF(D$1<>\"\",IF($A527<>\"\",COUNT(カテゴリースコア!N529),\"\"),\"\")","v":""},{"$f":"IF(E$1<>\"\",IF($A527<>\"\",COUNT(カテゴリースコア!O529),\"\"),\"\")","v":""},{"$f":"IF(F$1<>\"\",IF($A527<>\"\",COUNT(カテゴリースコア!P529),\"\"),\"\")","v":""},{"$f":"IF(G$1<>\"\",IF($A527<>\"\",COUNT(カテゴリースコア!Q529),\"\"),\"\")","v":""},{"$f":"IF(H$1<>\"\",IF($A527<>\"\",COUNT(カテゴリースコア!R529),\"\"),\"\")","v":""},{"$f":"IF(I$1<>\"\",IF($A527<>\"\",COUNT(カテゴリースコア!S529),\"\"),\"\")","v":""},{"$f":"IF(J$1<>\"\",IF($A527<>\"\",COUNT(カテゴリースコア!T529),\"\"),\"\")","v":""},{"$f":"IF(K$1<>\"\",IF($A527<>\"\",COUNT(カテゴリースコア!U529),\"\"),\"\")","v":""}]
[{"$f":"IF(データセット1!C528<>\"\",データセット1!C528,\"\")","v":""},{"$f":"IF(データセット1!C528<>\"\",データセット1!D528-カテゴリースコア!$E$11,\"\")","v":""},{"$f":"IF(C$1<>\"\",IF($A528<>\"\",COUNT(カテゴリースコア!M530),\"\"),\"\")","v":""},{"$f":"IF(D$1<>\"\",IF($A528<>\"\",COUNT(カテゴリースコア!N530),\"\"),\"\")","v":""},{"$f":"IF(E$1<>\"\",IF($A528<>\"\",COUNT(カテゴリースコア!O530),\"\"),\"\")","v":""},{"$f":"IF(F$1<>\"\",IF($A528<>\"\",COUNT(カテゴリースコア!P530),\"\"),\"\")","v":""},{"$f":"IF(G$1<>\"\",IF($A528<>\"\",COUNT(カテゴリースコア!Q530),\"\"),\"\")","v":""},{"$f":"IF(H$1<>\"\",IF($A528<>\"\",COUNT(カテゴリースコア!R530),\"\"),\"\")","v":""},{"$f":"IF(I$1<>\"\",IF($A528<>\"\",COUNT(カテゴリースコア!S530),\"\"),\"\")","v":""},{"$f":"IF(J$1<>\"\",IF($A528<>\"\",COUNT(カテゴリースコア!T530),\"\"),\"\")","v":""},{"$f":"IF(K$1<>\"\",IF($A528<>\"\",COUNT(カテゴリースコア!U530),\"\"),\"\")","v":""}]
[{"$f":"IF(データセット1!C529<>\"\",データセット1!C529,\"\")","v":""},{"$f":"IF(データセット1!C529<>\"\",データセット1!D529-カテゴリースコア!$E$11,\"\")","v":""},{"$f":"IF(C$1<>\"\",IF($A529<>\"\",COUNT(カテゴリースコア!M531),\"\"),\"\")","v":""},{"$f":"IF(D$1<>\"\",IF($A529<>\"\",COUNT(カテゴリースコア!N531),\"\"),\"\")","v":""},{"$f":"IF(E$1<>\"\",IF($A529<>\"\",COUNT(カテゴリースコア!O531),\"\"),\"\")","v":""},{"$f":"IF(F$1<>\"\",IF($A529<>\"\",COUNT(カテゴリースコア!P531),\"\"),\"\")","v":""},{"$f":"IF(G$1<>\"\",IF($A529<>\"\",COUNT(カテゴリースコア!Q531),\"\"),\"\")","v":""},{"$f":"IF(H$1<>\"\",IF($A529<>\"\",COUNT(カテゴリースコア!R531),\"\"),\"\")","v":""},{"$f":"IF(I$1<>\"\",IF($A529<>\"\",COUNT(カテゴリースコア!S531),\"\"),\"\")","v":""},{"$f":"IF(J$1<>\"\",IF($A529<>\"\",COUNT(カテゴリースコア!T531),\"\"),\"\")","v":""},{"$f":"IF(K$1<>\"\",IF($A529<>\"\",COUNT(カテゴリースコア!U531),\"\"),\"\")","v":""}]
[{"$f":"IF(データセット1!C530<>\"\",データセット1!C530,\"\")","v":""},{"$f":"IF(データセット1!C530<>\"\",データセット1!D530-カテゴリースコア!$E$11,\"\")","v":""},{"$f":"IF(C$1<>\"\",IF($A530<>\"\",COUNT(カテゴリースコア!M532),\"\"),\"\")","v":""},{"$f":"IF(D$1<>\"\",IF($A530<>\"\",COUNT(カテゴリースコア!N532),\"\"),\"\")","v":""},{"$f":"IF(E$1<>\"\",IF($A530<>\"\",COUNT(カテゴリースコア!O532),\"\"),\"\")","v":""},{"$f":"IF(F$1<>\"\",IF($A530<>\"\",COUNT(カテゴリースコア!P532),\"\"),\"\")","v":""},{"$f":"IF(G$1<>\"\",IF($A530<>\"\",COUNT(カテゴリースコア!Q532),\"\"),\"\")","v":""},{"$f":"IF(H$1<>\"\",IF($A530<>\"\",COUNT(カテゴリースコア!R532),\"\"),\"\")","v":""},{"$f":"IF(I$1<>\"\",IF($A530<>\"\",COUNT(カテゴリースコア!S532),\"\"),\"\")","v":""},{"$f":"IF(J$1<>\"\",IF($A530<>\"\",COUNT(カテゴリースコア!T532),\"\"),\"\")","v":""},{"$f":"IF(K$1<>\"\",IF($A530<>\"\",COUNT(カテゴリースコア!U532),\"\"),\"\")","v":""}]
[{"$f":"IF(データセット1!C531<>\"\",データセット1!C531,\"\")","v":""},{"$f":"IF(データセット1!C531<>\"\",データセット1!D531-カテゴリースコア!$E$11,\"\")","v":""},{"$f":"IF(C$1<>\"\",IF($A531<>\"\",COUNT(カテゴリースコア!M533),\"\"),\"\")","v":""},{"$f":"IF(D$1<>\"\",IF($A531<>\"\",COUNT(カテゴリースコア!N533),\"\"),\"\")","v":""},{"$f":"IF(E$1<>\"\",IF($A531<>\"\",COUNT(カテゴリースコア!O533),\"\"),\"\")","v":""},{"$f":"IF(F$1<>\"\",IF($A531<>\"\",COUNT(カテゴリースコア!P533),\"\"),\"\")","v":""},{"$f":"IF(G$1<>\"\",IF($A531<>\"\",COUNT(カテゴリースコア!Q533),\"\"),\"\")","v":""},{"$f":"IF(H$1<>\"\",IF($A531<>\"\",COUNT(カテゴリースコア!R533),\"\"),\"\")","v":""},{"$f":"IF(I$1<>\"\",IF($A531<>\"\",COUNT(カテゴリースコア!S533),\"\"),\"\")","v":""},{"$f":"IF(J$1<>\"\",IF($A531<>\"\",COUNT(カテゴリースコア!T533),\"\"),\"\")","v":""},{"$f":"IF(K$1<>\"\",IF($A531<>\"\",COUNT(カテゴリースコア!U533),\"\"),\"\")","v":""}]
[{"$f":"IF(データセット1!C532<>\"\",データセット1!C532,\"\")","v":""},{"$f":"IF(データセット1!C532<>\"\",データセット1!D532-カテゴリースコア!$E$11,\"\")","v":""},{"$f":"IF(C$1<>\"\",IF($A532<>\"\",COUNT(カテゴリースコア!M534),\"\"),\"\")","v":""},{"$f":"IF(D$1<>\"\",IF($A532<>\"\",COUNT(カテゴリースコア!N534),\"\"),\"\")","v":""},{"$f":"IF(E$1<>\"\",IF($A532<>\"\",COUNT(カテゴリースコア!O534),\"\"),\"\")","v":""},{"$f":"IF(F$1<>\"\",IF($A532<>\"\",COUNT(カテゴリースコア!P534),\"\"),\"\")","v":""},{"$f":"IF(G$1<>\"\",IF($A532<>\"\",COUNT(カテゴリースコア!Q534),\"\"),\"\")","v":""},{"$f":"IF(H$1<>\"\",IF($A532<>\"\",COUNT(カテゴリースコア!R534),\"\"),\"\")","v":""},{"$f":"IF(I$1<>\"\",IF($A532<>\"\",COUNT(カテゴリースコア!S534),\"\"),\"\")","v":""},{"$f":"IF(J$1<>\"\",IF($A532<>\"\",COUNT(カテゴリースコア!T534),\"\"),\"\")","v":""},{"$f":"IF(K$1<>\"\",IF($A532<>\"\",COUNT(カテゴリースコア!U534),\"\"),\"\")","v":""}]
[{"$f":"IF(データセット1!C533<>\"\",データセット1!C533,\"\")","v":""},{"$f":"IF(データセット1!C533<>\"\",データセット1!D533-カテゴリースコア!$E$11,\"\")","v":""},{"$f":"IF(C$1<>\"\",IF($A533<>\"\",COUNT(カテゴリースコア!M535),\"\"),\"\")","v":""},{"$f":"IF(D$1<>\"\",IF($A533<>\"\",COUNT(カテゴリースコア!N535),\"\"),\"\")","v":""},{"$f":"IF(E$1<>\"\",IF($A533<>\"\",COUNT(カテゴリースコア!O535),\"\"),\"\")","v":""},{"$f":"IF(F$1<>\"\",IF($A533<>\"\",COUNT(カテゴリースコア!P535),\"\"),\"\")","v":""},{"$f":"IF(G$1<>\"\",IF($A533<>\"\",COUNT(カテゴリースコア!Q535),\"\"),\"\")","v":""},{"$f":"IF(H$1<>\"\",IF($A533<>\"\",COUNT(カテゴリースコア!R535),\"\"),\"\")","v":""},{"$f":"IF(I$1<>\"\",IF($A533<>\"\",COUNT(カテゴリースコア!S535),\"\"),\"\")","v":""},{"$f":"IF(J$1<>\"\",IF($A533<>\"\",COUNT(カテゴリースコア!T535),\"\"),\"\")","v":""},{"$f":"IF(K$1<>\"\",IF($A533<>\"\",COUNT(カテゴリースコア!U535),\"\"),\"\")","v":""}]
[{"$f":"IF(データセット1!C534<>\"\",データセット1!C534,\"\")","v":""},{"$f":"IF(データセット1!C534<>\"\",データセット1!D534-カテゴリースコア!$E$11,\"\")","v":""},{"$f":"IF(C$1<>\"\",IF($A534<>\"\",COUNT(カテゴリースコア!M536),\"\"),\"\")","v":""},{"$f":"IF(D$1<>\"\",IF($A534<>\"\",COUNT(カテゴリースコア!N536),\"\"),\"\")","v":""},{"$f":"IF(E$1<>\"\",IF($A534<>\"\",COUNT(カテゴリースコア!O536),\"\"),\"\")","v":""},{"$f":"IF(F$1<>\"\",IF($A534<>\"\",COUNT(カテゴリースコア!P536),\"\"),\"\")","v":""},{"$f":"IF(G$1<>\"\",IF($A534<>\"\",COUNT(カテゴリースコア!Q536),\"\"),\"\")","v":""},{"$f":"IF(H$1<>\"\",IF($A534<>\"\",COUNT(カテゴリースコア!R536),\"\"),\"\")","v":""},{"$f":"IF(I$1<>\"\",IF($A534<>\"\",COUNT(カテゴリースコア!S536),\"\"),\"\")","v":""},{"$f":"IF(J$1<>\"\",IF($A534<>\"\",COUNT(カテゴリースコア!T536),\"\"),\"\")","v":""},{"$f":"IF(K$1<>\"\",IF($A534<>\"\",COUNT(カテゴリースコア!U536),\"\"),\"\")","v":""}]
[{"$f":"IF(データセット1!C535<>\"\",データセット1!C535,\"\")","v":""},{"$f":"IF(データセット1!C535<>\"\",データセット1!D535-カテゴリースコア!$E$11,\"\")","v":""},{"$f":"IF(C$1<>\"\",IF($A535<>\"\",COUNT(カテゴリースコア!M537),\"\"),\"\")","v":""},{"$f":"IF(D$1<>\"\",IF($A535<>\"\",COUNT(カテゴリースコア!N537),\"\"),\"\")","v":""},{"$f":"IF(E$1<>\"\",IF($A535<>\"\",COUNT(カテゴリースコア!O537),\"\"),\"\")","v":""},{"$f":"IF(F$1<>\"\",IF($A535<>\"\",COUNT(カテゴリースコア!P537),\"\"),\"\")","v":""},{"$f":"IF(G$1<>\"\",IF($A535<>\"\",COUNT(カテゴリースコア!Q537),\"\"),\"\")","v":""},{"$f":"IF(H$1<>\"\",IF($A535<>\"\",COUNT(カテゴリースコア!R537),\"\"),\"\")","v":""},{"$f":"IF(I$1<>\"\",IF($A535<>\"\",COUNT(カテゴリースコア!S537),\"\"),\"\")","v":""},{"$f":"IF(J$1<>\"\",IF($A535<>\"\",COUNT(カテゴリースコア!T537),\"\"),\"\")","v":""},{"$f":"IF(K$1<>\"\",IF($A535<>\"\",COUNT(カテゴリースコア!U537),\"\"),\"\")","v":""}]
[{"$f":"IF(データセット1!C536<>\"\",データセット1!C536,\"\")","v":""},{"$f":"IF(データセット1!C536<>\"\",データセット1!D536-カテゴリースコア!$E$11,\"\")","v":""},{"$f":"IF(C$1<>\"\",IF($A536<>\"\",COUNT(カテゴリースコア!M538),\"\"),\"\")","v":""},{"$f":"IF(D$1<>\"\",IF($A536<>\"\",COUNT(カテゴリースコア!N538),\"\"),\"\")","v":""},{"$f":"IF(E$1<>\"\",IF($A536<>\"\",COUNT(カテゴリースコア!O538),\"\"),\"\")","v":""},{"$f":"IF(F$1<>\"\",IF($A536<>\"\",COUNT(カテゴリースコア!P538),\"\"),\"\")","v":""},{"$f":"IF(G$1<>\"\",IF($A536<>\"\",COUNT(カテゴリースコア!Q538),\"\"),\"\")","v":""},{"$f":"IF(H$1<>\"\",IF($A536<>\"\",COUNT(カテゴリースコア!R538),\"\"),\"\")","v":""},{"$f":"IF(I$1<>\"\",IF($A536<>\"\",COUNT(カテゴリースコア!S538),\"\"),\"\")","v":""},{"$f":"IF(J$1<>\"\",IF($A536<>\"\",COUNT(カテゴリースコア!T538),\"\"),\"\")","v":""},{"$f":"IF(K$1<>\"\",IF($A536<>\"\",COUNT(カテゴリースコア!U538),\"\"),\"\")","v":""}]
[{"$f":"IF(データセット1!C537<>\"\",データセット1!C537,\"\")","v":""},{"$f":"IF(データセット1!C537<>\"\",データセット1!D537-カテゴリースコア!$E$11,\"\")","v":""},{"$f":"IF(C$1<>\"\",IF($A537<>\"\",COUNT(カテゴリースコア!M539),\"\"),\"\")","v":""},{"$f":"IF(D$1<>\"\",IF($A537<>\"\",COUNT(カテゴリースコア!N539),\"\"),\"\")","v":""},{"$f":"IF(E$1<>\"\",IF($A537<>\"\",COUNT(カテゴリースコア!O539),\"\"),\"\")","v":""},{"$f":"IF(F$1<>\"\",IF($A537<>\"\",COUNT(カテゴリースコア!P539),\"\"),\"\")","v":""},{"$f":"IF(G$1<>\"\",IF($A537<>\"\",COUNT(カテゴリースコア!Q539),\"\"),\"\")","v":""},{"$f":"IF(H$1<>\"\",IF($A537<>\"\",COUNT(カテゴリースコア!R539),\"\"),\"\")","v":""},{"$f":"IF(I$1<>\"\",IF($A537<>\"\",COUNT(カテゴリースコア!S539),\"\"),\"\")","v":""},{"$f":"IF(J$1<>\"\",IF($A537<>\"\",COUNT(カテゴリースコア!T539),\"\"),\"\")","v":""},{"$f":"IF(K$1<>\"\",IF($A537<>\"\",COUNT(カテゴリースコア!U539),\"\"),\"\")","v":""}]
[{"$f":"IF(データセット1!C538<>\"\",データセット1!C538,\"\")","v":""},{"$f":"IF(データセット1!C538<>\"\",データセット1!D538-カテゴリースコア!$E$11,\"\")","v":""},{"$f":"IF(C$1<>\"\",IF($A538<>\"\",COUNT(カテゴリースコア!M540),\"\"),\"\")","v":""},{"$f":"IF(D$1<>\"\",IF($A538<>\"\",COUNT(カテゴリースコア!N540),\"\"),\"\")","v":""},{"$f":"IF(E$1<>\"\",IF($A538<>\"\",COUNT(カテゴリースコア!O540),\"\"),\"\")","v":""},{"$f":"IF(F$1<>\"\",IF($A538<>\"\",COUNT(カテゴリースコア!P540),\"\"),\"\")","v":""},{"$f":"IF(G$1<>\"\",IF($A538<>\"\",COUNT(カテゴリースコア!Q540),\"\"),\"\")","v":""},{"$f":"IF(H$1<>\"\",IF($A538<>\"\",COUNT(カテゴリースコア!R540),\"\"),\"\")","v":""},{"$f":"IF(I$1<>\"\",IF($A538<>\"\",COUNT(カテゴリースコア!S540),\"\"),\"\")","v":""},{"$f":"IF(J$1<>\"\",IF($A538<>\"\",COUNT(カテゴリースコア!T540),\"\"),\"\")","v":""},{"$f":"IF(K$1<>\"\",IF($A538<>\"\",COUNT(カテゴリースコア!U540),\"\"),\"\")","v":""}]
[{"$f":"IF(データセット1!C539<>\"\",データセット1!C539,\"\")","v":""},{"$f":"IF(データセット1!C539<>\"\",データセット1!D539-カテゴリースコア!$E$11,\"\")","v":""},{"$f":"IF(C$1<>\"\",IF($A539<>\"\",COUNT(カテゴリースコア!M541),\"\"),\"\")","v":""},{"$f":"IF(D$1<>\"\",IF($A539<>\"\",COUNT(カテゴリースコア!N541),\"\"),\"\")","v":""},{"$f":"IF(E$1<>\"\",IF($A539<>\"\",COUNT(カテゴリースコア!O541),\"\"),\"\")","v":""},{"$f":"IF(F$1<>\"\",IF($A539<>\"\",COUNT(カテゴリースコア!P541),\"\"),\"\")","v":""},{"$f":"IF(G$1<>\"\",IF($A539<>\"\",COUNT(カテゴリースコア!Q541),\"\"),\"\")","v":""},{"$f":"IF(H$1<>\"\",IF($A539<>\"\",COUNT(カテゴリースコア!R541),\"\"),\"\")","v":""},{"$f":"IF(I$1<>\"\",IF($A539<>\"\",COUNT(カテゴリースコア!S541),\"\"),\"\")","v":""},{"$f":"IF(J$1<>\"\",IF($A539<>\"\",COUNT(カテゴリースコア!T541),\"\"),\"\")","v":""},{"$f":"IF(K$1<>\"\",IF($A539<>\"\",COUNT(カテゴリースコア!U541),\"\"),\"\")","v":""}]
[{"$f":"IF(データセット1!C540<>\"\",データセット1!C540,\"\")","v":""},{"$f":"IF(データセット1!C540<>\"\",データセット1!D540-カテゴリースコア!$E$11,\"\")","v":""},{"$f":"IF(C$1<>\"\",IF($A540<>\"\",COUNT(カテゴリースコア!M542),\"\"),\"\")","v":""},{"$f":"IF(D$1<>\"\",IF($A540<>\"\",COUNT(カテゴリースコア!N542),\"\"),\"\")","v":""},{"$f":"IF(E$1<>\"\",IF($A540<>\"\",COUNT(カテゴリースコア!O542),\"\"),\"\")","v":""},{"$f":"IF(F$1<>\"\",IF($A540<>\"\",COUNT(カテゴリースコア!P542),\"\"),\"\")","v":""},{"$f":"IF(G$1<>\"\",IF($A540<>\"\",COUNT(カテゴリースコア!Q542),\"\"),\"\")","v":""},{"$f":"IF(H$1<>\"\",IF($A540<>\"\",COUNT(カテゴリースコア!R542),\"\"),\"\")","v":""},{"$f":"IF(I$1<>\"\",IF($A540<>\"\",COUNT(カテゴリースコア!S542),\"\"),\"\")","v":""},{"$f":"IF(J$1<>\"\",IF($A540<>\"\",COUNT(カテゴリースコア!T542),\"\"),\"\")","v":""},{"$f":"IF(K$1<>\"\",IF($A540<>\"\",COUNT(カテゴリースコア!U542),\"\"),\"\")","v":""}]
[{"$f":"IF(データセット1!C541<>\"\",データセット1!C541,\"\")","v":""},{"$f":"IF(データセット1!C541<>\"\",データセット1!D541-カテゴリースコア!$E$11,\"\")","v":""},{"$f":"IF(C$1<>\"\",IF($A541<>\"\",COUNT(カテゴリースコア!M543),\"\"),\"\")","v":""},{"$f":"IF(D$1<>\"\",IF($A541<>\"\",COUNT(カテゴリースコア!N543),\"\"),\"\")","v":""},{"$f":"IF(E$1<>\"\",IF($A541<>\"\",COUNT(カテゴリースコア!O543),\"\"),\"\")","v":""},{"$f":"IF(F$1<>\"\",IF($A541<>\"\",COUNT(カテゴリースコア!P543),\"\"),\"\")","v":""},{"$f":"IF(G$1<>\"\",IF($A541<>\"\",COUNT(カテゴリースコア!Q543),\"\"),\"\")","v":""},{"$f":"IF(H$1<>\"\",IF($A541<>\"\",COUNT(カテゴリースコア!R543),\"\"),\"\")","v":""},{"$f":"IF(I$1<>\"\",IF($A541<>\"\",COUNT(カテゴリースコア!S543),\"\"),\"\")","v":""},{"$f":"IF(J$1<>\"\",IF($A541<>\"\",COUNT(カテゴリースコア!T543),\"\"),\"\")","v":""},{"$f":"IF(K$1<>\"\",IF($A541<>\"\",COUNT(カテゴリースコア!U543),\"\"),\"\")","v":""}]
[{"$f":"IF(データセット1!C542<>\"\",データセット1!C542,\"\")","v":""},{"$f":"IF(データセット1!C542<>\"\",データセット1!D542-カテゴリースコア!$E$11,\"\")","v":""},{"$f":"IF(C$1<>\"\",IF($A542<>\"\",COUNT(カテゴリースコア!M544),\"\"),\"\")","v":""},{"$f":"IF(D$1<>\"\",IF($A542<>\"\",COUNT(カテゴリースコア!N544),\"\"),\"\")","v":""},{"$f":"IF(E$1<>\"\",IF($A542<>\"\",COUNT(カテゴリースコア!O544),\"\"),\"\")","v":""},{"$f":"IF(F$1<>\"\",IF($A542<>\"\",COUNT(カテゴリースコア!P544),\"\"),\"\")","v":""},{"$f":"IF(G$1<>\"\",IF($A542<>\"\",COUNT(カテゴリースコア!Q544),\"\"),\"\")","v":""},{"$f":"IF(H$1<>\"\",IF($A542<>\"\",COUNT(カテゴリースコア!R544),\"\"),\"\")","v":""},{"$f":"IF(I$1<>\"\",IF($A542<>\"\",COUNT(カテゴリースコア!S544),\"\"),\"\")","v":""},{"$f":"IF(J$1<>\"\",IF($A542<>\"\",COUNT(カテゴリースコア!T544),\"\"),\"\")","v":""},{"$f":"IF(K$1<>\"\",IF($A542<>\"\",COUNT(カテゴリースコア!U544),\"\"),\"\")","v":""}]
[{"$f":"IF(データセット1!C543<>\"\",データセット1!C543,\"\")","v":""},{"$f":"IF(データセット1!C543<>\"\",データセット1!D543-カテゴリースコア!$E$11,\"\")","v":""},{"$f":"IF(C$1<>\"\",IF($A543<>\"\",COUNT(カテゴリースコア!M545),\"\"),\"\")","v":""},{"$f":"IF(D$1<>\"\",IF($A543<>\"\",COUNT(カテゴリースコア!N545),\"\"),\"\")","v":""},{"$f":"IF(E$1<>\"\",IF($A543<>\"\",COUNT(カテゴリースコア!O545),\"\"),\"\")","v":""},{"$f":"IF(F$1<>\"\",IF($A543<>\"\",COUNT(カテゴリースコア!P545),\"\"),\"\")","v":""},{"$f":"IF(G$1<>\"\",IF($A543<>\"\",COUNT(カテゴリースコア!Q545),\"\"),\"\")","v":""},{"$f":"IF(H$1<>\"\",IF($A543<>\"\",COUNT(カテゴリースコア!R545),\"\"),\"\")","v":""},{"$f":"IF(I$1<>\"\",IF($A543<>\"\",COUNT(カテゴリースコア!S545),\"\"),\"\")","v":""},{"$f":"IF(J$1<>\"\",IF($A543<>\"\",COUNT(カテゴリースコア!T545),\"\"),\"\")","v":""},{"$f":"IF(K$1<>\"\",IF($A543<>\"\",COUNT(カテゴリースコア!U545),\"\"),\"\")","v":""}]
[{"$f":"IF(データセット1!C544<>\"\",データセット1!C544,\"\")","v":""},{"$f":"IF(データセット1!C544<>\"\",データセット1!D544-カテゴリースコア!$E$11,\"\")","v":""},{"$f":"IF(C$1<>\"\",IF($A544<>\"\",COUNT(カテゴリースコア!M546),\"\"),\"\")","v":""},{"$f":"IF(D$1<>\"\",IF($A544<>\"\",COUNT(カテゴリースコア!N546),\"\"),\"\")","v":""},{"$f":"IF(E$1<>\"\",IF($A544<>\"\",COUNT(カテゴリースコア!O546),\"\"),\"\")","v":""},{"$f":"IF(F$1<>\"\",IF($A544<>\"\",COUNT(カテゴリースコア!P546),\"\"),\"\")","v":""},{"$f":"IF(G$1<>\"\",IF($A544<>\"\",COUNT(カテゴリースコア!Q546),\"\"),\"\")","v":""},{"$f":"IF(H$1<>\"\",IF($A544<>\"\",COUNT(カテゴリースコア!R546),\"\"),\"\")","v":""},{"$f":"IF(I$1<>\"\",IF($A544<>\"\",COUNT(カテゴリースコア!S546),\"\"),\"\")","v":""},{"$f":"IF(J$1<>\"\",IF($A544<>\"\",COUNT(カテゴリースコア!T546),\"\"),\"\")","v":""},{"$f":"IF(K$1<>\"\",IF($A544<>\"\",COUNT(カテゴリースコア!U546),\"\"),\"\")","v":""}]
[{"$f":"IF(データセット1!C545<>\"\",データセット1!C545,\"\")","v":""},{"$f":"IF(データセット1!C545<>\"\",データセット1!D545-カテゴリースコア!$E$11,\"\")","v":""},{"$f":"IF(C$1<>\"\",IF($A545<>\"\",COUNT(カテゴリースコア!M547),\"\"),\"\")","v":""},{"$f":"IF(D$1<>\"\",IF($A545<>\"\",COUNT(カテゴリースコア!N547),\"\"),\"\")","v":""},{"$f":"IF(E$1<>\"\",IF($A545<>\"\",COUNT(カテゴリースコア!O547),\"\"),\"\")","v":""},{"$f":"IF(F$1<>\"\",IF($A545<>\"\",COUNT(カテゴリースコア!P547),\"\"),\"\")","v":""},{"$f":"IF(G$1<>\"\",IF($A545<>\"\",COUNT(カテゴリースコア!Q547),\"\"),\"\")","v":""},{"$f":"IF(H$1<>\"\",IF($A545<>\"\",COUNT(カテゴリースコア!R547),\"\"),\"\")","v":""},{"$f":"IF(I$1<>\"\",IF($A545<>\"\",COUNT(カテゴリースコア!S547),\"\"),\"\")","v":""},{"$f":"IF(J$1<>\"\",IF($A545<>\"\",COUNT(カテゴリースコア!T547),\"\"),\"\")","v":""},{"$f":"IF(K$1<>\"\",IF($A545<>\"\",COUNT(カテゴリースコア!U547),\"\"),\"\")","v":""}]
[{"$f":"IF(データセット1!C546<>\"\",データセット1!C546,\"\")","v":""},{"$f":"IF(データセット1!C546<>\"\",データセット1!D546-カテゴリースコア!$E$11,\"\")","v":""},{"$f":"IF(C$1<>\"\",IF($A546<>\"\",COUNT(カテゴリースコア!M548),\"\"),\"\")","v":""},{"$f":"IF(D$1<>\"\",IF($A546<>\"\",COUNT(カテゴリースコア!N548),\"\"),\"\")","v":""},{"$f":"IF(E$1<>\"\",IF($A546<>\"\",COUNT(カテゴリースコア!O548),\"\"),\"\")","v":""},{"$f":"IF(F$1<>\"\",IF($A546<>\"\",COUNT(カテゴリースコア!P548),\"\"),\"\")","v":""},{"$f":"IF(G$1<>\"\",IF($A546<>\"\",COUNT(カテゴリースコア!Q548),\"\"),\"\")","v":""},{"$f":"IF(H$1<>\"\",IF($A546<>\"\",COUNT(カテゴリースコア!R548),\"\"),\"\")","v":""},{"$f":"IF(I$1<>\"\",IF($A546<>\"\",COUNT(カテゴリースコア!S548),\"\"),\"\")","v":""},{"$f":"IF(J$1<>\"\",IF($A546<>\"\",COUNT(カテゴリースコア!T548),\"\"),\"\")","v":""},{"$f":"IF(K$1<>\"\",IF($A546<>\"\",COUNT(カテゴリースコア!U548),\"\"),\"\")","v":""}]
[{"$f":"IF(データセット1!C547<>\"\",データセット1!C547,\"\")","v":""},{"$f":"IF(データセット1!C547<>\"\",データセット1!D547-カテゴリースコア!$E$11,\"\")","v":""},{"$f":"IF(C$1<>\"\",IF($A547<>\"\",COUNT(カテゴリースコア!M549),\"\"),\"\")","v":""},{"$f":"IF(D$1<>\"\",IF($A547<>\"\",COUNT(カテゴリースコア!N549),\"\"),\"\")","v":""},{"$f":"IF(E$1<>\"\",IF($A547<>\"\",COUNT(カテゴリースコア!O549),\"\"),\"\")","v":""},{"$f":"IF(F$1<>\"\",IF($A547<>\"\",COUNT(カテゴリースコア!P549),\"\"),\"\")","v":""},{"$f":"IF(G$1<>\"\",IF($A547<>\"\",COUNT(カテゴリースコア!Q549),\"\"),\"\")","v":""},{"$f":"IF(H$1<>\"\",IF($A547<>\"\",COUNT(カテゴリースコア!R549),\"\"),\"\")","v":""},{"$f":"IF(I$1<>\"\",IF($A547<>\"\",COUNT(カテゴリースコア!S549),\"\"),\"\")","v":""},{"$f":"IF(J$1<>\"\",IF($A547<>\"\",COUNT(カテゴリースコア!T549),\"\"),\"\")","v":""},{"$f":"IF(K$1<>\"\",IF($A547<>\"\",COUNT(カテゴリースコア!U549),\"\"),\"\")","v":""}]
[{"$f":"IF(データセット1!C548<>\"\",データセット1!C548,\"\")","v":""},{"$f":"IF(データセット1!C548<>\"\",データセット1!D548-カテゴリースコア!$E$11,\"\")","v":""},{"$f":"IF(C$1<>\"\",IF($A548<>\"\",COUNT(カテゴリースコア!M550),\"\"),\"\")","v":""},{"$f":"IF(D$1<>\"\",IF($A548<>\"\",COUNT(カテゴリースコア!N550),\"\"),\"\")","v":""},{"$f":"IF(E$1<>\"\",IF($A548<>\"\",COUNT(カテゴリースコア!O550),\"\"),\"\")","v":""},{"$f":"IF(F$1<>\"\",IF($A548<>\"\",COUNT(カテゴリースコア!P550),\"\"),\"\")","v":""},{"$f":"IF(G$1<>\"\",IF($A548<>\"\",COUNT(カテゴリースコア!Q550),\"\"),\"\")","v":""},{"$f":"IF(H$1<>\"\",IF($A548<>\"\",COUNT(カテゴリースコア!R550),\"\"),\"\")","v":""},{"$f":"IF(I$1<>\"\",IF($A548<>\"\",COUNT(カテゴリースコア!S550),\"\"),\"\")","v":""},{"$f":"IF(J$1<>\"\",IF($A548<>\"\",COUNT(カテゴリースコア!T550),\"\"),\"\")","v":""},{"$f":"IF(K$1<>\"\",IF($A548<>\"\",COUNT(カテゴリースコア!U550),\"\"),\"\")","v":""}]
[{"$f":"IF(データセット1!C549<>\"\",データセット1!C549,\"\")","v":""},{"$f":"IF(データセット1!C549<>\"\",データセット1!D549-カテゴリースコア!$E$11,\"\")","v":""},{"$f":"IF(C$1<>\"\",IF($A549<>\"\",COUNT(カテゴリースコア!M551),\"\"),\"\")","v":""},{"$f":"IF(D$1<>\"\",IF($A549<>\"\",COUNT(カテゴリースコア!N551),\"\"),\"\")","v":""},{"$f":"IF(E$1<>\"\",IF($A549<>\"\",COUNT(カテゴリースコア!O551),\"\"),\"\")","v":""},{"$f":"IF(F$1<>\"\",IF($A549<>\"\",COUNT(カテゴリースコア!P551),\"\"),\"\")","v":""},{"$f":"IF(G$1<>\"\",IF($A549<>\"\",COUNT(カテゴリースコア!Q551),\"\"),\"\")","v":""},{"$f":"IF(H$1<>\"\",IF($A549<>\"\",COUNT(カテゴリースコア!R551),\"\"),\"\")","v":""},{"$f":"IF(I$1<>\"\",IF($A549<>\"\",COUNT(カテゴリースコア!S551),\"\"),\"\")","v":""},{"$f":"IF(J$1<>\"\",IF($A549<>\"\",COUNT(カテゴリースコア!T551),\"\"),\"\")","v":""},{"$f":"IF(K$1<>\"\",IF($A549<>\"\",COUNT(カテゴリースコア!U551),\"\"),\"\")","v":""}]
[{"$f":"IF(データセット1!C550<>\"\",データセット1!C550,\"\")","v":""},{"$f":"IF(データセット1!C550<>\"\",データセット1!D550-カテゴリースコア!$E$11,\"\")","v":""},{"$f":"IF(C$1<>\"\",IF($A550<>\"\",COUNT(カテゴリースコア!M552),\"\"),\"\")","v":""},{"$f":"IF(D$1<>\"\",IF($A550<>\"\",COUNT(カテゴリースコア!N552),\"\"),\"\")","v":""},{"$f":"IF(E$1<>\"\",IF($A550<>\"\",COUNT(カテゴリースコア!O552),\"\"),\"\")","v":""},{"$f":"IF(F$1<>\"\",IF($A550<>\"\",COUNT(カテゴリースコア!P552),\"\"),\"\")","v":""},{"$f":"IF(G$1<>\"\",IF($A550<>\"\",COUNT(カテゴリースコア!Q552),\"\"),\"\")","v":""},{"$f":"IF(H$1<>\"\",IF($A550<>\"\",COUNT(カテゴリースコア!R552),\"\"),\"\")","v":""},{"$f":"IF(I$1<>\"\",IF($A550<>\"\",COUNT(カテゴリースコア!S552),\"\"),\"\")","v":""},{"$f":"IF(J$1<>\"\",IF($A550<>\"\",COUNT(カテゴリースコア!T552),\"\"),\"\")","v":""},{"$f":"IF(K$1<>\"\",IF($A550<>\"\",COUNT(カテゴリースコア!U552),\"\"),\"\")","v":""}]
[{"$f":"IF(データセット1!C551<>\"\",データセット1!C551,\"\")","v":""},{"$f":"IF(データセット1!C551<>\"\",データセット1!D551-カテゴリースコア!$E$11,\"\")","v":""},{"$f":"IF(C$1<>\"\",IF($A551<>\"\",COUNT(カテゴリースコア!M553),\"\"),\"\")","v":""},{"$f":"IF(D$1<>\"\",IF($A551<>\"\",COUNT(カテゴリースコア!N553),\"\"),\"\")","v":""},{"$f":"IF(E$1<>\"\",IF($A551<>\"\",COUNT(カテゴリースコア!O553),\"\"),\"\")","v":""},{"$f":"IF(F$1<>\"\",IF($A551<>\"\",COUNT(カテゴリースコア!P553),\"\"),\"\")","v":""},{"$f":"IF(G$1<>\"\",IF($A551<>\"\",COUNT(カテゴリースコア!Q553),\"\"),\"\")","v":""},{"$f":"IF(H$1<>\"\",IF($A551<>\"\",COUNT(カテゴリースコア!R553),\"\"),\"\")","v":""},{"$f":"IF(I$1<>\"\",IF($A551<>\"\",COUNT(カテゴリースコア!S553),\"\"),\"\")","v":""},{"$f":"IF(J$1<>\"\",IF($A551<>\"\",COUNT(カテゴリースコア!T553),\"\"),\"\")","v":""},{"$f":"IF(K$1<>\"\",IF($A551<>\"\",COUNT(カテゴリースコア!U553),\"\"),\"\")","v":""}]
[{"$f":"IF(データセット1!C552<>\"\",データセット1!C552,\"\")","v":""},{"$f":"IF(データセット1!C552<>\"\",データセット1!D552-カテゴリースコア!$E$11,\"\")","v":""},{"$f":"IF(C$1<>\"\",IF($A552<>\"\",COUNT(カテゴリースコア!M554),\"\"),\"\")","v":""},{"$f":"IF(D$1<>\"\",IF($A552<>\"\",COUNT(カテゴリースコア!N554),\"\"),\"\")","v":""},{"$f":"IF(E$1<>\"\",IF($A552<>\"\",COUNT(カテゴリースコア!O554),\"\"),\"\")","v":""},{"$f":"IF(F$1<>\"\",IF($A552<>\"\",COUNT(カテゴリースコア!P554),\"\"),\"\")","v":""},{"$f":"IF(G$1<>\"\",IF($A552<>\"\",COUNT(カテゴリースコア!Q554),\"\"),\"\")","v":""},{"$f":"IF(H$1<>\"\",IF($A552<>\"\",COUNT(カテゴリースコア!R554),\"\"),\"\")","v":""},{"$f":"IF(I$1<>\"\",IF($A552<>\"\",COUNT(カテゴリースコア!S554),\"\"),\"\")","v":""},{"$f":"IF(J$1<>\"\",IF($A552<>\"\",COUNT(カテゴリースコア!T554),\"\"),\"\")","v":""},{"$f":"IF(K$1<>\"\",IF($A552<>\"\",COUNT(カテゴリースコア!U554),\"\"),\"\")","v":""}]
[{"$f":"IF(データセット1!C553<>\"\",データセット1!C553,\"\")","v":""},{"$f":"IF(データセット1!C553<>\"\",データセット1!D553-カテゴリースコア!$E$11,\"\")","v":""},{"$f":"IF(C$1<>\"\",IF($A553<>\"\",COUNT(カテゴリースコア!M555),\"\"),\"\")","v":""},{"$f":"IF(D$1<>\"\",IF($A553<>\"\",COUNT(カテゴリースコア!N555),\"\"),\"\")","v":""},{"$f":"IF(E$1<>\"\",IF($A553<>\"\",COUNT(カテゴリースコア!O555),\"\"),\"\")","v":""},{"$f":"IF(F$1<>\"\",IF($A553<>\"\",COUNT(カテゴリースコア!P555),\"\"),\"\")","v":""},{"$f":"IF(G$1<>\"\",IF($A553<>\"\",COUNT(カテゴリースコア!Q555),\"\"),\"\")","v":""},{"$f":"IF(H$1<>\"\",IF($A553<>\"\",COUNT(カテゴリースコア!R555),\"\"),\"\")","v":""},{"$f":"IF(I$1<>\"\",IF($A553<>\"\",COUNT(カテゴリースコア!S555),\"\"),\"\")","v":""},{"$f":"IF(J$1<>\"\",IF($A553<>\"\",COUNT(カテゴリースコア!T555),\"\"),\"\")","v":""},{"$f":"IF(K$1<>\"\",IF($A553<>\"\",COUNT(カテゴリースコア!U555),\"\"),\"\")","v":""}]
[{"$f":"IF(データセット1!C554<>\"\",データセット1!C554,\"\")","v":""},{"$f":"IF(データセット1!C554<>\"\",データセット1!D554-カテゴリースコア!$E$11,\"\")","v":""},{"$f":"IF(C$1<>\"\",IF($A554<>\"\",COUNT(カテゴリースコア!M556),\"\"),\"\")","v":""},{"$f":"IF(D$1<>\"\",IF($A554<>\"\",COUNT(カテゴリースコア!N556),\"\"),\"\")","v":""},{"$f":"IF(E$1<>\"\",IF($A554<>\"\",COUNT(カテゴリースコア!O556),\"\"),\"\")","v":""},{"$f":"IF(F$1<>\"\",IF($A554<>\"\",COUNT(カテゴリースコア!P556),\"\"),\"\")","v":""},{"$f":"IF(G$1<>\"\",IF($A554<>\"\",COUNT(カテゴリースコア!Q556),\"\"),\"\")","v":""},{"$f":"IF(H$1<>\"\",IF($A554<>\"\",COUNT(カテゴリースコア!R556),\"\"),\"\")","v":""},{"$f":"IF(I$1<>\"\",IF($A554<>\"\",COUNT(カテゴリースコア!S556),\"\"),\"\")","v":""},{"$f":"IF(J$1<>\"\",IF($A554<>\"\",COUNT(カテゴリースコア!T556),\"\"),\"\")","v":""},{"$f":"IF(K$1<>\"\",IF($A554<>\"\",COUNT(カテゴリースコア!U556),\"\"),\"\")","v":""}]
[{"$f":"IF(データセット1!C555<>\"\",データセット1!C555,\"\")","v":""},{"$f":"IF(データセット1!C555<>\"\",データセット1!D555-カテゴリースコア!$E$11,\"\")","v":""},{"$f":"IF(C$1<>\"\",IF($A555<>\"\",COUNT(カテゴリースコア!M557),\"\"),\"\")","v":""},{"$f":"IF(D$1<>\"\",IF($A555<>\"\",COUNT(カテゴリースコア!N557),\"\"),\"\")","v":""},{"$f":"IF(E$1<>\"\",IF($A555<>\"\",COUNT(カテゴリースコア!O557),\"\"),\"\")","v":""},{"$f":"IF(F$1<>\"\",IF($A555<>\"\",COUNT(カテゴリースコア!P557),\"\"),\"\")","v":""},{"$f":"IF(G$1<>\"\",IF($A555<>\"\",COUNT(カテゴリースコア!Q557),\"\"),\"\")","v":""},{"$f":"IF(H$1<>\"\",IF($A555<>\"\",COUNT(カテゴリースコア!R557),\"\"),\"\")","v":""},{"$f":"IF(I$1<>\"\",IF($A555<>\"\",COUNT(カテゴリースコア!S557),\"\"),\"\")","v":""},{"$f":"IF(J$1<>\"\",IF($A555<>\"\",COUNT(カテゴリースコア!T557),\"\"),\"\")","v":""},{"$f":"IF(K$1<>\"\",IF($A555<>\"\",COUNT(カテゴリースコア!U557),\"\"),\"\")","v":""}]
[{"$f":"IF(データセット1!C556<>\"\",データセット1!C556,\"\")","v":""},{"$f":"IF(データセット1!C556<>\"\",データセット1!D556-カテゴリースコア!$E$11,\"\")","v":""},{"$f":"IF(C$1<>\"\",IF($A556<>\"\",COUNT(カテゴリースコア!M558),\"\"),\"\")","v":""},{"$f":"IF(D$1<>\"\",IF($A556<>\"\",COUNT(カテゴリースコア!N558),\"\"),\"\")","v":""},{"$f":"IF(E$1<>\"\",IF($A556<>\"\",COUNT(カテゴリースコア!O558),\"\"),\"\")","v":""},{"$f":"IF(F$1<>\"\",IF($A556<>\"\",COUNT(カテゴリースコア!P558),\"\"),\"\")","v":""},{"$f":"IF(G$1<>\"\",IF($A556<>\"\",COUNT(カテゴリースコア!Q558),\"\"),\"\")","v":""},{"$f":"IF(H$1<>\"\",IF($A556<>\"\",COUNT(カテゴリースコア!R558),\"\"),\"\")","v":""},{"$f":"IF(I$1<>\"\",IF($A556<>\"\",COUNT(カテゴリースコア!S558),\"\"),\"\")","v":""},{"$f":"IF(J$1<>\"\",IF($A556<>\"\",COUNT(カテゴリースコア!T558),\"\"),\"\")","v":""},{"$f":"IF(K$1<>\"\",IF($A556<>\"\",COUNT(カテゴリースコア!U558),\"\"),\"\")","v":""}]
[{"$f":"IF(データセット1!C557<>\"\",データセット1!C557,\"\")","v":""},{"$f":"IF(データセット1!C557<>\"\",データセット1!D557-カテゴリースコア!$E$11,\"\")","v":""},{"$f":"IF(C$1<>\"\",IF($A557<>\"\",COUNT(カテゴリースコア!M559),\"\"),\"\")","v":""},{"$f":"IF(D$1<>\"\",IF($A557<>\"\",COUNT(カテゴリースコア!N559),\"\"),\"\")","v":""},{"$f":"IF(E$1<>\"\",IF($A557<>\"\",COUNT(カテゴリースコア!O559),\"\"),\"\")","v":""},{"$f":"IF(F$1<>\"\",IF($A557<>\"\",COUNT(カテゴリースコア!P559),\"\"),\"\")","v":""},{"$f":"IF(G$1<>\"\",IF($A557<>\"\",COUNT(カテゴリースコア!Q559),\"\"),\"\")","v":""},{"$f":"IF(H$1<>\"\",IF($A557<>\"\",COUNT(カテゴリースコア!R559),\"\"),\"\")","v":""},{"$f":"IF(I$1<>\"\",IF($A557<>\"\",COUNT(カテゴリースコア!S559),\"\"),\"\")","v":""},{"$f":"IF(J$1<>\"\",IF($A557<>\"\",COUNT(カテゴリースコア!T559),\"\"),\"\")","v":""},{"$f":"IF(K$1<>\"\",IF($A557<>\"\",COUNT(カテゴリースコア!U559),\"\"),\"\")","v":""}]
[{"$f":"IF(データセット1!C558<>\"\",データセット1!C558,\"\")","v":""},{"$f":"IF(データセット1!C558<>\"\",データセット1!D558-カテゴリースコア!$E$11,\"\")","v":""},{"$f":"IF(C$1<>\"\",IF($A558<>\"\",COUNT(カテゴリースコア!M560),\"\"),\"\")","v":""},{"$f":"IF(D$1<>\"\",IF($A558<>\"\",COUNT(カテゴリースコア!N560),\"\"),\"\")","v":""},{"$f":"IF(E$1<>\"\",IF($A558<>\"\",COUNT(カテゴリースコア!O560),\"\"),\"\")","v":""},{"$f":"IF(F$1<>\"\",IF($A558<>\"\",COUNT(カテゴリースコア!P560),\"\"),\"\")","v":""},{"$f":"IF(G$1<>\"\",IF($A558<>\"\",COUNT(カテゴリースコア!Q560),\"\"),\"\")","v":""},{"$f":"IF(H$1<>\"\",IF($A558<>\"\",COUNT(カテゴリースコア!R560),\"\"),\"\")","v":""},{"$f":"IF(I$1<>\"\",IF($A558<>\"\",COUNT(カテゴリースコア!S560),\"\"),\"\")","v":""},{"$f":"IF(J$1<>\"\",IF($A558<>\"\",COUNT(カテゴリースコア!T560),\"\"),\"\")","v":""},{"$f":"IF(K$1<>\"\",IF($A558<>\"\",COUNT(カテゴリースコア!U560),\"\"),\"\")","v":""}]
[{"$f":"IF(データセット1!C559<>\"\",データセット1!C559,\"\")","v":""},{"$f":"IF(データセット1!C559<>\"\",データセット1!D559-カテゴリースコア!$E$11,\"\")","v":""},{"$f":"IF(C$1<>\"\",IF($A559<>\"\",COUNT(カテゴリースコア!M561),\"\"),\"\")","v":""},{"$f":"IF(D$1<>\"\",IF($A559<>\"\",COUNT(カテゴリースコア!N561),\"\"),\"\")","v":""},{"$f":"IF(E$1<>\"\",IF($A559<>\"\",COUNT(カテゴリースコア!O561),\"\"),\"\")","v":""},{"$f":"IF(F$1<>\"\",IF($A559<>\"\",COUNT(カテゴリースコア!P561),\"\"),\"\")","v":""},{"$f":"IF(G$1<>\"\",IF($A559<>\"\",COUNT(カテゴリースコア!Q561),\"\"),\"\")","v":""},{"$f":"IF(H$1<>\"\",IF($A559<>\"\",COUNT(カテゴリースコア!R561),\"\"),\"\")","v":""},{"$f":"IF(I$1<>\"\",IF($A559<>\"\",COUNT(カテゴリースコア!S561),\"\"),\"\")","v":""},{"$f":"IF(J$1<>\"\",IF($A559<>\"\",COUNT(カテゴリースコア!T561),\"\"),\"\")","v":""},{"$f":"IF(K$1<>\"\",IF($A559<>\"\",COUNT(カテゴリースコア!U561),\"\"),\"\")","v":""}]
[{"$f":"IF(データセット1!C560<>\"\",データセット1!C560,\"\")","v":""},{"$f":"IF(データセット1!C560<>\"\",データセット1!D560-カテゴリースコア!$E$11,\"\")","v":""},{"$f":"IF(C$1<>\"\",IF($A560<>\"\",COUNT(カテゴリースコア!M562),\"\"),\"\")","v":""},{"$f":"IF(D$1<>\"\",IF($A560<>\"\",COUNT(カテゴリースコア!N562),\"\"),\"\")","v":""},{"$f":"IF(E$1<>\"\",IF($A560<>\"\",COUNT(カテゴリースコア!O562),\"\"),\"\")","v":""},{"$f":"IF(F$1<>\"\",IF($A560<>\"\",COUNT(カテゴリースコア!P562),\"\"),\"\")","v":""},{"$f":"IF(G$1<>\"\",IF($A560<>\"\",COUNT(カテゴリースコア!Q562),\"\"),\"\")","v":""},{"$f":"IF(H$1<>\"\",IF($A560<>\"\",COUNT(カテゴリースコア!R562),\"\"),\"\")","v":""},{"$f":"IF(I$1<>\"\",IF($A560<>\"\",COUNT(カテゴリースコア!S562),\"\"),\"\")","v":""},{"$f":"IF(J$1<>\"\",IF($A560<>\"\",COUNT(カテゴリースコア!T562),\"\"),\"\")","v":""},{"$f":"IF(K$1<>\"\",IF($A560<>\"\",COUNT(カテゴリースコア!U562),\"\"),\"\")","v":""}]
[{"$f":"IF(データセット1!C561<>\"\",データセット1!C561,\"\")","v":""},{"$f":"IF(データセット1!C561<>\"\",データセット1!D561-カテゴリースコア!$E$11,\"\")","v":""},{"$f":"IF(C$1<>\"\",IF($A561<>\"\",COUNT(カテゴリースコア!M563),\"\"),\"\")","v":""},{"$f":"IF(D$1<>\"\",IF($A561<>\"\",COUNT(カテゴリースコア!N563),\"\"),\"\")","v":""},{"$f":"IF(E$1<>\"\",IF($A561<>\"\",COUNT(カテゴリースコア!O563),\"\"),\"\")","v":""},{"$f":"IF(F$1<>\"\",IF($A561<>\"\",COUNT(カテゴリースコア!P563),\"\"),\"\")","v":""},{"$f":"IF(G$1<>\"\",IF($A561<>\"\",COUNT(カテゴリースコア!Q563),\"\"),\"\")","v":""},{"$f":"IF(H$1<>\"\",IF($A561<>\"\",COUNT(カテゴリースコア!R563),\"\"),\"\")","v":""},{"$f":"IF(I$1<>\"\",IF($A561<>\"\",COUNT(カテゴリースコア!S563),\"\"),\"\")","v":""},{"$f":"IF(J$1<>\"\",IF($A561<>\"\",COUNT(カテゴリースコア!T563),\"\"),\"\")","v":""},{"$f":"IF(K$1<>\"\",IF($A561<>\"\",COUNT(カテゴリースコア!U563),\"\"),\"\")","v":""}]
[{"$f":"IF(データセット1!C562<>\"\",データセット1!C562,\"\")","v":""},{"$f":"IF(データセット1!C562<>\"\",データセット1!D562-カテゴリースコア!$E$11,\"\")","v":""},{"$f":"IF(C$1<>\"\",IF($A562<>\"\",COUNT(カテゴリースコア!M564),\"\"),\"\")","v":""},{"$f":"IF(D$1<>\"\",IF($A562<>\"\",COUNT(カテゴリースコア!N564),\"\"),\"\")","v":""},{"$f":"IF(E$1<>\"\",IF($A562<>\"\",COUNT(カテゴリースコア!O564),\"\"),\"\")","v":""},{"$f":"IF(F$1<>\"\",IF($A562<>\"\",COUNT(カテゴリースコア!P564),\"\"),\"\")","v":""},{"$f":"IF(G$1<>\"\",IF($A562<>\"\",COUNT(カテゴリースコア!Q564),\"\"),\"\")","v":""},{"$f":"IF(H$1<>\"\",IF($A562<>\"\",COUNT(カテゴリースコア!R564),\"\"),\"\")","v":""},{"$f":"IF(I$1<>\"\",IF($A562<>\"\",COUNT(カテゴリースコア!S564),\"\"),\"\")","v":""},{"$f":"IF(J$1<>\"\",IF($A562<>\"\",COUNT(カテゴリースコア!T564),\"\"),\"\")","v":""},{"$f":"IF(K$1<>\"\",IF($A562<>\"\",COUNT(カテゴリースコア!U564),\"\"),\"\")","v":""}]
[{"$f":"IF(データセット1!C563<>\"\",データセット1!C563,\"\")","v":""},{"$f":"IF(データセット1!C563<>\"\",データセット1!D563-カテゴリースコア!$E$11,\"\")","v":""},{"$f":"IF(C$1<>\"\",IF($A563<>\"\",COUNT(カテゴリースコア!M565),\"\"),\"\")","v":""},{"$f":"IF(D$1<>\"\",IF($A563<>\"\",COUNT(カテゴリースコア!N565),\"\"),\"\")","v":""},{"$f":"IF(E$1<>\"\",IF($A563<>\"\",COUNT(カテゴリースコア!O565),\"\"),\"\")","v":""},{"$f":"IF(F$1<>\"\",IF($A563<>\"\",COUNT(カテゴリースコア!P565),\"\"),\"\")","v":""},{"$f":"IF(G$1<>\"\",IF($A563<>\"\",COUNT(カテゴリースコア!Q565),\"\"),\"\")","v":""},{"$f":"IF(H$1<>\"\",IF($A563<>\"\",COUNT(カテゴリースコア!R565),\"\"),\"\")","v":""},{"$f":"IF(I$1<>\"\",IF($A563<>\"\",COUNT(カテゴリースコア!S565),\"\"),\"\")","v":""},{"$f":"IF(J$1<>\"\",IF($A563<>\"\",COUNT(カテゴリースコア!T565),\"\"),\"\")","v":""},{"$f":"IF(K$1<>\"\",IF($A563<>\"\",COUNT(カテゴリースコア!U565),\"\"),\"\")","v":""}]
[{"$f":"IF(データセット1!C564<>\"\",データセット1!C564,\"\")","v":""},{"$f":"IF(データセット1!C564<>\"\",データセット1!D564-カテゴリースコア!$E$11,\"\")","v":""},{"$f":"IF(C$1<>\"\",IF($A564<>\"\",COUNT(カテゴリースコア!M566),\"\"),\"\")","v":""},{"$f":"IF(D$1<>\"\",IF($A564<>\"\",COUNT(カテゴリースコア!N566),\"\"),\"\")","v":""},{"$f":"IF(E$1<>\"\",IF($A564<>\"\",COUNT(カテゴリースコア!O566),\"\"),\"\")","v":""},{"$f":"IF(F$1<>\"\",IF($A564<>\"\",COUNT(カテゴリースコア!P566),\"\"),\"\")","v":""},{"$f":"IF(G$1<>\"\",IF($A564<>\"\",COUNT(カテゴリースコア!Q566),\"\"),\"\")","v":""},{"$f":"IF(H$1<>\"\",IF($A564<>\"\",COUNT(カテゴリースコア!R566),\"\"),\"\")","v":""},{"$f":"IF(I$1<>\"\",IF($A564<>\"\",COUNT(カテゴリースコア!S566),\"\"),\"\")","v":""},{"$f":"IF(J$1<>\"\",IF($A564<>\"\",COUNT(カテゴリースコア!T566),\"\"),\"\")","v":""},{"$f":"IF(K$1<>\"\",IF($A564<>\"\",COUNT(カテゴリースコア!U566),\"\"),\"\")","v":""}]
[{"$f":"IF(データセット1!C565<>\"\",データセット1!C565,\"\")","v":""},{"$f":"IF(データセット1!C565<>\"\",データセット1!D565-カテゴリースコア!$E$11,\"\")","v":""},{"$f":"IF(C$1<>\"\",IF($A565<>\"\",COUNT(カテゴリースコア!M567),\"\"),\"\")","v":""},{"$f":"IF(D$1<>\"\",IF($A565<>\"\",COUNT(カテゴリースコア!N567),\"\"),\"\")","v":""},{"$f":"IF(E$1<>\"\",IF($A565<>\"\",COUNT(カテゴリースコア!O567),\"\"),\"\")","v":""},{"$f":"IF(F$1<>\"\",IF($A565<>\"\",COUNT(カテゴリースコア!P567),\"\"),\"\")","v":""},{"$f":"IF(G$1<>\"\",IF($A565<>\"\",COUNT(カテゴリースコア!Q567),\"\"),\"\")","v":""},{"$f":"IF(H$1<>\"\",IF($A565<>\"\",COUNT(カテゴリースコア!R567),\"\"),\"\")","v":""},{"$f":"IF(I$1<>\"\",IF($A565<>\"\",COUNT(カテゴリースコア!S567),\"\"),\"\")","v":""},{"$f":"IF(J$1<>\"\",IF($A565<>\"\",COUNT(カテゴリースコア!T567),\"\"),\"\")","v":""},{"$f":"IF(K$1<>\"\",IF($A565<>\"\",COUNT(カテゴリースコア!U567),\"\"),\"\")","v":""}]
[{"$f":"IF(データセット1!C566<>\"\",データセット1!C566,\"\")","v":""},{"$f":"IF(データセット1!C566<>\"\",データセット1!D566-カテゴリースコア!$E$11,\"\")","v":""},{"$f":"IF(C$1<>\"\",IF($A566<>\"\",COUNT(カテゴリースコア!M568),\"\"),\"\")","v":""},{"$f":"IF(D$1<>\"\",IF($A566<>\"\",COUNT(カテゴリースコア!N568),\"\"),\"\")","v":""},{"$f":"IF(E$1<>\"\",IF($A566<>\"\",COUNT(カテゴリースコア!O568),\"\"),\"\")","v":""},{"$f":"IF(F$1<>\"\",IF($A566<>\"\",COUNT(カテゴリースコア!P568),\"\"),\"\")","v":""},{"$f":"IF(G$1<>\"\",IF($A566<>\"\",COUNT(カテゴリースコア!Q568),\"\"),\"\")","v":""},{"$f":"IF(H$1<>\"\",IF($A566<>\"\",COUNT(カテゴリースコア!R568),\"\"),\"\")","v":""},{"$f":"IF(I$1<>\"\",IF($A566<>\"\",COUNT(カテゴリースコア!S568),\"\"),\"\")","v":""},{"$f":"IF(J$1<>\"\",IF($A566<>\"\",COUNT(カテゴリースコア!T568),\"\"),\"\")","v":""},{"$f":"IF(K$1<>\"\",IF($A566<>\"\",COUNT(カテゴリースコア!U568),\"\"),\"\")","v":""}]
[{"$f":"IF(データセット1!C567<>\"\",データセット1!C567,\"\")","v":""},{"$f":"IF(データセット1!C567<>\"\",データセット1!D567-カテゴリースコア!$E$11,\"\")","v":""},{"$f":"IF(C$1<>\"\",IF($A567<>\"\",COUNT(カテゴリースコア!M569),\"\"),\"\")","v":""},{"$f":"IF(D$1<>\"\",IF($A567<>\"\",COUNT(カテゴリースコア!N569),\"\"),\"\")","v":""},{"$f":"IF(E$1<>\"\",IF($A567<>\"\",COUNT(カテゴリースコア!O569),\"\"),\"\")","v":""},{"$f":"IF(F$1<>\"\",IF($A567<>\"\",COUNT(カテゴリースコア!P569),\"\"),\"\")","v":""},{"$f":"IF(G$1<>\"\",IF($A567<>\"\",COUNT(カテゴリースコア!Q569),\"\"),\"\")","v":""},{"$f":"IF(H$1<>\"\",IF($A567<>\"\",COUNT(カテゴリースコア!R569),\"\"),\"\")","v":""},{"$f":"IF(I$1<>\"\",IF($A567<>\"\",COUNT(カテゴリースコア!S569),\"\"),\"\")","v":""},{"$f":"IF(J$1<>\"\",IF($A567<>\"\",COUNT(カテゴリースコア!T569),\"\"),\"\")","v":""},{"$f":"IF(K$1<>\"\",IF($A567<>\"\",COUNT(カテゴリースコア!U569),\"\"),\"\")","v":""}]
[{"$f":"IF(データセット1!C568<>\"\",データセット1!C568,\"\")","v":""},{"$f":"IF(データセット1!C568<>\"\",データセット1!D568-カテゴリースコア!$E$11,\"\")","v":""},{"$f":"IF(C$1<>\"\",IF($A568<>\"\",COUNT(カテゴリースコア!M570),\"\"),\"\")","v":""},{"$f":"IF(D$1<>\"\",IF($A568<>\"\",COUNT(カテゴリースコア!N570),\"\"),\"\")","v":""},{"$f":"IF(E$1<>\"\",IF($A568<>\"\",COUNT(カテゴリースコア!O570),\"\"),\"\")","v":""},{"$f":"IF(F$1<>\"\",IF($A568<>\"\",COUNT(カテゴリースコア!P570),\"\"),\"\")","v":""},{"$f":"IF(G$1<>\"\",IF($A568<>\"\",COUNT(カテゴリースコア!Q570),\"\"),\"\")","v":""},{"$f":"IF(H$1<>\"\",IF($A568<>\"\",COUNT(カテゴリースコア!R570),\"\"),\"\")","v":""},{"$f":"IF(I$1<>\"\",IF($A568<>\"\",COUNT(カテゴリースコア!S570),\"\"),\"\")","v":""},{"$f":"IF(J$1<>\"\",IF($A568<>\"\",COUNT(カテゴリースコア!T570),\"\"),\"\")","v":""},{"$f":"IF(K$1<>\"\",IF($A568<>\"\",COUNT(カテゴリースコア!U570),\"\"),\"\")","v":""}]
[{"$f":"IF(データセット1!C569<>\"\",データセット1!C569,\"\")","v":""},{"$f":"IF(データセット1!C569<>\"\",データセット1!D569-カテゴリースコア!$E$11,\"\")","v":""},{"$f":"IF(C$1<>\"\",IF($A569<>\"\",COUNT(カテゴリースコア!M571),\"\"),\"\")","v":""},{"$f":"IF(D$1<>\"\",IF($A569<>\"\",COUNT(カテゴリースコア!N571),\"\"),\"\")","v":""},{"$f":"IF(E$1<>\"\",IF($A569<>\"\",COUNT(カテゴリースコア!O571),\"\"),\"\")","v":""},{"$f":"IF(F$1<>\"\",IF($A569<>\"\",COUNT(カテゴリースコア!P571),\"\"),\"\")","v":""},{"$f":"IF(G$1<>\"\",IF($A569<>\"\",COUNT(カテゴリースコア!Q571),\"\"),\"\")","v":""},{"$f":"IF(H$1<>\"\",IF($A569<>\"\",COUNT(カテゴリースコア!R571),\"\"),\"\")","v":""},{"$f":"IF(I$1<>\"\",IF($A569<>\"\",COUNT(カテゴリースコア!S571),\"\"),\"\")","v":""},{"$f":"IF(J$1<>\"\",IF($A569<>\"\",COUNT(カテゴリースコア!T571),\"\"),\"\")","v":""},{"$f":"IF(K$1<>\"\",IF($A569<>\"\",COUNT(カテゴリースコア!U571),\"\"),\"\")","v":""}]
[{"$f":"IF(データセット1!C570<>\"\",データセット1!C570,\"\")","v":""},{"$f":"IF(データセット1!C570<>\"\",データセット1!D570-カテゴリースコア!$E$11,\"\")","v":""},{"$f":"IF(C$1<>\"\",IF($A570<>\"\",COUNT(カテゴリースコア!M572),\"\"),\"\")","v":""},{"$f":"IF(D$1<>\"\",IF($A570<>\"\",COUNT(カテゴリースコア!N572),\"\"),\"\")","v":""},{"$f":"IF(E$1<>\"\",IF($A570<>\"\",COUNT(カテゴリースコア!O572),\"\"),\"\")","v":""},{"$f":"IF(F$1<>\"\",IF($A570<>\"\",COUNT(カテゴリースコア!P572),\"\"),\"\")","v":""},{"$f":"IF(G$1<>\"\",IF($A570<>\"\",COUNT(カテゴリースコア!Q572),\"\"),\"\")","v":""},{"$f":"IF(H$1<>\"\",IF($A570<>\"\",COUNT(カテゴリースコア!R572),\"\"),\"\")","v":""},{"$f":"IF(I$1<>\"\",IF($A570<>\"\",COUNT(カテゴリースコア!S572),\"\"),\"\")","v":""},{"$f":"IF(J$1<>\"\",IF($A570<>\"\",COUNT(カテゴリースコア!T572),\"\"),\"\")","v":""},{"$f":"IF(K$1<>\"\",IF($A570<>\"\",COUNT(カテゴリースコア!U572),\"\"),\"\")","v":""}]
[{"$f":"IF(データセット1!C571<>\"\",データセット1!C571,\"\")","v":""},{"$f":"IF(データセット1!C571<>\"\",データセット1!D571-カテゴリースコア!$E$11,\"\")","v":""},{"$f":"IF(C$1<>\"\",IF($A571<>\"\",COUNT(カテゴリースコア!M573),\"\"),\"\")","v":""},{"$f":"IF(D$1<>\"\",IF($A571<>\"\",COUNT(カテゴリースコア!N573),\"\"),\"\")","v":""},{"$f":"IF(E$1<>\"\",IF($A571<>\"\",COUNT(カテゴリースコア!O573),\"\"),\"\")","v":""},{"$f":"IF(F$1<>\"\",IF($A571<>\"\",COUNT(カテゴリースコア!P573),\"\"),\"\")","v":""},{"$f":"IF(G$1<>\"\",IF($A571<>\"\",COUNT(カテゴリースコア!Q573),\"\"),\"\")","v":""},{"$f":"IF(H$1<>\"\",IF($A571<>\"\",COUNT(カテゴリースコア!R573),\"\"),\"\")","v":""},{"$f":"IF(I$1<>\"\",IF($A571<>\"\",COUNT(カテゴリースコア!S573),\"\"),\"\")","v":""},{"$f":"IF(J$1<>\"\",IF($A571<>\"\",COUNT(カテゴリースコア!T573),\"\"),\"\")","v":""},{"$f":"IF(K$1<>\"\",IF($A571<>\"\",COUNT(カテゴリースコア!U573),\"\"),\"\")","v":""}]
[{"$f":"IF(データセット1!C572<>\"\",データセット1!C572,\"\")","v":""},{"$f":"IF(データセット1!C572<>\"\",データセット1!D572-カテゴリースコア!$E$11,\"\")","v":""},{"$f":"IF(C$1<>\"\",IF($A572<>\"\",COUNT(カテゴリースコア!M574),\"\"),\"\")","v":""},{"$f":"IF(D$1<>\"\",IF($A572<>\"\",COUNT(カテゴリースコア!N574),\"\"),\"\")","v":""},{"$f":"IF(E$1<>\"\",IF($A572<>\"\",COUNT(カテゴリースコア!O574),\"\"),\"\")","v":""},{"$f":"IF(F$1<>\"\",IF($A572<>\"\",COUNT(カテゴリースコア!P574),\"\"),\"\")","v":""},{"$f":"IF(G$1<>\"\",IF($A572<>\"\",COUNT(カテゴリースコア!Q574),\"\"),\"\")","v":""},{"$f":"IF(H$1<>\"\",IF($A572<>\"\",COUNT(カテゴリースコア!R574),\"\"),\"\")","v":""},{"$f":"IF(I$1<>\"\",IF($A572<>\"\",COUNT(カテゴリースコア!S574),\"\"),\"\")","v":""},{"$f":"IF(J$1<>\"\",IF($A572<>\"\",COUNT(カテゴリースコア!T574),\"\"),\"\")","v":""},{"$f":"IF(K$1<>\"\",IF($A572<>\"\",COUNT(カテゴリースコア!U574),\"\"),\"\")","v":""}]
[{"$f":"IF(データセット1!C573<>\"\",データセット1!C573,\"\")","v":""},{"$f":"IF(データセット1!C573<>\"\",データセット1!D573-カテゴリースコア!$E$11,\"\")","v":""},{"$f":"IF(C$1<>\"\",IF($A573<>\"\",COUNT(カテゴリースコア!M575),\"\"),\"\")","v":""},{"$f":"IF(D$1<>\"\",IF($A573<>\"\",COUNT(カテゴリースコア!N575),\"\"),\"\")","v":""},{"$f":"IF(E$1<>\"\",IF($A573<>\"\",COUNT(カテゴリースコア!O575),\"\"),\"\")","v":""},{"$f":"IF(F$1<>\"\",IF($A573<>\"\",COUNT(カテゴリースコア!P575),\"\"),\"\")","v":""},{"$f":"IF(G$1<>\"\",IF($A573<>\"\",COUNT(カテゴリースコア!Q575),\"\"),\"\")","v":""},{"$f":"IF(H$1<>\"\",IF($A573<>\"\",COUNT(カテゴリースコア!R575),\"\"),\"\")","v":""},{"$f":"IF(I$1<>\"\",IF($A573<>\"\",COUNT(カテゴリースコア!S575),\"\"),\"\")","v":""},{"$f":"IF(J$1<>\"\",IF($A573<>\"\",COUNT(カテゴリースコア!T575),\"\"),\"\")","v":""},{"$f":"IF(K$1<>\"\",IF($A573<>\"\",COUNT(カテゴリースコア!U575),\"\"),\"\")","v":""}]
[{"$f":"IF(データセット1!C574<>\"\",データセット1!C574,\"\")","v":""},{"$f":"IF(データセット1!C574<>\"\",データセット1!D574-カテゴリースコア!$E$11,\"\")","v":""},{"$f":"IF(C$1<>\"\",IF($A574<>\"\",COUNT(カテゴリースコア!M576),\"\"),\"\")","v":""},{"$f":"IF(D$1<>\"\",IF($A574<>\"\",COUNT(カテゴリースコア!N576),\"\"),\"\")","v":""},{"$f":"IF(E$1<>\"\",IF($A574<>\"\",COUNT(カテゴリースコア!O576),\"\"),\"\")","v":""},{"$f":"IF(F$1<>\"\",IF($A574<>\"\",COUNT(カテゴリースコア!P576),\"\"),\"\")","v":""},{"$f":"IF(G$1<>\"\",IF($A574<>\"\",COUNT(カテゴリースコア!Q576),\"\"),\"\")","v":""},{"$f":"IF(H$1<>\"\",IF($A574<>\"\",COUNT(カテゴリースコア!R576),\"\"),\"\")","v":""},{"$f":"IF(I$1<>\"\",IF($A574<>\"\",COUNT(カテゴリースコア!S576),\"\"),\"\")","v":""},{"$f":"IF(J$1<>\"\",IF($A574<>\"\",COUNT(カテゴリースコア!T576),\"\"),\"\")","v":""},{"$f":"IF(K$1<>\"\",IF($A574<>\"\",COUNT(カテゴリースコア!U576),\"\"),\"\")","v":""}]
[{"$f":"IF(データセット1!C575<>\"\",データセット1!C575,\"\")","v":""},{"$f":"IF(データセット1!C575<>\"\",データセット1!D575-カテゴリースコア!$E$11,\"\")","v":""},{"$f":"IF(C$1<>\"\",IF($A575<>\"\",COUNT(カテゴリースコア!M577),\"\"),\"\")","v":""},{"$f":"IF(D$1<>\"\",IF($A575<>\"\",COUNT(カテゴリースコア!N577),\"\"),\"\")","v":""},{"$f":"IF(E$1<>\"\",IF($A575<>\"\",COUNT(カテゴリースコア!O577),\"\"),\"\")","v":""},{"$f":"IF(F$1<>\"\",IF($A575<>\"\",COUNT(カテゴリースコア!P577),\"\"),\"\")","v":""},{"$f":"IF(G$1<>\"\",IF($A575<>\"\",COUNT(カテゴリースコア!Q577),\"\"),\"\")","v":""},{"$f":"IF(H$1<>\"\",IF($A575<>\"\",COUNT(カテゴリースコア!R577),\"\"),\"\")","v":""},{"$f":"IF(I$1<>\"\",IF($A575<>\"\",COUNT(カテゴリースコア!S577),\"\"),\"\")","v":""},{"$f":"IF(J$1<>\"\",IF($A575<>\"\",COUNT(カテゴリースコア!T577),\"\"),\"\")","v":""},{"$f":"IF(K$1<>\"\",IF($A575<>\"\",COUNT(カテゴリースコア!U577),\"\"),\"\")","v":""}]
[{"$f":"IF(データセット1!C576<>\"\",データセット1!C576,\"\")","v":""},{"$f":"IF(データセット1!C576<>\"\",データセット1!D576-カテゴリースコア!$E$11,\"\")","v":""},{"$f":"IF(C$1<>\"\",IF($A576<>\"\",COUNT(カテゴリースコア!M578),\"\"),\"\")","v":""},{"$f":"IF(D$1<>\"\",IF($A576<>\"\",COUNT(カテゴリースコア!N578),\"\"),\"\")","v":""},{"$f":"IF(E$1<>\"\",IF($A576<>\"\",COUNT(カテゴリースコア!O578),\"\"),\"\")","v":""},{"$f":"IF(F$1<>\"\",IF($A576<>\"\",COUNT(カテゴリースコア!P578),\"\"),\"\")","v":""},{"$f":"IF(G$1<>\"\",IF($A576<>\"\",COUNT(カテゴリースコア!Q578),\"\"),\"\")","v":""},{"$f":"IF(H$1<>\"\",IF($A576<>\"\",COUNT(カテゴリースコア!R578),\"\"),\"\")","v":""},{"$f":"IF(I$1<>\"\",IF($A576<>\"\",COUNT(カテゴリースコア!S578),\"\"),\"\")","v":""},{"$f":"IF(J$1<>\"\",IF($A576<>\"\",COUNT(カテゴリースコア!T578),\"\"),\"\")","v":""},{"$f":"IF(K$1<>\"\",IF($A576<>\"\",COUNT(カテゴリースコア!U578),\"\"),\"\")","v":""}]
[{"$f":"IF(データセット1!C577<>\"\",データセット1!C577,\"\")","v":""},{"$f":"IF(データセット1!C577<>\"\",データセット1!D577-カテゴリースコア!$E$11,\"\")","v":""},{"$f":"IF(C$1<>\"\",IF($A577<>\"\",COUNT(カテゴリースコア!M579),\"\"),\"\")","v":""},{"$f":"IF(D$1<>\"\",IF($A577<>\"\",COUNT(カテゴリースコア!N579),\"\"),\"\")","v":""},{"$f":"IF(E$1<>\"\",IF($A577<>\"\",COUNT(カテゴリースコア!O579),\"\"),\"\")","v":""},{"$f":"IF(F$1<>\"\",IF($A577<>\"\",COUNT(カテゴリースコア!P579),\"\"),\"\")","v":""},{"$f":"IF(G$1<>\"\",IF($A577<>\"\",COUNT(カテゴリースコア!Q579),\"\"),\"\")","v":""},{"$f":"IF(H$1<>\"\",IF($A577<>\"\",COUNT(カテゴリースコア!R579),\"\"),\"\")","v":""},{"$f":"IF(I$1<>\"\",IF($A577<>\"\",COUNT(カテゴリースコア!S579),\"\"),\"\")","v":""},{"$f":"IF(J$1<>\"\",IF($A577<>\"\",COUNT(カテゴリースコア!T579),\"\"),\"\")","v":""},{"$f":"IF(K$1<>\"\",IF($A577<>\"\",COUNT(カテゴリースコア!U579),\"\"),\"\")","v":""}]
[{"$f":"IF(データセット1!C578<>\"\",データセット1!C578,\"\")","v":""},{"$f":"IF(データセット1!C578<>\"\",データセット1!D578-カテゴリースコア!$E$11,\"\")","v":""},{"$f":"IF(C$1<>\"\",IF($A578<>\"\",COUNT(カテゴリースコア!M580),\"\"),\"\")","v":""},{"$f":"IF(D$1<>\"\",IF($A578<>\"\",COUNT(カテゴリースコア!N580),\"\"),\"\")","v":""},{"$f":"IF(E$1<>\"\",IF($A578<>\"\",COUNT(カテゴリースコア!O580),\"\"),\"\")","v":""},{"$f":"IF(F$1<>\"\",IF($A578<>\"\",COUNT(カテゴリースコア!P580),\"\"),\"\")","v":""},{"$f":"IF(G$1<>\"\",IF($A578<>\"\",COUNT(カテゴリースコア!Q580),\"\"),\"\")","v":""},{"$f":"IF(H$1<>\"\",IF($A578<>\"\",COUNT(カテゴリースコア!R580),\"\"),\"\")","v":""},{"$f":"IF(I$1<>\"\",IF($A578<>\"\",COUNT(カテゴリースコア!S580),\"\"),\"\")","v":""},{"$f":"IF(J$1<>\"\",IF($A578<>\"\",COUNT(カテゴリースコア!T580),\"\"),\"\")","v":""},{"$f":"IF(K$1<>\"\",IF($A578<>\"\",COUNT(カテゴリースコア!U580),\"\"),\"\")","v":""}]
[{"$f":"IF(データセット1!C579<>\"\",データセット1!C579,\"\")","v":""},{"$f":"IF(データセット1!C579<>\"\",データセット1!D579-カテゴリースコア!$E$11,\"\")","v":""},{"$f":"IF(C$1<>\"\",IF($A579<>\"\",COUNT(カテゴリースコア!M581),\"\"),\"\")","v":""},{"$f":"IF(D$1<>\"\",IF($A579<>\"\",COUNT(カテゴリースコア!N581),\"\"),\"\")","v":""},{"$f":"IF(E$1<>\"\",IF($A579<>\"\",COUNT(カテゴリースコア!O581),\"\"),\"\")","v":""},{"$f":"IF(F$1<>\"\",IF($A579<>\"\",COUNT(カテゴリースコア!P581),\"\"),\"\")","v":""},{"$f":"IF(G$1<>\"\",IF($A579<>\"\",COUNT(カテゴリースコア!Q581),\"\"),\"\")","v":""},{"$f":"IF(H$1<>\"\",IF($A579<>\"\",COUNT(カテゴリースコア!R581),\"\"),\"\")","v":""},{"$f":"IF(I$1<>\"\",IF($A579<>\"\",COUNT(カテゴリースコア!S581),\"\"),\"\")","v":""},{"$f":"IF(J$1<>\"\",IF($A579<>\"\",COUNT(カテゴリースコア!T581),\"\"),\"\")","v":""},{"$f":"IF(K$1<>\"\",IF($A579<>\"\",COUNT(カテゴリースコア!U581),\"\"),\"\")","v":""}]
[{"$f":"IF(データセット1!C580<>\"\",データセット1!C580,\"\")","v":""},{"$f":"IF(データセット1!C580<>\"\",データセット1!D580-カテゴリースコア!$E$11,\"\")","v":""},{"$f":"IF(C$1<>\"\",IF($A580<>\"\",COUNT(カテゴリースコア!M582),\"\"),\"\")","v":""},{"$f":"IF(D$1<>\"\",IF($A580<>\"\",COUNT(カテゴリースコア!N582),\"\"),\"\")","v":""},{"$f":"IF(E$1<>\"\",IF($A580<>\"\",COUNT(カテゴリースコア!O582),\"\"),\"\")","v":""},{"$f":"IF(F$1<>\"\",IF($A580<>\"\",COUNT(カテゴリースコア!P582),\"\"),\"\")","v":""},{"$f":"IF(G$1<>\"\",IF($A580<>\"\",COUNT(カテゴリースコア!Q582),\"\"),\"\")","v":""},{"$f":"IF(H$1<>\"\",IF($A580<>\"\",COUNT(カテゴリースコア!R582),\"\"),\"\")","v":""},{"$f":"IF(I$1<>\"\",IF($A580<>\"\",COUNT(カテゴリースコア!S582),\"\"),\"\")","v":""},{"$f":"IF(J$1<>\"\",IF($A580<>\"\",COUNT(カテゴリースコア!T582),\"\"),\"\")","v":""},{"$f":"IF(K$1<>\"\",IF($A580<>\"\",COUNT(カテゴリースコア!U582),\"\"),\"\")","v":""}]
[{"$f":"IF(データセット1!C581<>\"\",データセット1!C581,\"\")","v":""},{"$f":"IF(データセット1!C581<>\"\",データセット1!D581-カテゴリースコア!$E$11,\"\")","v":""},{"$f":"IF(C$1<>\"\",IF($A581<>\"\",COUNT(カテゴリースコア!M583),\"\"),\"\")","v":""},{"$f":"IF(D$1<>\"\",IF($A581<>\"\",COUNT(カテゴリースコア!N583),\"\"),\"\")","v":""},{"$f":"IF(E$1<>\"\",IF($A581<>\"\",COUNT(カテゴリースコア!O583),\"\"),\"\")","v":""},{"$f":"IF(F$1<>\"\",IF($A581<>\"\",COUNT(カテゴリースコア!P583),\"\"),\"\")","v":""},{"$f":"IF(G$1<>\"\",IF($A581<>\"\",COUNT(カテゴリースコア!Q583),\"\"),\"\")","v":""},{"$f":"IF(H$1<>\"\",IF($A581<>\"\",COUNT(カテゴリースコア!R583),\"\"),\"\")","v":""},{"$f":"IF(I$1<>\"\",IF($A581<>\"\",COUNT(カテゴリースコア!S583),\"\"),\"\")","v":""},{"$f":"IF(J$1<>\"\",IF($A581<>\"\",COUNT(カテゴリースコア!T583),\"\"),\"\")","v":""},{"$f":"IF(K$1<>\"\",IF($A581<>\"\",COUNT(カテゴリースコア!U583),\"\"),\"\")","v":""}]
[{"$f":"IF(データセット1!C582<>\"\",データセット1!C582,\"\")","v":""},{"$f":"IF(データセット1!C582<>\"\",データセット1!D582-カテゴリースコア!$E$11,\"\")","v":""},{"$f":"IF(C$1<>\"\",IF($A582<>\"\",COUNT(カテゴリースコア!M584),\"\"),\"\")","v":""},{"$f":"IF(D$1<>\"\",IF($A582<>\"\",COUNT(カテゴリースコア!N584),\"\"),\"\")","v":""},{"$f":"IF(E$1<>\"\",IF($A582<>\"\",COUNT(カテゴリースコア!O584),\"\"),\"\")","v":""},{"$f":"IF(F$1<>\"\",IF($A582<>\"\",COUNT(カテゴリースコア!P584),\"\"),\"\")","v":""},{"$f":"IF(G$1<>\"\",IF($A582<>\"\",COUNT(カテゴリースコア!Q584),\"\"),\"\")","v":""},{"$f":"IF(H$1<>\"\",IF($A582<>\"\",COUNT(カテゴリースコア!R584),\"\"),\"\")","v":""},{"$f":"IF(I$1<>\"\",IF($A582<>\"\",COUNT(カテゴリースコア!S584),\"\"),\"\")","v":""},{"$f":"IF(J$1<>\"\",IF($A582<>\"\",COUNT(カテゴリースコア!T584),\"\"),\"\")","v":""},{"$f":"IF(K$1<>\"\",IF($A582<>\"\",COUNT(カテゴリースコア!U584),\"\"),\"\")","v":""}]
[{"$f":"IF(データセット1!C583<>\"\",データセット1!C583,\"\")","v":""},{"$f":"IF(データセット1!C583<>\"\",データセット1!D583-カテゴリースコア!$E$11,\"\")","v":""},{"$f":"IF(C$1<>\"\",IF($A583<>\"\",COUNT(カテゴリースコア!M585),\"\"),\"\")","v":""},{"$f":"IF(D$1<>\"\",IF($A583<>\"\",COUNT(カテゴリースコア!N585),\"\"),\"\")","v":""},{"$f":"IF(E$1<>\"\",IF($A583<>\"\",COUNT(カテゴリースコア!O585),\"\"),\"\")","v":""},{"$f":"IF(F$1<>\"\",IF($A583<>\"\",COUNT(カテゴリースコア!P585),\"\"),\"\")","v":""},{"$f":"IF(G$1<>\"\",IF($A583<>\"\",COUNT(カテゴリースコア!Q585),\"\"),\"\")","v":""},{"$f":"IF(H$1<>\"\",IF($A583<>\"\",COUNT(カテゴリースコア!R585),\"\"),\"\")","v":""},{"$f":"IF(I$1<>\"\",IF($A583<>\"\",COUNT(カテゴリースコア!S585),\"\"),\"\")","v":""},{"$f":"IF(J$1<>\"\",IF($A583<>\"\",COUNT(カテゴリースコア!T585),\"\"),\"\")","v":""},{"$f":"IF(K$1<>\"\",IF($A583<>\"\",COUNT(カテゴリースコア!U585),\"\"),\"\")","v":""}]
[{"$f":"IF(データセット1!C584<>\"\",データセット1!C584,\"\")","v":""},{"$f":"IF(データセット1!C584<>\"\",データセット1!D584-カテゴリースコア!$E$11,\"\")","v":""},{"$f":"IF(C$1<>\"\",IF($A584<>\"\",COUNT(カテゴリースコア!M586),\"\"),\"\")","v":""},{"$f":"IF(D$1<>\"\",IF($A584<>\"\",COUNT(カテゴリースコア!N586),\"\"),\"\")","v":""},{"$f":"IF(E$1<>\"\",IF($A584<>\"\",COUNT(カテゴリースコア!O586),\"\"),\"\")","v":""},{"$f":"IF(F$1<>\"\",IF($A584<>\"\",COUNT(カテゴリースコア!P586),\"\"),\"\")","v":""},{"$f":"IF(G$1<>\"\",IF($A584<>\"\",COUNT(カテゴリースコア!Q586),\"\"),\"\")","v":""},{"$f":"IF(H$1<>\"\",IF($A584<>\"\",COUNT(カテゴリースコア!R586),\"\"),\"\")","v":""},{"$f":"IF(I$1<>\"\",IF($A584<>\"\",COUNT(カテゴリースコア!S586),\"\"),\"\")","v":""},{"$f":"IF(J$1<>\"\",IF($A584<>\"\",COUNT(カテゴリースコア!T586),\"\"),\"\")","v":""},{"$f":"IF(K$1<>\"\",IF($A584<>\"\",COUNT(カテゴリースコア!U586),\"\"),\"\")","v":""}]
[{"$f":"IF(データセット1!C585<>\"\",データセット1!C585,\"\")","v":""},{"$f":"IF(データセット1!C585<>\"\",データセット1!D585-カテゴリースコア!$E$11,\"\")","v":""},{"$f":"IF(C$1<>\"\",IF($A585<>\"\",COUNT(カテゴリースコア!M587),\"\"),\"\")","v":""},{"$f":"IF(D$1<>\"\",IF($A585<>\"\",COUNT(カテゴリースコア!N587),\"\"),\"\")","v":""},{"$f":"IF(E$1<>\"\",IF($A585<>\"\",COUNT(カテゴリースコア!O587),\"\"),\"\")","v":""},{"$f":"IF(F$1<>\"\",IF($A585<>\"\",COUNT(カテゴリースコア!P587),\"\"),\"\")","v":""},{"$f":"IF(G$1<>\"\",IF($A585<>\"\",COUNT(カテゴリースコア!Q587),\"\"),\"\")","v":""},{"$f":"IF(H$1<>\"\",IF($A585<>\"\",COUNT(カテゴリースコア!R587),\"\"),\"\")","v":""},{"$f":"IF(I$1<>\"\",IF($A585<>\"\",COUNT(カテゴリースコア!S587),\"\"),\"\")","v":""},{"$f":"IF(J$1<>\"\",IF($A585<>\"\",COUNT(カテゴリースコア!T587),\"\"),\"\")","v":""},{"$f":"IF(K$1<>\"\",IF($A585<>\"\",COUNT(カテゴリースコア!U587),\"\"),\"\")","v":""}]
[{"$f":"IF(データセット1!C586<>\"\",データセット1!C586,\"\")","v":""},{"$f":"IF(データセット1!C586<>\"\",データセット1!D586-カテゴリースコア!$E$11,\"\")","v":""},{"$f":"IF(C$1<>\"\",IF($A586<>\"\",COUNT(カテゴリースコア!M588),\"\"),\"\")","v":""},{"$f":"IF(D$1<>\"\",IF($A586<>\"\",COUNT(カテゴリースコア!N588),\"\"),\"\")","v":""},{"$f":"IF(E$1<>\"\",IF($A586<>\"\",COUNT(カテゴリースコア!O588),\"\"),\"\")","v":""},{"$f":"IF(F$1<>\"\",IF($A586<>\"\",COUNT(カテゴリースコア!P588),\"\"),\"\")","v":""},{"$f":"IF(G$1<>\"\",IF($A586<>\"\",COUNT(カテゴリースコア!Q588),\"\"),\"\")","v":""},{"$f":"IF(H$1<>\"\",IF($A586<>\"\",COUNT(カテゴリースコア!R588),\"\"),\"\")","v":""},{"$f":"IF(I$1<>\"\",IF($A586<>\"\",COUNT(カテゴリースコア!S588),\"\"),\"\")","v":""},{"$f":"IF(J$1<>\"\",IF($A586<>\"\",COUNT(カテゴリースコア!T588),\"\"),\"\")","v":""},{"$f":"IF(K$1<>\"\",IF($A586<>\"\",COUNT(カテゴリースコア!U588),\"\"),\"\")","v":""}]
[{"$f":"IF(データセット1!C587<>\"\",データセット1!C587,\"\")","v":""},{"$f":"IF(データセット1!C587<>\"\",データセット1!D587-カテゴリースコア!$E$11,\"\")","v":""},{"$f":"IF(C$1<>\"\",IF($A587<>\"\",COUNT(カテゴリースコア!M589),\"\"),\"\")","v":""},{"$f":"IF(D$1<>\"\",IF($A587<>\"\",COUNT(カテゴリースコア!N589),\"\"),\"\")","v":""},{"$f":"IF(E$1<>\"\",IF($A587<>\"\",COUNT(カテゴリースコア!O589),\"\"),\"\")","v":""},{"$f":"IF(F$1<>\"\",IF($A587<>\"\",COUNT(カテゴリースコア!P589),\"\"),\"\")","v":""},{"$f":"IF(G$1<>\"\",IF($A587<>\"\",COUNT(カテゴリースコア!Q589),\"\"),\"\")","v":""},{"$f":"IF(H$1<>\"\",IF($A587<>\"\",COUNT(カテゴリースコア!R589),\"\"),\"\")","v":""},{"$f":"IF(I$1<>\"\",IF($A587<>\"\",COUNT(カテゴリースコア!S589),\"\"),\"\")","v":""},{"$f":"IF(J$1<>\"\",IF($A587<>\"\",COUNT(カテゴリースコア!T589),\"\"),\"\")","v":""},{"$f":"IF(K$1<>\"\",IF($A587<>\"\",COUNT(カテゴリースコア!U589),\"\"),\"\")","v":""}]
[{"$f":"IF(データセット1!C588<>\"\",データセット1!C588,\"\")","v":""},{"$f":"IF(データセット1!C588<>\"\",データセット1!D588-カテゴリースコア!$E$11,\"\")","v":""},{"$f":"IF(C$1<>\"\",IF($A588<>\"\",COUNT(カテゴリースコア!M590),\"\"),\"\")","v":""},{"$f":"IF(D$1<>\"\",IF($A588<>\"\",COUNT(カテゴリースコア!N590),\"\"),\"\")","v":""},{"$f":"IF(E$1<>\"\",IF($A588<>\"\",COUNT(カテゴリースコア!O590),\"\"),\"\")","v":""},{"$f":"IF(F$1<>\"\",IF($A588<>\"\",COUNT(カテゴリースコア!P590),\"\"),\"\")","v":""},{"$f":"IF(G$1<>\"\",IF($A588<>\"\",COUNT(カテゴリースコア!Q590),\"\"),\"\")","v":""},{"$f":"IF(H$1<>\"\",IF($A588<>\"\",COUNT(カテゴリースコア!R590),\"\"),\"\")","v":""},{"$f":"IF(I$1<>\"\",IF($A588<>\"\",COUNT(カテゴリースコア!S590),\"\"),\"\")","v":""},{"$f":"IF(J$1<>\"\",IF($A588<>\"\",COUNT(カテゴリースコア!T590),\"\"),\"\")","v":""},{"$f":"IF(K$1<>\"\",IF($A588<>\"\",COUNT(カテゴリースコア!U590),\"\"),\"\")","v":""}]
[{"$f":"IF(データセット1!C589<>\"\",データセット1!C589,\"\")","v":""},{"$f":"IF(データセット1!C589<>\"\",データセット1!D589-カテゴリースコア!$E$11,\"\")","v":""},{"$f":"IF(C$1<>\"\",IF($A589<>\"\",COUNT(カテゴリースコア!M591),\"\"),\"\")","v":""},{"$f":"IF(D$1<>\"\",IF($A589<>\"\",COUNT(カテゴリースコア!N591),\"\"),\"\")","v":""},{"$f":"IF(E$1<>\"\",IF($A589<>\"\",COUNT(カテゴリースコア!O591),\"\"),\"\")","v":""},{"$f":"IF(F$1<>\"\",IF($A589<>\"\",COUNT(カテゴリースコア!P591),\"\"),\"\")","v":""},{"$f":"IF(G$1<>\"\",IF($A589<>\"\",COUNT(カテゴリースコア!Q591),\"\"),\"\")","v":""},{"$f":"IF(H$1<>\"\",IF($A589<>\"\",COUNT(カテゴリースコア!R591),\"\"),\"\")","v":""},{"$f":"IF(I$1<>\"\",IF($A589<>\"\",COUNT(カテゴリースコア!S591),\"\"),\"\")","v":""},{"$f":"IF(J$1<>\"\",IF($A589<>\"\",COUNT(カテゴリースコア!T591),\"\"),\"\")","v":""},{"$f":"IF(K$1<>\"\",IF($A589<>\"\",COUNT(カテゴリースコア!U591),\"\"),\"\")","v":""}]
[{"$f":"IF(データセット1!C590<>\"\",データセット1!C590,\"\")","v":""},{"$f":"IF(データセット1!C590<>\"\",データセット1!D590-カテゴリースコア!$E$11,\"\")","v":""},{"$f":"IF(C$1<>\"\",IF($A590<>\"\",COUNT(カテゴリースコア!M592),\"\"),\"\")","v":""},{"$f":"IF(D$1<>\"\",IF($A590<>\"\",COUNT(カテゴリースコア!N592),\"\"),\"\")","v":""},{"$f":"IF(E$1<>\"\",IF($A590<>\"\",COUNT(カテゴリースコア!O592),\"\"),\"\")","v":""},{"$f":"IF(F$1<>\"\",IF($A590<>\"\",COUNT(カテゴリースコア!P592),\"\"),\"\")","v":""},{"$f":"IF(G$1<>\"\",IF($A590<>\"\",COUNT(カテゴリースコア!Q592),\"\"),\"\")","v":""},{"$f":"IF(H$1<>\"\",IF($A590<>\"\",COUNT(カテゴリースコア!R592),\"\"),\"\")","v":""},{"$f":"IF(I$1<>\"\",IF($A590<>\"\",COUNT(カテゴリースコア!S592),\"\"),\"\")","v":""},{"$f":"IF(J$1<>\"\",IF($A590<>\"\",COUNT(カテゴリースコア!T592),\"\"),\"\")","v":""},{"$f":"IF(K$1<>\"\",IF($A590<>\"\",COUNT(カテゴリースコア!U592),\"\"),\"\")","v":""}]
[{"$f":"IF(データセット1!C591<>\"\",データセット1!C591,\"\")","v":""},{"$f":"IF(データセット1!C591<>\"\",データセット1!D591-カテゴリースコア!$E$11,\"\")","v":""},{"$f":"IF(C$1<>\"\",IF($A591<>\"\",COUNT(カテゴリースコア!M593),\"\"),\"\")","v":""},{"$f":"IF(D$1<>\"\",IF($A591<>\"\",COUNT(カテゴリースコア!N593),\"\"),\"\")","v":""},{"$f":"IF(E$1<>\"\",IF($A591<>\"\",COUNT(カテゴリースコア!O593),\"\"),\"\")","v":""},{"$f":"IF(F$1<>\"\",IF($A591<>\"\",COUNT(カテゴリースコア!P593),\"\"),\"\")","v":""},{"$f":"IF(G$1<>\"\",IF($A591<>\"\",COUNT(カテゴリースコア!Q593),\"\"),\"\")","v":""},{"$f":"IF(H$1<>\"\",IF($A591<>\"\",COUNT(カテゴリースコア!R593),\"\"),\"\")","v":""},{"$f":"IF(I$1<>\"\",IF($A591<>\"\",COUNT(カテゴリースコア!S593),\"\"),\"\")","v":""},{"$f":"IF(J$1<>\"\",IF($A591<>\"\",COUNT(カテゴリースコア!T593),\"\"),\"\")","v":""},{"$f":"IF(K$1<>\"\",IF($A591<>\"\",COUNT(カテゴリースコア!U593),\"\"),\"\")","v":""}]
[{"$f":"IF(データセット1!C592<>\"\",データセット1!C592,\"\")","v":""},{"$f":"IF(データセット1!C592<>\"\",データセット1!D592-カテゴリースコア!$E$11,\"\")","v":""},{"$f":"IF(C$1<>\"\",IF($A592<>\"\",COUNT(カテゴリースコア!M594),\"\"),\"\")","v":""},{"$f":"IF(D$1<>\"\",IF($A592<>\"\",COUNT(カテゴリースコア!N594),\"\"),\"\")","v":""},{"$f":"IF(E$1<>\"\",IF($A592<>\"\",COUNT(カテゴリースコア!O594),\"\"),\"\")","v":""},{"$f":"IF(F$1<>\"\",IF($A592<>\"\",COUNT(カテゴリースコア!P594),\"\"),\"\")","v":""},{"$f":"IF(G$1<>\"\",IF($A592<>\"\",COUNT(カテゴリースコア!Q594),\"\"),\"\")","v":""},{"$f":"IF(H$1<>\"\",IF($A592<>\"\",COUNT(カテゴリースコア!R594),\"\"),\"\")","v":""},{"$f":"IF(I$1<>\"\",IF($A592<>\"\",COUNT(カテゴリースコア!S594),\"\"),\"\")","v":""},{"$f":"IF(J$1<>\"\",IF($A592<>\"\",COUNT(カテゴリースコア!T594),\"\"),\"\")","v":""},{"$f":"IF(K$1<>\"\",IF($A592<>\"\",COUNT(カテゴリースコア!U594),\"\"),\"\")","v":""}]
[{"$f":"IF(データセット1!C593<>\"\",データセット1!C593,\"\")","v":""},{"$f":"IF(データセット1!C593<>\"\",データセット1!D593-カテゴリースコア!$E$11,\"\")","v":""},{"$f":"IF(C$1<>\"\",IF($A593<>\"\",COUNT(カテゴリースコア!M595),\"\"),\"\")","v":""},{"$f":"IF(D$1<>\"\",IF($A593<>\"\",COUNT(カテゴリースコア!N595),\"\"),\"\")","v":""},{"$f":"IF(E$1<>\"\",IF($A593<>\"\",COUNT(カテゴリースコア!O595),\"\"),\"\")","v":""},{"$f":"IF(F$1<>\"\",IF($A593<>\"\",COUNT(カテゴリースコア!P595),\"\"),\"\")","v":""},{"$f":"IF(G$1<>\"\",IF($A593<>\"\",COUNT(カテゴリースコア!Q595),\"\"),\"\")","v":""},{"$f":"IF(H$1<>\"\",IF($A593<>\"\",COUNT(カテゴリースコア!R595),\"\"),\"\")","v":""},{"$f":"IF(I$1<>\"\",IF($A593<>\"\",COUNT(カテゴリースコア!S595),\"\"),\"\")","v":""},{"$f":"IF(J$1<>\"\",IF($A593<>\"\",COUNT(カテゴリースコア!T595),\"\"),\"\")","v":""},{"$f":"IF(K$1<>\"\",IF($A593<>\"\",COUNT(カテゴリースコア!U595),\"\"),\"\")","v":""}]
[{"$f":"IF(データセット1!C594<>\"\",データセット1!C594,\"\")","v":""},{"$f":"IF(データセット1!C594<>\"\",データセット1!D594-カテゴリースコア!$E$11,\"\")","v":""},{"$f":"IF(C$1<>\"\",IF($A594<>\"\",COUNT(カテゴリースコア!M596),\"\"),\"\")","v":""},{"$f":"IF(D$1<>\"\",IF($A594<>\"\",COUNT(カテゴリースコア!N596),\"\"),\"\")","v":""},{"$f":"IF(E$1<>\"\",IF($A594<>\"\",COUNT(カテゴリースコア!O596),\"\"),\"\")","v":""},{"$f":"IF(F$1<>\"\",IF($A594<>\"\",COUNT(カテゴリースコア!P596),\"\"),\"\")","v":""},{"$f":"IF(G$1<>\"\",IF($A594<>\"\",COUNT(カテゴリースコア!Q596),\"\"),\"\")","v":""},{"$f":"IF(H$1<>\"\",IF($A594<>\"\",COUNT(カテゴリースコア!R596),\"\"),\"\")","v":""},{"$f":"IF(I$1<>\"\",IF($A594<>\"\",COUNT(カテゴリースコア!S596),\"\"),\"\")","v":""},{"$f":"IF(J$1<>\"\",IF($A594<>\"\",COUNT(カテゴリースコア!T596),\"\"),\"\")","v":""},{"$f":"IF(K$1<>\"\",IF($A594<>\"\",COUNT(カテゴリースコア!U596),\"\"),\"\")","v":""}]
[{"$f":"IF(データセット1!C595<>\"\",データセット1!C595,\"\")","v":""},{"$f":"IF(データセット1!C595<>\"\",データセット1!D595-カテゴリースコア!$E$11,\"\")","v":""},{"$f":"IF(C$1<>\"\",IF($A595<>\"\",COUNT(カテゴリースコア!M597),\"\"),\"\")","v":""},{"$f":"IF(D$1<>\"\",IF($A595<>\"\",COUNT(カテゴリースコア!N597),\"\"),\"\")","v":""},{"$f":"IF(E$1<>\"\",IF($A595<>\"\",COUNT(カテゴリースコア!O597),\"\"),\"\")","v":""},{"$f":"IF(F$1<>\"\",IF($A595<>\"\",COUNT(カテゴリースコア!P597),\"\"),\"\")","v":""},{"$f":"IF(G$1<>\"\",IF($A595<>\"\",COUNT(カテゴリースコア!Q597),\"\"),\"\")","v":""},{"$f":"IF(H$1<>\"\",IF($A595<>\"\",COUNT(カテゴリースコア!R597),\"\"),\"\")","v":""},{"$f":"IF(I$1<>\"\",IF($A595<>\"\",COUNT(カテゴリースコア!S597),\"\"),\"\")","v":""},{"$f":"IF(J$1<>\"\",IF($A595<>\"\",COUNT(カテゴリースコア!T597),\"\"),\"\")","v":""},{"$f":"IF(K$1<>\"\",IF($A595<>\"\",COUNT(カテゴリースコア!U597),\"\"),\"\")","v":""}]
[{"$f":"IF(データセット1!C596<>\"\",データセット1!C596,\"\")","v":""},{"$f":"IF(データセット1!C596<>\"\",データセット1!D596-カテゴリースコア!$E$11,\"\")","v":""},{"$f":"IF(C$1<>\"\",IF($A596<>\"\",COUNT(カテゴリースコア!M598),\"\"),\"\")","v":""},{"$f":"IF(D$1<>\"\",IF($A596<>\"\",COUNT(カテゴリースコア!N598),\"\"),\"\")","v":""},{"$f":"IF(E$1<>\"\",IF($A596<>\"\",COUNT(カテゴリースコア!O598),\"\"),\"\")","v":""},{"$f":"IF(F$1<>\"\",IF($A596<>\"\",COUNT(カテゴリースコア!P598),\"\"),\"\")","v":""},{"$f":"IF(G$1<>\"\",IF($A596<>\"\",COUNT(カテゴリースコア!Q598),\"\"),\"\")","v":""},{"$f":"IF(H$1<>\"\",IF($A596<>\"\",COUNT(カテゴリースコア!R598),\"\"),\"\")","v":""},{"$f":"IF(I$1<>\"\",IF($A596<>\"\",COUNT(カテゴリースコア!S598),\"\"),\"\")","v":""},{"$f":"IF(J$1<>\"\",IF($A596<>\"\",COUNT(カテゴリースコア!T598),\"\"),\"\")","v":""},{"$f":"IF(K$1<>\"\",IF($A596<>\"\",COUNT(カテゴリースコア!U598),\"\"),\"\")","v":""}]
[{"$f":"IF(データセット1!C597<>\"\",データセット1!C597,\"\")","v":""},{"$f":"IF(データセット1!C597<>\"\",データセット1!D597-カテゴリースコア!$E$11,\"\")","v":""},{"$f":"IF(C$1<>\"\",IF($A597<>\"\",COUNT(カテゴリースコア!M599),\"\"),\"\")","v":""},{"$f":"IF(D$1<>\"\",IF($A597<>\"\",COUNT(カテゴリースコア!N599),\"\"),\"\")","v":""},{"$f":"IF(E$1<>\"\",IF($A597<>\"\",COUNT(カテゴリースコア!O599),\"\"),\"\")","v":""},{"$f":"IF(F$1<>\"\",IF($A597<>\"\",COUNT(カテゴリースコア!P599),\"\"),\"\")","v":""},{"$f":"IF(G$1<>\"\",IF($A597<>\"\",COUNT(カテゴリースコア!Q599),\"\"),\"\")","v":""},{"$f":"IF(H$1<>\"\",IF($A597<>\"\",COUNT(カテゴリースコア!R599),\"\"),\"\")","v":""},{"$f":"IF(I$1<>\"\",IF($A597<>\"\",COUNT(カテゴリースコア!S599),\"\"),\"\")","v":""},{"$f":"IF(J$1<>\"\",IF($A597<>\"\",COUNT(カテゴリースコア!T599),\"\"),\"\")","v":""},{"$f":"IF(K$1<>\"\",IF($A597<>\"\",COUNT(カテゴリースコア!U599),\"\"),\"\")","v":""}]
[{"$f":"IF(データセット1!C598<>\"\",データセット1!C598,\"\")","v":""},{"$f":"IF(データセット1!C598<>\"\",データセット1!D598-カテゴリースコア!$E$11,\"\")","v":""},{"$f":"IF(C$1<>\"\",IF($A598<>\"\",COUNT(カテゴリースコア!M600),\"\"),\"\")","v":""},{"$f":"IF(D$1<>\"\",IF($A598<>\"\",COUNT(カテゴリースコア!N600),\"\"),\"\")","v":""},{"$f":"IF(E$1<>\"\",IF($A598<>\"\",COUNT(カテゴリースコア!O600),\"\"),\"\")","v":""},{"$f":"IF(F$1<>\"\",IF($A598<>\"\",COUNT(カテゴリースコア!P600),\"\"),\"\")","v":""},{"$f":"IF(G$1<>\"\",IF($A598<>\"\",COUNT(カテゴリースコア!Q600),\"\"),\"\")","v":""},{"$f":"IF(H$1<>\"\",IF($A598<>\"\",COUNT(カテゴリースコア!R600),\"\"),\"\")","v":""},{"$f":"IF(I$1<>\"\",IF($A598<>\"\",COUNT(カテゴリースコア!S600),\"\"),\"\")","v":""},{"$f":"IF(J$1<>\"\",IF($A598<>\"\",COUNT(カテゴリースコア!T600),\"\"),\"\")","v":""},{"$f":"IF(K$1<>\"\",IF($A598<>\"\",COUNT(カテゴリースコア!U600),\"\"),\"\")","v":""}]
[{"$f":"IF(データセット1!C599<>\"\",データセット1!C599,\"\")","v":""},{"$f":"IF(データセット1!C599<>\"\",データセット1!D599-カテゴリースコア!$E$11,\"\")","v":""},{"$f":"IF(C$1<>\"\",IF($A599<>\"\",COUNT(カテゴリースコア!M601),\"\"),\"\")","v":""},{"$f":"IF(D$1<>\"\",IF($A599<>\"\",COUNT(カテゴリースコア!N601),\"\"),\"\")","v":""},{"$f":"IF(E$1<>\"\",IF($A599<>\"\",COUNT(カテゴリースコア!O601),\"\"),\"\")","v":""},{"$f":"IF(F$1<>\"\",IF($A599<>\"\",COUNT(カテゴリースコア!P601),\"\"),\"\")","v":""},{"$f":"IF(G$1<>\"\",IF($A599<>\"\",COUNT(カテゴリースコア!Q601),\"\"),\"\")","v":""},{"$f":"IF(H$1<>\"\",IF($A599<>\"\",COUNT(カテゴリースコア!R601),\"\"),\"\")","v":""},{"$f":"IF(I$1<>\"\",IF($A599<>\"\",COUNT(カテゴリースコア!S601),\"\"),\"\")","v":""},{"$f":"IF(J$1<>\"\",IF($A599<>\"\",COUNT(カテゴリースコア!T601),\"\"),\"\")","v":""},{"$f":"IF(K$1<>\"\",IF($A599<>\"\",COUNT(カテゴリースコア!U601),\"\"),\"\")","v":""}]
[{"$f":"IF(データセット1!C600<>\"\",データセット1!C600,\"\")","v":""},{"$f":"IF(データセット1!C600<>\"\",データセット1!D600-カテゴリースコア!$E$11,\"\")","v":""},{"$f":"IF(C$1<>\"\",IF($A600<>\"\",COUNT(カテゴリースコア!M602),\"\"),\"\")","v":""},{"$f":"IF(D$1<>\"\",IF($A600<>\"\",COUNT(カテゴリースコア!N602),\"\"),\"\")","v":""},{"$f":"IF(E$1<>\"\",IF($A600<>\"\",COUNT(カテゴリースコア!O602),\"\"),\"\")","v":""},{"$f":"IF(F$1<>\"\",IF($A600<>\"\",COUNT(カテゴリースコア!P602),\"\"),\"\")","v":""},{"$f":"IF(G$1<>\"\",IF($A600<>\"\",COUNT(カテゴリースコア!Q602),\"\"),\"\")","v":""},{"$f":"IF(H$1<>\"\",IF($A600<>\"\",COUNT(カテゴリースコア!R602),\"\"),\"\")","v":""},{"$f":"IF(I$1<>\"\",IF($A600<>\"\",COUNT(カテゴリースコア!S602),\"\"),\"\")","v":""},{"$f":"IF(J$1<>\"\",IF($A600<>\"\",COUNT(カテゴリースコア!T602),\"\"),\"\")","v":""},{"$f":"IF(K$1<>\"\",IF($A600<>\"\",COUNT(カテゴリースコア!U602),\"\"),\"\")","v":""}]
[{"$f":"IF(データセット1!C601<>\"\",データセット1!C601,\"\")","v":""},{"$f":"IF(データセット1!C601<>\"\",データセット1!D601-カテゴリースコア!$E$11,\"\")","v":""},{"$f":"IF(C$1<>\"\",IF($A601<>\"\",COUNT(カテゴリースコア!M603),\"\"),\"\")","v":""},{"$f":"IF(D$1<>\"\",IF($A601<>\"\",COUNT(カテゴリースコア!N603),\"\"),\"\")","v":""},{"$f":"IF(E$1<>\"\",IF($A601<>\"\",COUNT(カテゴリースコア!O603),\"\"),\"\")","v":""},{"$f":"IF(F$1<>\"\",IF($A601<>\"\",COUNT(カテゴリースコア!P603),\"\"),\"\")","v":""},{"$f":"IF(G$1<>\"\",IF($A601<>\"\",COUNT(カテゴリースコア!Q603),\"\"),\"\")","v":""},{"$f":"IF(H$1<>\"\",IF($A601<>\"\",COUNT(カテゴリースコア!R603),\"\"),\"\")","v":""},{"$f":"IF(I$1<>\"\",IF($A601<>\"\",COUNT(カテゴリースコア!S603),\"\"),\"\")","v":""},{"$f":"IF(J$1<>\"\",IF($A601<>\"\",COUNT(カテゴリースコア!T603),\"\"),\"\")","v":""},{"$f":"IF(K$1<>\"\",IF($A601<>\"\",COUNT(カテゴリースコア!U603),\"\"),\"\")","v":""}]
[{"$f":"IF(データセット1!C602<>\"\",データセット1!C602,\"\")","v":""},{"$f":"IF(データセット1!C602<>\"\",データセット1!D602-カテゴリースコア!$E$11,\"\")","v":""},{"$f":"IF(C$1<>\"\",IF($A602<>\"\",COUNT(カテゴリースコア!M604),\"\"),\"\")","v":""},{"$f":"IF(D$1<>\"\",IF($A602<>\"\",COUNT(カテゴリースコア!N604),\"\"),\"\")","v":""},{"$f":"IF(E$1<>\"\",IF($A602<>\"\",COUNT(カテゴリースコア!O604),\"\"),\"\")","v":""},{"$f":"IF(F$1<>\"\",IF($A602<>\"\",COUNT(カテゴリースコア!P604),\"\"),\"\")","v":""},{"$f":"IF(G$1<>\"\",IF($A602<>\"\",COUNT(カテゴリースコア!Q604),\"\"),\"\")","v":""},{"$f":"IF(H$1<>\"\",IF($A602<>\"\",COUNT(カテゴリースコア!R604),\"\"),\"\")","v":""},{"$f":"IF(I$1<>\"\",IF($A602<>\"\",COUNT(カテゴリースコア!S604),\"\"),\"\")","v":""},{"$f":"IF(J$1<>\"\",IF($A602<>\"\",COUNT(カテゴリースコア!T604),\"\"),\"\")","v":""},{"$f":"IF(K$1<>\"\",IF($A602<>\"\",COUNT(カテゴリースコア!U604),\"\"),\"\")","v":""}]
[{"$f":"IF(データセット1!C603<>\"\",データセット1!C603,\"\")","v":""},{"$f":"IF(データセット1!C603<>\"\",データセット1!D603-カテゴリースコア!$E$11,\"\")","v":""},{"$f":"IF(C$1<>\"\",IF($A603<>\"\",COUNT(カテゴリースコア!M605),\"\"),\"\")","v":""},{"$f":"IF(D$1<>\"\",IF($A603<>\"\",COUNT(カテゴリースコア!N605),\"\"),\"\")","v":""},{"$f":"IF(E$1<>\"\",IF($A603<>\"\",COUNT(カテゴリースコア!O605),\"\"),\"\")","v":""},{"$f":"IF(F$1<>\"\",IF($A603<>\"\",COUNT(カテゴリースコア!P605),\"\"),\"\")","v":""},{"$f":"IF(G$1<>\"\",IF($A603<>\"\",COUNT(カテゴリースコア!Q605),\"\"),\"\")","v":""},{"$f":"IF(H$1<>\"\",IF($A603<>\"\",COUNT(カテゴリースコア!R605),\"\"),\"\")","v":""},{"$f":"IF(I$1<>\"\",IF($A603<>\"\",COUNT(カテゴリースコア!S605),\"\"),\"\")","v":""},{"$f":"IF(J$1<>\"\",IF($A603<>\"\",COUNT(カテゴリースコア!T605),\"\"),\"\")","v":""},{"$f":"IF(K$1<>\"\",IF($A603<>\"\",COUNT(カテゴリースコア!U605),\"\"),\"\")","v":""}]
[{"$f":"IF(データセット1!C604<>\"\",データセット1!C604,\"\")","v":""},{"$f":"IF(データセット1!C604<>\"\",データセット1!D604-カテゴリースコア!$E$11,\"\")","v":""},{"$f":"IF(C$1<>\"\",IF($A604<>\"\",COUNT(カテゴリースコア!M606),\"\"),\"\")","v":""},{"$f":"IF(D$1<>\"\",IF($A604<>\"\",COUNT(カテゴリースコア!N606),\"\"),\"\")","v":""},{"$f":"IF(E$1<>\"\",IF($A604<>\"\",COUNT(カテゴリースコア!O606),\"\"),\"\")","v":""},{"$f":"IF(F$1<>\"\",IF($A604<>\"\",COUNT(カテゴリースコア!P606),\"\"),\"\")","v":""},{"$f":"IF(G$1<>\"\",IF($A604<>\"\",COUNT(カテゴリースコア!Q606),\"\"),\"\")","v":""},{"$f":"IF(H$1<>\"\",IF($A604<>\"\",COUNT(カテゴリースコア!R606),\"\"),\"\")","v":""},{"$f":"IF(I$1<>\"\",IF($A604<>\"\",COUNT(カテゴリースコア!S606),\"\"),\"\")","v":""},{"$f":"IF(J$1<>\"\",IF($A604<>\"\",COUNT(カテゴリースコア!T606),\"\"),\"\")","v":""},{"$f":"IF(K$1<>\"\",IF($A604<>\"\",COUNT(カテゴリースコア!U606),\"\"),\"\")","v":""}]
[{"$f":"IF(データセット1!C605<>\"\",データセット1!C605,\"\")","v":""},{"$f":"IF(データセット1!C605<>\"\",データセット1!D605-カテゴリースコア!$E$11,\"\")","v":""},{"$f":"IF(C$1<>\"\",IF($A605<>\"\",COUNT(カテゴリースコア!M607),\"\"),\"\")","v":""},{"$f":"IF(D$1<>\"\",IF($A605<>\"\",COUNT(カテゴリースコア!N607),\"\"),\"\")","v":""},{"$f":"IF(E$1<>\"\",IF($A605<>\"\",COUNT(カテゴリースコア!O607),\"\"),\"\")","v":""},{"$f":"IF(F$1<>\"\",IF($A605<>\"\",COUNT(カテゴリースコア!P607),\"\"),\"\")","v":""},{"$f":"IF(G$1<>\"\",IF($A605<>\"\",COUNT(カテゴリースコア!Q607),\"\"),\"\")","v":""},{"$f":"IF(H$1<>\"\",IF($A605<>\"\",COUNT(カテゴリースコア!R607),\"\"),\"\")","v":""},{"$f":"IF(I$1<>\"\",IF($A605<>\"\",COUNT(カテゴリースコア!S607),\"\"),\"\")","v":""},{"$f":"IF(J$1<>\"\",IF($A605<>\"\",COUNT(カテゴリースコア!T607),\"\"),\"\")","v":""},{"$f":"IF(K$1<>\"\",IF($A605<>\"\",COUNT(カテゴリースコア!U607),\"\"),\"\")","v":""}]
[{"$f":"IF(データセット1!C606<>\"\",データセット1!C606,\"\")","v":""},{"$f":"IF(データセット1!C606<>\"\",データセット1!D606-カテゴリースコア!$E$11,\"\")","v":""},{"$f":"IF(C$1<>\"\",IF($A606<>\"\",COUNT(カテゴリースコア!M608),\"\"),\"\")","v":""},{"$f":"IF(D$1<>\"\",IF($A606<>\"\",COUNT(カテゴリースコア!N608),\"\"),\"\")","v":""},{"$f":"IF(E$1<>\"\",IF($A606<>\"\",COUNT(カテゴリースコア!O608),\"\"),\"\")","v":""},{"$f":"IF(F$1<>\"\",IF($A606<>\"\",COUNT(カテゴリースコア!P608),\"\"),\"\")","v":""},{"$f":"IF(G$1<>\"\",IF($A606<>\"\",COUNT(カテゴリースコア!Q608),\"\"),\"\")","v":""},{"$f":"IF(H$1<>\"\",IF($A606<>\"\",COUNT(カテゴリースコア!R608),\"\"),\"\")","v":""},{"$f":"IF(I$1<>\"\",IF($A606<>\"\",COUNT(カテゴリースコア!S608),\"\"),\"\")","v":""},{"$f":"IF(J$1<>\"\",IF($A606<>\"\",COUNT(カテゴリースコア!T608),\"\"),\"\")","v":""},{"$f":"IF(K$1<>\"\",IF($A606<>\"\",COUNT(カテゴリースコア!U608),\"\"),\"\")","v":""}]
[{"$f":"IF(データセット1!C607<>\"\",データセット1!C607,\"\")","v":""},{"$f":"IF(データセット1!C607<>\"\",データセット1!D607-カテゴリースコア!$E$11,\"\")","v":""},{"$f":"IF(C$1<>\"\",IF($A607<>\"\",COUNT(カテゴリースコア!M609),\"\"),\"\")","v":""},{"$f":"IF(D$1<>\"\",IF($A607<>\"\",COUNT(カテゴリースコア!N609),\"\"),\"\")","v":""},{"$f":"IF(E$1<>\"\",IF($A607<>\"\",COUNT(カテゴリースコア!O609),\"\"),\"\")","v":""},{"$f":"IF(F$1<>\"\",IF($A607<>\"\",COUNT(カテゴリースコア!P609),\"\"),\"\")","v":""},{"$f":"IF(G$1<>\"\",IF($A607<>\"\",COUNT(カテゴリースコア!Q609),\"\"),\"\")","v":""},{"$f":"IF(H$1<>\"\",IF($A607<>\"\",COUNT(カテゴリースコア!R609),\"\"),\"\")","v":""},{"$f":"IF(I$1<>\"\",IF($A607<>\"\",COUNT(カテゴリースコア!S609),\"\"),\"\")","v":""},{"$f":"IF(J$1<>\"\",IF($A607<>\"\",COUNT(カテゴリースコア!T609),\"\"),\"\")","v":""},{"$f":"IF(K$1<>\"\",IF($A607<>\"\",COUNT(カテゴリースコア!U609),\"\"),\"\")","v":""}]
[{"$f":"IF(データセット1!C608<>\"\",データセット1!C608,\"\")","v":""},{"$f":"IF(データセット1!C608<>\"\",データセット1!D608-カテゴリースコア!$E$11,\"\")","v":""},{"$f":"IF(C$1<>\"\",IF($A608<>\"\",COUNT(カテゴリースコア!M610),\"\"),\"\")","v":""},{"$f":"IF(D$1<>\"\",IF($A608<>\"\",COUNT(カテゴリースコア!N610),\"\"),\"\")","v":""},{"$f":"IF(E$1<>\"\",IF($A608<>\"\",COUNT(カテゴリースコア!O610),\"\"),\"\")","v":""},{"$f":"IF(F$1<>\"\",IF($A608<>\"\",COUNT(カテゴリースコア!P610),\"\"),\"\")","v":""},{"$f":"IF(G$1<>\"\",IF($A608<>\"\",COUNT(カテゴリースコア!Q610),\"\"),\"\")","v":""},{"$f":"IF(H$1<>\"\",IF($A608<>\"\",COUNT(カテゴリースコア!R610),\"\"),\"\")","v":""},{"$f":"IF(I$1<>\"\",IF($A608<>\"\",COUNT(カテゴリースコア!S610),\"\"),\"\")","v":""},{"$f":"IF(J$1<>\"\",IF($A608<>\"\",COUNT(カテゴリースコア!T610),\"\"),\"\")","v":""},{"$f":"IF(K$1<>\"\",IF($A608<>\"\",COUNT(カテゴリースコア!U610),\"\"),\"\")","v":""}]
[{"$f":"IF(データセット1!C609<>\"\",データセット1!C609,\"\")","v":""},{"$f":"IF(データセット1!C609<>\"\",データセット1!D609-カテゴリースコア!$E$11,\"\")","v":""},{"$f":"IF(C$1<>\"\",IF($A609<>\"\",COUNT(カテゴリースコア!M611),\"\"),\"\")","v":""},{"$f":"IF(D$1<>\"\",IF($A609<>\"\",COUNT(カテゴリースコア!N611),\"\"),\"\")","v":""},{"$f":"IF(E$1<>\"\",IF($A609<>\"\",COUNT(カテゴリースコア!O611),\"\"),\"\")","v":""},{"$f":"IF(F$1<>\"\",IF($A609<>\"\",COUNT(カテゴリースコア!P611),\"\"),\"\")","v":""},{"$f":"IF(G$1<>\"\",IF($A609<>\"\",COUNT(カテゴリースコア!Q611),\"\"),\"\")","v":""},{"$f":"IF(H$1<>\"\",IF($A609<>\"\",COUNT(カテゴリースコア!R611),\"\"),\"\")","v":""},{"$f":"IF(I$1<>\"\",IF($A609<>\"\",COUNT(カテゴリースコア!S611),\"\"),\"\")","v":""},{"$f":"IF(J$1<>\"\",IF($A609<>\"\",COUNT(カテゴリースコア!T611),\"\"),\"\")","v":""},{"$f":"IF(K$1<>\"\",IF($A609<>\"\",COUNT(カテゴリースコア!U611),\"\"),\"\")","v":""}]
[{"$f":"IF(データセット1!C610<>\"\",データセット1!C610,\"\")","v":""},{"$f":"IF(データセット1!C610<>\"\",データセット1!D610-カテゴリースコア!$E$11,\"\")","v":""},{"$f":"IF(C$1<>\"\",IF($A610<>\"\",COUNT(カテゴリースコア!M612),\"\"),\"\")","v":""},{"$f":"IF(D$1<>\"\",IF($A610<>\"\",COUNT(カテゴリースコア!N612),\"\"),\"\")","v":""},{"$f":"IF(E$1<>\"\",IF($A610<>\"\",COUNT(カテゴリースコア!O612),\"\"),\"\")","v":""},{"$f":"IF(F$1<>\"\",IF($A610<>\"\",COUNT(カテゴリースコア!P612),\"\"),\"\")","v":""},{"$f":"IF(G$1<>\"\",IF($A610<>\"\",COUNT(カテゴリースコア!Q612),\"\"),\"\")","v":""},{"$f":"IF(H$1<>\"\",IF($A610<>\"\",COUNT(カテゴリースコア!R612),\"\"),\"\")","v":""},{"$f":"IF(I$1<>\"\",IF($A610<>\"\",COUNT(カテゴリースコア!S612),\"\"),\"\")","v":""},{"$f":"IF(J$1<>\"\",IF($A610<>\"\",COUNT(カテゴリースコア!T612),\"\"),\"\")","v":""},{"$f":"IF(K$1<>\"\",IF($A610<>\"\",COUNT(カテゴリースコア!U612),\"\"),\"\")","v":""}]
[{"$f":"IF(データセット1!C611<>\"\",データセット1!C611,\"\")","v":""},{"$f":"IF(データセット1!C611<>\"\",データセット1!D611-カテゴリースコア!$E$11,\"\")","v":""},{"$f":"IF(C$1<>\"\",IF($A611<>\"\",COUNT(カテゴリースコア!M613),\"\"),\"\")","v":""},{"$f":"IF(D$1<>\"\",IF($A611<>\"\",COUNT(カテゴリースコア!N613),\"\"),\"\")","v":""},{"$f":"IF(E$1<>\"\",IF($A611<>\"\",COUNT(カテゴリースコア!O613),\"\"),\"\")","v":""},{"$f":"IF(F$1<>\"\",IF($A611<>\"\",COUNT(カテゴリースコア!P613),\"\"),\"\")","v":""},{"$f":"IF(G$1<>\"\",IF($A611<>\"\",COUNT(カテゴリースコア!Q613),\"\"),\"\")","v":""},{"$f":"IF(H$1<>\"\",IF($A611<>\"\",COUNT(カテゴリースコア!R613),\"\"),\"\")","v":""},{"$f":"IF(I$1<>\"\",IF($A611<>\"\",COUNT(カテゴリースコア!S613),\"\"),\"\")","v":""},{"$f":"IF(J$1<>\"\",IF($A611<>\"\",COUNT(カテゴリースコア!T613),\"\"),\"\")","v":""},{"$f":"IF(K$1<>\"\",IF($A611<>\"\",COUNT(カテゴリースコア!U613),\"\"),\"\")","v":""}]
[{"$f":"IF(データセット1!C612<>\"\",データセット1!C612,\"\")","v":""},{"$f":"IF(データセット1!C612<>\"\",データセット1!D612-カテゴリースコア!$E$11,\"\")","v":""},{"$f":"IF(C$1<>\"\",IF($A612<>\"\",COUNT(カテゴリースコア!M614),\"\"),\"\")","v":""},{"$f":"IF(D$1<>\"\",IF($A612<>\"\",COUNT(カテゴリースコア!N614),\"\"),\"\")","v":""},{"$f":"IF(E$1<>\"\",IF($A612<>\"\",COUNT(カテゴリースコア!O614),\"\"),\"\")","v":""},{"$f":"IF(F$1<>\"\",IF($A612<>\"\",COUNT(カテゴリースコア!P614),\"\"),\"\")","v":""},{"$f":"IF(G$1<>\"\",IF($A612<>\"\",COUNT(カテゴリースコア!Q614),\"\"),\"\")","v":""},{"$f":"IF(H$1<>\"\",IF($A612<>\"\",COUNT(カテゴリースコア!R614),\"\"),\"\")","v":""},{"$f":"IF(I$1<>\"\",IF($A612<>\"\",COUNT(カテゴリースコア!S614),\"\"),\"\")","v":""},{"$f":"IF(J$1<>\"\",IF($A612<>\"\",COUNT(カテゴリースコア!T614),\"\"),\"\")","v":""},{"$f":"IF(K$1<>\"\",IF($A612<>\"\",COUNT(カテゴリースコア!U614),\"\"),\"\")","v":""}]
[{"$f":"IF(データセット1!C613<>\"\",データセット1!C613,\"\")","v":""},{"$f":"IF(データセット1!C613<>\"\",データセット1!D613-カテゴリースコア!$E$11,\"\")","v":""},{"$f":"IF(C$1<>\"\",IF($A613<>\"\",COUNT(カテゴリースコア!M615),\"\"),\"\")","v":""},{"$f":"IF(D$1<>\"\",IF($A613<>\"\",COUNT(カテゴリースコア!N615),\"\"),\"\")","v":""},{"$f":"IF(E$1<>\"\",IF($A613<>\"\",COUNT(カテゴリースコア!O615),\"\"),\"\")","v":""},{"$f":"IF(F$1<>\"\",IF($A613<>\"\",COUNT(カテゴリースコア!P615),\"\"),\"\")","v":""},{"$f":"IF(G$1<>\"\",IF($A613<>\"\",COUNT(カテゴリースコア!Q615),\"\"),\"\")","v":""},{"$f":"IF(H$1<>\"\",IF($A613<>\"\",COUNT(カテゴリースコア!R615),\"\"),\"\")","v":""},{"$f":"IF(I$1<>\"\",IF($A613<>\"\",COUNT(カテゴリースコア!S615),\"\"),\"\")","v":""},{"$f":"IF(J$1<>\"\",IF($A613<>\"\",COUNT(カテゴリースコア!T615),\"\"),\"\")","v":""},{"$f":"IF(K$1<>\"\",IF($A613<>\"\",COUNT(カテゴリースコア!U615),\"\"),\"\")","v":""}]
[{"$f":"IF(データセット1!C614<>\"\",データセット1!C614,\"\")","v":""},{"$f":"IF(データセット1!C614<>\"\",データセット1!D614-カテゴリースコア!$E$11,\"\")","v":""},{"$f":"IF(C$1<>\"\",IF($A614<>\"\",COUNT(カテゴリースコア!M616),\"\"),\"\")","v":""},{"$f":"IF(D$1<>\"\",IF($A614<>\"\",COUNT(カテゴリースコア!N616),\"\"),\"\")","v":""},{"$f":"IF(E$1<>\"\",IF($A614<>\"\",COUNT(カテゴリースコア!O616),\"\"),\"\")","v":""},{"$f":"IF(F$1<>\"\",IF($A614<>\"\",COUNT(カテゴリースコア!P616),\"\"),\"\")","v":""},{"$f":"IF(G$1<>\"\",IF($A614<>\"\",COUNT(カテゴリースコア!Q616),\"\"),\"\")","v":""},{"$f":"IF(H$1<>\"\",IF($A614<>\"\",COUNT(カテゴリースコア!R616),\"\"),\"\")","v":""},{"$f":"IF(I$1<>\"\",IF($A614<>\"\",COUNT(カテゴリースコア!S616),\"\"),\"\")","v":""},{"$f":"IF(J$1<>\"\",IF($A614<>\"\",COUNT(カテゴリースコア!T616),\"\"),\"\")","v":""},{"$f":"IF(K$1<>\"\",IF($A614<>\"\",COUNT(カテゴリースコア!U616),\"\"),\"\")","v":""}]
[{"$f":"IF(データセット1!C615<>\"\",データセット1!C615,\"\")","v":""},{"$f":"IF(データセット1!C615<>\"\",データセット1!D615-カテゴリースコア!$E$11,\"\")","v":""},{"$f":"IF(C$1<>\"\",IF($A615<>\"\",COUNT(カテゴリースコア!M617),\"\"),\"\")","v":""},{"$f":"IF(D$1<>\"\",IF($A615<>\"\",COUNT(カテゴリースコア!N617),\"\"),\"\")","v":""},{"$f":"IF(E$1<>\"\",IF($A615<>\"\",COUNT(カテゴリースコア!O617),\"\"),\"\")","v":""},{"$f":"IF(F$1<>\"\",IF($A615<>\"\",COUNT(カテゴリースコア!P617),\"\"),\"\")","v":""},{"$f":"IF(G$1<>\"\",IF($A615<>\"\",COUNT(カテゴリースコア!Q617),\"\"),\"\")","v":""},{"$f":"IF(H$1<>\"\",IF($A615<>\"\",COUNT(カテゴリースコア!R617),\"\"),\"\")","v":""},{"$f":"IF(I$1<>\"\",IF($A615<>\"\",COUNT(カテゴリースコア!S617),\"\"),\"\")","v":""},{"$f":"IF(J$1<>\"\",IF($A615<>\"\",COUNT(カテゴリースコア!T617),\"\"),\"\")","v":""},{"$f":"IF(K$1<>\"\",IF($A615<>\"\",COUNT(カテゴリースコア!U617),\"\"),\"\")","v":""}]
[{"$f":"IF(データセット1!C616<>\"\",データセット1!C616,\"\")","v":""},{"$f":"IF(データセット1!C616<>\"\",データセット1!D616-カテゴリースコア!$E$11,\"\")","v":""},{"$f":"IF(C$1<>\"\",IF($A616<>\"\",COUNT(カテゴリースコア!M618),\"\"),\"\")","v":""},{"$f":"IF(D$1<>\"\",IF($A616<>\"\",COUNT(カテゴリースコア!N618),\"\"),\"\")","v":""},{"$f":"IF(E$1<>\"\",IF($A616<>\"\",COUNT(カテゴリースコア!O618),\"\"),\"\")","v":""},{"$f":"IF(F$1<>\"\",IF($A616<>\"\",COUNT(カテゴリースコア!P618),\"\"),\"\")","v":""},{"$f":"IF(G$1<>\"\",IF($A616<>\"\",COUNT(カテゴリースコア!Q618),\"\"),\"\")","v":""},{"$f":"IF(H$1<>\"\",IF($A616<>\"\",COUNT(カテゴリースコア!R618),\"\"),\"\")","v":""},{"$f":"IF(I$1<>\"\",IF($A616<>\"\",COUNT(カテゴリースコア!S618),\"\"),\"\")","v":""},{"$f":"IF(J$1<>\"\",IF($A616<>\"\",COUNT(カテゴリースコア!T618),\"\"),\"\")","v":""},{"$f":"IF(K$1<>\"\",IF($A616<>\"\",COUNT(カテゴリースコア!U618),\"\"),\"\")","v":""}]
[{"$f":"IF(データセット1!C617<>\"\",データセット1!C617,\"\")","v":""},{"$f":"IF(データセット1!C617<>\"\",データセット1!D617-カテゴリースコア!$E$11,\"\")","v":""},{"$f":"IF(C$1<>\"\",IF($A617<>\"\",COUNT(カテゴリースコア!M619),\"\"),\"\")","v":""},{"$f":"IF(D$1<>\"\",IF($A617<>\"\",COUNT(カテゴリースコア!N619),\"\"),\"\")","v":""},{"$f":"IF(E$1<>\"\",IF($A617<>\"\",COUNT(カテゴリースコア!O619),\"\"),\"\")","v":""},{"$f":"IF(F$1<>\"\",IF($A617<>\"\",COUNT(カテゴリースコア!P619),\"\"),\"\")","v":""},{"$f":"IF(G$1<>\"\",IF($A617<>\"\",COUNT(カテゴリースコア!Q619),\"\"),\"\")","v":""},{"$f":"IF(H$1<>\"\",IF($A617<>\"\",COUNT(カテゴリースコア!R619),\"\"),\"\")","v":""},{"$f":"IF(I$1<>\"\",IF($A617<>\"\",COUNT(カテゴリースコア!S619),\"\"),\"\")","v":""},{"$f":"IF(J$1<>\"\",IF($A617<>\"\",COUNT(カテゴリースコア!T619),\"\"),\"\")","v":""},{"$f":"IF(K$1<>\"\",IF($A617<>\"\",COUNT(カテゴリースコア!U619),\"\"),\"\")","v":""}]
[{"$f":"IF(データセット1!C618<>\"\",データセット1!C618,\"\")","v":""},{"$f":"IF(データセット1!C618<>\"\",データセット1!D618-カテゴリースコア!$E$11,\"\")","v":""},{"$f":"IF(C$1<>\"\",IF($A618<>\"\",COUNT(カテゴリースコア!M620),\"\"),\"\")","v":""},{"$f":"IF(D$1<>\"\",IF($A618<>\"\",COUNT(カテゴリースコア!N620),\"\"),\"\")","v":""},{"$f":"IF(E$1<>\"\",IF($A618<>\"\",COUNT(カテゴリースコア!O620),\"\"),\"\")","v":""},{"$f":"IF(F$1<>\"\",IF($A618<>\"\",COUNT(カテゴリースコア!P620),\"\"),\"\")","v":""},{"$f":"IF(G$1<>\"\",IF($A618<>\"\",COUNT(カテゴリースコア!Q620),\"\"),\"\")","v":""},{"$f":"IF(H$1<>\"\",IF($A618<>\"\",COUNT(カテゴリースコア!R620),\"\"),\"\")","v":""},{"$f":"IF(I$1<>\"\",IF($A618<>\"\",COUNT(カテゴリースコア!S620),\"\"),\"\")","v":""},{"$f":"IF(J$1<>\"\",IF($A618<>\"\",COUNT(カテゴリースコア!T620),\"\"),\"\")","v":""},{"$f":"IF(K$1<>\"\",IF($A618<>\"\",COUNT(カテゴリースコア!U620),\"\"),\"\")","v":""}]
[{"$f":"IF(データセット1!C619<>\"\",データセット1!C619,\"\")","v":""},{"$f":"IF(データセット1!C619<>\"\",データセット1!D619-カテゴリースコア!$E$11,\"\")","v":""},{"$f":"IF(C$1<>\"\",IF($A619<>\"\",COUNT(カテゴリースコア!M621),\"\"),\"\")","v":""},{"$f":"IF(D$1<>\"\",IF($A619<>\"\",COUNT(カテゴリースコア!N621),\"\"),\"\")","v":""},{"$f":"IF(E$1<>\"\",IF($A619<>\"\",COUNT(カテゴリースコア!O621),\"\"),\"\")","v":""},{"$f":"IF(F$1<>\"\",IF($A619<>\"\",COUNT(カテゴリースコア!P621),\"\"),\"\")","v":""},{"$f":"IF(G$1<>\"\",IF($A619<>\"\",COUNT(カテゴリースコア!Q621),\"\"),\"\")","v":""},{"$f":"IF(H$1<>\"\",IF($A619<>\"\",COUNT(カテゴリースコア!R621),\"\"),\"\")","v":""},{"$f":"IF(I$1<>\"\",IF($A619<>\"\",COUNT(カテゴリースコア!S621),\"\"),\"\")","v":""},{"$f":"IF(J$1<>\"\",IF($A619<>\"\",COUNT(カテゴリースコア!T621),\"\"),\"\")","v":""},{"$f":"IF(K$1<>\"\",IF($A619<>\"\",COUNT(カテゴリースコア!U621),\"\"),\"\")","v":""}]
[{"$f":"IF(データセット1!C620<>\"\",データセット1!C620,\"\")","v":""},{"$f":"IF(データセット1!C620<>\"\",データセット1!D620-カテゴリースコア!$E$11,\"\")","v":""},{"$f":"IF(C$1<>\"\",IF($A620<>\"\",COUNT(カテゴリースコア!M622),\"\"),\"\")","v":""},{"$f":"IF(D$1<>\"\",IF($A620<>\"\",COUNT(カテゴリースコア!N622),\"\"),\"\")","v":""},{"$f":"IF(E$1<>\"\",IF($A620<>\"\",COUNT(カテゴリースコア!O622),\"\"),\"\")","v":""},{"$f":"IF(F$1<>\"\",IF($A620<>\"\",COUNT(カテゴリースコア!P622),\"\"),\"\")","v":""},{"$f":"IF(G$1<>\"\",IF($A620<>\"\",COUNT(カテゴリースコア!Q622),\"\"),\"\")","v":""},{"$f":"IF(H$1<>\"\",IF($A620<>\"\",COUNT(カテゴリースコア!R622),\"\"),\"\")","v":""},{"$f":"IF(I$1<>\"\",IF($A620<>\"\",COUNT(カテゴリースコア!S622),\"\"),\"\")","v":""},{"$f":"IF(J$1<>\"\",IF($A620<>\"\",COUNT(カテゴリースコア!T622),\"\"),\"\")","v":""},{"$f":"IF(K$1<>\"\",IF($A620<>\"\",COUNT(カテゴリースコア!U622),\"\"),\"\")","v":""}]
[{"$f":"IF(データセット1!C621<>\"\",データセット1!C621,\"\")","v":""},{"$f":"IF(データセット1!C621<>\"\",データセット1!D621-カテゴリースコア!$E$11,\"\")","v":""},{"$f":"IF(C$1<>\"\",IF($A621<>\"\",COUNT(カテゴリースコア!M623),\"\"),\"\")","v":""},{"$f":"IF(D$1<>\"\",IF($A621<>\"\",COUNT(カテゴリースコア!N623),\"\"),\"\")","v":""},{"$f":"IF(E$1<>\"\",IF($A621<>\"\",COUNT(カテゴリースコア!O623),\"\"),\"\")","v":""},{"$f":"IF(F$1<>\"\",IF($A621<>\"\",COUNT(カテゴリースコア!P623),\"\"),\"\")","v":""},{"$f":"IF(G$1<>\"\",IF($A621<>\"\",COUNT(カテゴリースコア!Q623),\"\"),\"\")","v":""},{"$f":"IF(H$1<>\"\",IF($A621<>\"\",COUNT(カテゴリースコア!R623),\"\"),\"\")","v":""},{"$f":"IF(I$1<>\"\",IF($A621<>\"\",COUNT(カテゴリースコア!S623),\"\"),\"\")","v":""},{"$f":"IF(J$1<>\"\",IF($A621<>\"\",COUNT(カテゴリースコア!T623),\"\"),\"\")","v":""},{"$f":"IF(K$1<>\"\",IF($A621<>\"\",COUNT(カテゴリースコア!U623),\"\"),\"\")","v":""}]
[{"$f":"IF(データセット1!C622<>\"\",データセット1!C622,\"\")","v":""},{"$f":"IF(データセット1!C622<>\"\",データセット1!D622-カテゴリースコア!$E$11,\"\")","v":""},{"$f":"IF(C$1<>\"\",IF($A622<>\"\",COUNT(カテゴリースコア!M624),\"\"),\"\")","v":""},{"$f":"IF(D$1<>\"\",IF($A622<>\"\",COUNT(カテゴリースコア!N624),\"\"),\"\")","v":""},{"$f":"IF(E$1<>\"\",IF($A622<>\"\",COUNT(カテゴリースコア!O624),\"\"),\"\")","v":""},{"$f":"IF(F$1<>\"\",IF($A622<>\"\",COUNT(カテゴリースコア!P624),\"\"),\"\")","v":""},{"$f":"IF(G$1<>\"\",IF($A622<>\"\",COUNT(カテゴリースコア!Q624),\"\"),\"\")","v":""},{"$f":"IF(H$1<>\"\",IF($A622<>\"\",COUNT(カテゴリースコア!R624),\"\"),\"\")","v":""},{"$f":"IF(I$1<>\"\",IF($A622<>\"\",COUNT(カテゴリースコア!S624),\"\"),\"\")","v":""},{"$f":"IF(J$1<>\"\",IF($A622<>\"\",COUNT(カテゴリースコア!T624),\"\"),\"\")","v":""},{"$f":"IF(K$1<>\"\",IF($A622<>\"\",COUNT(カテゴリースコア!U624),\"\"),\"\")","v":""}]
[{"$f":"IF(データセット1!C623<>\"\",データセット1!C623,\"\")","v":""},{"$f":"IF(データセット1!C623<>\"\",データセット1!D623-カテゴリースコア!$E$11,\"\")","v":""},{"$f":"IF(C$1<>\"\",IF($A623<>\"\",COUNT(カテゴリースコア!M625),\"\"),\"\")","v":""},{"$f":"IF(D$1<>\"\",IF($A623<>\"\",COUNT(カテゴリースコア!N625),\"\"),\"\")","v":""},{"$f":"IF(E$1<>\"\",IF($A623<>\"\",COUNT(カテゴリースコア!O625),\"\"),\"\")","v":""},{"$f":"IF(F$1<>\"\",IF($A623<>\"\",COUNT(カテゴリースコア!P625),\"\"),\"\")","v":""},{"$f":"IF(G$1<>\"\",IF($A623<>\"\",COUNT(カテゴリースコア!Q625),\"\"),\"\")","v":""},{"$f":"IF(H$1<>\"\",IF($A623<>\"\",COUNT(カテゴリースコア!R625),\"\"),\"\")","v":""},{"$f":"IF(I$1<>\"\",IF($A623<>\"\",COUNT(カテゴリースコア!S625),\"\"),\"\")","v":""},{"$f":"IF(J$1<>\"\",IF($A623<>\"\",COUNT(カテゴリースコア!T625),\"\"),\"\")","v":""},{"$f":"IF(K$1<>\"\",IF($A623<>\"\",COUNT(カテゴリースコア!U625),\"\"),\"\")","v":""}]
[{"$f":"IF(データセット1!C624<>\"\",データセット1!C624,\"\")","v":""},{"$f":"IF(データセット1!C624<>\"\",データセット1!D624-カテゴリースコア!$E$11,\"\")","v":""},{"$f":"IF(C$1<>\"\",IF($A624<>\"\",COUNT(カテゴリースコア!M626),\"\"),\"\")","v":""},{"$f":"IF(D$1<>\"\",IF($A624<>\"\",COUNT(カテゴリースコア!N626),\"\"),\"\")","v":""},{"$f":"IF(E$1<>\"\",IF($A624<>\"\",COUNT(カテゴリースコア!O626),\"\"),\"\")","v":""},{"$f":"IF(F$1<>\"\",IF($A624<>\"\",COUNT(カテゴリースコア!P626),\"\"),\"\")","v":""},{"$f":"IF(G$1<>\"\",IF($A624<>\"\",COUNT(カテゴリースコア!Q626),\"\"),\"\")","v":""},{"$f":"IF(H$1<>\"\",IF($A624<>\"\",COUNT(カテゴリースコア!R626),\"\"),\"\")","v":""},{"$f":"IF(I$1<>\"\",IF($A624<>\"\",COUNT(カテゴリースコア!S626),\"\"),\"\")","v":""},{"$f":"IF(J$1<>\"\",IF($A624<>\"\",COUNT(カテゴリースコア!T626),\"\"),\"\")","v":""},{"$f":"IF(K$1<>\"\",IF($A624<>\"\",COUNT(カテゴリースコア!U626),\"\"),\"\")","v":""}]
[{"$f":"IF(データセット1!C625<>\"\",データセット1!C625,\"\")","v":""},{"$f":"IF(データセット1!C625<>\"\",データセット1!D625-カテゴリースコア!$E$11,\"\")","v":""},{"$f":"IF(C$1<>\"\",IF($A625<>\"\",COUNT(カテゴリースコア!M627),\"\"),\"\")","v":""},{"$f":"IF(D$1<>\"\",IF($A625<>\"\",COUNT(カテゴリースコア!N627),\"\"),\"\")","v":""},{"$f":"IF(E$1<>\"\",IF($A625<>\"\",COUNT(カテゴリースコア!O627),\"\"),\"\")","v":""},{"$f":"IF(F$1<>\"\",IF($A625<>\"\",COUNT(カテゴリースコア!P627),\"\"),\"\")","v":""},{"$f":"IF(G$1<>\"\",IF($A625<>\"\",COUNT(カテゴリースコア!Q627),\"\"),\"\")","v":""},{"$f":"IF(H$1<>\"\",IF($A625<>\"\",COUNT(カテゴリースコア!R627),\"\"),\"\")","v":""},{"$f":"IF(I$1<>\"\",IF($A625<>\"\",COUNT(カテゴリースコア!S627),\"\"),\"\")","v":""},{"$f":"IF(J$1<>\"\",IF($A625<>\"\",COUNT(カテゴリースコア!T627),\"\"),\"\")","v":""},{"$f":"IF(K$1<>\"\",IF($A625<>\"\",COUNT(カテゴリースコア!U627),\"\"),\"\")","v":""}]
[{"$f":"IF(データセット1!C626<>\"\",データセット1!C626,\"\")","v":""},{"$f":"IF(データセット1!C626<>\"\",データセット1!D626-カテゴリースコア!$E$11,\"\")","v":""},{"$f":"IF(C$1<>\"\",IF($A626<>\"\",COUNT(カテゴリースコア!M628),\"\"),\"\")","v":""},{"$f":"IF(D$1<>\"\",IF($A626<>\"\",COUNT(カテゴリースコア!N628),\"\"),\"\")","v":""},{"$f":"IF(E$1<>\"\",IF($A626<>\"\",COUNT(カテゴリースコア!O628),\"\"),\"\")","v":""},{"$f":"IF(F$1<>\"\",IF($A626<>\"\",COUNT(カテゴリースコア!P628),\"\"),\"\")","v":""},{"$f":"IF(G$1<>\"\",IF($A626<>\"\",COUNT(カテゴリースコア!Q628),\"\"),\"\")","v":""},{"$f":"IF(H$1<>\"\",IF($A626<>\"\",COUNT(カテゴリースコア!R628),\"\"),\"\")","v":""},{"$f":"IF(I$1<>\"\",IF($A626<>\"\",COUNT(カテゴリースコア!S628),\"\"),\"\")","v":""},{"$f":"IF(J$1<>\"\",IF($A626<>\"\",COUNT(カテゴリースコア!T628),\"\"),\"\")","v":""},{"$f":"IF(K$1<>\"\",IF($A626<>\"\",COUNT(カテゴリースコア!U628),\"\"),\"\")","v":""}]
[{"$f":"IF(データセット1!C627<>\"\",データセット1!C627,\"\")","v":""},{"$f":"IF(データセット1!C627<>\"\",データセット1!D627-カテゴリースコア!$E$11,\"\")","v":""},{"$f":"IF(C$1<>\"\",IF($A627<>\"\",COUNT(カテゴリースコア!M629),\"\"),\"\")","v":""},{"$f":"IF(D$1<>\"\",IF($A627<>\"\",COUNT(カテゴリースコア!N629),\"\"),\"\")","v":""},{"$f":"IF(E$1<>\"\",IF($A627<>\"\",COUNT(カテゴリースコア!O629),\"\"),\"\")","v":""},{"$f":"IF(F$1<>\"\",IF($A627<>\"\",COUNT(カテゴリースコア!P629),\"\"),\"\")","v":""},{"$f":"IF(G$1<>\"\",IF($A627<>\"\",COUNT(カテゴリースコア!Q629),\"\"),\"\")","v":""},{"$f":"IF(H$1<>\"\",IF($A627<>\"\",COUNT(カテゴリースコア!R629),\"\"),\"\")","v":""},{"$f":"IF(I$1<>\"\",IF($A627<>\"\",COUNT(カテゴリースコア!S629),\"\"),\"\")","v":""},{"$f":"IF(J$1<>\"\",IF($A627<>\"\",COUNT(カテゴリースコア!T629),\"\"),\"\")","v":""},{"$f":"IF(K$1<>\"\",IF($A627<>\"\",COUNT(カテゴリースコア!U629),\"\"),\"\")","v":""}]
[{"$f":"IF(データセット1!C628<>\"\",データセット1!C628,\"\")","v":""},{"$f":"IF(データセット1!C628<>\"\",データセット1!D628-カテゴリースコア!$E$11,\"\")","v":""},{"$f":"IF(C$1<>\"\",IF($A628<>\"\",COUNT(カテゴリースコア!M630),\"\"),\"\")","v":""},{"$f":"IF(D$1<>\"\",IF($A628<>\"\",COUNT(カテゴリースコア!N630),\"\"),\"\")","v":""},{"$f":"IF(E$1<>\"\",IF($A628<>\"\",COUNT(カテゴリースコア!O630),\"\"),\"\")","v":""},{"$f":"IF(F$1<>\"\",IF($A628<>\"\",COUNT(カテゴリースコア!P630),\"\"),\"\")","v":""},{"$f":"IF(G$1<>\"\",IF($A628<>\"\",COUNT(カテゴリースコア!Q630),\"\"),\"\")","v":""},{"$f":"IF(H$1<>\"\",IF($A628<>\"\",COUNT(カテゴリースコア!R630),\"\"),\"\")","v":""},{"$f":"IF(I$1<>\"\",IF($A628<>\"\",COUNT(カテゴリースコア!S630),\"\"),\"\")","v":""},{"$f":"IF(J$1<>\"\",IF($A628<>\"\",COUNT(カテゴリースコア!T630),\"\"),\"\")","v":""},{"$f":"IF(K$1<>\"\",IF($A628<>\"\",COUNT(カテゴリースコア!U630),\"\"),\"\")","v":""}]
[{"$f":"IF(データセット1!C629<>\"\",データセット1!C629,\"\")","v":""},{"$f":"IF(データセット1!C629<>\"\",データセット1!D629-カテゴリースコア!$E$11,\"\")","v":""},{"$f":"IF(C$1<>\"\",IF($A629<>\"\",COUNT(カテゴリースコア!M631),\"\"),\"\")","v":""},{"$f":"IF(D$1<>\"\",IF($A629<>\"\",COUNT(カテゴリースコア!N631),\"\"),\"\")","v":""},{"$f":"IF(E$1<>\"\",IF($A629<>\"\",COUNT(カテゴリースコア!O631),\"\"),\"\")","v":""},{"$f":"IF(F$1<>\"\",IF($A629<>\"\",COUNT(カテゴリースコア!P631),\"\"),\"\")","v":""},{"$f":"IF(G$1<>\"\",IF($A629<>\"\",COUNT(カテゴリースコア!Q631),\"\"),\"\")","v":""},{"$f":"IF(H$1<>\"\",IF($A629<>\"\",COUNT(カテゴリースコア!R631),\"\"),\"\")","v":""},{"$f":"IF(I$1<>\"\",IF($A629<>\"\",COUNT(カテゴリースコア!S631),\"\"),\"\")","v":""},{"$f":"IF(J$1<>\"\",IF($A629<>\"\",COUNT(カテゴリースコア!T631),\"\"),\"\")","v":""},{"$f":"IF(K$1<>\"\",IF($A629<>\"\",COUNT(カテゴリースコア!U631),\"\"),\"\")","v":""}]
[{"$f":"IF(データセット1!C630<>\"\",データセット1!C630,\"\")","v":""},{"$f":"IF(データセット1!C630<>\"\",データセット1!D630-カテゴリースコア!$E$11,\"\")","v":""},{"$f":"IF(C$1<>\"\",IF($A630<>\"\",COUNT(カテゴリースコア!M632),\"\"),\"\")","v":""},{"$f":"IF(D$1<>\"\",IF($A630<>\"\",COUNT(カテゴリースコア!N632),\"\"),\"\")","v":""},{"$f":"IF(E$1<>\"\",IF($A630<>\"\",COUNT(カテゴリースコア!O632),\"\"),\"\")","v":""},{"$f":"IF(F$1<>\"\",IF($A630<>\"\",COUNT(カテゴリースコア!P632),\"\"),\"\")","v":""},{"$f":"IF(G$1<>\"\",IF($A630<>\"\",COUNT(カテゴリースコア!Q632),\"\"),\"\")","v":""},{"$f":"IF(H$1<>\"\",IF($A630<>\"\",COUNT(カテゴリースコア!R632),\"\"),\"\")","v":""},{"$f":"IF(I$1<>\"\",IF($A630<>\"\",COUNT(カテゴリースコア!S632),\"\"),\"\")","v":""},{"$f":"IF(J$1<>\"\",IF($A630<>\"\",COUNT(カテゴリースコア!T632),\"\"),\"\")","v":""},{"$f":"IF(K$1<>\"\",IF($A630<>\"\",COUNT(カテゴリースコア!U632),\"\"),\"\")","v":""}]
[{"$f":"IF(データセット1!C631<>\"\",データセット1!C631,\"\")","v":""},{"$f":"IF(データセット1!C631<>\"\",データセット1!D631-カテゴリースコア!$E$11,\"\")","v":""},{"$f":"IF(C$1<>\"\",IF($A631<>\"\",COUNT(カテゴリースコア!M633),\"\"),\"\")","v":""},{"$f":"IF(D$1<>\"\",IF($A631<>\"\",COUNT(カテゴリースコア!N633),\"\"),\"\")","v":""},{"$f":"IF(E$1<>\"\",IF($A631<>\"\",COUNT(カテゴリースコア!O633),\"\"),\"\")","v":""},{"$f":"IF(F$1<>\"\",IF($A631<>\"\",COUNT(カテゴリースコア!P633),\"\"),\"\")","v":""},{"$f":"IF(G$1<>\"\",IF($A631<>\"\",COUNT(カテゴリースコア!Q633),\"\"),\"\")","v":""},{"$f":"IF(H$1<>\"\",IF($A631<>\"\",COUNT(カテゴリースコア!R633),\"\"),\"\")","v":""},{"$f":"IF(I$1<>\"\",IF($A631<>\"\",COUNT(カテゴリースコア!S633),\"\"),\"\")","v":""},{"$f":"IF(J$1<>\"\",IF($A631<>\"\",COUNT(カテゴリースコア!T633),\"\"),\"\")","v":""},{"$f":"IF(K$1<>\"\",IF($A631<>\"\",COUNT(カテゴリースコア!U633),\"\"),\"\")","v":""}]
[{"$f":"IF(データセット1!C632<>\"\",データセット1!C632,\"\")","v":""},{"$f":"IF(データセット1!C632<>\"\",データセット1!D632-カテゴリースコア!$E$11,\"\")","v":""},{"$f":"IF(C$1<>\"\",IF($A632<>\"\",COUNT(カテゴリースコア!M634),\"\"),\"\")","v":""},{"$f":"IF(D$1<>\"\",IF($A632<>\"\",COUNT(カテゴリースコア!N634),\"\"),\"\")","v":""},{"$f":"IF(E$1<>\"\",IF($A632<>\"\",COUNT(カテゴリースコア!O634),\"\"),\"\")","v":""},{"$f":"IF(F$1<>\"\",IF($A632<>\"\",COUNT(カテゴリースコア!P634),\"\"),\"\")","v":""},{"$f":"IF(G$1<>\"\",IF($A632<>\"\",COUNT(カテゴリースコア!Q634),\"\"),\"\")","v":""},{"$f":"IF(H$1<>\"\",IF($A632<>\"\",COUNT(カテゴリースコア!R634),\"\"),\"\")","v":""},{"$f":"IF(I$1<>\"\",IF($A632<>\"\",COUNT(カテゴリースコア!S634),\"\"),\"\")","v":""},{"$f":"IF(J$1<>\"\",IF($A632<>\"\",COUNT(カテゴリースコア!T634),\"\"),\"\")","v":""},{"$f":"IF(K$1<>\"\",IF($A632<>\"\",COUNT(カテゴリースコア!U634),\"\"),\"\")","v":""}]
[{"$f":"IF(データセット1!C633<>\"\",データセット1!C633,\"\")","v":""},{"$f":"IF(データセット1!C633<>\"\",データセット1!D633-カテゴリースコア!$E$11,\"\")","v":""},{"$f":"IF(C$1<>\"\",IF($A633<>\"\",COUNT(カテゴリースコア!M635),\"\"),\"\")","v":""},{"$f":"IF(D$1<>\"\",IF($A633<>\"\",COUNT(カテゴリースコア!N635),\"\"),\"\")","v":""},{"$f":"IF(E$1<>\"\",IF($A633<>\"\",COUNT(カテゴリースコア!O635),\"\"),\"\")","v":""},{"$f":"IF(F$1<>\"\",IF($A633<>\"\",COUNT(カテゴリースコア!P635),\"\"),\"\")","v":""},{"$f":"IF(G$1<>\"\",IF($A633<>\"\",COUNT(カテゴリースコア!Q635),\"\"),\"\")","v":""},{"$f":"IF(H$1<>\"\",IF($A633<>\"\",COUNT(カテゴリースコア!R635),\"\"),\"\")","v":""},{"$f":"IF(I$1<>\"\",IF($A633<>\"\",COUNT(カテゴリースコア!S635),\"\"),\"\")","v":""},{"$f":"IF(J$1<>\"\",IF($A633<>\"\",COUNT(カテゴリースコア!T635),\"\"),\"\")","v":""},{"$f":"IF(K$1<>\"\",IF($A633<>\"\",COUNT(カテゴリースコア!U635),\"\"),\"\")","v":""}]
[{"$f":"IF(データセット1!C634<>\"\",データセット1!C634,\"\")","v":""},{"$f":"IF(データセット1!C634<>\"\",データセット1!D634-カテゴリースコア!$E$11,\"\")","v":""},{"$f":"IF(C$1<>\"\",IF($A634<>\"\",COUNT(カテゴリースコア!M636),\"\"),\"\")","v":""},{"$f":"IF(D$1<>\"\",IF($A634<>\"\",COUNT(カテゴリースコア!N636),\"\"),\"\")","v":""},{"$f":"IF(E$1<>\"\",IF($A634<>\"\",COUNT(カテゴリースコア!O636),\"\"),\"\")","v":""},{"$f":"IF(F$1<>\"\",IF($A634<>\"\",COUNT(カテゴリースコア!P636),\"\"),\"\")","v":""},{"$f":"IF(G$1<>\"\",IF($A634<>\"\",COUNT(カテゴリースコア!Q636),\"\"),\"\")","v":""},{"$f":"IF(H$1<>\"\",IF($A634<>\"\",COUNT(カテゴリースコア!R636),\"\"),\"\")","v":""},{"$f":"IF(I$1<>\"\",IF($A634<>\"\",COUNT(カテゴリースコア!S636),\"\"),\"\")","v":""},{"$f":"IF(J$1<>\"\",IF($A634<>\"\",COUNT(カテゴリースコア!T636),\"\"),\"\")","v":""},{"$f":"IF(K$1<>\"\",IF($A634<>\"\",COUNT(カテゴリースコア!U636),\"\"),\"\")","v":""}]
[{"$f":"IF(データセット1!C635<>\"\",データセット1!C635,\"\")","v":""},{"$f":"IF(データセット1!C635<>\"\",データセット1!D635-カテゴリースコア!$E$11,\"\")","v":""},{"$f":"IF(C$1<>\"\",IF($A635<>\"\",COUNT(カテゴリースコア!M637),\"\"),\"\")","v":""},{"$f":"IF(D$1<>\"\",IF($A635<>\"\",COUNT(カテゴリースコア!N637),\"\"),\"\")","v":""},{"$f":"IF(E$1<>\"\",IF($A635<>\"\",COUNT(カテゴリースコア!O637),\"\"),\"\")","v":""},{"$f":"IF(F$1<>\"\",IF($A635<>\"\",COUNT(カテゴリースコア!P637),\"\"),\"\")","v":""},{"$f":"IF(G$1<>\"\",IF($A635<>\"\",COUNT(カテゴリースコア!Q637),\"\"),\"\")","v":""},{"$f":"IF(H$1<>\"\",IF($A635<>\"\",COUNT(カテゴリースコア!R637),\"\"),\"\")","v":""},{"$f":"IF(I$1<>\"\",IF($A635<>\"\",COUNT(カテゴリースコア!S637),\"\"),\"\")","v":""},{"$f":"IF(J$1<>\"\",IF($A635<>\"\",COUNT(カテゴリースコア!T637),\"\"),\"\")","v":""},{"$f":"IF(K$1<>\"\",IF($A635<>\"\",COUNT(カテゴリースコア!U637),\"\"),\"\")","v":""}]
[{"$f":"IF(データセット1!C636<>\"\",データセット1!C636,\"\")","v":""},{"$f":"IF(データセット1!C636<>\"\",データセット1!D636-カテゴリースコア!$E$11,\"\")","v":""},{"$f":"IF(C$1<>\"\",IF($A636<>\"\",COUNT(カテゴリースコア!M638),\"\"),\"\")","v":""},{"$f":"IF(D$1<>\"\",IF($A636<>\"\",COUNT(カテゴリースコア!N638),\"\"),\"\")","v":""},{"$f":"IF(E$1<>\"\",IF($A636<>\"\",COUNT(カテゴリースコア!O638),\"\"),\"\")","v":""},{"$f":"IF(F$1<>\"\",IF($A636<>\"\",COUNT(カテゴリースコア!P638),\"\"),\"\")","v":""},{"$f":"IF(G$1<>\"\",IF($A636<>\"\",COUNT(カテゴリースコア!Q638),\"\"),\"\")","v":""},{"$f":"IF(H$1<>\"\",IF($A636<>\"\",COUNT(カテゴリースコア!R638),\"\"),\"\")","v":""},{"$f":"IF(I$1<>\"\",IF($A636<>\"\",COUNT(カテゴリースコア!S638),\"\"),\"\")","v":""},{"$f":"IF(J$1<>\"\",IF($A636<>\"\",COUNT(カテゴリースコア!T638),\"\"),\"\")","v":""},{"$f":"IF(K$1<>\"\",IF($A636<>\"\",COUNT(カテゴリースコア!U638),\"\"),\"\")","v":""}]
[{"$f":"IF(データセット1!C637<>\"\",データセット1!C637,\"\")","v":""},{"$f":"IF(データセット1!C637<>\"\",データセット1!D637-カテゴリースコア!$E$11,\"\")","v":""},{"$f":"IF(C$1<>\"\",IF($A637<>\"\",COUNT(カテゴリースコア!M639),\"\"),\"\")","v":""},{"$f":"IF(D$1<>\"\",IF($A637<>\"\",COUNT(カテゴリースコア!N639),\"\"),\"\")","v":""},{"$f":"IF(E$1<>\"\",IF($A637<>\"\",COUNT(カテゴリースコア!O639),\"\"),\"\")","v":""},{"$f":"IF(F$1<>\"\",IF($A637<>\"\",COUNT(カテゴリースコア!P639),\"\"),\"\")","v":""},{"$f":"IF(G$1<>\"\",IF($A637<>\"\",COUNT(カテゴリースコア!Q639),\"\"),\"\")","v":""},{"$f":"IF(H$1<>\"\",IF($A637<>\"\",COUNT(カテゴリースコア!R639),\"\"),\"\")","v":""},{"$f":"IF(I$1<>\"\",IF($A637<>\"\",COUNT(カテゴリースコア!S639),\"\"),\"\")","v":""},{"$f":"IF(J$1<>\"\",IF($A637<>\"\",COUNT(カテゴリースコア!T639),\"\"),\"\")","v":""},{"$f":"IF(K$1<>\"\",IF($A637<>\"\",COUNT(カテゴリースコア!U639),\"\"),\"\")","v":""}]
[{"$f":"IF(データセット1!C638<>\"\",データセット1!C638,\"\")","v":""},{"$f":"IF(データセット1!C638<>\"\",データセット1!D638-カテゴリースコア!$E$11,\"\")","v":""},{"$f":"IF(C$1<>\"\",IF($A638<>\"\",COUNT(カテゴリースコア!M640),\"\"),\"\")","v":""},{"$f":"IF(D$1<>\"\",IF($A638<>\"\",COUNT(カテゴリースコア!N640),\"\"),\"\")","v":""},{"$f":"IF(E$1<>\"\",IF($A638<>\"\",COUNT(カテゴリースコア!O640),\"\"),\"\")","v":""},{"$f":"IF(F$1<>\"\",IF($A638<>\"\",COUNT(カテゴリースコア!P640),\"\"),\"\")","v":""},{"$f":"IF(G$1<>\"\",IF($A638<>\"\",COUNT(カテゴリースコア!Q640),\"\"),\"\")","v":""},{"$f":"IF(H$1<>\"\",IF($A638<>\"\",COUNT(カテゴリースコア!R640),\"\"),\"\")","v":""},{"$f":"IF(I$1<>\"\",IF($A638<>\"\",COUNT(カテゴリースコア!S640),\"\"),\"\")","v":""},{"$f":"IF(J$1<>\"\",IF($A638<>\"\",COUNT(カテゴリースコア!T640),\"\"),\"\")","v":""},{"$f":"IF(K$1<>\"\",IF($A638<>\"\",COUNT(カテゴリースコア!U640),\"\"),\"\")","v":""}]
[{"$f":"IF(データセット1!C639<>\"\",データセット1!C639,\"\")","v":""},{"$f":"IF(データセット1!C639<>\"\",データセット1!D639-カテゴリースコア!$E$11,\"\")","v":""},{"$f":"IF(C$1<>\"\",IF($A639<>\"\",COUNT(カテゴリースコア!M641),\"\"),\"\")","v":""},{"$f":"IF(D$1<>\"\",IF($A639<>\"\",COUNT(カテゴリースコア!N641),\"\"),\"\")","v":""},{"$f":"IF(E$1<>\"\",IF($A639<>\"\",COUNT(カテゴリースコア!O641),\"\"),\"\")","v":""},{"$f":"IF(F$1<>\"\",IF($A639<>\"\",COUNT(カテゴリースコア!P641),\"\"),\"\")","v":""},{"$f":"IF(G$1<>\"\",IF($A639<>\"\",COUNT(カテゴリースコア!Q641),\"\"),\"\")","v":""},{"$f":"IF(H$1<>\"\",IF($A639<>\"\",COUNT(カテゴリースコア!R641),\"\"),\"\")","v":""},{"$f":"IF(I$1<>\"\",IF($A639<>\"\",COUNT(カテゴリースコア!S641),\"\"),\"\")","v":""},{"$f":"IF(J$1<>\"\",IF($A639<>\"\",COUNT(カテゴリースコア!T641),\"\"),\"\")","v":""},{"$f":"IF(K$1<>\"\",IF($A639<>\"\",COUNT(カテゴリースコア!U641),\"\"),\"\")","v":""}]
[{"$f":"IF(データセット1!C640<>\"\",データセット1!C640,\"\")","v":""},{"$f":"IF(データセット1!C640<>\"\",データセット1!D640-カテゴリースコア!$E$11,\"\")","v":""},{"$f":"IF(C$1<>\"\",IF($A640<>\"\",COUNT(カテゴリースコア!M642),\"\"),\"\")","v":""},{"$f":"IF(D$1<>\"\",IF($A640<>\"\",COUNT(カテゴリースコア!N642),\"\"),\"\")","v":""},{"$f":"IF(E$1<>\"\",IF($A640<>\"\",COUNT(カテゴリースコア!O642),\"\"),\"\")","v":""},{"$f":"IF(F$1<>\"\",IF($A640<>\"\",COUNT(カテゴリースコア!P642),\"\"),\"\")","v":""},{"$f":"IF(G$1<>\"\",IF($A640<>\"\",COUNT(カテゴリースコア!Q642),\"\"),\"\")","v":""},{"$f":"IF(H$1<>\"\",IF($A640<>\"\",COUNT(カテゴリースコア!R642),\"\"),\"\")","v":""},{"$f":"IF(I$1<>\"\",IF($A640<>\"\",COUNT(カテゴリースコア!S642),\"\"),\"\")","v":""},{"$f":"IF(J$1<>\"\",IF($A640<>\"\",COUNT(カテゴリースコア!T642),\"\"),\"\")","v":""},{"$f":"IF(K$1<>\"\",IF($A640<>\"\",COUNT(カテゴリースコア!U642),\"\"),\"\")","v":""}]
[{"$f":"IF(データセット1!C641<>\"\",データセット1!C641,\"\")","v":""},{"$f":"IF(データセット1!C641<>\"\",データセット1!D641-カテゴリースコア!$E$11,\"\")","v":""},{"$f":"IF(C$1<>\"\",IF($A641<>\"\",COUNT(カテゴリースコア!M643),\"\"),\"\")","v":""},{"$f":"IF(D$1<>\"\",IF($A641<>\"\",COUNT(カテゴリースコア!N643),\"\"),\"\")","v":""},{"$f":"IF(E$1<>\"\",IF($A641<>\"\",COUNT(カテゴリースコア!O643),\"\"),\"\")","v":""},{"$f":"IF(F$1<>\"\",IF($A641<>\"\",COUNT(カテゴリースコア!P643),\"\"),\"\")","v":""},{"$f":"IF(G$1<>\"\",IF($A641<>\"\",COUNT(カテゴリースコア!Q643),\"\"),\"\")","v":""},{"$f":"IF(H$1<>\"\",IF($A641<>\"\",COUNT(カテゴリースコア!R643),\"\"),\"\")","v":""},{"$f":"IF(I$1<>\"\",IF($A641<>\"\",COUNT(カテゴリースコア!S643),\"\"),\"\")","v":""},{"$f":"IF(J$1<>\"\",IF($A641<>\"\",COUNT(カテゴリースコア!T643),\"\"),\"\")","v":""},{"$f":"IF(K$1<>\"\",IF($A641<>\"\",COUNT(カテゴリースコア!U643),\"\"),\"\")","v":""}]
[{"$f":"IF(データセット1!C642<>\"\",データセット1!C642,\"\")","v":""},{"$f":"IF(データセット1!C642<>\"\",データセット1!D642-カテゴリースコア!$E$11,\"\")","v":""},{"$f":"IF(C$1<>\"\",IF($A642<>\"\",COUNT(カテゴリースコア!M644),\"\"),\"\")","v":""},{"$f":"IF(D$1<>\"\",IF($A642<>\"\",COUNT(カテゴリースコア!N644),\"\"),\"\")","v":""},{"$f":"IF(E$1<>\"\",IF($A642<>\"\",COUNT(カテゴリースコア!O644),\"\"),\"\")","v":""},{"$f":"IF(F$1<>\"\",IF($A642<>\"\",COUNT(カテゴリースコア!P644),\"\"),\"\")","v":""},{"$f":"IF(G$1<>\"\",IF($A642<>\"\",COUNT(カテゴリースコア!Q644),\"\"),\"\")","v":""},{"$f":"IF(H$1<>\"\",IF($A642<>\"\",COUNT(カテゴリースコア!R644),\"\"),\"\")","v":""},{"$f":"IF(I$1<>\"\",IF($A642<>\"\",COUNT(カテゴリースコア!S644),\"\"),\"\")","v":""},{"$f":"IF(J$1<>\"\",IF($A642<>\"\",COUNT(カテゴリースコア!T644),\"\"),\"\")","v":""},{"$f":"IF(K$1<>\"\",IF($A642<>\"\",COUNT(カテゴリースコア!U644),\"\"),\"\")","v":""}]
[{"$f":"IF(データセット1!C643<>\"\",データセット1!C643,\"\")","v":""},{"$f":"IF(データセット1!C643<>\"\",データセット1!D643-カテゴリースコア!$E$11,\"\")","v":""},{"$f":"IF(C$1<>\"\",IF($A643<>\"\",COUNT(カテゴリースコア!M645),\"\"),\"\")","v":""},{"$f":"IF(D$1<>\"\",IF($A643<>\"\",COUNT(カテゴリースコア!N645),\"\"),\"\")","v":""},{"$f":"IF(E$1<>\"\",IF($A643<>\"\",COUNT(カテゴリースコア!O645),\"\"),\"\")","v":""},{"$f":"IF(F$1<>\"\",IF($A643<>\"\",COUNT(カテゴリースコア!P645),\"\"),\"\")","v":""},{"$f":"IF(G$1<>\"\",IF($A643<>\"\",COUNT(カテゴリースコア!Q645),\"\"),\"\")","v":""},{"$f":"IF(H$1<>\"\",IF($A643<>\"\",COUNT(カテゴリースコア!R645),\"\"),\"\")","v":""},{"$f":"IF(I$1<>\"\",IF($A643<>\"\",COUNT(カテゴリースコア!S645),\"\"),\"\")","v":""},{"$f":"IF(J$1<>\"\",IF($A643<>\"\",COUNT(カテゴリースコア!T645),\"\"),\"\")","v":""},{"$f":"IF(K$1<>\"\",IF($A643<>\"\",COUNT(カテゴリースコア!U645),\"\"),\"\")","v":""}]
[{"$f":"IF(データセット1!C644<>\"\",データセット1!C644,\"\")","v":""},{"$f":"IF(データセット1!C644<>\"\",データセット1!D644-カテゴリースコア!$E$11,\"\")","v":""},{"$f":"IF(C$1<>\"\",IF($A644<>\"\",COUNT(カテゴリースコア!M646),\"\"),\"\")","v":""},{"$f":"IF(D$1<>\"\",IF($A644<>\"\",COUNT(カテゴリースコア!N646),\"\"),\"\")","v":""},{"$f":"IF(E$1<>\"\",IF($A644<>\"\",COUNT(カテゴリースコア!O646),\"\"),\"\")","v":""},{"$f":"IF(F$1<>\"\",IF($A644<>\"\",COUNT(カテゴリースコア!P646),\"\"),\"\")","v":""},{"$f":"IF(G$1<>\"\",IF($A644<>\"\",COUNT(カテゴリースコア!Q646),\"\"),\"\")","v":""},{"$f":"IF(H$1<>\"\",IF($A644<>\"\",COUNT(カテゴリースコア!R646),\"\"),\"\")","v":""},{"$f":"IF(I$1<>\"\",IF($A644<>\"\",COUNT(カテゴリースコア!S646),\"\"),\"\")","v":""},{"$f":"IF(J$1<>\"\",IF($A644<>\"\",COUNT(カテゴリースコア!T646),\"\"),\"\")","v":""},{"$f":"IF(K$1<>\"\",IF($A644<>\"\",COUNT(カテゴリースコア!U646),\"\"),\"\")","v":""}]
[{"$f":"IF(データセット1!C645<>\"\",データセット1!C645,\"\")","v":""},{"$f":"IF(データセット1!C645<>\"\",データセット1!D645-カテゴリースコア!$E$11,\"\")","v":""},{"$f":"IF(C$1<>\"\",IF($A645<>\"\",COUNT(カテゴリースコア!M647),\"\"),\"\")","v":""},{"$f":"IF(D$1<>\"\",IF($A645<>\"\",COUNT(カテゴリースコア!N647),\"\"),\"\")","v":""},{"$f":"IF(E$1<>\"\",IF($A645<>\"\",COUNT(カテゴリースコア!O647),\"\"),\"\")","v":""},{"$f":"IF(F$1<>\"\",IF($A645<>\"\",COUNT(カテゴリースコア!P647),\"\"),\"\")","v":""},{"$f":"IF(G$1<>\"\",IF($A645<>\"\",COUNT(カテゴリースコア!Q647),\"\"),\"\")","v":""},{"$f":"IF(H$1<>\"\",IF($A645<>\"\",COUNT(カテゴリースコア!R647),\"\"),\"\")","v":""},{"$f":"IF(I$1<>\"\",IF($A645<>\"\",COUNT(カテゴリースコア!S647),\"\"),\"\")","v":""},{"$f":"IF(J$1<>\"\",IF($A645<>\"\",COUNT(カテゴリースコア!T647),\"\"),\"\")","v":""},{"$f":"IF(K$1<>\"\",IF($A645<>\"\",COUNT(カテゴリースコア!U647),\"\"),\"\")","v":""}]
[{"$f":"IF(データセット1!C646<>\"\",データセット1!C646,\"\")","v":""},{"$f":"IF(データセット1!C646<>\"\",データセット1!D646-カテゴリースコア!$E$11,\"\")","v":""},{"$f":"IF(C$1<>\"\",IF($A646<>\"\",COUNT(カテゴリースコア!M648),\"\"),\"\")","v":""},{"$f":"IF(D$1<>\"\",IF($A646<>\"\",COUNT(カテゴリースコア!N648),\"\"),\"\")","v":""},{"$f":"IF(E$1<>\"\",IF($A646<>\"\",COUNT(カテゴリースコア!O648),\"\"),\"\")","v":""},{"$f":"IF(F$1<>\"\",IF($A646<>\"\",COUNT(カテゴリースコア!P648),\"\"),\"\")","v":""},{"$f":"IF(G$1<>\"\",IF($A646<>\"\",COUNT(カテゴリースコア!Q648),\"\"),\"\")","v":""},{"$f":"IF(H$1<>\"\",IF($A646<>\"\",COUNT(カテゴリースコア!R648),\"\"),\"\")","v":""},{"$f":"IF(I$1<>\"\",IF($A646<>\"\",COUNT(カテゴリースコア!S648),\"\"),\"\")","v":""},{"$f":"IF(J$1<>\"\",IF($A646<>\"\",COUNT(カテゴリースコア!T648),\"\"),\"\")","v":""},{"$f":"IF(K$1<>\"\",IF($A646<>\"\",COUNT(カテゴリースコア!U648),\"\"),\"\")","v":""}]
[{"$f":"IF(データセット1!C647<>\"\",データセット1!C647,\"\")","v":""},{"$f":"IF(データセット1!C647<>\"\",データセット1!D647-カテゴリースコア!$E$11,\"\")","v":""},{"$f":"IF(C$1<>\"\",IF($A647<>\"\",COUNT(カテゴリースコア!M649),\"\"),\"\")","v":""},{"$f":"IF(D$1<>\"\",IF($A647<>\"\",COUNT(カテゴリースコア!N649),\"\"),\"\")","v":""},{"$f":"IF(E$1<>\"\",IF($A647<>\"\",COUNT(カテゴリースコア!O649),\"\"),\"\")","v":""},{"$f":"IF(F$1<>\"\",IF($A647<>\"\",COUNT(カテゴリースコア!P649),\"\"),\"\")","v":""},{"$f":"IF(G$1<>\"\",IF($A647<>\"\",COUNT(カテゴリースコア!Q649),\"\"),\"\")","v":""},{"$f":"IF(H$1<>\"\",IF($A647<>\"\",COUNT(カテゴリースコア!R649),\"\"),\"\")","v":""},{"$f":"IF(I$1<>\"\",IF($A647<>\"\",COUNT(カテゴリースコア!S649),\"\"),\"\")","v":""},{"$f":"IF(J$1<>\"\",IF($A647<>\"\",COUNT(カテゴリースコア!T649),\"\"),\"\")","v":""},{"$f":"IF(K$1<>\"\",IF($A647<>\"\",COUNT(カテゴリースコア!U649),\"\"),\"\")","v":""}]
[{"$f":"IF(データセット1!C648<>\"\",データセット1!C648,\"\")","v":""},{"$f":"IF(データセット1!C648<>\"\",データセット1!D648-カテゴリースコア!$E$11,\"\")","v":""},{"$f":"IF(C$1<>\"\",IF($A648<>\"\",COUNT(カテゴリースコア!M650),\"\"),\"\")","v":""},{"$f":"IF(D$1<>\"\",IF($A648<>\"\",COUNT(カテゴリースコア!N650),\"\"),\"\")","v":""},{"$f":"IF(E$1<>\"\",IF($A648<>\"\",COUNT(カテゴリースコア!O650),\"\"),\"\")","v":""},{"$f":"IF(F$1<>\"\",IF($A648<>\"\",COUNT(カテゴリースコア!P650),\"\"),\"\")","v":""},{"$f":"IF(G$1<>\"\",IF($A648<>\"\",COUNT(カテゴリースコア!Q650),\"\"),\"\")","v":""},{"$f":"IF(H$1<>\"\",IF($A648<>\"\",COUNT(カテゴリースコア!R650),\"\"),\"\")","v":""},{"$f":"IF(I$1<>\"\",IF($A648<>\"\",COUNT(カテゴリースコア!S650),\"\"),\"\")","v":""},{"$f":"IF(J$1<>\"\",IF($A648<>\"\",COUNT(カテゴリースコア!T650),\"\"),\"\")","v":""},{"$f":"IF(K$1<>\"\",IF($A648<>\"\",COUNT(カテゴリースコア!U650),\"\"),\"\")","v":""}]
[{"$f":"IF(データセット1!C649<>\"\",データセット1!C649,\"\")","v":""},{"$f":"IF(データセット1!C649<>\"\",データセット1!D649-カテゴリースコア!$E$11,\"\")","v":""},{"$f":"IF(C$1<>\"\",IF($A649<>\"\",COUNT(カテゴリースコア!M651),\"\"),\"\")","v":""},{"$f":"IF(D$1<>\"\",IF($A649<>\"\",COUNT(カテゴリースコア!N651),\"\"),\"\")","v":""},{"$f":"IF(E$1<>\"\",IF($A649<>\"\",COUNT(カテゴリースコア!O651),\"\"),\"\")","v":""},{"$f":"IF(F$1<>\"\",IF($A649<>\"\",COUNT(カテゴリースコア!P651),\"\"),\"\")","v":""},{"$f":"IF(G$1<>\"\",IF($A649<>\"\",COUNT(カテゴリースコア!Q651),\"\"),\"\")","v":""},{"$f":"IF(H$1<>\"\",IF($A649<>\"\",COUNT(カテゴリースコア!R651),\"\"),\"\")","v":""},{"$f":"IF(I$1<>\"\",IF($A649<>\"\",COUNT(カテゴリースコア!S651),\"\"),\"\")","v":""},{"$f":"IF(J$1<>\"\",IF($A649<>\"\",COUNT(カテゴリースコア!T651),\"\"),\"\")","v":""},{"$f":"IF(K$1<>\"\",IF($A649<>\"\",COUNT(カテゴリースコア!U651),\"\"),\"\")","v":""}]
[{"$f":"IF(データセット1!C650<>\"\",データセット1!C650,\"\")","v":""},{"$f":"IF(データセット1!C650<>\"\",データセット1!D650-カテゴリースコア!$E$11,\"\")","v":""},{"$f":"IF(C$1<>\"\",IF($A650<>\"\",COUNT(カテゴリースコア!M652),\"\"),\"\")","v":""},{"$f":"IF(D$1<>\"\",IF($A650<>\"\",COUNT(カテゴリースコア!N652),\"\"),\"\")","v":""},{"$f":"IF(E$1<>\"\",IF($A650<>\"\",COUNT(カテゴリースコア!O652),\"\"),\"\")","v":""},{"$f":"IF(F$1<>\"\",IF($A650<>\"\",COUNT(カテゴリースコア!P652),\"\"),\"\")","v":""},{"$f":"IF(G$1<>\"\",IF($A650<>\"\",COUNT(カテゴリースコア!Q652),\"\"),\"\")","v":""},{"$f":"IF(H$1<>\"\",IF($A650<>\"\",COUNT(カテゴリースコア!R652),\"\"),\"\")","v":""},{"$f":"IF(I$1<>\"\",IF($A650<>\"\",COUNT(カテゴリースコア!S652),\"\"),\"\")","v":""},{"$f":"IF(J$1<>\"\",IF($A650<>\"\",COUNT(カテゴリースコア!T652),\"\"),\"\")","v":""},{"$f":"IF(K$1<>\"\",IF($A650<>\"\",COUNT(カテゴリースコア!U652),\"\"),\"\")","v":""}]
[{"$f":"IF(データセット1!C651<>\"\",データセット1!C651,\"\")","v":""},{"$f":"IF(データセット1!C651<>\"\",データセット1!D651-カテゴリースコア!$E$11,\"\")","v":""},{"$f":"IF(C$1<>\"\",IF($A651<>\"\",COUNT(カテゴリースコア!M653),\"\"),\"\")","v":""},{"$f":"IF(D$1<>\"\",IF($A651<>\"\",COUNT(カテゴリースコア!N653),\"\"),\"\")","v":""},{"$f":"IF(E$1<>\"\",IF($A651<>\"\",COUNT(カテゴリースコア!O653),\"\"),\"\")","v":""},{"$f":"IF(F$1<>\"\",IF($A651<>\"\",COUNT(カテゴリースコア!P653),\"\"),\"\")","v":""},{"$f":"IF(G$1<>\"\",IF($A651<>\"\",COUNT(カテゴリースコア!Q653),\"\"),\"\")","v":""},{"$f":"IF(H$1<>\"\",IF($A651<>\"\",COUNT(カテゴリースコア!R653),\"\"),\"\")","v":""},{"$f":"IF(I$1<>\"\",IF($A651<>\"\",COUNT(カテゴリースコア!S653),\"\"),\"\")","v":""},{"$f":"IF(J$1<>\"\",IF($A651<>\"\",COUNT(カテゴリースコア!T653),\"\"),\"\")","v":""},{"$f":"IF(K$1<>\"\",IF($A651<>\"\",COUNT(カテゴリースコア!U653),\"\"),\"\")","v":""}]
[{"$f":"IF(データセット1!C652<>\"\",データセット1!C652,\"\")","v":""},{"$f":"IF(データセット1!C652<>\"\",データセット1!D652-カテゴリースコア!$E$11,\"\")","v":""},{"$f":"IF(C$1<>\"\",IF($A652<>\"\",COUNT(カテゴリースコア!M654),\"\"),\"\")","v":""},{"$f":"IF(D$1<>\"\",IF($A652<>\"\",COUNT(カテゴリースコア!N654),\"\"),\"\")","v":""},{"$f":"IF(E$1<>\"\",IF($A652<>\"\",COUNT(カテゴリースコア!O654),\"\"),\"\")","v":""},{"$f":"IF(F$1<>\"\",IF($A652<>\"\",COUNT(カテゴリースコア!P654),\"\"),\"\")","v":""},{"$f":"IF(G$1<>\"\",IF($A652<>\"\",COUNT(カテゴリースコア!Q654),\"\"),\"\")","v":""},{"$f":"IF(H$1<>\"\",IF($A652<>\"\",COUNT(カテゴリースコア!R654),\"\"),\"\")","v":""},{"$f":"IF(I$1<>\"\",IF($A652<>\"\",COUNT(カテゴリースコア!S654),\"\"),\"\")","v":""},{"$f":"IF(J$1<>\"\",IF($A652<>\"\",COUNT(カテゴリースコア!T654),\"\"),\"\")","v":""},{"$f":"IF(K$1<>\"\",IF($A652<>\"\",COUNT(カテゴリースコア!U654),\"\"),\"\")","v":""}]
[{"$f":"IF(データセット1!C653<>\"\",データセット1!C653,\"\")","v":""},{"$f":"IF(データセット1!C653<>\"\",データセット1!D653-カテゴリースコア!$E$11,\"\")","v":""},{"$f":"IF(C$1<>\"\",IF($A653<>\"\",COUNT(カテゴリースコア!M655),\"\"),\"\")","v":""},{"$f":"IF(D$1<>\"\",IF($A653<>\"\",COUNT(カテゴリースコア!N655),\"\"),\"\")","v":""},{"$f":"IF(E$1<>\"\",IF($A653<>\"\",COUNT(カテゴリースコア!O655),\"\"),\"\")","v":""},{"$f":"IF(F$1<>\"\",IF($A653<>\"\",COUNT(カテゴリースコア!P655),\"\"),\"\")","v":""},{"$f":"IF(G$1<>\"\",IF($A653<>\"\",COUNT(カテゴリースコア!Q655),\"\"),\"\")","v":""},{"$f":"IF(H$1<>\"\",IF($A653<>\"\",COUNT(カテゴリースコア!R655),\"\"),\"\")","v":""},{"$f":"IF(I$1<>\"\",IF($A653<>\"\",COUNT(カテゴリースコア!S655),\"\"),\"\")","v":""},{"$f":"IF(J$1<>\"\",IF($A653<>\"\",COUNT(カテゴリースコア!T655),\"\"),\"\")","v":""},{"$f":"IF(K$1<>\"\",IF($A653<>\"\",COUNT(カテゴリースコア!U655),\"\"),\"\")","v":""}]
[{"$f":"IF(データセット1!C654<>\"\",データセット1!C654,\"\")","v":""},{"$f":"IF(データセット1!C654<>\"\",データセット1!D654-カテゴリースコア!$E$11,\"\")","v":""},{"$f":"IF(C$1<>\"\",IF($A654<>\"\",COUNT(カテゴリースコア!M656),\"\"),\"\")","v":""},{"$f":"IF(D$1<>\"\",IF($A654<>\"\",COUNT(カテゴリースコア!N656),\"\"),\"\")","v":""},{"$f":"IF(E$1<>\"\",IF($A654<>\"\",COUNT(カテゴリースコア!O656),\"\"),\"\")","v":""},{"$f":"IF(F$1<>\"\",IF($A654<>\"\",COUNT(カテゴリースコア!P656),\"\"),\"\")","v":""},{"$f":"IF(G$1<>\"\",IF($A654<>\"\",COUNT(カテゴリースコア!Q656),\"\"),\"\")","v":""},{"$f":"IF(H$1<>\"\",IF($A654<>\"\",COUNT(カテゴリースコア!R656),\"\"),\"\")","v":""},{"$f":"IF(I$1<>\"\",IF($A654<>\"\",COUNT(カテゴリースコア!S656),\"\"),\"\")","v":""},{"$f":"IF(J$1<>\"\",IF($A654<>\"\",COUNT(カテゴリースコア!T656),\"\"),\"\")","v":""},{"$f":"IF(K$1<>\"\",IF($A654<>\"\",COUNT(カテゴリースコア!U656),\"\"),\"\")","v":""}]
[{"$f":"IF(データセット1!C655<>\"\",データセット1!C655,\"\")","v":""},{"$f":"IF(データセット1!C655<>\"\",データセット1!D655-カテゴリースコア!$E$11,\"\")","v":""},{"$f":"IF(C$1<>\"\",IF($A655<>\"\",COUNT(カテゴリースコア!M657),\"\"),\"\")","v":""},{"$f":"IF(D$1<>\"\",IF($A655<>\"\",COUNT(カテゴリースコア!N657),\"\"),\"\")","v":""},{"$f":"IF(E$1<>\"\",IF($A655<>\"\",COUNT(カテゴリースコア!O657),\"\"),\"\")","v":""},{"$f":"IF(F$1<>\"\",IF($A655<>\"\",COUNT(カテゴリースコア!P657),\"\"),\"\")","v":""},{"$f":"IF(G$1<>\"\",IF($A655<>\"\",COUNT(カテゴリースコア!Q657),\"\"),\"\")","v":""},{"$f":"IF(H$1<>\"\",IF($A655<>\"\",COUNT(カテゴリースコア!R657),\"\"),\"\")","v":""},{"$f":"IF(I$1<>\"\",IF($A655<>\"\",COUNT(カテゴリースコア!S657),\"\"),\"\")","v":""},{"$f":"IF(J$1<>\"\",IF($A655<>\"\",COUNT(カテゴリースコア!T657),\"\"),\"\")","v":""},{"$f":"IF(K$1<>\"\",IF($A655<>\"\",COUNT(カテゴリースコア!U657),\"\"),\"\")","v":""}]
[{"$f":"IF(データセット1!C656<>\"\",データセット1!C656,\"\")","v":""},{"$f":"IF(データセット1!C656<>\"\",データセット1!D656-カテゴリースコア!$E$11,\"\")","v":""},{"$f":"IF(C$1<>\"\",IF($A656<>\"\",COUNT(カテゴリースコア!M658),\"\"),\"\")","v":""},{"$f":"IF(D$1<>\"\",IF($A656<>\"\",COUNT(カテゴリースコア!N658),\"\"),\"\")","v":""},{"$f":"IF(E$1<>\"\",IF($A656<>\"\",COUNT(カテゴリースコア!O658),\"\"),\"\")","v":""},{"$f":"IF(F$1<>\"\",IF($A656<>\"\",COUNT(カテゴリースコア!P658),\"\"),\"\")","v":""},{"$f":"IF(G$1<>\"\",IF($A656<>\"\",COUNT(カテゴリースコア!Q658),\"\"),\"\")","v":""},{"$f":"IF(H$1<>\"\",IF($A656<>\"\",COUNT(カテゴリースコア!R658),\"\"),\"\")","v":""},{"$f":"IF(I$1<>\"\",IF($A656<>\"\",COUNT(カテゴリースコア!S658),\"\"),\"\")","v":""},{"$f":"IF(J$1<>\"\",IF($A656<>\"\",COUNT(カテゴリースコア!T658),\"\"),\"\")","v":""},{"$f":"IF(K$1<>\"\",IF($A656<>\"\",COUNT(カテゴリースコア!U658),\"\"),\"\")","v":""}]
[{"$f":"IF(データセット1!C657<>\"\",データセット1!C657,\"\")","v":""},{"$f":"IF(データセット1!C657<>\"\",データセット1!D657-カテゴリースコア!$E$11,\"\")","v":""},{"$f":"IF(C$1<>\"\",IF($A657<>\"\",COUNT(カテゴリースコア!M659),\"\"),\"\")","v":""},{"$f":"IF(D$1<>\"\",IF($A657<>\"\",COUNT(カテゴリースコア!N659),\"\"),\"\")","v":""},{"$f":"IF(E$1<>\"\",IF($A657<>\"\",COUNT(カテゴリースコア!O659),\"\"),\"\")","v":""},{"$f":"IF(F$1<>\"\",IF($A657<>\"\",COUNT(カテゴリースコア!P659),\"\"),\"\")","v":""},{"$f":"IF(G$1<>\"\",IF($A657<>\"\",COUNT(カテゴリースコア!Q659),\"\"),\"\")","v":""},{"$f":"IF(H$1<>\"\",IF($A657<>\"\",COUNT(カテゴリースコア!R659),\"\"),\"\")","v":""},{"$f":"IF(I$1<>\"\",IF($A657<>\"\",COUNT(カテゴリースコア!S659),\"\"),\"\")","v":""},{"$f":"IF(J$1<>\"\",IF($A657<>\"\",COUNT(カテゴリースコア!T659),\"\"),\"\")","v":""},{"$f":"IF(K$1<>\"\",IF($A657<>\"\",COUNT(カテゴリースコア!U659),\"\"),\"\")","v":""}]
[{"$f":"IF(データセット1!C658<>\"\",データセット1!C658,\"\")","v":""},{"$f":"IF(データセット1!C658<>\"\",データセット1!D658-カテゴリースコア!$E$11,\"\")","v":""},{"$f":"IF(C$1<>\"\",IF($A658<>\"\",COUNT(カテゴリースコア!M660),\"\"),\"\")","v":""},{"$f":"IF(D$1<>\"\",IF($A658<>\"\",COUNT(カテゴリースコア!N660),\"\"),\"\")","v":""},{"$f":"IF(E$1<>\"\",IF($A658<>\"\",COUNT(カテゴリースコア!O660),\"\"),\"\")","v":""},{"$f":"IF(F$1<>\"\",IF($A658<>\"\",COUNT(カテゴリースコア!P660),\"\"),\"\")","v":""},{"$f":"IF(G$1<>\"\",IF($A658<>\"\",COUNT(カテゴリースコア!Q660),\"\"),\"\")","v":""},{"$f":"IF(H$1<>\"\",IF($A658<>\"\",COUNT(カテゴリースコア!R660),\"\"),\"\")","v":""},{"$f":"IF(I$1<>\"\",IF($A658<>\"\",COUNT(カテゴリースコア!S660),\"\"),\"\")","v":""},{"$f":"IF(J$1<>\"\",IF($A658<>\"\",COUNT(カテゴリースコア!T660),\"\"),\"\")","v":""},{"$f":"IF(K$1<>\"\",IF($A658<>\"\",COUNT(カテゴリースコア!U660),\"\"),\"\")","v":""}]
[{"$f":"IF(データセット1!C659<>\"\",データセット1!C659,\"\")","v":""},{"$f":"IF(データセット1!C659<>\"\",データセット1!D659-カテゴリースコア!$E$11,\"\")","v":""},{"$f":"IF(C$1<>\"\",IF($A659<>\"\",COUNT(カテゴリースコア!M661),\"\"),\"\")","v":""},{"$f":"IF(D$1<>\"\",IF($A659<>\"\",COUNT(カテゴリースコア!N661),\"\"),\"\")","v":""},{"$f":"IF(E$1<>\"\",IF($A659<>\"\",COUNT(カテゴリースコア!O661),\"\"),\"\")","v":""},{"$f":"IF(F$1<>\"\",IF($A659<>\"\",COUNT(カテゴリースコア!P661),\"\"),\"\")","v":""},{"$f":"IF(G$1<>\"\",IF($A659<>\"\",COUNT(カテゴリースコア!Q661),\"\"),\"\")","v":""},{"$f":"IF(H$1<>\"\",IF($A659<>\"\",COUNT(カテゴリースコア!R661),\"\"),\"\")","v":""},{"$f":"IF(I$1<>\"\",IF($A659<>\"\",COUNT(カテゴリースコア!S661),\"\"),\"\")","v":""},{"$f":"IF(J$1<>\"\",IF($A659<>\"\",COUNT(カテゴリースコア!T661),\"\"),\"\")","v":""},{"$f":"IF(K$1<>\"\",IF($A659<>\"\",COUNT(カテゴリースコア!U661),\"\"),\"\")","v":""}]
[{"$f":"IF(データセット1!C660<>\"\",データセット1!C660,\"\")","v":""},{"$f":"IF(データセット1!C660<>\"\",データセット1!D660-カテゴリースコア!$E$11,\"\")","v":""},{"$f":"IF(C$1<>\"\",IF($A660<>\"\",COUNT(カテゴリースコア!M662),\"\"),\"\")","v":""},{"$f":"IF(D$1<>\"\",IF($A660<>\"\",COUNT(カテゴリースコア!N662),\"\"),\"\")","v":""},{"$f":"IF(E$1<>\"\",IF($A660<>\"\",COUNT(カテゴリースコア!O662),\"\"),\"\")","v":""},{"$f":"IF(F$1<>\"\",IF($A660<>\"\",COUNT(カテゴリースコア!P662),\"\"),\"\")","v":""},{"$f":"IF(G$1<>\"\",IF($A660<>\"\",COUNT(カテゴリースコア!Q662),\"\"),\"\")","v":""},{"$f":"IF(H$1<>\"\",IF($A660<>\"\",COUNT(カテゴリースコア!R662),\"\"),\"\")","v":""},{"$f":"IF(I$1<>\"\",IF($A660<>\"\",COUNT(カテゴリースコア!S662),\"\"),\"\")","v":""},{"$f":"IF(J$1<>\"\",IF($A660<>\"\",COUNT(カテゴリースコア!T662),\"\"),\"\")","v":""},{"$f":"IF(K$1<>\"\",IF($A660<>\"\",COUNT(カテゴリースコア!U662),\"\"),\"\")","v":""}]
[{"$f":"IF(データセット1!C661<>\"\",データセット1!C661,\"\")","v":""},{"$f":"IF(データセット1!C661<>\"\",データセット1!D661-カテゴリースコア!$E$11,\"\")","v":""},{"$f":"IF(C$1<>\"\",IF($A661<>\"\",COUNT(カテゴリースコア!M663),\"\"),\"\")","v":""},{"$f":"IF(D$1<>\"\",IF($A661<>\"\",COUNT(カテゴリースコア!N663),\"\"),\"\")","v":""},{"$f":"IF(E$1<>\"\",IF($A661<>\"\",COUNT(カテゴリースコア!O663),\"\"),\"\")","v":""},{"$f":"IF(F$1<>\"\",IF($A661<>\"\",COUNT(カテゴリースコア!P663),\"\"),\"\")","v":""},{"$f":"IF(G$1<>\"\",IF($A661<>\"\",COUNT(カテゴリースコア!Q663),\"\"),\"\")","v":""},{"$f":"IF(H$1<>\"\",IF($A661<>\"\",COUNT(カテゴリースコア!R663),\"\"),\"\")","v":""},{"$f":"IF(I$1<>\"\",IF($A661<>\"\",COUNT(カテゴリースコア!S663),\"\"),\"\")","v":""},{"$f":"IF(J$1<>\"\",IF($A661<>\"\",COUNT(カテゴリースコア!T663),\"\"),\"\")","v":""},{"$f":"IF(K$1<>\"\",IF($A661<>\"\",COUNT(カテゴリースコア!U663),\"\"),\"\")","v":""}]
[{"$f":"IF(データセット1!C662<>\"\",データセット1!C662,\"\")","v":""},{"$f":"IF(データセット1!C662<>\"\",データセット1!D662-カテゴリースコア!$E$11,\"\")","v":""},{"$f":"IF(C$1<>\"\",IF($A662<>\"\",COUNT(カテゴリースコア!M664),\"\"),\"\")","v":""},{"$f":"IF(D$1<>\"\",IF($A662<>\"\",COUNT(カテゴリースコア!N664),\"\"),\"\")","v":""},{"$f":"IF(E$1<>\"\",IF($A662<>\"\",COUNT(カテゴリースコア!O664),\"\"),\"\")","v":""},{"$f":"IF(F$1<>\"\",IF($A662<>\"\",COUNT(カテゴリースコア!P664),\"\"),\"\")","v":""},{"$f":"IF(G$1<>\"\",IF($A662<>\"\",COUNT(カテゴリースコア!Q664),\"\"),\"\")","v":""},{"$f":"IF(H$1<>\"\",IF($A662<>\"\",COUNT(カテゴリースコア!R664),\"\"),\"\")","v":""},{"$f":"IF(I$1<>\"\",IF($A662<>\"\",COUNT(カテゴリースコア!S664),\"\"),\"\")","v":""},{"$f":"IF(J$1<>\"\",IF($A662<>\"\",COUNT(カテゴリースコア!T664),\"\"),\"\")","v":""},{"$f":"IF(K$1<>\"\",IF($A662<>\"\",COUNT(カテゴリースコア!U664),\"\"),\"\")","v":""}]
[{"$f":"IF(データセット1!C663<>\"\",データセット1!C663,\"\")","v":""},{"$f":"IF(データセット1!C663<>\"\",データセット1!D663-カテゴリースコア!$E$11,\"\")","v":""},{"$f":"IF(C$1<>\"\",IF($A663<>\"\",COUNT(カテゴリースコア!M665),\"\"),\"\")","v":""},{"$f":"IF(D$1<>\"\",IF($A663<>\"\",COUNT(カテゴリースコア!N665),\"\"),\"\")","v":""},{"$f":"IF(E$1<>\"\",IF($A663<>\"\",COUNT(カテゴリースコア!O665),\"\"),\"\")","v":""},{"$f":"IF(F$1<>\"\",IF($A663<>\"\",COUNT(カテゴリースコア!P665),\"\"),\"\")","v":""},{"$f":"IF(G$1<>\"\",IF($A663<>\"\",COUNT(カテゴリースコア!Q665),\"\"),\"\")","v":""},{"$f":"IF(H$1<>\"\",IF($A663<>\"\",COUNT(カテゴリースコア!R665),\"\"),\"\")","v":""},{"$f":"IF(I$1<>\"\",IF($A663<>\"\",COUNT(カテゴリースコア!S665),\"\"),\"\")","v":""},{"$f":"IF(J$1<>\"\",IF($A663<>\"\",COUNT(カテゴリースコア!T665),\"\"),\"\")","v":""},{"$f":"IF(K$1<>\"\",IF($A663<>\"\",COUNT(カテゴリースコア!U665),\"\"),\"\")","v":""}]
[{"$f":"IF(データセット1!C664<>\"\",データセット1!C664,\"\")","v":""},{"$f":"IF(データセット1!C664<>\"\",データセット1!D664-カテゴリースコア!$E$11,\"\")","v":""},{"$f":"IF(C$1<>\"\",IF($A664<>\"\",COUNT(カテゴリースコア!M666),\"\"),\"\")","v":""},{"$f":"IF(D$1<>\"\",IF($A664<>\"\",COUNT(カテゴリースコア!N666),\"\"),\"\")","v":""},{"$f":"IF(E$1<>\"\",IF($A664<>\"\",COUNT(カテゴリースコア!O666),\"\"),\"\")","v":""},{"$f":"IF(F$1<>\"\",IF($A664<>\"\",COUNT(カテゴリースコア!P666),\"\"),\"\")","v":""},{"$f":"IF(G$1<>\"\",IF($A664<>\"\",COUNT(カテゴリースコア!Q666),\"\"),\"\")","v":""},{"$f":"IF(H$1<>\"\",IF($A664<>\"\",COUNT(カテゴリースコア!R666),\"\"),\"\")","v":""},{"$f":"IF(I$1<>\"\",IF($A664<>\"\",COUNT(カテゴリースコア!S666),\"\"),\"\")","v":""},{"$f":"IF(J$1<>\"\",IF($A664<>\"\",COUNT(カテゴリースコア!T666),\"\"),\"\")","v":""},{"$f":"IF(K$1<>\"\",IF($A664<>\"\",COUNT(カテゴリースコア!U666),\"\"),\"\")","v":""}]
[{"$f":"IF(データセット1!C665<>\"\",データセット1!C665,\"\")","v":""},{"$f":"IF(データセット1!C665<>\"\",データセット1!D665-カテゴリースコア!$E$11,\"\")","v":""},{"$f":"IF(C$1<>\"\",IF($A665<>\"\",COUNT(カテゴリースコア!M667),\"\"),\"\")","v":""},{"$f":"IF(D$1<>\"\",IF($A665<>\"\",COUNT(カテゴリースコア!N667),\"\"),\"\")","v":""},{"$f":"IF(E$1<>\"\",IF($A665<>\"\",COUNT(カテゴリースコア!O667),\"\"),\"\")","v":""},{"$f":"IF(F$1<>\"\",IF($A665<>\"\",COUNT(カテゴリースコア!P667),\"\"),\"\")","v":""},{"$f":"IF(G$1<>\"\",IF($A665<>\"\",COUNT(カテゴリースコア!Q667),\"\"),\"\")","v":""},{"$f":"IF(H$1<>\"\",IF($A665<>\"\",COUNT(カテゴリースコア!R667),\"\"),\"\")","v":""},{"$f":"IF(I$1<>\"\",IF($A665<>\"\",COUNT(カテゴリースコア!S667),\"\"),\"\")","v":""},{"$f":"IF(J$1<>\"\",IF($A665<>\"\",COUNT(カテゴリースコア!T667),\"\"),\"\")","v":""},{"$f":"IF(K$1<>\"\",IF($A665<>\"\",COUNT(カテゴリースコア!U667),\"\"),\"\")","v":""}]
[{"$f":"IF(データセット1!C666<>\"\",データセット1!C666,\"\")","v":""},{"$f":"IF(データセット1!C666<>\"\",データセット1!D666-カテゴリースコア!$E$11,\"\")","v":""},{"$f":"IF(C$1<>\"\",IF($A666<>\"\",COUNT(カテゴリースコア!M668),\"\"),\"\")","v":""},{"$f":"IF(D$1<>\"\",IF($A666<>\"\",COUNT(カテゴリースコア!N668),\"\"),\"\")","v":""},{"$f":"IF(E$1<>\"\",IF($A666<>\"\",COUNT(カテゴリースコア!O668),\"\"),\"\")","v":""},{"$f":"IF(F$1<>\"\",IF($A666<>\"\",COUNT(カテゴリースコア!P668),\"\"),\"\")","v":""},{"$f":"IF(G$1<>\"\",IF($A666<>\"\",COUNT(カテゴリースコア!Q668),\"\"),\"\")","v":""},{"$f":"IF(H$1<>\"\",IF($A666<>\"\",COUNT(カテゴリースコア!R668),\"\"),\"\")","v":""},{"$f":"IF(I$1<>\"\",IF($A666<>\"\",COUNT(カテゴリースコア!S668),\"\"),\"\")","v":""},{"$f":"IF(J$1<>\"\",IF($A666<>\"\",COUNT(カテゴリースコア!T668),\"\"),\"\")","v":""},{"$f":"IF(K$1<>\"\",IF($A666<>\"\",COUNT(カテゴリースコア!U668),\"\"),\"\")","v":""}]
[{"$f":"IF(データセット1!C667<>\"\",データセット1!C667,\"\")","v":""},{"$f":"IF(データセット1!C667<>\"\",データセット1!D667-カテゴリースコア!$E$11,\"\")","v":""},{"$f":"IF(C$1<>\"\",IF($A667<>\"\",COUNT(カテゴリースコア!M669),\"\"),\"\")","v":""},{"$f":"IF(D$1<>\"\",IF($A667<>\"\",COUNT(カテゴリースコア!N669),\"\"),\"\")","v":""},{"$f":"IF(E$1<>\"\",IF($A667<>\"\",COUNT(カテゴリースコア!O669),\"\"),\"\")","v":""},{"$f":"IF(F$1<>\"\",IF($A667<>\"\",COUNT(カテゴリースコア!P669),\"\"),\"\")","v":""},{"$f":"IF(G$1<>\"\",IF($A667<>\"\",COUNT(カテゴリースコア!Q669),\"\"),\"\")","v":""},{"$f":"IF(H$1<>\"\",IF($A667<>\"\",COUNT(カテゴリースコア!R669),\"\"),\"\")","v":""},{"$f":"IF(I$1<>\"\",IF($A667<>\"\",COUNT(カテゴリースコア!S669),\"\"),\"\")","v":""},{"$f":"IF(J$1<>\"\",IF($A667<>\"\",COUNT(カテゴリースコア!T669),\"\"),\"\")","v":""},{"$f":"IF(K$1<>\"\",IF($A667<>\"\",COUNT(カテゴリースコア!U669),\"\"),\"\")","v":""}]
[{"$f":"IF(データセット1!C668<>\"\",データセット1!C668,\"\")","v":""},{"$f":"IF(データセット1!C668<>\"\",データセット1!D668-カテゴリースコア!$E$11,\"\")","v":""},{"$f":"IF(C$1<>\"\",IF($A668<>\"\",COUNT(カテゴリースコア!M670),\"\"),\"\")","v":""},{"$f":"IF(D$1<>\"\",IF($A668<>\"\",COUNT(カテゴリースコア!N670),\"\"),\"\")","v":""},{"$f":"IF(E$1<>\"\",IF($A668<>\"\",COUNT(カテゴリースコア!O670),\"\"),\"\")","v":""},{"$f":"IF(F$1<>\"\",IF($A668<>\"\",COUNT(カテゴリースコア!P670),\"\"),\"\")","v":""},{"$f":"IF(G$1<>\"\",IF($A668<>\"\",COUNT(カテゴリースコア!Q670),\"\"),\"\")","v":""},{"$f":"IF(H$1<>\"\",IF($A668<>\"\",COUNT(カテゴリースコア!R670),\"\"),\"\")","v":""},{"$f":"IF(I$1<>\"\",IF($A668<>\"\",COUNT(カテゴリースコア!S670),\"\"),\"\")","v":""},{"$f":"IF(J$1<>\"\",IF($A668<>\"\",COUNT(カテゴリースコア!T670),\"\"),\"\")","v":""},{"$f":"IF(K$1<>\"\",IF($A668<>\"\",COUNT(カテゴリースコア!U670),\"\"),\"\")","v":""}]
[{"$f":"IF(データセット1!C669<>\"\",データセット1!C669,\"\")","v":""},{"$f":"IF(データセット1!C669<>\"\",データセット1!D669-カテゴリースコア!$E$11,\"\")","v":""},{"$f":"IF(C$1<>\"\",IF($A669<>\"\",COUNT(カテゴリースコア!M671),\"\"),\"\")","v":""},{"$f":"IF(D$1<>\"\",IF($A669<>\"\",COUNT(カテゴリースコア!N671),\"\"),\"\")","v":""},{"$f":"IF(E$1<>\"\",IF($A669<>\"\",COUNT(カテゴリースコア!O671),\"\"),\"\")","v":""},{"$f":"IF(F$1<>\"\",IF($A669<>\"\",COUNT(カテゴリースコア!P671),\"\"),\"\")","v":""},{"$f":"IF(G$1<>\"\",IF($A669<>\"\",COUNT(カテゴリースコア!Q671),\"\"),\"\")","v":""},{"$f":"IF(H$1<>\"\",IF($A669<>\"\",COUNT(カテゴリースコア!R671),\"\"),\"\")","v":""},{"$f":"IF(I$1<>\"\",IF($A669<>\"\",COUNT(カテゴリースコア!S671),\"\"),\"\")","v":""},{"$f":"IF(J$1<>\"\",IF($A669<>\"\",COUNT(カテゴリースコア!T671),\"\"),\"\")","v":""},{"$f":"IF(K$1<>\"\",IF($A669<>\"\",COUNT(カテゴリースコア!U671),\"\"),\"\")","v":""}]
[{"$f":"IF(データセット1!C670<>\"\",データセット1!C670,\"\")","v":""},{"$f":"IF(データセット1!C670<>\"\",データセット1!D670-カテゴリースコア!$E$11,\"\")","v":""},{"$f":"IF(C$1<>\"\",IF($A670<>\"\",COUNT(カテゴリースコア!M672),\"\"),\"\")","v":""},{"$f":"IF(D$1<>\"\",IF($A670<>\"\",COUNT(カテゴリースコア!N672),\"\"),\"\")","v":""},{"$f":"IF(E$1<>\"\",IF($A670<>\"\",COUNT(カテゴリースコア!O672),\"\"),\"\")","v":""},{"$f":"IF(F$1<>\"\",IF($A670<>\"\",COUNT(カテゴリースコア!P672),\"\"),\"\")","v":""},{"$f":"IF(G$1<>\"\",IF($A670<>\"\",COUNT(カテゴリースコア!Q672),\"\"),\"\")","v":""},{"$f":"IF(H$1<>\"\",IF($A670<>\"\",COUNT(カテゴリースコア!R672),\"\"),\"\")","v":""},{"$f":"IF(I$1<>\"\",IF($A670<>\"\",COUNT(カテゴリースコア!S672),\"\"),\"\")","v":""},{"$f":"IF(J$1<>\"\",IF($A670<>\"\",COUNT(カテゴリースコア!T672),\"\"),\"\")","v":""},{"$f":"IF(K$1<>\"\",IF($A670<>\"\",COUNT(カテゴリースコア!U672),\"\"),\"\")","v":""}]
[{"$f":"IF(データセット1!C671<>\"\",データセット1!C671,\"\")","v":""},{"$f":"IF(データセット1!C671<>\"\",データセット1!D671-カテゴリースコア!$E$11,\"\")","v":""},{"$f":"IF(C$1<>\"\",IF($A671<>\"\",COUNT(カテゴリースコア!M673),\"\"),\"\")","v":""},{"$f":"IF(D$1<>\"\",IF($A671<>\"\",COUNT(カテゴリースコア!N673),\"\"),\"\")","v":""},{"$f":"IF(E$1<>\"\",IF($A671<>\"\",COUNT(カテゴリースコア!O673),\"\"),\"\")","v":""},{"$f":"IF(F$1<>\"\",IF($A671<>\"\",COUNT(カテゴリースコア!P673),\"\"),\"\")","v":""},{"$f":"IF(G$1<>\"\",IF($A671<>\"\",COUNT(カテゴリースコア!Q673),\"\"),\"\")","v":""},{"$f":"IF(H$1<>\"\",IF($A671<>\"\",COUNT(カテゴリースコア!R673),\"\"),\"\")","v":""},{"$f":"IF(I$1<>\"\",IF($A671<>\"\",COUNT(カテゴリースコア!S673),\"\"),\"\")","v":""},{"$f":"IF(J$1<>\"\",IF($A671<>\"\",COUNT(カテゴリースコア!T673),\"\"),\"\")","v":""},{"$f":"IF(K$1<>\"\",IF($A671<>\"\",COUNT(カテゴリースコア!U673),\"\"),\"\")","v":""}]
[{"$f":"IF(データセット1!C672<>\"\",データセット1!C672,\"\")","v":""},{"$f":"IF(データセット1!C672<>\"\",データセット1!D672-カテゴリースコア!$E$11,\"\")","v":""},{"$f":"IF(C$1<>\"\",IF($A672<>\"\",COUNT(カテゴリースコア!M674),\"\"),\"\")","v":""},{"$f":"IF(D$1<>\"\",IF($A672<>\"\",COUNT(カテゴリースコア!N674),\"\"),\"\")","v":""},{"$f":"IF(E$1<>\"\",IF($A672<>\"\",COUNT(カテゴリースコア!O674),\"\"),\"\")","v":""},{"$f":"IF(F$1<>\"\",IF($A672<>\"\",COUNT(カテゴリースコア!P674),\"\"),\"\")","v":""},{"$f":"IF(G$1<>\"\",IF($A672<>\"\",COUNT(カテゴリースコア!Q674),\"\"),\"\")","v":""},{"$f":"IF(H$1<>\"\",IF($A672<>\"\",COUNT(カテゴリースコア!R674),\"\"),\"\")","v":""},{"$f":"IF(I$1<>\"\",IF($A672<>\"\",COUNT(カテゴリースコア!S674),\"\"),\"\")","v":""},{"$f":"IF(J$1<>\"\",IF($A672<>\"\",COUNT(カテゴリースコア!T674),\"\"),\"\")","v":""},{"$f":"IF(K$1<>\"\",IF($A672<>\"\",COUNT(カテゴリースコア!U674),\"\"),\"\")","v":""}]
[{"$f":"IF(データセット1!C673<>\"\",データセット1!C673,\"\")","v":""},{"$f":"IF(データセット1!C673<>\"\",データセット1!D673-カテゴリースコア!$E$11,\"\")","v":""},{"$f":"IF(C$1<>\"\",IF($A673<>\"\",COUNT(カテゴリースコア!M675),\"\"),\"\")","v":""},{"$f":"IF(D$1<>\"\",IF($A673<>\"\",COUNT(カテゴリースコア!N675),\"\"),\"\")","v":""},{"$f":"IF(E$1<>\"\",IF($A673<>\"\",COUNT(カテゴリースコア!O675),\"\"),\"\")","v":""},{"$f":"IF(F$1<>\"\",IF($A673<>\"\",COUNT(カテゴリースコア!P675),\"\"),\"\")","v":""},{"$f":"IF(G$1<>\"\",IF($A673<>\"\",COUNT(カテゴリースコア!Q675),\"\"),\"\")","v":""},{"$f":"IF(H$1<>\"\",IF($A673<>\"\",COUNT(カテゴリースコア!R675),\"\"),\"\")","v":""},{"$f":"IF(I$1<>\"\",IF($A673<>\"\",COUNT(カテゴリースコア!S675),\"\"),\"\")","v":""},{"$f":"IF(J$1<>\"\",IF($A673<>\"\",COUNT(カテゴリースコア!T675),\"\"),\"\")","v":""},{"$f":"IF(K$1<>\"\",IF($A673<>\"\",COUNT(カテゴリースコア!U675),\"\"),\"\")","v":""}]
[{"$f":"IF(データセット1!C674<>\"\",データセット1!C674,\"\")","v":""},{"$f":"IF(データセット1!C674<>\"\",データセット1!D674-カテゴリースコア!$E$11,\"\")","v":""},{"$f":"IF(C$1<>\"\",IF($A674<>\"\",COUNT(カテゴリースコア!M676),\"\"),\"\")","v":""},{"$f":"IF(D$1<>\"\",IF($A674<>\"\",COUNT(カテゴリースコア!N676),\"\"),\"\")","v":""},{"$f":"IF(E$1<>\"\",IF($A674<>\"\",COUNT(カテゴリースコア!O676),\"\"),\"\")","v":""},{"$f":"IF(F$1<>\"\",IF($A674<>\"\",COUNT(カテゴリースコア!P676),\"\"),\"\")","v":""},{"$f":"IF(G$1<>\"\",IF($A674<>\"\",COUNT(カテゴリースコア!Q676),\"\"),\"\")","v":""},{"$f":"IF(H$1<>\"\",IF($A674<>\"\",COUNT(カテゴリースコア!R676),\"\"),\"\")","v":""},{"$f":"IF(I$1<>\"\",IF($A674<>\"\",COUNT(カテゴリースコア!S676),\"\"),\"\")","v":""},{"$f":"IF(J$1<>\"\",IF($A674<>\"\",COUNT(カテゴリースコア!T676),\"\"),\"\")","v":""},{"$f":"IF(K$1<>\"\",IF($A674<>\"\",COUNT(カテゴリースコア!U676),\"\"),\"\")","v":""}]
[{"$f":"IF(データセット1!C675<>\"\",データセット1!C675,\"\")","v":""},{"$f":"IF(データセット1!C675<>\"\",データセット1!D675-カテゴリースコア!$E$11,\"\")","v":""},{"$f":"IF(C$1<>\"\",IF($A675<>\"\",COUNT(カテゴリースコア!M677),\"\"),\"\")","v":""},{"$f":"IF(D$1<>\"\",IF($A675<>\"\",COUNT(カテゴリースコア!N677),\"\"),\"\")","v":""},{"$f":"IF(E$1<>\"\",IF($A675<>\"\",COUNT(カテゴリースコア!O677),\"\"),\"\")","v":""},{"$f":"IF(F$1<>\"\",IF($A675<>\"\",COUNT(カテゴリースコア!P677),\"\"),\"\")","v":""},{"$f":"IF(G$1<>\"\",IF($A675<>\"\",COUNT(カテゴリースコア!Q677),\"\"),\"\")","v":""},{"$f":"IF(H$1<>\"\",IF($A675<>\"\",COUNT(カテゴリースコア!R677),\"\"),\"\")","v":""},{"$f":"IF(I$1<>\"\",IF($A675<>\"\",COUNT(カテゴリースコア!S677),\"\"),\"\")","v":""},{"$f":"IF(J$1<>\"\",IF($A675<>\"\",COUNT(カテゴリースコア!T677),\"\"),\"\")","v":""},{"$f":"IF(K$1<>\"\",IF($A675<>\"\",COUNT(カテゴリースコア!U677),\"\"),\"\")","v":""}]
[{"$f":"IF(データセット1!C676<>\"\",データセット1!C676,\"\")","v":""},{"$f":"IF(データセット1!C676<>\"\",データセット1!D676-カテゴリースコア!$E$11,\"\")","v":""},{"$f":"IF(C$1<>\"\",IF($A676<>\"\",COUNT(カテゴリースコア!M678),\"\"),\"\")","v":""},{"$f":"IF(D$1<>\"\",IF($A676<>\"\",COUNT(カテゴリースコア!N678),\"\"),\"\")","v":""},{"$f":"IF(E$1<>\"\",IF($A676<>\"\",COUNT(カテゴリースコア!O678),\"\"),\"\")","v":""},{"$f":"IF(F$1<>\"\",IF($A676<>\"\",COUNT(カテゴリースコア!P678),\"\"),\"\")","v":""},{"$f":"IF(G$1<>\"\",IF($A676<>\"\",COUNT(カテゴリースコア!Q678),\"\"),\"\")","v":""},{"$f":"IF(H$1<>\"\",IF($A676<>\"\",COUNT(カテゴリースコア!R678),\"\"),\"\")","v":""},{"$f":"IF(I$1<>\"\",IF($A676<>\"\",COUNT(カテゴリースコア!S678),\"\"),\"\")","v":""},{"$f":"IF(J$1<>\"\",IF($A676<>\"\",COUNT(カテゴリースコア!T678),\"\"),\"\")","v":""},{"$f":"IF(K$1<>\"\",IF($A676<>\"\",COUNT(カテゴリースコア!U678),\"\"),\"\")","v":""}]
[{"$f":"IF(データセット1!C677<>\"\",データセット1!C677,\"\")","v":""},{"$f":"IF(データセット1!C677<>\"\",データセット1!D677-カテゴリースコア!$E$11,\"\")","v":""},{"$f":"IF(C$1<>\"\",IF($A677<>\"\",COUNT(カテゴリースコア!M679),\"\"),\"\")","v":""},{"$f":"IF(D$1<>\"\",IF($A677<>\"\",COUNT(カテゴリースコア!N679),\"\"),\"\")","v":""},{"$f":"IF(E$1<>\"\",IF($A677<>\"\",COUNT(カテゴリースコア!O679),\"\"),\"\")","v":""},{"$f":"IF(F$1<>\"\",IF($A677<>\"\",COUNT(カテゴリースコア!P679),\"\"),\"\")","v":""},{"$f":"IF(G$1<>\"\",IF($A677<>\"\",COUNT(カテゴリースコア!Q679),\"\"),\"\")","v":""},{"$f":"IF(H$1<>\"\",IF($A677<>\"\",COUNT(カテゴリースコア!R679),\"\"),\"\")","v":""},{"$f":"IF(I$1<>\"\",IF($A677<>\"\",COUNT(カテゴリースコア!S679),\"\"),\"\")","v":""},{"$f":"IF(J$1<>\"\",IF($A677<>\"\",COUNT(カテゴリースコア!T679),\"\"),\"\")","v":""},{"$f":"IF(K$1<>\"\",IF($A677<>\"\",COUNT(カテゴリースコア!U679),\"\"),\"\")","v":""}]
[{"$f":"IF(データセット1!C678<>\"\",データセット1!C678,\"\")","v":""},{"$f":"IF(データセット1!C678<>\"\",データセット1!D678-カテゴリースコア!$E$11,\"\")","v":""},{"$f":"IF(C$1<>\"\",IF($A678<>\"\",COUNT(カテゴリースコア!M680),\"\"),\"\")","v":""},{"$f":"IF(D$1<>\"\",IF($A678<>\"\",COUNT(カテゴリースコア!N680),\"\"),\"\")","v":""},{"$f":"IF(E$1<>\"\",IF($A678<>\"\",COUNT(カテゴリースコア!O680),\"\"),\"\")","v":""},{"$f":"IF(F$1<>\"\",IF($A678<>\"\",COUNT(カテゴリースコア!P680),\"\"),\"\")","v":""},{"$f":"IF(G$1<>\"\",IF($A678<>\"\",COUNT(カテゴリースコア!Q680),\"\"),\"\")","v":""},{"$f":"IF(H$1<>\"\",IF($A678<>\"\",COUNT(カテゴリースコア!R680),\"\"),\"\")","v":""},{"$f":"IF(I$1<>\"\",IF($A678<>\"\",COUNT(カテゴリースコア!S680),\"\"),\"\")","v":""},{"$f":"IF(J$1<>\"\",IF($A678<>\"\",COUNT(カテゴリースコア!T680),\"\"),\"\")","v":""},{"$f":"IF(K$1<>\"\",IF($A678<>\"\",COUNT(カテゴリースコア!U680),\"\"),\"\")","v":""}]
[{"$f":"IF(データセット1!C679<>\"\",データセット1!C679,\"\")","v":""},{"$f":"IF(データセット1!C679<>\"\",データセット1!D679-カテゴリースコア!$E$11,\"\")","v":""},{"$f":"IF(C$1<>\"\",IF($A679<>\"\",COUNT(カテゴリースコア!M681),\"\"),\"\")","v":""},{"$f":"IF(D$1<>\"\",IF($A679<>\"\",COUNT(カテゴリースコア!N681),\"\"),\"\")","v":""},{"$f":"IF(E$1<>\"\",IF($A679<>\"\",COUNT(カテゴリースコア!O681),\"\"),\"\")","v":""},{"$f":"IF(F$1<>\"\",IF($A679<>\"\",COUNT(カテゴリースコア!P681),\"\"),\"\")","v":""},{"$f":"IF(G$1<>\"\",IF($A679<>\"\",COUNT(カテゴリースコア!Q681),\"\"),\"\")","v":""},{"$f":"IF(H$1<>\"\",IF($A679<>\"\",COUNT(カテゴリースコア!R681),\"\"),\"\")","v":""},{"$f":"IF(I$1<>\"\",IF($A679<>\"\",COUNT(カテゴリースコア!S681),\"\"),\"\")","v":""},{"$f":"IF(J$1<>\"\",IF($A679<>\"\",COUNT(カテゴリースコア!T681),\"\"),\"\")","v":""},{"$f":"IF(K$1<>\"\",IF($A679<>\"\",COUNT(カテゴリースコア!U681),\"\"),\"\")","v":""}]
[{"$f":"IF(データセット1!C680<>\"\",データセット1!C680,\"\")","v":""},{"$f":"IF(データセット1!C680<>\"\",データセット1!D680-カテゴリースコア!$E$11,\"\")","v":""},{"$f":"IF(C$1<>\"\",IF($A680<>\"\",COUNT(カテゴリースコア!M682),\"\"),\"\")","v":""},{"$f":"IF(D$1<>\"\",IF($A680<>\"\",COUNT(カテゴリースコア!N682),\"\"),\"\")","v":""},{"$f":"IF(E$1<>\"\",IF($A680<>\"\",COUNT(カテゴリースコア!O682),\"\"),\"\")","v":""},{"$f":"IF(F$1<>\"\",IF($A680<>\"\",COUNT(カテゴリースコア!P682),\"\"),\"\")","v":""},{"$f":"IF(G$1<>\"\",IF($A680<>\"\",COUNT(カテゴリースコア!Q682),\"\"),\"\")","v":""},{"$f":"IF(H$1<>\"\",IF($A680<>\"\",COUNT(カテゴリースコア!R682),\"\"),\"\")","v":""},{"$f":"IF(I$1<>\"\",IF($A680<>\"\",COUNT(カテゴリースコア!S682),\"\"),\"\")","v":""},{"$f":"IF(J$1<>\"\",IF($A680<>\"\",COUNT(カテゴリースコア!T682),\"\"),\"\")","v":""},{"$f":"IF(K$1<>\"\",IF($A680<>\"\",COUNT(カテゴリースコア!U682),\"\"),\"\")","v":""}]
[{"$f":"IF(データセット1!C681<>\"\",データセット1!C681,\"\")","v":""},{"$f":"IF(データセット1!C681<>\"\",データセット1!D681-カテゴリースコア!$E$11,\"\")","v":""},{"$f":"IF(C$1<>\"\",IF($A681<>\"\",COUNT(カテゴリースコア!M683),\"\"),\"\")","v":""},{"$f":"IF(D$1<>\"\",IF($A681<>\"\",COUNT(カテゴリースコア!N683),\"\"),\"\")","v":""},{"$f":"IF(E$1<>\"\",IF($A681<>\"\",COUNT(カテゴリースコア!O683),\"\"),\"\")","v":""},{"$f":"IF(F$1<>\"\",IF($A681<>\"\",COUNT(カテゴリースコア!P683),\"\"),\"\")","v":""},{"$f":"IF(G$1<>\"\",IF($A681<>\"\",COUNT(カテゴリースコア!Q683),\"\"),\"\")","v":""},{"$f":"IF(H$1<>\"\",IF($A681<>\"\",COUNT(カテゴリースコア!R683),\"\"),\"\")","v":""},{"$f":"IF(I$1<>\"\",IF($A681<>\"\",COUNT(カテゴリースコア!S683),\"\"),\"\")","v":""},{"$f":"IF(J$1<>\"\",IF($A681<>\"\",COUNT(カテゴリースコア!T683),\"\"),\"\")","v":""},{"$f":"IF(K$1<>\"\",IF($A681<>\"\",COUNT(カテゴリースコア!U683),\"\"),\"\")","v":""}]
[{"$f":"IF(データセット1!C682<>\"\",データセット1!C682,\"\")","v":""},{"$f":"IF(データセット1!C682<>\"\",データセット1!D682-カテゴリースコア!$E$11,\"\")","v":""},{"$f":"IF(C$1<>\"\",IF($A682<>\"\",COUNT(カテゴリースコア!M684),\"\"),\"\")","v":""},{"$f":"IF(D$1<>\"\",IF($A682<>\"\",COUNT(カテゴリースコア!N684),\"\"),\"\")","v":""},{"$f":"IF(E$1<>\"\",IF($A682<>\"\",COUNT(カテゴリースコア!O684),\"\"),\"\")","v":""},{"$f":"IF(F$1<>\"\",IF($A682<>\"\",COUNT(カテゴリースコア!P684),\"\"),\"\")","v":""},{"$f":"IF(G$1<>\"\",IF($A682<>\"\",COUNT(カテゴリースコア!Q684),\"\"),\"\")","v":""},{"$f":"IF(H$1<>\"\",IF($A682<>\"\",COUNT(カテゴリースコア!R684),\"\"),\"\")","v":""},{"$f":"IF(I$1<>\"\",IF($A682<>\"\",COUNT(カテゴリースコア!S684),\"\"),\"\")","v":""},{"$f":"IF(J$1<>\"\",IF($A682<>\"\",COUNT(カテゴリースコア!T684),\"\"),\"\")","v":""},{"$f":"IF(K$1<>\"\",IF($A682<>\"\",COUNT(カテゴリースコア!U684),\"\"),\"\")","v":""}]
[{"$f":"IF(データセット1!C683<>\"\",データセット1!C683,\"\")","v":""},{"$f":"IF(データセット1!C683<>\"\",データセット1!D683-カテゴリースコア!$E$11,\"\")","v":""},{"$f":"IF(C$1<>\"\",IF($A683<>\"\",COUNT(カテゴリースコア!M685),\"\"),\"\")","v":""},{"$f":"IF(D$1<>\"\",IF($A683<>\"\",COUNT(カテゴリースコア!N685),\"\"),\"\")","v":""},{"$f":"IF(E$1<>\"\",IF($A683<>\"\",COUNT(カテゴリースコア!O685),\"\"),\"\")","v":""},{"$f":"IF(F$1<>\"\",IF($A683<>\"\",COUNT(カテゴリースコア!P685),\"\"),\"\")","v":""},{"$f":"IF(G$1<>\"\",IF($A683<>\"\",COUNT(カテゴリースコア!Q685),\"\"),\"\")","v":""},{"$f":"IF(H$1<>\"\",IF($A683<>\"\",COUNT(カテゴリースコア!R685),\"\"),\"\")","v":""},{"$f":"IF(I$1<>\"\",IF($A683<>\"\",COUNT(カテゴリースコア!S685),\"\"),\"\")","v":""},{"$f":"IF(J$1<>\"\",IF($A683<>\"\",COUNT(カテゴリースコア!T685),\"\"),\"\")","v":""},{"$f":"IF(K$1<>\"\",IF($A683<>\"\",COUNT(カテゴリースコア!U685),\"\"),\"\")","v":""}]
[{"$f":"IF(データセット1!C684<>\"\",データセット1!C684,\"\")","v":""},{"$f":"IF(データセット1!C684<>\"\",データセット1!D684-カテゴリースコア!$E$11,\"\")","v":""},{"$f":"IF(C$1<>\"\",IF($A684<>\"\",COUNT(カテゴリースコア!M686),\"\"),\"\")","v":""},{"$f":"IF(D$1<>\"\",IF($A684<>\"\",COUNT(カテゴリースコア!N686),\"\"),\"\")","v":""},{"$f":"IF(E$1<>\"\",IF($A684<>\"\",COUNT(カテゴリースコア!O686),\"\"),\"\")","v":""},{"$f":"IF(F$1<>\"\",IF($A684<>\"\",COUNT(カテゴリースコア!P686),\"\"),\"\")","v":""},{"$f":"IF(G$1<>\"\",IF($A684<>\"\",COUNT(カテゴリースコア!Q686),\"\"),\"\")","v":""},{"$f":"IF(H$1<>\"\",IF($A684<>\"\",COUNT(カテゴリースコア!R686),\"\"),\"\")","v":""},{"$f":"IF(I$1<>\"\",IF($A684<>\"\",COUNT(カテゴリースコア!S686),\"\"),\"\")","v":""},{"$f":"IF(J$1<>\"\",IF($A684<>\"\",COUNT(カテゴリースコア!T686),\"\"),\"\")","v":""},{"$f":"IF(K$1<>\"\",IF($A684<>\"\",COUNT(カテゴリースコア!U686),\"\"),\"\")","v":""}]
[{"$f":"IF(データセット1!C685<>\"\",データセット1!C685,\"\")","v":""},{"$f":"IF(データセット1!C685<>\"\",データセット1!D685-カテゴリースコア!$E$11,\"\")","v":""},{"$f":"IF(C$1<>\"\",IF($A685<>\"\",COUNT(カテゴリースコア!M687),\"\"),\"\")","v":""},{"$f":"IF(D$1<>\"\",IF($A685<>\"\",COUNT(カテゴリースコア!N687),\"\"),\"\")","v":""},{"$f":"IF(E$1<>\"\",IF($A685<>\"\",COUNT(カテゴリースコア!O687),\"\"),\"\")","v":""},{"$f":"IF(F$1<>\"\",IF($A685<>\"\",COUNT(カテゴリースコア!P687),\"\"),\"\")","v":""},{"$f":"IF(G$1<>\"\",IF($A685<>\"\",COUNT(カテゴリースコア!Q687),\"\"),\"\")","v":""},{"$f":"IF(H$1<>\"\",IF($A685<>\"\",COUNT(カテゴリースコア!R687),\"\"),\"\")","v":""},{"$f":"IF(I$1<>\"\",IF($A685<>\"\",COUNT(カテゴリースコア!S687),\"\"),\"\")","v":""},{"$f":"IF(J$1<>\"\",IF($A685<>\"\",COUNT(カテゴリースコア!T687),\"\"),\"\")","v":""},{"$f":"IF(K$1<>\"\",IF($A685<>\"\",COUNT(カテゴリースコア!U687),\"\"),\"\")","v":""}]
[{"$f":"IF(データセット1!C686<>\"\",データセット1!C686,\"\")","v":""},{"$f":"IF(データセット1!C686<>\"\",データセット1!D686-カテゴリースコア!$E$11,\"\")","v":""},{"$f":"IF(C$1<>\"\",IF($A686<>\"\",COUNT(カテゴリースコア!M688),\"\"),\"\")","v":""},{"$f":"IF(D$1<>\"\",IF($A686<>\"\",COUNT(カテゴリースコア!N688),\"\"),\"\")","v":""},{"$f":"IF(E$1<>\"\",IF($A686<>\"\",COUNT(カテゴリースコア!O688),\"\"),\"\")","v":""},{"$f":"IF(F$1<>\"\",IF($A686<>\"\",COUNT(カテゴリースコア!P688),\"\"),\"\")","v":""},{"$f":"IF(G$1<>\"\",IF($A686<>\"\",COUNT(カテゴリースコア!Q688),\"\"),\"\")","v":""},{"$f":"IF(H$1<>\"\",IF($A686<>\"\",COUNT(カテゴリースコア!R688),\"\"),\"\")","v":""},{"$f":"IF(I$1<>\"\",IF($A686<>\"\",COUNT(カテゴリースコア!S688),\"\"),\"\")","v":""},{"$f":"IF(J$1<>\"\",IF($A686<>\"\",COUNT(カテゴリースコア!T688),\"\"),\"\")","v":""},{"$f":"IF(K$1<>\"\",IF($A686<>\"\",COUNT(カテゴリースコア!U688),\"\"),\"\")","v":""}]
[{"$f":"IF(データセット1!C687<>\"\",データセット1!C687,\"\")","v":""},{"$f":"IF(データセット1!C687<>\"\",データセット1!D687-カテゴリースコア!$E$11,\"\")","v":""},{"$f":"IF(C$1<>\"\",IF($A687<>\"\",COUNT(カテゴリースコア!M689),\"\"),\"\")","v":""},{"$f":"IF(D$1<>\"\",IF($A687<>\"\",COUNT(カテゴリースコア!N689),\"\"),\"\")","v":""},{"$f":"IF(E$1<>\"\",IF($A687<>\"\",COUNT(カテゴリースコア!O689),\"\"),\"\")","v":""},{"$f":"IF(F$1<>\"\",IF($A687<>\"\",COUNT(カテゴリースコア!P689),\"\"),\"\")","v":""},{"$f":"IF(G$1<>\"\",IF($A687<>\"\",COUNT(カテゴリースコア!Q689),\"\"),\"\")","v":""},{"$f":"IF(H$1<>\"\",IF($A687<>\"\",COUNT(カテゴリースコア!R689),\"\"),\"\")","v":""},{"$f":"IF(I$1<>\"\",IF($A687<>\"\",COUNT(カテゴリースコア!S689),\"\"),\"\")","v":""},{"$f":"IF(J$1<>\"\",IF($A687<>\"\",COUNT(カテゴリースコア!T689),\"\"),\"\")","v":""},{"$f":"IF(K$1<>\"\",IF($A687<>\"\",COUNT(カテゴリースコア!U689),\"\"),\"\")","v":""}]
[{"$f":"IF(データセット1!C688<>\"\",データセット1!C688,\"\")","v":""},{"$f":"IF(データセット1!C688<>\"\",データセット1!D688-カテゴリースコア!$E$11,\"\")","v":""},{"$f":"IF(C$1<>\"\",IF($A688<>\"\",COUNT(カテゴリースコア!M690),\"\"),\"\")","v":""},{"$f":"IF(D$1<>\"\",IF($A688<>\"\",COUNT(カテゴリースコア!N690),\"\"),\"\")","v":""},{"$f":"IF(E$1<>\"\",IF($A688<>\"\",COUNT(カテゴリースコア!O690),\"\"),\"\")","v":""},{"$f":"IF(F$1<>\"\",IF($A688<>\"\",COUNT(カテゴリースコア!P690),\"\"),\"\")","v":""},{"$f":"IF(G$1<>\"\",IF($A688<>\"\",COUNT(カテゴリースコア!Q690),\"\"),\"\")","v":""},{"$f":"IF(H$1<>\"\",IF($A688<>\"\",COUNT(カテゴリースコア!R690),\"\"),\"\")","v":""},{"$f":"IF(I$1<>\"\",IF($A688<>\"\",COUNT(カテゴリースコア!S690),\"\"),\"\")","v":""},{"$f":"IF(J$1<>\"\",IF($A688<>\"\",COUNT(カテゴリースコア!T690),\"\"),\"\")","v":""},{"$f":"IF(K$1<>\"\",IF($A688<>\"\",COUNT(カテゴリースコア!U690),\"\"),\"\")","v":""}]
[{"$f":"IF(データセット1!C689<>\"\",データセット1!C689,\"\")","v":""},{"$f":"IF(データセット1!C689<>\"\",データセット1!D689-カテゴリースコア!$E$11,\"\")","v":""},{"$f":"IF(C$1<>\"\",IF($A689<>\"\",COUNT(カテゴリースコア!M691),\"\"),\"\")","v":""},{"$f":"IF(D$1<>\"\",IF($A689<>\"\",COUNT(カテゴリースコア!N691),\"\"),\"\")","v":""},{"$f":"IF(E$1<>\"\",IF($A689<>\"\",COUNT(カテゴリースコア!O691),\"\"),\"\")","v":""},{"$f":"IF(F$1<>\"\",IF($A689<>\"\",COUNT(カテゴリースコア!P691),\"\"),\"\")","v":""},{"$f":"IF(G$1<>\"\",IF($A689<>\"\",COUNT(カテゴリースコア!Q691),\"\"),\"\")","v":""},{"$f":"IF(H$1<>\"\",IF($A689<>\"\",COUNT(カテゴリースコア!R691),\"\"),\"\")","v":""},{"$f":"IF(I$1<>\"\",IF($A689<>\"\",COUNT(カテゴリースコア!S691),\"\"),\"\")","v":""},{"$f":"IF(J$1<>\"\",IF($A689<>\"\",COUNT(カテゴリースコア!T691),\"\"),\"\")","v":""},{"$f":"IF(K$1<>\"\",IF($A689<>\"\",COUNT(カテゴリースコア!U691),\"\"),\"\")","v":""}]
[{"$f":"IF(データセット1!C690<>\"\",データセット1!C690,\"\")","v":""},{"$f":"IF(データセット1!C690<>\"\",データセット1!D690-カテゴリースコア!$E$11,\"\")","v":""},{"$f":"IF(C$1<>\"\",IF($A690<>\"\",COUNT(カテゴリースコア!M692),\"\"),\"\")","v":""},{"$f":"IF(D$1<>\"\",IF($A690<>\"\",COUNT(カテゴリースコア!N692),\"\"),\"\")","v":""},{"$f":"IF(E$1<>\"\",IF($A690<>\"\",COUNT(カテゴリースコア!O692),\"\"),\"\")","v":""},{"$f":"IF(F$1<>\"\",IF($A690<>\"\",COUNT(カテゴリースコア!P692),\"\"),\"\")","v":""},{"$f":"IF(G$1<>\"\",IF($A690<>\"\",COUNT(カテゴリースコア!Q692),\"\"),\"\")","v":""},{"$f":"IF(H$1<>\"\",IF($A690<>\"\",COUNT(カテゴリースコア!R692),\"\"),\"\")","v":""},{"$f":"IF(I$1<>\"\",IF($A690<>\"\",COUNT(カテゴリースコア!S692),\"\"),\"\")","v":""},{"$f":"IF(J$1<>\"\",IF($A690<>\"\",COUNT(カテゴリースコア!T692),\"\"),\"\")","v":""},{"$f":"IF(K$1<>\"\",IF($A690<>\"\",COUNT(カテゴリースコア!U692),\"\"),\"\")","v":""}]
[{"$f":"IF(データセット1!C691<>\"\",データセット1!C691,\"\")","v":""},{"$f":"IF(データセット1!C691<>\"\",データセット1!D691-カテゴリースコア!$E$11,\"\")","v":""},{"$f":"IF(C$1<>\"\",IF($A691<>\"\",COUNT(カテゴリースコア!M693),\"\"),\"\")","v":""},{"$f":"IF(D$1<>\"\",IF($A691<>\"\",COUNT(カテゴリースコア!N693),\"\"),\"\")","v":""},{"$f":"IF(E$1<>\"\",IF($A691<>\"\",COUNT(カテゴリースコア!O693),\"\"),\"\")","v":""},{"$f":"IF(F$1<>\"\",IF($A691<>\"\",COUNT(カテゴリースコア!P693),\"\"),\"\")","v":""},{"$f":"IF(G$1<>\"\",IF($A691<>\"\",COUNT(カテゴリースコア!Q693),\"\"),\"\")","v":""},{"$f":"IF(H$1<>\"\",IF($A691<>\"\",COUNT(カテゴリースコア!R693),\"\"),\"\")","v":""},{"$f":"IF(I$1<>\"\",IF($A691<>\"\",COUNT(カテゴリースコア!S693),\"\"),\"\")","v":""},{"$f":"IF(J$1<>\"\",IF($A691<>\"\",COUNT(カテゴリースコア!T693),\"\"),\"\")","v":""},{"$f":"IF(K$1<>\"\",IF($A691<>\"\",COUNT(カテゴリースコア!U693),\"\"),\"\")","v":""}]
[{"$f":"IF(データセット1!C692<>\"\",データセット1!C692,\"\")","v":""},{"$f":"IF(データセット1!C692<>\"\",データセット1!D692-カテゴリースコア!$E$11,\"\")","v":""},{"$f":"IF(C$1<>\"\",IF($A692<>\"\",COUNT(カテゴリースコア!M694),\"\"),\"\")","v":""},{"$f":"IF(D$1<>\"\",IF($A692<>\"\",COUNT(カテゴリースコア!N694),\"\"),\"\")","v":""},{"$f":"IF(E$1<>\"\",IF($A692<>\"\",COUNT(カテゴリースコア!O694),\"\"),\"\")","v":""},{"$f":"IF(F$1<>\"\",IF($A692<>\"\",COUNT(カテゴリースコア!P694),\"\"),\"\")","v":""},{"$f":"IF(G$1<>\"\",IF($A692<>\"\",COUNT(カテゴリースコア!Q694),\"\"),\"\")","v":""},{"$f":"IF(H$1<>\"\",IF($A692<>\"\",COUNT(カテゴリースコア!R694),\"\"),\"\")","v":""},{"$f":"IF(I$1<>\"\",IF($A692<>\"\",COUNT(カテゴリースコア!S694),\"\"),\"\")","v":""},{"$f":"IF(J$1<>\"\",IF($A692<>\"\",COUNT(カテゴリースコア!T694),\"\"),\"\")","v":""},{"$f":"IF(K$1<>\"\",IF($A692<>\"\",COUNT(カテゴリースコア!U694),\"\"),\"\")","v":""}]
[{"$f":"IF(データセット1!C693<>\"\",データセット1!C693,\"\")","v":""},{"$f":"IF(データセット1!C693<>\"\",データセット1!D693-カテゴリースコア!$E$11,\"\")","v":""},{"$f":"IF(C$1<>\"\",IF($A693<>\"\",COUNT(カテゴリースコア!M695),\"\"),\"\")","v":""},{"$f":"IF(D$1<>\"\",IF($A693<>\"\",COUNT(カテゴリースコア!N695),\"\"),\"\")","v":""},{"$f":"IF(E$1<>\"\",IF($A693<>\"\",COUNT(カテゴリースコア!O695),\"\"),\"\")","v":""},{"$f":"IF(F$1<>\"\",IF($A693<>\"\",COUNT(カテゴリースコア!P695),\"\"),\"\")","v":""},{"$f":"IF(G$1<>\"\",IF($A693<>\"\",COUNT(カテゴリースコア!Q695),\"\"),\"\")","v":""},{"$f":"IF(H$1<>\"\",IF($A693<>\"\",COUNT(カテゴリースコア!R695),\"\"),\"\")","v":""},{"$f":"IF(I$1<>\"\",IF($A693<>\"\",COUNT(カテゴリースコア!S695),\"\"),\"\")","v":""},{"$f":"IF(J$1<>\"\",IF($A693<>\"\",COUNT(カテゴリースコア!T695),\"\"),\"\")","v":""},{"$f":"IF(K$1<>\"\",IF($A693<>\"\",COUNT(カテゴリースコア!U695),\"\"),\"\")","v":""}]
[{"$f":"IF(データセット1!C694<>\"\",データセット1!C694,\"\")","v":""},{"$f":"IF(データセット1!C694<>\"\",データセット1!D694-カテゴリースコア!$E$11,\"\")","v":""},{"$f":"IF(C$1<>\"\",IF($A694<>\"\",COUNT(カテゴリースコア!M696),\"\"),\"\")","v":""},{"$f":"IF(D$1<>\"\",IF($A694<>\"\",COUNT(カテゴリースコア!N696),\"\"),\"\")","v":""},{"$f":"IF(E$1<>\"\",IF($A694<>\"\",COUNT(カテゴリースコア!O696),\"\"),\"\")","v":""},{"$f":"IF(F$1<>\"\",IF($A694<>\"\",COUNT(カテゴリースコア!P696),\"\"),\"\")","v":""},{"$f":"IF(G$1<>\"\",IF($A694<>\"\",COUNT(カテゴリースコア!Q696),\"\"),\"\")","v":""},{"$f":"IF(H$1<>\"\",IF($A694<>\"\",COUNT(カテゴリースコア!R696),\"\"),\"\")","v":""},{"$f":"IF(I$1<>\"\",IF($A694<>\"\",COUNT(カテゴリースコア!S696),\"\"),\"\")","v":""},{"$f":"IF(J$1<>\"\",IF($A694<>\"\",COUNT(カテゴリースコア!T696),\"\"),\"\")","v":""},{"$f":"IF(K$1<>\"\",IF($A694<>\"\",COUNT(カテゴリースコア!U696),\"\"),\"\")","v":""}]
[{"$f":"IF(データセット1!C695<>\"\",データセット1!C695,\"\")","v":""},{"$f":"IF(データセット1!C695<>\"\",データセット1!D695-カテゴリースコア!$E$11,\"\")","v":""},{"$f":"IF(C$1<>\"\",IF($A695<>\"\",COUNT(カテゴリースコア!M697),\"\"),\"\")","v":""},{"$f":"IF(D$1<>\"\",IF($A695<>\"\",COUNT(カテゴリースコア!N697),\"\"),\"\")","v":""},{"$f":"IF(E$1<>\"\",IF($A695<>\"\",COUNT(カテゴリースコア!O697),\"\"),\"\")","v":""},{"$f":"IF(F$1<>\"\",IF($A695<>\"\",COUNT(カテゴリースコア!P697),\"\"),\"\")","v":""},{"$f":"IF(G$1<>\"\",IF($A695<>\"\",COUNT(カテゴリースコア!Q697),\"\"),\"\")","v":""},{"$f":"IF(H$1<>\"\",IF($A695<>\"\",COUNT(カテゴリースコア!R697),\"\"),\"\")","v":""},{"$f":"IF(I$1<>\"\",IF($A695<>\"\",COUNT(カテゴリースコア!S697),\"\"),\"\")","v":""},{"$f":"IF(J$1<>\"\",IF($A695<>\"\",COUNT(カテゴリースコア!T697),\"\"),\"\")","v":""},{"$f":"IF(K$1<>\"\",IF($A695<>\"\",COUNT(カテゴリースコア!U697),\"\"),\"\")","v":""}]
[{"$f":"IF(データセット1!C696<>\"\",データセット1!C696,\"\")","v":""},{"$f":"IF(データセット1!C696<>\"\",データセット1!D696-カテゴリースコア!$E$11,\"\")","v":""},{"$f":"IF(C$1<>\"\",IF($A696<>\"\",COUNT(カテゴリースコア!M698),\"\"),\"\")","v":""},{"$f":"IF(D$1<>\"\",IF($A696<>\"\",COUNT(カテゴリースコア!N698),\"\"),\"\")","v":""},{"$f":"IF(E$1<>\"\",IF($A696<>\"\",COUNT(カテゴリースコア!O698),\"\"),\"\")","v":""},{"$f":"IF(F$1<>\"\",IF($A696<>\"\",COUNT(カテゴリースコア!P698),\"\"),\"\")","v":""},{"$f":"IF(G$1<>\"\",IF($A696<>\"\",COUNT(カテゴリースコア!Q698),\"\"),\"\")","v":""},{"$f":"IF(H$1<>\"\",IF($A696<>\"\",COUNT(カテゴリースコア!R698),\"\"),\"\")","v":""},{"$f":"IF(I$1<>\"\",IF($A696<>\"\",COUNT(カテゴリースコア!S698),\"\"),\"\")","v":""},{"$f":"IF(J$1<>\"\",IF($A696<>\"\",COUNT(カテゴリースコア!T698),\"\"),\"\")","v":""},{"$f":"IF(K$1<>\"\",IF($A696<>\"\",COUNT(カテゴリースコア!U698),\"\"),\"\")","v":""}]
[{"$f":"IF(データセット1!C697<>\"\",データセット1!C697,\"\")","v":""},{"$f":"IF(データセット1!C697<>\"\",データセット1!D697-カテゴリースコア!$E$11,\"\")","v":""},{"$f":"IF(C$1<>\"\",IF($A697<>\"\",COUNT(カテゴリースコア!M699),\"\"),\"\")","v":""},{"$f":"IF(D$1<>\"\",IF($A697<>\"\",COUNT(カテゴリースコア!N699),\"\"),\"\")","v":""},{"$f":"IF(E$1<>\"\",IF($A697<>\"\",COUNT(カテゴリースコア!O699),\"\"),\"\")","v":""},{"$f":"IF(F$1<>\"\",IF($A697<>\"\",COUNT(カテゴリースコア!P699),\"\"),\"\")","v":""},{"$f":"IF(G$1<>\"\",IF($A697<>\"\",COUNT(カテゴリースコア!Q699),\"\"),\"\")","v":""},{"$f":"IF(H$1<>\"\",IF($A697<>\"\",COUNT(カテゴリースコア!R699),\"\"),\"\")","v":""},{"$f":"IF(I$1<>\"\",IF($A697<>\"\",COUNT(カテゴリースコア!S699),\"\"),\"\")","v":""},{"$f":"IF(J$1<>\"\",IF($A697<>\"\",COUNT(カテゴリースコア!T699),\"\"),\"\")","v":""},{"$f":"IF(K$1<>\"\",IF($A697<>\"\",COUNT(カテゴリースコア!U699),\"\"),\"\")","v":""}]
[{"$f":"IF(データセット1!C698<>\"\",データセット1!C698,\"\")","v":""},{"$f":"IF(データセット1!C698<>\"\",データセット1!D698-カテゴリースコア!$E$11,\"\")","v":""},{"$f":"IF(C$1<>\"\",IF($A698<>\"\",COUNT(カテゴリースコア!M700),\"\"),\"\")","v":""},{"$f":"IF(D$1<>\"\",IF($A698<>\"\",COUNT(カテゴリースコア!N700),\"\"),\"\")","v":""},{"$f":"IF(E$1<>\"\",IF($A698<>\"\",COUNT(カテゴリースコア!O700),\"\"),\"\")","v":""},{"$f":"IF(F$1<>\"\",IF($A698<>\"\",COUNT(カテゴリースコア!P700),\"\"),\"\")","v":""},{"$f":"IF(G$1<>\"\",IF($A698<>\"\",COUNT(カテゴリースコア!Q700),\"\"),\"\")","v":""},{"$f":"IF(H$1<>\"\",IF($A698<>\"\",COUNT(カテゴリースコア!R700),\"\"),\"\")","v":""},{"$f":"IF(I$1<>\"\",IF($A698<>\"\",COUNT(カテゴリースコア!S700),\"\"),\"\")","v":""},{"$f":"IF(J$1<>\"\",IF($A698<>\"\",COUNT(カテゴリースコア!T700),\"\"),\"\")","v":""},{"$f":"IF(K$1<>\"\",IF($A698<>\"\",COUNT(カテゴリースコア!U700),\"\"),\"\")","v":""}]
[{"$f":"IF(データセット1!C699<>\"\",データセット1!C699,\"\")","v":""},{"$f":"IF(データセット1!C699<>\"\",データセット1!D699-カテゴリースコア!$E$11,\"\")","v":""},{"$f":"IF(C$1<>\"\",IF($A699<>\"\",COUNT(カテゴリースコア!M701),\"\"),\"\")","v":""},{"$f":"IF(D$1<>\"\",IF($A699<>\"\",COUNT(カテゴリースコア!N701),\"\"),\"\")","v":""},{"$f":"IF(E$1<>\"\",IF($A699<>\"\",COUNT(カテゴリースコア!O701),\"\"),\"\")","v":""},{"$f":"IF(F$1<>\"\",IF($A699<>\"\",COUNT(カテゴリースコア!P701),\"\"),\"\")","v":""},{"$f":"IF(G$1<>\"\",IF($A699<>\"\",COUNT(カテゴリースコア!Q701),\"\"),\"\")","v":""},{"$f":"IF(H$1<>\"\",IF($A699<>\"\",COUNT(カテゴリースコア!R701),\"\"),\"\")","v":""},{"$f":"IF(I$1<>\"\",IF($A699<>\"\",COUNT(カテゴリースコア!S701),\"\"),\"\")","v":""},{"$f":"IF(J$1<>\"\",IF($A699<>\"\",COUNT(カテゴリースコア!T701),\"\"),\"\")","v":""},{"$f":"IF(K$1<>\"\",IF($A699<>\"\",COUNT(カテゴリースコア!U701),\"\"),\"\")","v":""}]
[{"$f":"IF(データセット1!C700<>\"\",データセット1!C700,\"\")","v":""},{"$f":"IF(データセット1!C700<>\"\",データセット1!D700-カテゴリースコア!$E$11,\"\")","v":""},{"$f":"IF(C$1<>\"\",IF($A700<>\"\",COUNT(カテゴリースコア!M702),\"\"),\"\")","v":""},{"$f":"IF(D$1<>\"\",IF($A700<>\"\",COUNT(カテゴリースコア!N702),\"\"),\"\")","v":""},{"$f":"IF(E$1<>\"\",IF($A700<>\"\",COUNT(カテゴリースコア!O702),\"\"),\"\")","v":""},{"$f":"IF(F$1<>\"\",IF($A700<>\"\",COUNT(カテゴリースコア!P702),\"\"),\"\")","v":""},{"$f":"IF(G$1<>\"\",IF($A700<>\"\",COUNT(カテゴリースコア!Q702),\"\"),\"\")","v":""},{"$f":"IF(H$1<>\"\",IF($A700<>\"\",COUNT(カテゴリースコア!R702),\"\"),\"\")","v":""},{"$f":"IF(I$1<>\"\",IF($A700<>\"\",COUNT(カテゴリースコア!S702),\"\"),\"\")","v":""},{"$f":"IF(J$1<>\"\",IF($A700<>\"\",COUNT(カテゴリースコア!T702),\"\"),\"\")","v":""},{"$f":"IF(K$1<>\"\",IF($A700<>\"\",COUNT(カテゴリースコア!U702),\"\"),\"\")","v":""}]
[{"$f":"IF(データセット1!C701<>\"\",データセット1!C701,\"\")","v":""},{"$f":"IF(データセット1!C701<>\"\",データセット1!D701-カテゴリースコア!$E$11,\"\")","v":""},{"$f":"IF(C$1<>\"\",IF($A701<>\"\",COUNT(カテゴリースコア!M703),\"\"),\"\")","v":""},{"$f":"IF(D$1<>\"\",IF($A701<>\"\",COUNT(カテゴリースコア!N703),\"\"),\"\")","v":""},{"$f":"IF(E$1<>\"\",IF($A701<>\"\",COUNT(カテゴリースコア!O703),\"\"),\"\")","v":""},{"$f":"IF(F$1<>\"\",IF($A701<>\"\",COUNT(カテゴリースコア!P703),\"\"),\"\")","v":""},{"$f":"IF(G$1<>\"\",IF($A701<>\"\",COUNT(カテゴリースコア!Q703),\"\"),\"\")","v":""},{"$f":"IF(H$1<>\"\",IF($A701<>\"\",COUNT(カテゴリースコア!R703),\"\"),\"\")","v":""},{"$f":"IF(I$1<>\"\",IF($A701<>\"\",COUNT(カテゴリースコア!S703),\"\"),\"\")","v":""},{"$f":"IF(J$1<>\"\",IF($A701<>\"\",COUNT(カテゴリースコア!T703),\"\"),\"\")","v":""},{"$f":"IF(K$1<>\"\",IF($A701<>\"\",COUNT(カテゴリースコア!U703),\"\"),\"\")","v":""}]
[{"$f":"IF(データセット1!C702<>\"\",データセット1!C702,\"\")","v":""},{"$f":"IF(データセット1!C702<>\"\",データセット1!D702-カテゴリースコア!$E$11,\"\")","v":""},{"$f":"IF(C$1<>\"\",IF($A702<>\"\",COUNT(カテゴリースコア!M704),\"\"),\"\")","v":""},{"$f":"IF(D$1<>\"\",IF($A702<>\"\",COUNT(カテゴリースコア!N704),\"\"),\"\")","v":""},{"$f":"IF(E$1<>\"\",IF($A702<>\"\",COUNT(カテゴリースコア!O704),\"\"),\"\")","v":""},{"$f":"IF(F$1<>\"\",IF($A702<>\"\",COUNT(カテゴリースコア!P704),\"\"),\"\")","v":""},{"$f":"IF(G$1<>\"\",IF($A702<>\"\",COUNT(カテゴリースコア!Q704),\"\"),\"\")","v":""},{"$f":"IF(H$1<>\"\",IF($A702<>\"\",COUNT(カテゴリースコア!R704),\"\"),\"\")","v":""},{"$f":"IF(I$1<>\"\",IF($A702<>\"\",COUNT(カテゴリースコア!S704),\"\"),\"\")","v":""},{"$f":"IF(J$1<>\"\",IF($A702<>\"\",COUNT(カテゴリースコア!T704),\"\"),\"\")","v":""},{"$f":"IF(K$1<>\"\",IF($A702<>\"\",COUNT(カテゴリースコア!U704),\"\"),\"\")","v":""}]
[{"$f":"IF(データセット1!C703<>\"\",データセット1!C703,\"\")","v":""},{"$f":"IF(データセット1!C703<>\"\",データセット1!D703-カテゴリースコア!$E$11,\"\")","v":""},{"$f":"IF(C$1<>\"\",IF($A703<>\"\",COUNT(カテゴリースコア!M705),\"\"),\"\")","v":""},{"$f":"IF(D$1<>\"\",IF($A703<>\"\",COUNT(カテゴリースコア!N705),\"\"),\"\")","v":""},{"$f":"IF(E$1<>\"\",IF($A703<>\"\",COUNT(カテゴリースコア!O705),\"\"),\"\")","v":""},{"$f":"IF(F$1<>\"\",IF($A703<>\"\",COUNT(カテゴリースコア!P705),\"\"),\"\")","v":""},{"$f":"IF(G$1<>\"\",IF($A703<>\"\",COUNT(カテゴリースコア!Q705),\"\"),\"\")","v":""},{"$f":"IF(H$1<>\"\",IF($A703<>\"\",COUNT(カテゴリースコア!R705),\"\"),\"\")","v":""},{"$f":"IF(I$1<>\"\",IF($A703<>\"\",COUNT(カテゴリースコア!S705),\"\"),\"\")","v":""},{"$f":"IF(J$1<>\"\",IF($A703<>\"\",COUNT(カテゴリースコア!T705),\"\"),\"\")","v":""},{"$f":"IF(K$1<>\"\",IF($A703<>\"\",COUNT(カテゴリースコア!U705),\"\"),\"\")","v":""}]
[{"$f":"IF(データセット1!C704<>\"\",データセット1!C704,\"\")","v":""},{"$f":"IF(データセット1!C704<>\"\",データセット1!D704-カテゴリースコア!$E$11,\"\")","v":""},{"$f":"IF(C$1<>\"\",IF($A704<>\"\",COUNT(カテゴリースコア!M706),\"\"),\"\")","v":""},{"$f":"IF(D$1<>\"\",IF($A704<>\"\",COUNT(カテゴリースコア!N706),\"\"),\"\")","v":""},{"$f":"IF(E$1<>\"\",IF($A704<>\"\",COUNT(カテゴリースコア!O706),\"\"),\"\")","v":""},{"$f":"IF(F$1<>\"\",IF($A704<>\"\",COUNT(カテゴリースコア!P706),\"\"),\"\")","v":""},{"$f":"IF(G$1<>\"\",IF($A704<>\"\",COUNT(カテゴリースコア!Q706),\"\"),\"\")","v":""},{"$f":"IF(H$1<>\"\",IF($A704<>\"\",COUNT(カテゴリースコア!R706),\"\"),\"\")","v":""},{"$f":"IF(I$1<>\"\",IF($A704<>\"\",COUNT(カテゴリースコア!S706),\"\"),\"\")","v":""},{"$f":"IF(J$1<>\"\",IF($A704<>\"\",COUNT(カテゴリースコア!T706),\"\"),\"\")","v":""},{"$f":"IF(K$1<>\"\",IF($A704<>\"\",COUNT(カテゴリースコア!U706),\"\"),\"\")","v":""}]
[{"$f":"IF(データセット1!C705<>\"\",データセット1!C705,\"\")","v":""},{"$f":"IF(データセット1!C705<>\"\",データセット1!D705-カテゴリースコア!$E$11,\"\")","v":""},{"$f":"IF(C$1<>\"\",IF($A705<>\"\",COUNT(カテゴリースコア!M707),\"\"),\"\")","v":""},{"$f":"IF(D$1<>\"\",IF($A705<>\"\",COUNT(カテゴリースコア!N707),\"\"),\"\")","v":""},{"$f":"IF(E$1<>\"\",IF($A705<>\"\",COUNT(カテゴリースコア!O707),\"\"),\"\")","v":""},{"$f":"IF(F$1<>\"\",IF($A705<>\"\",COUNT(カテゴリースコア!P707),\"\"),\"\")","v":""},{"$f":"IF(G$1<>\"\",IF($A705<>\"\",COUNT(カテゴリースコア!Q707),\"\"),\"\")","v":""},{"$f":"IF(H$1<>\"\",IF($A705<>\"\",COUNT(カテゴリースコア!R707),\"\"),\"\")","v":""},{"$f":"IF(I$1<>\"\",IF($A705<>\"\",COUNT(カテゴリースコア!S707),\"\"),\"\")","v":""},{"$f":"IF(J$1<>\"\",IF($A705<>\"\",COUNT(カテゴリースコア!T707),\"\"),\"\")","v":""},{"$f":"IF(K$1<>\"\",IF($A705<>\"\",COUNT(カテゴリースコア!U707),\"\"),\"\")","v":""}]
[{"$f":"IF(データセット1!C706<>\"\",データセット1!C706,\"\")","v":""},{"$f":"IF(データセット1!C706<>\"\",データセット1!D706-カテゴリースコア!$E$11,\"\")","v":""},{"$f":"IF(C$1<>\"\",IF($A706<>\"\",COUNT(カテゴリースコア!M708),\"\"),\"\")","v":""},{"$f":"IF(D$1<>\"\",IF($A706<>\"\",COUNT(カテゴリースコア!N708),\"\"),\"\")","v":""},{"$f":"IF(E$1<>\"\",IF($A706<>\"\",COUNT(カテゴリースコア!O708),\"\"),\"\")","v":""},{"$f":"IF(F$1<>\"\",IF($A706<>\"\",COUNT(カテゴリースコア!P708),\"\"),\"\")","v":""},{"$f":"IF(G$1<>\"\",IF($A706<>\"\",COUNT(カテゴリースコア!Q708),\"\"),\"\")","v":""},{"$f":"IF(H$1<>\"\",IF($A706<>\"\",COUNT(カテゴリースコア!R708),\"\"),\"\")","v":""},{"$f":"IF(I$1<>\"\",IF($A706<>\"\",COUNT(カテゴリースコア!S708),\"\"),\"\")","v":""},{"$f":"IF(J$1<>\"\",IF($A706<>\"\",COUNT(カテゴリースコア!T708),\"\"),\"\")","v":""},{"$f":"IF(K$1<>\"\",IF($A706<>\"\",COUNT(カテゴリースコア!U708),\"\"),\"\")","v":""}]
[{"$f":"IF(データセット1!C707<>\"\",データセット1!C707,\"\")","v":""},{"$f":"IF(データセット1!C707<>\"\",データセット1!D707-カテゴリースコア!$E$11,\"\")","v":""},{"$f":"IF(C$1<>\"\",IF($A707<>\"\",COUNT(カテゴリースコア!M709),\"\"),\"\")","v":""},{"$f":"IF(D$1<>\"\",IF($A707<>\"\",COUNT(カテゴリースコア!N709),\"\"),\"\")","v":""},{"$f":"IF(E$1<>\"\",IF($A707<>\"\",COUNT(カテゴリースコア!O709),\"\"),\"\")","v":""},{"$f":"IF(F$1<>\"\",IF($A707<>\"\",COUNT(カテゴリースコア!P709),\"\"),\"\")","v":""},{"$f":"IF(G$1<>\"\",IF($A707<>\"\",COUNT(カテゴリースコア!Q709),\"\"),\"\")","v":""},{"$f":"IF(H$1<>\"\",IF($A707<>\"\",COUNT(カテゴリースコア!R709),\"\"),\"\")","v":""},{"$f":"IF(I$1<>\"\",IF($A707<>\"\",COUNT(カテゴリースコア!S709),\"\"),\"\")","v":""},{"$f":"IF(J$1<>\"\",IF($A707<>\"\",COUNT(カテゴリースコア!T709),\"\"),\"\")","v":""},{"$f":"IF(K$1<>\"\",IF($A707<>\"\",COUNT(カテゴリースコア!U709),\"\"),\"\")","v":""}]
[{"$f":"IF(データセット1!C708<>\"\",データセット1!C708,\"\")","v":""},{"$f":"IF(データセット1!C708<>\"\",データセット1!D708-カテゴリースコア!$E$11,\"\")","v":""},{"$f":"IF(C$1<>\"\",IF($A708<>\"\",COUNT(カテゴリースコア!M710),\"\"),\"\")","v":""},{"$f":"IF(D$1<>\"\",IF($A708<>\"\",COUNT(カテゴリースコア!N710),\"\"),\"\")","v":""},{"$f":"IF(E$1<>\"\",IF($A708<>\"\",COUNT(カテゴリースコア!O710),\"\"),\"\")","v":""},{"$f":"IF(F$1<>\"\",IF($A708<>\"\",COUNT(カテゴリースコア!P710),\"\"),\"\")","v":""},{"$f":"IF(G$1<>\"\",IF($A708<>\"\",COUNT(カテゴリースコア!Q710),\"\"),\"\")","v":""},{"$f":"IF(H$1<>\"\",IF($A708<>\"\",COUNT(カテゴリースコア!R710),\"\"),\"\")","v":""},{"$f":"IF(I$1<>\"\",IF($A708<>\"\",COUNT(カテゴリースコア!S710),\"\"),\"\")","v":""},{"$f":"IF(J$1<>\"\",IF($A708<>\"\",COUNT(カテゴリースコア!T710),\"\"),\"\")","v":""},{"$f":"IF(K$1<>\"\",IF($A708<>\"\",COUNT(カテゴリースコア!U710),\"\"),\"\")","v":""}]
[{"$f":"IF(データセット1!C709<>\"\",データセット1!C709,\"\")","v":""},{"$f":"IF(データセット1!C709<>\"\",データセット1!D709-カテゴリースコア!$E$11,\"\")","v":""},{"$f":"IF(C$1<>\"\",IF($A709<>\"\",COUNT(カテゴリースコア!M711),\"\"),\"\")","v":""},{"$f":"IF(D$1<>\"\",IF($A709<>\"\",COUNT(カテゴリースコア!N711),\"\"),\"\")","v":""},{"$f":"IF(E$1<>\"\",IF($A709<>\"\",COUNT(カテゴリースコア!O711),\"\"),\"\")","v":""},{"$f":"IF(F$1<>\"\",IF($A709<>\"\",COUNT(カテゴリースコア!P711),\"\"),\"\")","v":""},{"$f":"IF(G$1<>\"\",IF($A709<>\"\",COUNT(カテゴリースコア!Q711),\"\"),\"\")","v":""},{"$f":"IF(H$1<>\"\",IF($A709<>\"\",COUNT(カテゴリースコア!R711),\"\"),\"\")","v":""},{"$f":"IF(I$1<>\"\",IF($A709<>\"\",COUNT(カテゴリースコア!S711),\"\"),\"\")","v":""},{"$f":"IF(J$1<>\"\",IF($A709<>\"\",COUNT(カテゴリースコア!T711),\"\"),\"\")","v":""},{"$f":"IF(K$1<>\"\",IF($A709<>\"\",COUNT(カテゴリースコア!U711),\"\"),\"\")","v":""}]
[{"$f":"IF(データセット1!C710<>\"\",データセット1!C710,\"\")","v":""},{"$f":"IF(データセット1!C710<>\"\",データセット1!D710-カテゴリースコア!$E$11,\"\")","v":""},{"$f":"IF(C$1<>\"\",IF($A710<>\"\",COUNT(カテゴリースコア!M712),\"\"),\"\")","v":""},{"$f":"IF(D$1<>\"\",IF($A710<>\"\",COUNT(カテゴリースコア!N712),\"\"),\"\")","v":""},{"$f":"IF(E$1<>\"\",IF($A710<>\"\",COUNT(カテゴリースコア!O712),\"\"),\"\")","v":""},{"$f":"IF(F$1<>\"\",IF($A710<>\"\",COUNT(カテゴリースコア!P712),\"\"),\"\")","v":""},{"$f":"IF(G$1<>\"\",IF($A710<>\"\",COUNT(カテゴリースコア!Q712),\"\"),\"\")","v":""},{"$f":"IF(H$1<>\"\",IF($A710<>\"\",COUNT(カテゴリースコア!R712),\"\"),\"\")","v":""},{"$f":"IF(I$1<>\"\",IF($A710<>\"\",COUNT(カテゴリースコア!S712),\"\"),\"\")","v":""},{"$f":"IF(J$1<>\"\",IF($A710<>\"\",COUNT(カテゴリースコア!T712),\"\"),\"\")","v":""},{"$f":"IF(K$1<>\"\",IF($A710<>\"\",COUNT(カテゴリースコア!U712),\"\"),\"\")","v":""}]
[{"$f":"IF(データセット1!C711<>\"\",データセット1!C711,\"\")","v":""},{"$f":"IF(データセット1!C711<>\"\",データセット1!D711-カテゴリースコア!$E$11,\"\")","v":""},{"$f":"IF(C$1<>\"\",IF($A711<>\"\",COUNT(カテゴリースコア!M713),\"\"),\"\")","v":""},{"$f":"IF(D$1<>\"\",IF($A711<>\"\",COUNT(カテゴリースコア!N713),\"\"),\"\")","v":""},{"$f":"IF(E$1<>\"\",IF($A711<>\"\",COUNT(カテゴリースコア!O713),\"\"),\"\")","v":""},{"$f":"IF(F$1<>\"\",IF($A711<>\"\",COUNT(カテゴリースコア!P713),\"\"),\"\")","v":""},{"$f":"IF(G$1<>\"\",IF($A711<>\"\",COUNT(カテゴリースコア!Q713),\"\"),\"\")","v":""},{"$f":"IF(H$1<>\"\",IF($A711<>\"\",COUNT(カテゴリースコア!R713),\"\"),\"\")","v":""},{"$f":"IF(I$1<>\"\",IF($A711<>\"\",COUNT(カテゴリースコア!S713),\"\"),\"\")","v":""},{"$f":"IF(J$1<>\"\",IF($A711<>\"\",COUNT(カテゴリースコア!T713),\"\"),\"\")","v":""},{"$f":"IF(K$1<>\"\",IF($A711<>\"\",COUNT(カテゴリースコア!U713),\"\"),\"\")","v":""}]
[{"$f":"IF(データセット1!C712<>\"\",データセット1!C712,\"\")","v":""},{"$f":"IF(データセット1!C712<>\"\",データセット1!D712-カテゴリースコア!$E$11,\"\")","v":""},{"$f":"IF(C$1<>\"\",IF($A712<>\"\",COUNT(カテゴリースコア!M714),\"\"),\"\")","v":""},{"$f":"IF(D$1<>\"\",IF($A712<>\"\",COUNT(カテゴリースコア!N714),\"\"),\"\")","v":""},{"$f":"IF(E$1<>\"\",IF($A712<>\"\",COUNT(カテゴリースコア!O714),\"\"),\"\")","v":""},{"$f":"IF(F$1<>\"\",IF($A712<>\"\",COUNT(カテゴリースコア!P714),\"\"),\"\")","v":""},{"$f":"IF(G$1<>\"\",IF($A712<>\"\",COUNT(カテゴリースコア!Q714),\"\"),\"\")","v":""},{"$f":"IF(H$1<>\"\",IF($A712<>\"\",COUNT(カテゴリースコア!R714),\"\"),\"\")","v":""},{"$f":"IF(I$1<>\"\",IF($A712<>\"\",COUNT(カテゴリースコア!S714),\"\"),\"\")","v":""},{"$f":"IF(J$1<>\"\",IF($A712<>\"\",COUNT(カテゴリースコア!T714),\"\"),\"\")","v":""},{"$f":"IF(K$1<>\"\",IF($A712<>\"\",COUNT(カテゴリースコア!U714),\"\"),\"\")","v":""}]
[{"$f":"IF(データセット1!C713<>\"\",データセット1!C713,\"\")","v":""},{"$f":"IF(データセット1!C713<>\"\",データセット1!D713-カテゴリースコア!$E$11,\"\")","v":""},{"$f":"IF(C$1<>\"\",IF($A713<>\"\",COUNT(カテゴリースコア!M715),\"\"),\"\")","v":""},{"$f":"IF(D$1<>\"\",IF($A713<>\"\",COUNT(カテゴリースコア!N715),\"\"),\"\")","v":""},{"$f":"IF(E$1<>\"\",IF($A713<>\"\",COUNT(カテゴリースコア!O715),\"\"),\"\")","v":""},{"$f":"IF(F$1<>\"\",IF($A713<>\"\",COUNT(カテゴリースコア!P715),\"\"),\"\")","v":""},{"$f":"IF(G$1<>\"\",IF($A713<>\"\",COUNT(カテゴリースコア!Q715),\"\"),\"\")","v":""},{"$f":"IF(H$1<>\"\",IF($A713<>\"\",COUNT(カテゴリースコア!R715),\"\"),\"\")","v":""},{"$f":"IF(I$1<>\"\",IF($A713<>\"\",COUNT(カテゴリースコア!S715),\"\"),\"\")","v":""},{"$f":"IF(J$1<>\"\",IF($A713<>\"\",COUNT(カテゴリースコア!T715),\"\"),\"\")","v":""},{"$f":"IF(K$1<>\"\",IF($A713<>\"\",COUNT(カテゴリースコア!U715),\"\"),\"\")","v":""}]
[{"$f":"IF(データセット1!C714<>\"\",データセット1!C714,\"\")","v":""},{"$f":"IF(データセット1!C714<>\"\",データセット1!D714-カテゴリースコア!$E$11,\"\")","v":""},{"$f":"IF(C$1<>\"\",IF($A714<>\"\",COUNT(カテゴリースコア!M716),\"\"),\"\")","v":""},{"$f":"IF(D$1<>\"\",IF($A714<>\"\",COUNT(カテゴリースコア!N716),\"\"),\"\")","v":""},{"$f":"IF(E$1<>\"\",IF($A714<>\"\",COUNT(カテゴリースコア!O716),\"\"),\"\")","v":""},{"$f":"IF(F$1<>\"\",IF($A714<>\"\",COUNT(カテゴリースコア!P716),\"\"),\"\")","v":""},{"$f":"IF(G$1<>\"\",IF($A714<>\"\",COUNT(カテゴリースコア!Q716),\"\"),\"\")","v":""},{"$f":"IF(H$1<>\"\",IF($A714<>\"\",COUNT(カテゴリースコア!R716),\"\"),\"\")","v":""},{"$f":"IF(I$1<>\"\",IF($A714<>\"\",COUNT(カテゴリースコア!S716),\"\"),\"\")","v":""},{"$f":"IF(J$1<>\"\",IF($A714<>\"\",COUNT(カテゴリースコア!T716),\"\"),\"\")","v":""},{"$f":"IF(K$1<>\"\",IF($A714<>\"\",COUNT(カテゴリースコア!U716),\"\"),\"\")","v":""}]
[{"$f":"IF(データセット1!C715<>\"\",データセット1!C715,\"\")","v":""},{"$f":"IF(データセット1!C715<>\"\",データセット1!D715-カテゴリースコア!$E$11,\"\")","v":""},{"$f":"IF(C$1<>\"\",IF($A715<>\"\",COUNT(カテゴリースコア!M717),\"\"),\"\")","v":""},{"$f":"IF(D$1<>\"\",IF($A715<>\"\",COUNT(カテゴリースコア!N717),\"\"),\"\")","v":""},{"$f":"IF(E$1<>\"\",IF($A715<>\"\",COUNT(カテゴリースコア!O717),\"\"),\"\")","v":""},{"$f":"IF(F$1<>\"\",IF($A715<>\"\",COUNT(カテゴリースコア!P717),\"\"),\"\")","v":""},{"$f":"IF(G$1<>\"\",IF($A715<>\"\",COUNT(カテゴリースコア!Q717),\"\"),\"\")","v":""},{"$f":"IF(H$1<>\"\",IF($A715<>\"\",COUNT(カテゴリースコア!R717),\"\"),\"\")","v":""},{"$f":"IF(I$1<>\"\",IF($A715<>\"\",COUNT(カテゴリースコア!S717),\"\"),\"\")","v":""},{"$f":"IF(J$1<>\"\",IF($A715<>\"\",COUNT(カテゴリースコア!T717),\"\"),\"\")","v":""},{"$f":"IF(K$1<>\"\",IF($A715<>\"\",COUNT(カテゴリースコア!U717),\"\"),\"\")","v":""}]
[{"$f":"IF(データセット1!C716<>\"\",データセット1!C716,\"\")","v":""},{"$f":"IF(データセット1!C716<>\"\",データセット1!D716-カテゴリースコア!$E$11,\"\")","v":""},{"$f":"IF(C$1<>\"\",IF($A716<>\"\",COUNT(カテゴリースコア!M718),\"\"),\"\")","v":""},{"$f":"IF(D$1<>\"\",IF($A716<>\"\",COUNT(カテゴリースコア!N718),\"\"),\"\")","v":""},{"$f":"IF(E$1<>\"\",IF($A716<>\"\",COUNT(カテゴリースコア!O718),\"\"),\"\")","v":""},{"$f":"IF(F$1<>\"\",IF($A716<>\"\",COUNT(カテゴリースコア!P718),\"\"),\"\")","v":""},{"$f":"IF(G$1<>\"\",IF($A716<>\"\",COUNT(カテゴリースコア!Q718),\"\"),\"\")","v":""},{"$f":"IF(H$1<>\"\",IF($A716<>\"\",COUNT(カテゴリースコア!R718),\"\"),\"\")","v":""},{"$f":"IF(I$1<>\"\",IF($A716<>\"\",COUNT(カテゴリースコア!S718),\"\"),\"\")","v":""},{"$f":"IF(J$1<>\"\",IF($A716<>\"\",COUNT(カテゴリースコア!T718),\"\"),\"\")","v":""},{"$f":"IF(K$1<>\"\",IF($A716<>\"\",COUNT(カテゴリースコア!U718),\"\"),\"\")","v":""}]
[{"$f":"IF(データセット1!C717<>\"\",データセット1!C717,\"\")","v":""},{"$f":"IF(データセット1!C717<>\"\",データセット1!D717-カテゴリースコア!$E$11,\"\")","v":""},{"$f":"IF(C$1<>\"\",IF($A717<>\"\",COUNT(カテゴリースコア!M719),\"\"),\"\")","v":""},{"$f":"IF(D$1<>\"\",IF($A717<>\"\",COUNT(カテゴリースコア!N719),\"\"),\"\")","v":""},{"$f":"IF(E$1<>\"\",IF($A717<>\"\",COUNT(カテゴリースコア!O719),\"\"),\"\")","v":""},{"$f":"IF(F$1<>\"\",IF($A717<>\"\",COUNT(カテゴリースコア!P719),\"\"),\"\")","v":""},{"$f":"IF(G$1<>\"\",IF($A717<>\"\",COUNT(カテゴリースコア!Q719),\"\"),\"\")","v":""},{"$f":"IF(H$1<>\"\",IF($A717<>\"\",COUNT(カテゴリースコア!R719),\"\"),\"\")","v":""},{"$f":"IF(I$1<>\"\",IF($A717<>\"\",COUNT(カテゴリースコア!S719),\"\"),\"\")","v":""},{"$f":"IF(J$1<>\"\",IF($A717<>\"\",COUNT(カテゴリースコア!T719),\"\"),\"\")","v":""},{"$f":"IF(K$1<>\"\",IF($A717<>\"\",COUNT(カテゴリースコア!U719),\"\"),\"\")","v":""}]
[{"$f":"IF(データセット1!C718<>\"\",データセット1!C718,\"\")","v":""},{"$f":"IF(データセット1!C718<>\"\",データセット1!D718-カテゴリースコア!$E$11,\"\")","v":""},{"$f":"IF(C$1<>\"\",IF($A718<>\"\",COUNT(カテゴリースコア!M720),\"\"),\"\")","v":""},{"$f":"IF(D$1<>\"\",IF($A718<>\"\",COUNT(カテゴリースコア!N720),\"\"),\"\")","v":""},{"$f":"IF(E$1<>\"\",IF($A718<>\"\",COUNT(カテゴリースコア!O720),\"\"),\"\")","v":""},{"$f":"IF(F$1<>\"\",IF($A718<>\"\",COUNT(カテゴリースコア!P720),\"\"),\"\")","v":""},{"$f":"IF(G$1<>\"\",IF($A718<>\"\",COUNT(カテゴリースコア!Q720),\"\"),\"\")","v":""},{"$f":"IF(H$1<>\"\",IF($A718<>\"\",COUNT(カテゴリースコア!R720),\"\"),\"\")","v":""},{"$f":"IF(I$1<>\"\",IF($A718<>\"\",COUNT(カテゴリースコア!S720),\"\"),\"\")","v":""},{"$f":"IF(J$1<>\"\",IF($A718<>\"\",COUNT(カテゴリースコア!T720),\"\"),\"\")","v":""},{"$f":"IF(K$1<>\"\",IF($A718<>\"\",COUNT(カテゴリースコア!U720),\"\"),\"\")","v":""}]
[{"$f":"IF(データセット1!C719<>\"\",データセット1!C719,\"\")","v":""},{"$f":"IF(データセット1!C719<>\"\",データセット1!D719-カテゴリースコア!$E$11,\"\")","v":""},{"$f":"IF(C$1<>\"\",IF($A719<>\"\",COUNT(カテゴリースコア!M721),\"\"),\"\")","v":""},{"$f":"IF(D$1<>\"\",IF($A719<>\"\",COUNT(カテゴリースコア!N721),\"\"),\"\")","v":""},{"$f":"IF(E$1<>\"\",IF($A719<>\"\",COUNT(カテゴリースコア!O721),\"\"),\"\")","v":""},{"$f":"IF(F$1<>\"\",IF($A719<>\"\",COUNT(カテゴリースコア!P721),\"\"),\"\")","v":""},{"$f":"IF(G$1<>\"\",IF($A719<>\"\",COUNT(カテゴリースコア!Q721),\"\"),\"\")","v":""},{"$f":"IF(H$1<>\"\",IF($A719<>\"\",COUNT(カテゴリースコア!R721),\"\"),\"\")","v":""},{"$f":"IF(I$1<>\"\",IF($A719<>\"\",COUNT(カテゴリースコア!S721),\"\"),\"\")","v":""},{"$f":"IF(J$1<>\"\",IF($A719<>\"\",COUNT(カテゴリースコア!T721),\"\"),\"\")","v":""},{"$f":"IF(K$1<>\"\",IF($A719<>\"\",COUNT(カテゴリースコア!U721),\"\"),\"\")","v":""}]
[{"$f":"IF(データセット1!C720<>\"\",データセット1!C720,\"\")","v":""},{"$f":"IF(データセット1!C720<>\"\",データセット1!D720-カテゴリースコア!$E$11,\"\")","v":""},{"$f":"IF(C$1<>\"\",IF($A720<>\"\",COUNT(カテゴリースコア!M722),\"\"),\"\")","v":""},{"$f":"IF(D$1<>\"\",IF($A720<>\"\",COUNT(カテゴリースコア!N722),\"\"),\"\")","v":""},{"$f":"IF(E$1<>\"\",IF($A720<>\"\",COUNT(カテゴリースコア!O722),\"\"),\"\")","v":""},{"$f":"IF(F$1<>\"\",IF($A720<>\"\",COUNT(カテゴリースコア!P722),\"\"),\"\")","v":""},{"$f":"IF(G$1<>\"\",IF($A720<>\"\",COUNT(カテゴリースコア!Q722),\"\"),\"\")","v":""},{"$f":"IF(H$1<>\"\",IF($A720<>\"\",COUNT(カテゴリースコア!R722),\"\"),\"\")","v":""},{"$f":"IF(I$1<>\"\",IF($A720<>\"\",COUNT(カテゴリースコア!S722),\"\"),\"\")","v":""},{"$f":"IF(J$1<>\"\",IF($A720<>\"\",COUNT(カテゴリースコア!T722),\"\"),\"\")","v":""},{"$f":"IF(K$1<>\"\",IF($A720<>\"\",COUNT(カテゴリースコア!U722),\"\"),\"\")","v":""}]
[{"$f":"IF(データセット1!C721<>\"\",データセット1!C721,\"\")","v":""},{"$f":"IF(データセット1!C721<>\"\",データセット1!D721-カテゴリースコア!$E$11,\"\")","v":""},{"$f":"IF(C$1<>\"\",IF($A721<>\"\",COUNT(カテゴリースコア!M723),\"\"),\"\")","v":""},{"$f":"IF(D$1<>\"\",IF($A721<>\"\",COUNT(カテゴリースコア!N723),\"\"),\"\")","v":""},{"$f":"IF(E$1<>\"\",IF($A721<>\"\",COUNT(カテゴリースコア!O723),\"\"),\"\")","v":""},{"$f":"IF(F$1<>\"\",IF($A721<>\"\",COUNT(カテゴリースコア!P723),\"\"),\"\")","v":""},{"$f":"IF(G$1<>\"\",IF($A721<>\"\",COUNT(カテゴリースコア!Q723),\"\"),\"\")","v":""},{"$f":"IF(H$1<>\"\",IF($A721<>\"\",COUNT(カテゴリースコア!R723),\"\"),\"\")","v":""},{"$f":"IF(I$1<>\"\",IF($A721<>\"\",COUNT(カテゴリースコア!S723),\"\"),\"\")","v":""},{"$f":"IF(J$1<>\"\",IF($A721<>\"\",COUNT(カテゴリースコア!T723),\"\"),\"\")","v":""},{"$f":"IF(K$1<>\"\",IF($A721<>\"\",COUNT(カテゴリースコア!U723),\"\"),\"\")","v":""}]
[{"$f":"IF(データセット1!C722<>\"\",データセット1!C722,\"\")","v":""},{"$f":"IF(データセット1!C722<>\"\",データセット1!D722-カテゴリースコア!$E$11,\"\")","v":""},{"$f":"IF(C$1<>\"\",IF($A722<>\"\",COUNT(カテゴリースコア!M724),\"\"),\"\")","v":""},{"$f":"IF(D$1<>\"\",IF($A722<>\"\",COUNT(カテゴリースコア!N724),\"\"),\"\")","v":""},{"$f":"IF(E$1<>\"\",IF($A722<>\"\",COUNT(カテゴリースコア!O724),\"\"),\"\")","v":""},{"$f":"IF(F$1<>\"\",IF($A722<>\"\",COUNT(カテゴリースコア!P724),\"\"),\"\")","v":""},{"$f":"IF(G$1<>\"\",IF($A722<>\"\",COUNT(カテゴリースコア!Q724),\"\"),\"\")","v":""},{"$f":"IF(H$1<>\"\",IF($A722<>\"\",COUNT(カテゴリースコア!R724),\"\"),\"\")","v":""},{"$f":"IF(I$1<>\"\",IF($A722<>\"\",COUNT(カテゴリースコア!S724),\"\"),\"\")","v":""},{"$f":"IF(J$1<>\"\",IF($A722<>\"\",COUNT(カテゴリースコア!T724),\"\"),\"\")","v":""},{"$f":"IF(K$1<>\"\",IF($A722<>\"\",COUNT(カテゴリースコア!U724),\"\"),\"\")","v":""}]
[{"$f":"IF(データセット1!C723<>\"\",データセット1!C723,\"\")","v":""},{"$f":"IF(データセット1!C723<>\"\",データセット1!D723-カテゴリースコア!$E$11,\"\")","v":""},{"$f":"IF(C$1<>\"\",IF($A723<>\"\",COUNT(カテゴリースコア!M725),\"\"),\"\")","v":""},{"$f":"IF(D$1<>\"\",IF($A723<>\"\",COUNT(カテゴリースコア!N725),\"\"),\"\")","v":""},{"$f":"IF(E$1<>\"\",IF($A723<>\"\",COUNT(カテゴリースコア!O725),\"\"),\"\")","v":""},{"$f":"IF(F$1<>\"\",IF($A723<>\"\",COUNT(カテゴリースコア!P725),\"\"),\"\")","v":""},{"$f":"IF(G$1<>\"\",IF($A723<>\"\",COUNT(カテゴリースコア!Q725),\"\"),\"\")","v":""},{"$f":"IF(H$1<>\"\",IF($A723<>\"\",COUNT(カテゴリースコア!R725),\"\"),\"\")","v":""},{"$f":"IF(I$1<>\"\",IF($A723<>\"\",COUNT(カテゴリースコア!S725),\"\"),\"\")","v":""},{"$f":"IF(J$1<>\"\",IF($A723<>\"\",COUNT(カテゴリースコア!T725),\"\"),\"\")","v":""},{"$f":"IF(K$1<>\"\",IF($A723<>\"\",COUNT(カテゴリースコア!U725),\"\"),\"\")","v":""}]
[{"$f":"IF(データセット1!C724<>\"\",データセット1!C724,\"\")","v":""},{"$f":"IF(データセット1!C724<>\"\",データセット1!D724-カテゴリースコア!$E$11,\"\")","v":""},{"$f":"IF(C$1<>\"\",IF($A724<>\"\",COUNT(カテゴリースコア!M726),\"\"),\"\")","v":""},{"$f":"IF(D$1<>\"\",IF($A724<>\"\",COUNT(カテゴリースコア!N726),\"\"),\"\")","v":""},{"$f":"IF(E$1<>\"\",IF($A724<>\"\",COUNT(カテゴリースコア!O726),\"\"),\"\")","v":""},{"$f":"IF(F$1<>\"\",IF($A724<>\"\",COUNT(カテゴリースコア!P726),\"\"),\"\")","v":""},{"$f":"IF(G$1<>\"\",IF($A724<>\"\",COUNT(カテゴリースコア!Q726),\"\"),\"\")","v":""},{"$f":"IF(H$1<>\"\",IF($A724<>\"\",COUNT(カテゴリースコア!R726),\"\"),\"\")","v":""},{"$f":"IF(I$1<>\"\",IF($A724<>\"\",COUNT(カテゴリースコア!S726),\"\"),\"\")","v":""},{"$f":"IF(J$1<>\"\",IF($A724<>\"\",COUNT(カテゴリースコア!T726),\"\"),\"\")","v":""},{"$f":"IF(K$1<>\"\",IF($A724<>\"\",COUNT(カテゴリースコア!U726),\"\"),\"\")","v":""}]
[{"$f":"IF(データセット1!C725<>\"\",データセット1!C725,\"\")","v":""},{"$f":"IF(データセット1!C725<>\"\",データセット1!D725-カテゴリースコア!$E$11,\"\")","v":""},{"$f":"IF(C$1<>\"\",IF($A725<>\"\",COUNT(カテゴリースコア!M727),\"\"),\"\")","v":""},{"$f":"IF(D$1<>\"\",IF($A725<>\"\",COUNT(カテゴリースコア!N727),\"\"),\"\")","v":""},{"$f":"IF(E$1<>\"\",IF($A725<>\"\",COUNT(カテゴリースコア!O727),\"\"),\"\")","v":""},{"$f":"IF(F$1<>\"\",IF($A725<>\"\",COUNT(カテゴリースコア!P727),\"\"),\"\")","v":""},{"$f":"IF(G$1<>\"\",IF($A725<>\"\",COUNT(カテゴリースコア!Q727),\"\"),\"\")","v":""},{"$f":"IF(H$1<>\"\",IF($A725<>\"\",COUNT(カテゴリースコア!R727),\"\"),\"\")","v":""},{"$f":"IF(I$1<>\"\",IF($A725<>\"\",COUNT(カテゴリースコア!S727),\"\"),\"\")","v":""},{"$f":"IF(J$1<>\"\",IF($A725<>\"\",COUNT(カテゴリースコア!T727),\"\"),\"\")","v":""},{"$f":"IF(K$1<>\"\",IF($A725<>\"\",COUNT(カテゴリースコア!U727),\"\"),\"\")","v":""}]
[{"$f":"IF(データセット1!C726<>\"\",データセット1!C726,\"\")","v":""},{"$f":"IF(データセット1!C726<>\"\",データセット1!D726-カテゴリースコア!$E$11,\"\")","v":""},{"$f":"IF(C$1<>\"\",IF($A726<>\"\",COUNT(カテゴリースコア!M728),\"\"),\"\")","v":""},{"$f":"IF(D$1<>\"\",IF($A726<>\"\",COUNT(カテゴリースコア!N728),\"\"),\"\")","v":""},{"$f":"IF(E$1<>\"\",IF($A726<>\"\",COUNT(カテゴリースコア!O728),\"\"),\"\")","v":""},{"$f":"IF(F$1<>\"\",IF($A726<>\"\",COUNT(カテゴリースコア!P728),\"\"),\"\")","v":""},{"$f":"IF(G$1<>\"\",IF($A726<>\"\",COUNT(カテゴリースコア!Q728),\"\"),\"\")","v":""},{"$f":"IF(H$1<>\"\",IF($A726<>\"\",COUNT(カテゴリースコア!R728),\"\"),\"\")","v":""},{"$f":"IF(I$1<>\"\",IF($A726<>\"\",COUNT(カテゴリースコア!S728),\"\"),\"\")","v":""},{"$f":"IF(J$1<>\"\",IF($A726<>\"\",COUNT(カテゴリースコア!T728),\"\"),\"\")","v":""},{"$f":"IF(K$1<>\"\",IF($A726<>\"\",COUNT(カテゴリースコア!U728),\"\"),\"\")","v":""}]
[{"$f":"IF(データセット1!C727<>\"\",データセット1!C727,\"\")","v":""},{"$f":"IF(データセット1!C727<>\"\",データセット1!D727-カテゴリースコア!$E$11,\"\")","v":""},{"$f":"IF(C$1<>\"\",IF($A727<>\"\",COUNT(カテゴリースコア!M729),\"\"),\"\")","v":""},{"$f":"IF(D$1<>\"\",IF($A727<>\"\",COUNT(カテゴリースコア!N729),\"\"),\"\")","v":""},{"$f":"IF(E$1<>\"\",IF($A727<>\"\",COUNT(カテゴリースコア!O729),\"\"),\"\")","v":""},{"$f":"IF(F$1<>\"\",IF($A727<>\"\",COUNT(カテゴリースコア!P729),\"\"),\"\")","v":""},{"$f":"IF(G$1<>\"\",IF($A727<>\"\",COUNT(カテゴリースコア!Q729),\"\"),\"\")","v":""},{"$f":"IF(H$1<>\"\",IF($A727<>\"\",COUNT(カテゴリースコア!R729),\"\"),\"\")","v":""},{"$f":"IF(I$1<>\"\",IF($A727<>\"\",COUNT(カテゴリースコア!S729),\"\"),\"\")","v":""},{"$f":"IF(J$1<>\"\",IF($A727<>\"\",COUNT(カテゴリースコア!T729),\"\"),\"\")","v":""},{"$f":"IF(K$1<>\"\",IF($A727<>\"\",COUNT(カテゴリースコア!U729),\"\"),\"\")","v":""}]
[{"$f":"IF(データセット1!C728<>\"\",データセット1!C728,\"\")","v":""},{"$f":"IF(データセット1!C728<>\"\",データセット1!D728-カテゴリースコア!$E$11,\"\")","v":""},{"$f":"IF(C$1<>\"\",IF($A728<>\"\",COUNT(カテゴリースコア!M730),\"\"),\"\")","v":""},{"$f":"IF(D$1<>\"\",IF($A728<>\"\",COUNT(カテゴリースコア!N730),\"\"),\"\")","v":""},{"$f":"IF(E$1<>\"\",IF($A728<>\"\",COUNT(カテゴリースコア!O730),\"\"),\"\")","v":""},{"$f":"IF(F$1<>\"\",IF($A728<>\"\",COUNT(カテゴリースコア!P730),\"\"),\"\")","v":""},{"$f":"IF(G$1<>\"\",IF($A728<>\"\",COUNT(カテゴリースコア!Q730),\"\"),\"\")","v":""},{"$f":"IF(H$1<>\"\",IF($A728<>\"\",COUNT(カテゴリースコア!R730),\"\"),\"\")","v":""},{"$f":"IF(I$1<>\"\",IF($A728<>\"\",COUNT(カテゴリースコア!S730),\"\"),\"\")","v":""},{"$f":"IF(J$1<>\"\",IF($A728<>\"\",COUNT(カテゴリースコア!T730),\"\"),\"\")","v":""},{"$f":"IF(K$1<>\"\",IF($A728<>\"\",COUNT(カテゴリースコア!U730),\"\"),\"\")","v":""}]
[{"$f":"IF(データセット1!C729<>\"\",データセット1!C729,\"\")","v":""},{"$f":"IF(データセット1!C729<>\"\",データセット1!D729-カテゴリースコア!$E$11,\"\")","v":""},{"$f":"IF(C$1<>\"\",IF($A729<>\"\",COUNT(カテゴリースコア!M731),\"\"),\"\")","v":""},{"$f":"IF(D$1<>\"\",IF($A729<>\"\",COUNT(カテゴリースコア!N731),\"\"),\"\")","v":""},{"$f":"IF(E$1<>\"\",IF($A729<>\"\",COUNT(カテゴリースコア!O731),\"\"),\"\")","v":""},{"$f":"IF(F$1<>\"\",IF($A729<>\"\",COUNT(カテゴリースコア!P731),\"\"),\"\")","v":""},{"$f":"IF(G$1<>\"\",IF($A729<>\"\",COUNT(カテゴリースコア!Q731),\"\"),\"\")","v":""},{"$f":"IF(H$1<>\"\",IF($A729<>\"\",COUNT(カテゴリースコア!R731),\"\"),\"\")","v":""},{"$f":"IF(I$1<>\"\",IF($A729<>\"\",COUNT(カテゴリースコア!S731),\"\"),\"\")","v":""},{"$f":"IF(J$1<>\"\",IF($A729<>\"\",COUNT(カテゴリースコア!T731),\"\"),\"\")","v":""},{"$f":"IF(K$1<>\"\",IF($A729<>\"\",COUNT(カテゴリースコア!U731),\"\"),\"\")","v":""}]
[{"$f":"IF(データセット1!C730<>\"\",データセット1!C730,\"\")","v":""},{"$f":"IF(データセット1!C730<>\"\",データセット1!D730-カテゴリースコア!$E$11,\"\")","v":""},{"$f":"IF(C$1<>\"\",IF($A730<>\"\",COUNT(カテゴリースコア!M732),\"\"),\"\")","v":""},{"$f":"IF(D$1<>\"\",IF($A730<>\"\",COUNT(カテゴリースコア!N732),\"\"),\"\")","v":""},{"$f":"IF(E$1<>\"\",IF($A730<>\"\",COUNT(カテゴリースコア!O732),\"\"),\"\")","v":""},{"$f":"IF(F$1<>\"\",IF($A730<>\"\",COUNT(カテゴリースコア!P732),\"\"),\"\")","v":""},{"$f":"IF(G$1<>\"\",IF($A730<>\"\",COUNT(カテゴリースコア!Q732),\"\"),\"\")","v":""},{"$f":"IF(H$1<>\"\",IF($A730<>\"\",COUNT(カテゴリースコア!R732),\"\"),\"\")","v":""},{"$f":"IF(I$1<>\"\",IF($A730<>\"\",COUNT(カテゴリースコア!S732),\"\"),\"\")","v":""},{"$f":"IF(J$1<>\"\",IF($A730<>\"\",COUNT(カテゴリースコア!T732),\"\"),\"\")","v":""},{"$f":"IF(K$1<>\"\",IF($A730<>\"\",COUNT(カテゴリースコア!U732),\"\"),\"\")","v":""}]
[{"$f":"IF(データセット1!C731<>\"\",データセット1!C731,\"\")","v":""},{"$f":"IF(データセット1!C731<>\"\",データセット1!D731-カテゴリースコア!$E$11,\"\")","v":""},{"$f":"IF(C$1<>\"\",IF($A731<>\"\",COUNT(カテゴリースコア!M733),\"\"),\"\")","v":""},{"$f":"IF(D$1<>\"\",IF($A731<>\"\",COUNT(カテゴリースコア!N733),\"\"),\"\")","v":""},{"$f":"IF(E$1<>\"\",IF($A731<>\"\",COUNT(カテゴリースコア!O733),\"\"),\"\")","v":""},{"$f":"IF(F$1<>\"\",IF($A731<>\"\",COUNT(カテゴリースコア!P733),\"\"),\"\")","v":""},{"$f":"IF(G$1<>\"\",IF($A731<>\"\",COUNT(カテゴリースコア!Q733),\"\"),\"\")","v":""},{"$f":"IF(H$1<>\"\",IF($A731<>\"\",COUNT(カテゴリースコア!R733),\"\"),\"\")","v":""},{"$f":"IF(I$1<>\"\",IF($A731<>\"\",COUNT(カテゴリースコア!S733),\"\"),\"\")","v":""},{"$f":"IF(J$1<>\"\",IF($A731<>\"\",COUNT(カテゴリースコア!T733),\"\"),\"\")","v":""},{"$f":"IF(K$1<>\"\",IF($A731<>\"\",COUNT(カテゴリースコア!U733),\"\"),\"\")","v":""}]
[{"$f":"IF(データセット1!C732<>\"\",データセット1!C732,\"\")","v":""},{"$f":"IF(データセット1!C732<>\"\",データセット1!D732-カテゴリースコア!$E$11,\"\")","v":""},{"$f":"IF(C$1<>\"\",IF($A732<>\"\",COUNT(カテゴリースコア!M734),\"\"),\"\")","v":""},{"$f":"IF(D$1<>\"\",IF($A732<>\"\",COUNT(カテゴリースコア!N734),\"\"),\"\")","v":""},{"$f":"IF(E$1<>\"\",IF($A732<>\"\",COUNT(カテゴリースコア!O734),\"\"),\"\")","v":""},{"$f":"IF(F$1<>\"\",IF($A732<>\"\",COUNT(カテゴリースコア!P734),\"\"),\"\")","v":""},{"$f":"IF(G$1<>\"\",IF($A732<>\"\",COUNT(カテゴリースコア!Q734),\"\"),\"\")","v":""},{"$f":"IF(H$1<>\"\",IF($A732<>\"\",COUNT(カテゴリースコア!R734),\"\"),\"\")","v":""},{"$f":"IF(I$1<>\"\",IF($A732<>\"\",COUNT(カテゴリースコア!S734),\"\"),\"\")","v":""},{"$f":"IF(J$1<>\"\",IF($A732<>\"\",COUNT(カテゴリースコア!T734),\"\"),\"\")","v":""},{"$f":"IF(K$1<>\"\",IF($A732<>\"\",COUNT(カテゴリースコア!U734),\"\"),\"\")","v":""}]
[{"$f":"IF(データセット1!C733<>\"\",データセット1!C733,\"\")","v":""},{"$f":"IF(データセット1!C733<>\"\",データセット1!D733-カテゴリースコア!$E$11,\"\")","v":""},{"$f":"IF(C$1<>\"\",IF($A733<>\"\",COUNT(カテゴリースコア!M735),\"\"),\"\")","v":""},{"$f":"IF(D$1<>\"\",IF($A733<>\"\",COUNT(カテゴリースコア!N735),\"\"),\"\")","v":""},{"$f":"IF(E$1<>\"\",IF($A733<>\"\",COUNT(カテゴリースコア!O735),\"\"),\"\")","v":""},{"$f":"IF(F$1<>\"\",IF($A733<>\"\",COUNT(カテゴリースコア!P735),\"\"),\"\")","v":""},{"$f":"IF(G$1<>\"\",IF($A733<>\"\",COUNT(カテゴリースコア!Q735),\"\"),\"\")","v":""},{"$f":"IF(H$1<>\"\",IF($A733<>\"\",COUNT(カテゴリースコア!R735),\"\"),\"\")","v":""},{"$f":"IF(I$1<>\"\",IF($A733<>\"\",COUNT(カテゴリースコア!S735),\"\"),\"\")","v":""},{"$f":"IF(J$1<>\"\",IF($A733<>\"\",COUNT(カテゴリースコア!T735),\"\"),\"\")","v":""},{"$f":"IF(K$1<>\"\",IF($A733<>\"\",COUNT(カテゴリースコア!U735),\"\"),\"\")","v":""}]
[{"$f":"IF(データセット1!C734<>\"\",データセット1!C734,\"\")","v":""},{"$f":"IF(データセット1!C734<>\"\",データセット1!D734-カテゴリースコア!$E$11,\"\")","v":""},{"$f":"IF(C$1<>\"\",IF($A734<>\"\",COUNT(カテゴリースコア!M736),\"\"),\"\")","v":""},{"$f":"IF(D$1<>\"\",IF($A734<>\"\",COUNT(カテゴリースコア!N736),\"\"),\"\")","v":""},{"$f":"IF(E$1<>\"\",IF($A734<>\"\",COUNT(カテゴリースコア!O736),\"\"),\"\")","v":""},{"$f":"IF(F$1<>\"\",IF($A734<>\"\",COUNT(カテゴリースコア!P736),\"\"),\"\")","v":""},{"$f":"IF(G$1<>\"\",IF($A734<>\"\",COUNT(カテゴリースコア!Q736),\"\"),\"\")","v":""},{"$f":"IF(H$1<>\"\",IF($A734<>\"\",COUNT(カテゴリースコア!R736),\"\"),\"\")","v":""},{"$f":"IF(I$1<>\"\",IF($A734<>\"\",COUNT(カテゴリースコア!S736),\"\"),\"\")","v":""},{"$f":"IF(J$1<>\"\",IF($A734<>\"\",COUNT(カテゴリースコア!T736),\"\"),\"\")","v":""},{"$f":"IF(K$1<>\"\",IF($A734<>\"\",COUNT(カテゴリースコア!U736),\"\"),\"\")","v":""}]
[{"$f":"IF(データセット1!C735<>\"\",データセット1!C735,\"\")","v":""},{"$f":"IF(データセット1!C735<>\"\",データセット1!D735-カテゴリースコア!$E$11,\"\")","v":""},{"$f":"IF(C$1<>\"\",IF($A735<>\"\",COUNT(カテゴリースコア!M737),\"\"),\"\")","v":""},{"$f":"IF(D$1<>\"\",IF($A735<>\"\",COUNT(カテゴリースコア!N737),\"\"),\"\")","v":""},{"$f":"IF(E$1<>\"\",IF($A735<>\"\",COUNT(カテゴリースコア!O737),\"\"),\"\")","v":""},{"$f":"IF(F$1<>\"\",IF($A735<>\"\",COUNT(カテゴリースコア!P737),\"\"),\"\")","v":""},{"$f":"IF(G$1<>\"\",IF($A735<>\"\",COUNT(カテゴリースコア!Q737),\"\"),\"\")","v":""},{"$f":"IF(H$1<>\"\",IF($A735<>\"\",COUNT(カテゴリースコア!R737),\"\"),\"\")","v":""},{"$f":"IF(I$1<>\"\",IF($A735<>\"\",COUNT(カテゴリースコア!S737),\"\"),\"\")","v":""},{"$f":"IF(J$1<>\"\",IF($A735<>\"\",COUNT(カテゴリースコア!T737),\"\"),\"\")","v":""},{"$f":"IF(K$1<>\"\",IF($A735<>\"\",COUNT(カテゴリースコア!U737),\"\"),\"\")","v":""}]
[{"$f":"IF(データセット1!C736<>\"\",データセット1!C736,\"\")","v":""},{"$f":"IF(データセット1!C736<>\"\",データセット1!D736-カテゴリースコア!$E$11,\"\")","v":""},{"$f":"IF(C$1<>\"\",IF($A736<>\"\",COUNT(カテゴリースコア!M738),\"\"),\"\")","v":""},{"$f":"IF(D$1<>\"\",IF($A736<>\"\",COUNT(カテゴリースコア!N738),\"\"),\"\")","v":""},{"$f":"IF(E$1<>\"\",IF($A736<>\"\",COUNT(カテゴリースコア!O738),\"\"),\"\")","v":""},{"$f":"IF(F$1<>\"\",IF($A736<>\"\",COUNT(カテゴリースコア!P738),\"\"),\"\")","v":""},{"$f":"IF(G$1<>\"\",IF($A736<>\"\",COUNT(カテゴリースコア!Q738),\"\"),\"\")","v":""},{"$f":"IF(H$1<>\"\",IF($A736<>\"\",COUNT(カテゴリースコア!R738),\"\"),\"\")","v":""},{"$f":"IF(I$1<>\"\",IF($A736<>\"\",COUNT(カテゴリースコア!S738),\"\"),\"\")","v":""},{"$f":"IF(J$1<>\"\",IF($A736<>\"\",COUNT(カテゴリースコア!T738),\"\"),\"\")","v":""},{"$f":"IF(K$1<>\"\",IF($A736<>\"\",COUNT(カテゴリースコア!U738),\"\"),\"\")","v":""}]
[{"$f":"IF(データセット1!C737<>\"\",データセット1!C737,\"\")","v":""},{"$f":"IF(データセット1!C737<>\"\",データセット1!D737-カテゴリースコア!$E$11,\"\")","v":""},{"$f":"IF(C$1<>\"\",IF($A737<>\"\",COUNT(カテゴリースコア!M739),\"\"),\"\")","v":""},{"$f":"IF(D$1<>\"\",IF($A737<>\"\",COUNT(カテゴリースコア!N739),\"\"),\"\")","v":""},{"$f":"IF(E$1<>\"\",IF($A737<>\"\",COUNT(カテゴリースコア!O739),\"\"),\"\")","v":""},{"$f":"IF(F$1<>\"\",IF($A737<>\"\",COUNT(カテゴリースコア!P739),\"\"),\"\")","v":""},{"$f":"IF(G$1<>\"\",IF($A737<>\"\",COUNT(カテゴリースコア!Q739),\"\"),\"\")","v":""},{"$f":"IF(H$1<>\"\",IF($A737<>\"\",COUNT(カテゴリースコア!R739),\"\"),\"\")","v":""},{"$f":"IF(I$1<>\"\",IF($A737<>\"\",COUNT(カテゴリースコア!S739),\"\"),\"\")","v":""},{"$f":"IF(J$1<>\"\",IF($A737<>\"\",COUNT(カテゴリースコア!T739),\"\"),\"\")","v":""},{"$f":"IF(K$1<>\"\",IF($A737<>\"\",COUNT(カテゴリースコア!U739),\"\"),\"\")","v":""}]
[{"$f":"IF(データセット1!C738<>\"\",データセット1!C738,\"\")","v":""},{"$f":"IF(データセット1!C738<>\"\",データセット1!D738-カテゴリースコア!$E$11,\"\")","v":""},{"$f":"IF(C$1<>\"\",IF($A738<>\"\",COUNT(カテゴリースコア!M740),\"\"),\"\")","v":""},{"$f":"IF(D$1<>\"\",IF($A738<>\"\",COUNT(カテゴリースコア!N740),\"\"),\"\")","v":""},{"$f":"IF(E$1<>\"\",IF($A738<>\"\",COUNT(カテゴリースコア!O740),\"\"),\"\")","v":""},{"$f":"IF(F$1<>\"\",IF($A738<>\"\",COUNT(カテゴリースコア!P740),\"\"),\"\")","v":""},{"$f":"IF(G$1<>\"\",IF($A738<>\"\",COUNT(カテゴリースコア!Q740),\"\"),\"\")","v":""},{"$f":"IF(H$1<>\"\",IF($A738<>\"\",COUNT(カテゴリースコア!R740),\"\"),\"\")","v":""},{"$f":"IF(I$1<>\"\",IF($A738<>\"\",COUNT(カテゴリースコア!S740),\"\"),\"\")","v":""},{"$f":"IF(J$1<>\"\",IF($A738<>\"\",COUNT(カテゴリースコア!T740),\"\"),\"\")","v":""},{"$f":"IF(K$1<>\"\",IF($A738<>\"\",COUNT(カテゴリースコア!U740),\"\"),\"\")","v":""}]
[{"$f":"IF(データセット1!C739<>\"\",データセット1!C739,\"\")","v":""},{"$f":"IF(データセット1!C739<>\"\",データセット1!D739-カテゴリースコア!$E$11,\"\")","v":""},{"$f":"IF(C$1<>\"\",IF($A739<>\"\",COUNT(カテゴリースコア!M741),\"\"),\"\")","v":""},{"$f":"IF(D$1<>\"\",IF($A739<>\"\",COUNT(カテゴリースコア!N741),\"\"),\"\")","v":""},{"$f":"IF(E$1<>\"\",IF($A739<>\"\",COUNT(カテゴリースコア!O741),\"\"),\"\")","v":""},{"$f":"IF(F$1<>\"\",IF($A739<>\"\",COUNT(カテゴリースコア!P741),\"\"),\"\")","v":""},{"$f":"IF(G$1<>\"\",IF($A739<>\"\",COUNT(カテゴリースコア!Q741),\"\"),\"\")","v":""},{"$f":"IF(H$1<>\"\",IF($A739<>\"\",COUNT(カテゴリースコア!R741),\"\"),\"\")","v":""},{"$f":"IF(I$1<>\"\",IF($A739<>\"\",COUNT(カテゴリースコア!S741),\"\"),\"\")","v":""},{"$f":"IF(J$1<>\"\",IF($A739<>\"\",COUNT(カテゴリースコア!T741),\"\"),\"\")","v":""},{"$f":"IF(K$1<>\"\",IF($A739<>\"\",COUNT(カテゴリースコア!U741),\"\"),\"\")","v":""}]
[{"$f":"IF(データセット1!C740<>\"\",データセット1!C740,\"\")","v":""},{"$f":"IF(データセット1!C740<>\"\",データセット1!D740-カテゴリースコア!$E$11,\"\")","v":""},{"$f":"IF(C$1<>\"\",IF($A740<>\"\",COUNT(カテゴリースコア!M742),\"\"),\"\")","v":""},{"$f":"IF(D$1<>\"\",IF($A740<>\"\",COUNT(カテゴリースコア!N742),\"\"),\"\")","v":""},{"$f":"IF(E$1<>\"\",IF($A740<>\"\",COUNT(カテゴリースコア!O742),\"\"),\"\")","v":""},{"$f":"IF(F$1<>\"\",IF($A740<>\"\",COUNT(カテゴリースコア!P742),\"\"),\"\")","v":""},{"$f":"IF(G$1<>\"\",IF($A740<>\"\",COUNT(カテゴリースコア!Q742),\"\"),\"\")","v":""},{"$f":"IF(H$1<>\"\",IF($A740<>\"\",COUNT(カテゴリースコア!R742),\"\"),\"\")","v":""},{"$f":"IF(I$1<>\"\",IF($A740<>\"\",COUNT(カテゴリースコア!S742),\"\"),\"\")","v":""},{"$f":"IF(J$1<>\"\",IF($A740<>\"\",COUNT(カテゴリースコア!T742),\"\"),\"\")","v":""},{"$f":"IF(K$1<>\"\",IF($A740<>\"\",COUNT(カテゴリースコア!U742),\"\"),\"\")","v":""}]
[{"$f":"IF(データセット1!C741<>\"\",データセット1!C741,\"\")","v":""},{"$f":"IF(データセット1!C741<>\"\",データセット1!D741-カテゴリースコア!$E$11,\"\")","v":""},{"$f":"IF(C$1<>\"\",IF($A741<>\"\",COUNT(カテゴリースコア!M743),\"\"),\"\")","v":""},{"$f":"IF(D$1<>\"\",IF($A741<>\"\",COUNT(カテゴリースコア!N743),\"\"),\"\")","v":""},{"$f":"IF(E$1<>\"\",IF($A741<>\"\",COUNT(カテゴリースコア!O743),\"\"),\"\")","v":""},{"$f":"IF(F$1<>\"\",IF($A741<>\"\",COUNT(カテゴリースコア!P743),\"\"),\"\")","v":""},{"$f":"IF(G$1<>\"\",IF($A741<>\"\",COUNT(カテゴリースコア!Q743),\"\"),\"\")","v":""},{"$f":"IF(H$1<>\"\",IF($A741<>\"\",COUNT(カテゴリースコア!R743),\"\"),\"\")","v":""},{"$f":"IF(I$1<>\"\",IF($A741<>\"\",COUNT(カテゴリースコア!S743),\"\"),\"\")","v":""},{"$f":"IF(J$1<>\"\",IF($A741<>\"\",COUNT(カテゴリースコア!T743),\"\"),\"\")","v":""},{"$f":"IF(K$1<>\"\",IF($A741<>\"\",COUNT(カテゴリースコア!U743),\"\"),\"\")","v":""}]
[{"$f":"IF(データセット1!C742<>\"\",データセット1!C742,\"\")","v":""},{"$f":"IF(データセット1!C742<>\"\",データセット1!D742-カテゴリースコア!$E$11,\"\")","v":""},{"$f":"IF(C$1<>\"\",IF($A742<>\"\",COUNT(カテゴリースコア!M744),\"\"),\"\")","v":""},{"$f":"IF(D$1<>\"\",IF($A742<>\"\",COUNT(カテゴリースコア!N744),\"\"),\"\")","v":""},{"$f":"IF(E$1<>\"\",IF($A742<>\"\",COUNT(カテゴリースコア!O744),\"\"),\"\")","v":""},{"$f":"IF(F$1<>\"\",IF($A742<>\"\",COUNT(カテゴリースコア!P744),\"\"),\"\")","v":""},{"$f":"IF(G$1<>\"\",IF($A742<>\"\",COUNT(カテゴリースコア!Q744),\"\"),\"\")","v":""},{"$f":"IF(H$1<>\"\",IF($A742<>\"\",COUNT(カテゴリースコア!R744),\"\"),\"\")","v":""},{"$f":"IF(I$1<>\"\",IF($A742<>\"\",COUNT(カテゴリースコア!S744),\"\"),\"\")","v":""},{"$f":"IF(J$1<>\"\",IF($A742<>\"\",COUNT(カテゴリースコア!T744),\"\"),\"\")","v":""},{"$f":"IF(K$1<>\"\",IF($A742<>\"\",COUNT(カテゴリースコア!U744),\"\"),\"\")","v":""}]
[{"$f":"IF(データセット1!C743<>\"\",データセット1!C743,\"\")","v":""},{"$f":"IF(データセット1!C743<>\"\",データセット1!D743-カテゴリースコア!$E$11,\"\")","v":""},{"$f":"IF(C$1<>\"\",IF($A743<>\"\",COUNT(カテゴリースコア!M745),\"\"),\"\")","v":""},{"$f":"IF(D$1<>\"\",IF($A743<>\"\",COUNT(カテゴリースコア!N745),\"\"),\"\")","v":""},{"$f":"IF(E$1<>\"\",IF($A743<>\"\",COUNT(カテゴリースコア!O745),\"\"),\"\")","v":""},{"$f":"IF(F$1<>\"\",IF($A743<>\"\",COUNT(カテゴリースコア!P745),\"\"),\"\")","v":""},{"$f":"IF(G$1<>\"\",IF($A743<>\"\",COUNT(カテゴリースコア!Q745),\"\"),\"\")","v":""},{"$f":"IF(H$1<>\"\",IF($A743<>\"\",COUNT(カテゴリースコア!R745),\"\"),\"\")","v":""},{"$f":"IF(I$1<>\"\",IF($A743<>\"\",COUNT(カテゴリースコア!S745),\"\"),\"\")","v":""},{"$f":"IF(J$1<>\"\",IF($A743<>\"\",COUNT(カテゴリースコア!T745),\"\"),\"\")","v":""},{"$f":"IF(K$1<>\"\",IF($A743<>\"\",COUNT(カテゴリースコア!U745),\"\"),\"\")","v":""}]
[{"$f":"IF(データセット1!C744<>\"\",データセット1!C744,\"\")","v":""},{"$f":"IF(データセット1!C744<>\"\",データセット1!D744-カテゴリースコア!$E$11,\"\")","v":""},{"$f":"IF(C$1<>\"\",IF($A744<>\"\",COUNT(カテゴリースコア!M746),\"\"),\"\")","v":""},{"$f":"IF(D$1<>\"\",IF($A744<>\"\",COUNT(カテゴリースコア!N746),\"\"),\"\")","v":""},{"$f":"IF(E$1<>\"\",IF($A744<>\"\",COUNT(カテゴリースコア!O746),\"\"),\"\")","v":""},{"$f":"IF(F$1<>\"\",IF($A744<>\"\",COUNT(カテゴリースコア!P746),\"\"),\"\")","v":""},{"$f":"IF(G$1<>\"\",IF($A744<>\"\",COUNT(カテゴリースコア!Q746),\"\"),\"\")","v":""},{"$f":"IF(H$1<>\"\",IF($A744<>\"\",COUNT(カテゴリースコア!R746),\"\"),\"\")","v":""},{"$f":"IF(I$1<>\"\",IF($A744<>\"\",COUNT(カテゴリースコア!S746),\"\"),\"\")","v":""},{"$f":"IF(J$1<>\"\",IF($A744<>\"\",COUNT(カテゴリースコア!T746),\"\"),\"\")","v":""},{"$f":"IF(K$1<>\"\",IF($A744<>\"\",COUNT(カテゴリースコア!U746),\"\"),\"\")","v":""}]
[{"$f":"IF(データセット1!C745<>\"\",データセット1!C745,\"\")","v":""},{"$f":"IF(データセット1!C745<>\"\",データセット1!D745-カテゴリースコア!$E$11,\"\")","v":""},{"$f":"IF(C$1<>\"\",IF($A745<>\"\",COUNT(カテゴリースコア!M747),\"\"),\"\")","v":""},{"$f":"IF(D$1<>\"\",IF($A745<>\"\",COUNT(カテゴリースコア!N747),\"\"),\"\")","v":""},{"$f":"IF(E$1<>\"\",IF($A745<>\"\",COUNT(カテゴリースコア!O747),\"\"),\"\")","v":""},{"$f":"IF(F$1<>\"\",IF($A745<>\"\",COUNT(カテゴリースコア!P747),\"\"),\"\")","v":""},{"$f":"IF(G$1<>\"\",IF($A745<>\"\",COUNT(カテゴリースコア!Q747),\"\"),\"\")","v":""},{"$f":"IF(H$1<>\"\",IF($A745<>\"\",COUNT(カテゴリースコア!R747),\"\"),\"\")","v":""},{"$f":"IF(I$1<>\"\",IF($A745<>\"\",COUNT(カテゴリースコア!S747),\"\"),\"\")","v":""},{"$f":"IF(J$1<>\"\",IF($A745<>\"\",COUNT(カテゴリースコア!T747),\"\"),\"\")","v":""},{"$f":"IF(K$1<>\"\",IF($A745<>\"\",COUNT(カテゴリースコア!U747),\"\"),\"\")","v":""}]
[{"$f":"IF(データセット1!C746<>\"\",データセット1!C746,\"\")","v":""},{"$f":"IF(データセット1!C746<>\"\",データセット1!D746-カテゴリースコア!$E$11,\"\")","v":""},{"$f":"IF(C$1<>\"\",IF($A746<>\"\",COUNT(カテゴリースコア!M748),\"\"),\"\")","v":""},{"$f":"IF(D$1<>\"\",IF($A746<>\"\",COUNT(カテゴリースコア!N748),\"\"),\"\")","v":""},{"$f":"IF(E$1<>\"\",IF($A746<>\"\",COUNT(カテゴリースコア!O748),\"\"),\"\")","v":""},{"$f":"IF(F$1<>\"\",IF($A746<>\"\",COUNT(カテゴリースコア!P748),\"\"),\"\")","v":""},{"$f":"IF(G$1<>\"\",IF($A746<>\"\",COUNT(カテゴリースコア!Q748),\"\"),\"\")","v":""},{"$f":"IF(H$1<>\"\",IF($A746<>\"\",COUNT(カテゴリースコア!R748),\"\"),\"\")","v":""},{"$f":"IF(I$1<>\"\",IF($A746<>\"\",COUNT(カテゴリースコア!S748),\"\"),\"\")","v":""},{"$f":"IF(J$1<>\"\",IF($A746<>\"\",COUNT(カテゴリースコア!T748),\"\"),\"\")","v":""},{"$f":"IF(K$1<>\"\",IF($A746<>\"\",COUNT(カテゴリースコア!U748),\"\"),\"\")","v":""}]
[{"$f":"IF(データセット1!C747<>\"\",データセット1!C747,\"\")","v":""},{"$f":"IF(データセット1!C747<>\"\",データセット1!D747-カテゴリースコア!$E$11,\"\")","v":""},{"$f":"IF(C$1<>\"\",IF($A747<>\"\",COUNT(カテゴリースコア!M749),\"\"),\"\")","v":""},{"$f":"IF(D$1<>\"\",IF($A747<>\"\",COUNT(カテゴリースコア!N749),\"\"),\"\")","v":""},{"$f":"IF(E$1<>\"\",IF($A747<>\"\",COUNT(カテゴリースコア!O749),\"\"),\"\")","v":""},{"$f":"IF(F$1<>\"\",IF($A747<>\"\",COUNT(カテゴリースコア!P749),\"\"),\"\")","v":""},{"$f":"IF(G$1<>\"\",IF($A747<>\"\",COUNT(カテゴリースコア!Q749),\"\"),\"\")","v":""},{"$f":"IF(H$1<>\"\",IF($A747<>\"\",COUNT(カテゴリースコア!R749),\"\"),\"\")","v":""},{"$f":"IF(I$1<>\"\",IF($A747<>\"\",COUNT(カテゴリースコア!S749),\"\"),\"\")","v":""},{"$f":"IF(J$1<>\"\",IF($A747<>\"\",COUNT(カテゴリースコア!T749),\"\"),\"\")","v":""},{"$f":"IF(K$1<>\"\",IF($A747<>\"\",COUNT(カテゴリースコア!U749),\"\"),\"\")","v":""}]
[{"$f":"IF(データセット1!C748<>\"\",データセット1!C748,\"\")","v":""},{"$f":"IF(データセット1!C748<>\"\",データセット1!D748-カテゴリースコア!$E$11,\"\")","v":""},{"$f":"IF(C$1<>\"\",IF($A748<>\"\",COUNT(カテゴリースコア!M750),\"\"),\"\")","v":""},{"$f":"IF(D$1<>\"\",IF($A748<>\"\",COUNT(カテゴリースコア!N750),\"\"),\"\")","v":""},{"$f":"IF(E$1<>\"\",IF($A748<>\"\",COUNT(カテゴリースコア!O750),\"\"),\"\")","v":""},{"$f":"IF(F$1<>\"\",IF($A748<>\"\",COUNT(カテゴリースコア!P750),\"\"),\"\")","v":""},{"$f":"IF(G$1<>\"\",IF($A748<>\"\",COUNT(カテゴリースコア!Q750),\"\"),\"\")","v":""},{"$f":"IF(H$1<>\"\",IF($A748<>\"\",COUNT(カテゴリースコア!R750),\"\"),\"\")","v":""},{"$f":"IF(I$1<>\"\",IF($A748<>\"\",COUNT(カテゴリースコア!S750),\"\"),\"\")","v":""},{"$f":"IF(J$1<>\"\",IF($A748<>\"\",COUNT(カテゴリースコア!T750),\"\"),\"\")","v":""},{"$f":"IF(K$1<>\"\",IF($A748<>\"\",COUNT(カテゴリースコア!U750),\"\"),\"\")","v":""}]
[{"$f":"IF(データセット1!C749<>\"\",データセット1!C749,\"\")","v":""},{"$f":"IF(データセット1!C749<>\"\",データセット1!D749-カテゴリースコア!$E$11,\"\")","v":""},{"$f":"IF(C$1<>\"\",IF($A749<>\"\",COUNT(カテゴリースコア!M751),\"\"),\"\")","v":""},{"$f":"IF(D$1<>\"\",IF($A749<>\"\",COUNT(カテゴリースコア!N751),\"\"),\"\")","v":""},{"$f":"IF(E$1<>\"\",IF($A749<>\"\",COUNT(カテゴリースコア!O751),\"\"),\"\")","v":""},{"$f":"IF(F$1<>\"\",IF($A749<>\"\",COUNT(カテゴリースコア!P751),\"\"),\"\")","v":""},{"$f":"IF(G$1<>\"\",IF($A749<>\"\",COUNT(カテゴリースコア!Q751),\"\"),\"\")","v":""},{"$f":"IF(H$1<>\"\",IF($A749<>\"\",COUNT(カテゴリースコア!R751),\"\"),\"\")","v":""},{"$f":"IF(I$1<>\"\",IF($A749<>\"\",COUNT(カテゴリースコア!S751),\"\"),\"\")","v":""},{"$f":"IF(J$1<>\"\",IF($A749<>\"\",COUNT(カテゴリースコア!T751),\"\"),\"\")","v":""},{"$f":"IF(K$1<>\"\",IF($A749<>\"\",COUNT(カテゴリースコア!U751),\"\"),\"\")","v":""}]
[{"$f":"IF(データセット1!C750<>\"\",データセット1!C750,\"\")","v":""},{"$f":"IF(データセット1!C750<>\"\",データセット1!D750-カテゴリースコア!$E$11,\"\")","v":""},{"$f":"IF(C$1<>\"\",IF($A750<>\"\",COUNT(カテゴリースコア!M752),\"\"),\"\")","v":""},{"$f":"IF(D$1<>\"\",IF($A750<>\"\",COUNT(カテゴリースコア!N752),\"\"),\"\")","v":""},{"$f":"IF(E$1<>\"\",IF($A750<>\"\",COUNT(カテゴリースコア!O752),\"\"),\"\")","v":""},{"$f":"IF(F$1<>\"\",IF($A750<>\"\",COUNT(カテゴリースコア!P752),\"\"),\"\")","v":""},{"$f":"IF(G$1<>\"\",IF($A750<>\"\",COUNT(カテゴリースコア!Q752),\"\"),\"\")","v":""},{"$f":"IF(H$1<>\"\",IF($A750<>\"\",COUNT(カテゴリースコア!R752),\"\"),\"\")","v":""},{"$f":"IF(I$1<>\"\",IF($A750<>\"\",COUNT(カテゴリースコア!S752),\"\"),\"\")","v":""},{"$f":"IF(J$1<>\"\",IF($A750<>\"\",COUNT(カテゴリースコア!T752),\"\"),\"\")","v":""},{"$f":"IF(K$1<>\"\",IF($A750<>\"\",COUNT(カテゴリースコア!U752),\"\"),\"\")","v":""}]
[{"$f":"IF(データセット1!C751<>\"\",データセット1!C751,\"\")","v":""},{"$f":"IF(データセット1!C751<>\"\",データセット1!D751-カテゴリースコア!$E$11,\"\")","v":""},{"$f":"IF(C$1<>\"\",IF($A751<>\"\",COUNT(カテゴリースコア!M753),\"\"),\"\")","v":""},{"$f":"IF(D$1<>\"\",IF($A751<>\"\",COUNT(カテゴリースコア!N753),\"\"),\"\")","v":""},{"$f":"IF(E$1<>\"\",IF($A751<>\"\",COUNT(カテゴリースコア!O753),\"\"),\"\")","v":""},{"$f":"IF(F$1<>\"\",IF($A751<>\"\",COUNT(カテゴリースコア!P753),\"\"),\"\")","v":""},{"$f":"IF(G$1<>\"\",IF($A751<>\"\",COUNT(カテゴリースコア!Q753),\"\"),\"\")","v":""},{"$f":"IF(H$1<>\"\",IF($A751<>\"\",COUNT(カテゴリースコア!R753),\"\"),\"\")","v":""},{"$f":"IF(I$1<>\"\",IF($A751<>\"\",COUNT(カテゴリースコア!S753),\"\"),\"\")","v":""},{"$f":"IF(J$1<>\"\",IF($A751<>\"\",COUNT(カテゴリースコア!T753),\"\"),\"\")","v":""},{"$f":"IF(K$1<>\"\",IF($A751<>\"\",COUNT(カテゴリースコア!U753),\"\"),\"\")","v":""}]
[{"$f":"IF(データセット1!C752<>\"\",データセット1!C752,\"\")","v":""},{"$f":"IF(データセット1!C752<>\"\",データセット1!D752-カテゴリースコア!$E$11,\"\")","v":""},{"$f":"IF(C$1<>\"\",IF($A752<>\"\",COUNT(カテゴリースコア!M754),\"\"),\"\")","v":""},{"$f":"IF(D$1<>\"\",IF($A752<>\"\",COUNT(カテゴリースコア!N754),\"\"),\"\")","v":""},{"$f":"IF(E$1<>\"\",IF($A752<>\"\",COUNT(カテゴリースコア!O754),\"\"),\"\")","v":""},{"$f":"IF(F$1<>\"\",IF($A752<>\"\",COUNT(カテゴリースコア!P754),\"\"),\"\")","v":""},{"$f":"IF(G$1<>\"\",IF($A752<>\"\",COUNT(カテゴリースコア!Q754),\"\"),\"\")","v":""},{"$f":"IF(H$1<>\"\",IF($A752<>\"\",COUNT(カテゴリースコア!R754),\"\"),\"\")","v":""},{"$f":"IF(I$1<>\"\",IF($A752<>\"\",COUNT(カテゴリースコア!S754),\"\"),\"\")","v":""},{"$f":"IF(J$1<>\"\",IF($A752<>\"\",COUNT(カテゴリースコア!T754),\"\"),\"\")","v":""},{"$f":"IF(K$1<>\"\",IF($A752<>\"\",COUNT(カテゴリースコア!U754),\"\"),\"\")","v":""}]
[{"$f":"IF(データセット1!C753<>\"\",データセット1!C753,\"\")","v":""},{"$f":"IF(データセット1!C753<>\"\",データセット1!D753-カテゴリースコア!$E$11,\"\")","v":""},{"$f":"IF(C$1<>\"\",IF($A753<>\"\",COUNT(カテゴリースコア!M755),\"\"),\"\")","v":""},{"$f":"IF(D$1<>\"\",IF($A753<>\"\",COUNT(カテゴリースコア!N755),\"\"),\"\")","v":""},{"$f":"IF(E$1<>\"\",IF($A753<>\"\",COUNT(カテゴリースコア!O755),\"\"),\"\")","v":""},{"$f":"IF(F$1<>\"\",IF($A753<>\"\",COUNT(カテゴリースコア!P755),\"\"),\"\")","v":""},{"$f":"IF(G$1<>\"\",IF($A753<>\"\",COUNT(カテゴリースコア!Q755),\"\"),\"\")","v":""},{"$f":"IF(H$1<>\"\",IF($A753<>\"\",COUNT(カテゴリースコア!R755),\"\"),\"\")","v":""},{"$f":"IF(I$1<>\"\",IF($A753<>\"\",COUNT(カテゴリースコア!S755),\"\"),\"\")","v":""},{"$f":"IF(J$1<>\"\",IF($A753<>\"\",COUNT(カテゴリースコア!T755),\"\"),\"\")","v":""},{"$f":"IF(K$1<>\"\",IF($A753<>\"\",COUNT(カテゴリースコア!U755),\"\"),\"\")","v":""}]
[{"$f":"IF(データセット1!C754<>\"\",データセット1!C754,\"\")","v":""},{"$f":"IF(データセット1!C754<>\"\",データセット1!D754-カテゴリースコア!$E$11,\"\")","v":""},{"$f":"IF(C$1<>\"\",IF($A754<>\"\",COUNT(カテゴリースコア!M756),\"\"),\"\")","v":""},{"$f":"IF(D$1<>\"\",IF($A754<>\"\",COUNT(カテゴリースコア!N756),\"\"),\"\")","v":""},{"$f":"IF(E$1<>\"\",IF($A754<>\"\",COUNT(カテゴリースコア!O756),\"\"),\"\")","v":""},{"$f":"IF(F$1<>\"\",IF($A754<>\"\",COUNT(カテゴリースコア!P756),\"\"),\"\")","v":""},{"$f":"IF(G$1<>\"\",IF($A754<>\"\",COUNT(カテゴリースコア!Q756),\"\"),\"\")","v":""},{"$f":"IF(H$1<>\"\",IF($A754<>\"\",COUNT(カテゴリースコア!R756),\"\"),\"\")","v":""},{"$f":"IF(I$1<>\"\",IF($A754<>\"\",COUNT(カテゴリースコア!S756),\"\"),\"\")","v":""},{"$f":"IF(J$1<>\"\",IF($A754<>\"\",COUNT(カテゴリースコア!T756),\"\"),\"\")","v":""},{"$f":"IF(K$1<>\"\",IF($A754<>\"\",COUNT(カテゴリースコア!U756),\"\"),\"\")","v":""}]
[{"$f":"IF(データセット1!C755<>\"\",データセット1!C755,\"\")","v":""},{"$f":"IF(データセット1!C755<>\"\",データセット1!D755-カテゴリースコア!$E$11,\"\")","v":""},{"$f":"IF(C$1<>\"\",IF($A755<>\"\",COUNT(カテゴリースコア!M757),\"\"),\"\")","v":""},{"$f":"IF(D$1<>\"\",IF($A755<>\"\",COUNT(カテゴリースコア!N757),\"\"),\"\")","v":""},{"$f":"IF(E$1<>\"\",IF($A755<>\"\",COUNT(カテゴリースコア!O757),\"\"),\"\")","v":""},{"$f":"IF(F$1<>\"\",IF($A755<>\"\",COUNT(カテゴリースコア!P757),\"\"),\"\")","v":""},{"$f":"IF(G$1<>\"\",IF($A755<>\"\",COUNT(カテゴリースコア!Q757),\"\"),\"\")","v":""},{"$f":"IF(H$1<>\"\",IF($A755<>\"\",COUNT(カテゴリースコア!R757),\"\"),\"\")","v":""},{"$f":"IF(I$1<>\"\",IF($A755<>\"\",COUNT(カテゴリースコア!S757),\"\"),\"\")","v":""},{"$f":"IF(J$1<>\"\",IF($A755<>\"\",COUNT(カテゴリースコア!T757),\"\"),\"\")","v":""},{"$f":"IF(K$1<>\"\",IF($A755<>\"\",COUNT(カテゴリースコア!U757),\"\"),\"\")","v":""}]
[{"$f":"IF(データセット1!C756<>\"\",データセット1!C756,\"\")","v":""},{"$f":"IF(データセット1!C756<>\"\",データセット1!D756-カテゴリースコア!$E$11,\"\")","v":""},{"$f":"IF(C$1<>\"\",IF($A756<>\"\",COUNT(カテゴリースコア!M758),\"\"),\"\")","v":""},{"$f":"IF(D$1<>\"\",IF($A756<>\"\",COUNT(カテゴリースコア!N758),\"\"),\"\")","v":""},{"$f":"IF(E$1<>\"\",IF($A756<>\"\",COUNT(カテゴリースコア!O758),\"\"),\"\")","v":""},{"$f":"IF(F$1<>\"\",IF($A756<>\"\",COUNT(カテゴリースコア!P758),\"\"),\"\")","v":""},{"$f":"IF(G$1<>\"\",IF($A756<>\"\",COUNT(カテゴリースコア!Q758),\"\"),\"\")","v":""},{"$f":"IF(H$1<>\"\",IF($A756<>\"\",COUNT(カテゴリースコア!R758),\"\"),\"\")","v":""},{"$f":"IF(I$1<>\"\",IF($A756<>\"\",COUNT(カテゴリースコア!S758),\"\"),\"\")","v":""},{"$f":"IF(J$1<>\"\",IF($A756<>\"\",COUNT(カテゴリースコア!T758),\"\"),\"\")","v":""},{"$f":"IF(K$1<>\"\",IF($A756<>\"\",COUNT(カテゴリースコア!U758),\"\"),\"\")","v":""}]
[{"$f":"IF(データセット1!C757<>\"\",データセット1!C757,\"\")","v":""},{"$f":"IF(データセット1!C757<>\"\",データセット1!D757-カテゴリースコア!$E$11,\"\")","v":""},{"$f":"IF(C$1<>\"\",IF($A757<>\"\",COUNT(カテゴリースコア!M759),\"\"),\"\")","v":""},{"$f":"IF(D$1<>\"\",IF($A757<>\"\",COUNT(カテゴリースコア!N759),\"\"),\"\")","v":""},{"$f":"IF(E$1<>\"\",IF($A757<>\"\",COUNT(カテゴリースコア!O759),\"\"),\"\")","v":""},{"$f":"IF(F$1<>\"\",IF($A757<>\"\",COUNT(カテゴリースコア!P759),\"\"),\"\")","v":""},{"$f":"IF(G$1<>\"\",IF($A757<>\"\",COUNT(カテゴリースコア!Q759),\"\"),\"\")","v":""},{"$f":"IF(H$1<>\"\",IF($A757<>\"\",COUNT(カテゴリースコア!R759),\"\"),\"\")","v":""},{"$f":"IF(I$1<>\"\",IF($A757<>\"\",COUNT(カテゴリースコア!S759),\"\"),\"\")","v":""},{"$f":"IF(J$1<>\"\",IF($A757<>\"\",COUNT(カテゴリースコア!T759),\"\"),\"\")","v":""},{"$f":"IF(K$1<>\"\",IF($A757<>\"\",COUNT(カテゴリースコア!U759),\"\"),\"\")","v":""}]
[{"$f":"IF(データセット1!C758<>\"\",データセット1!C758,\"\")","v":""},{"$f":"IF(データセット1!C758<>\"\",データセット1!D758-カテゴリースコア!$E$11,\"\")","v":""},{"$f":"IF(C$1<>\"\",IF($A758<>\"\",COUNT(カテゴリースコア!M760),\"\"),\"\")","v":""},{"$f":"IF(D$1<>\"\",IF($A758<>\"\",COUNT(カテゴリースコア!N760),\"\"),\"\")","v":""},{"$f":"IF(E$1<>\"\",IF($A758<>\"\",COUNT(カテゴリースコア!O760),\"\"),\"\")","v":""},{"$f":"IF(F$1<>\"\",IF($A758<>\"\",COUNT(カテゴリースコア!P760),\"\"),\"\")","v":""},{"$f":"IF(G$1<>\"\",IF($A758<>\"\",COUNT(カテゴリースコア!Q760),\"\"),\"\")","v":""},{"$f":"IF(H$1<>\"\",IF($A758<>\"\",COUNT(カテゴリースコア!R760),\"\"),\"\")","v":""},{"$f":"IF(I$1<>\"\",IF($A758<>\"\",COUNT(カテゴリースコア!S760),\"\"),\"\")","v":""},{"$f":"IF(J$1<>\"\",IF($A758<>\"\",COUNT(カテゴリースコア!T760),\"\"),\"\")","v":""},{"$f":"IF(K$1<>\"\",IF($A758<>\"\",COUNT(カテゴリースコア!U760),\"\"),\"\")","v":""}]
[{"$f":"IF(データセット1!C759<>\"\",データセット1!C759,\"\")","v":""},{"$f":"IF(データセット1!C759<>\"\",データセット1!D759-カテゴリースコア!$E$11,\"\")","v":""},{"$f":"IF(C$1<>\"\",IF($A759<>\"\",COUNT(カテゴリースコア!M761),\"\"),\"\")","v":""},{"$f":"IF(D$1<>\"\",IF($A759<>\"\",COUNT(カテゴリースコア!N761),\"\"),\"\")","v":""},{"$f":"IF(E$1<>\"\",IF($A759<>\"\",COUNT(カテゴリースコア!O761),\"\"),\"\")","v":""},{"$f":"IF(F$1<>\"\",IF($A759<>\"\",COUNT(カテゴリースコア!P761),\"\"),\"\")","v":""},{"$f":"IF(G$1<>\"\",IF($A759<>\"\",COUNT(カテゴリースコア!Q761),\"\"),\"\")","v":""},{"$f":"IF(H$1<>\"\",IF($A759<>\"\",COUNT(カテゴリースコア!R761),\"\"),\"\")","v":""},{"$f":"IF(I$1<>\"\",IF($A759<>\"\",COUNT(カテゴリースコア!S761),\"\"),\"\")","v":""},{"$f":"IF(J$1<>\"\",IF($A759<>\"\",COUNT(カテゴリースコア!T761),\"\"),\"\")","v":""},{"$f":"IF(K$1<>\"\",IF($A759<>\"\",COUNT(カテゴリースコア!U761),\"\"),\"\")","v":""}]
[{"$f":"IF(データセット1!C760<>\"\",データセット1!C760,\"\")","v":""},{"$f":"IF(データセット1!C760<>\"\",データセット1!D760-カテゴリースコア!$E$11,\"\")","v":""},{"$f":"IF(C$1<>\"\",IF($A760<>\"\",COUNT(カテゴリースコア!M762),\"\"),\"\")","v":""},{"$f":"IF(D$1<>\"\",IF($A760<>\"\",COUNT(カテゴリースコア!N762),\"\"),\"\")","v":""},{"$f":"IF(E$1<>\"\",IF($A760<>\"\",COUNT(カテゴリースコア!O762),\"\"),\"\")","v":""},{"$f":"IF(F$1<>\"\",IF($A760<>\"\",COUNT(カテゴリースコア!P762),\"\"),\"\")","v":""},{"$f":"IF(G$1<>\"\",IF($A760<>\"\",COUNT(カテゴリースコア!Q762),\"\"),\"\")","v":""},{"$f":"IF(H$1<>\"\",IF($A760<>\"\",COUNT(カテゴリースコア!R762),\"\"),\"\")","v":""},{"$f":"IF(I$1<>\"\",IF($A760<>\"\",COUNT(カテゴリースコア!S762),\"\"),\"\")","v":""},{"$f":"IF(J$1<>\"\",IF($A760<>\"\",COUNT(カテゴリースコア!T762),\"\"),\"\")","v":""},{"$f":"IF(K$1<>\"\",IF($A760<>\"\",COUNT(カテゴリースコア!U762),\"\"),\"\")","v":""}]
[{"$f":"IF(データセット1!C761<>\"\",データセット1!C761,\"\")","v":""},{"$f":"IF(データセット1!C761<>\"\",データセット1!D761-カテゴリースコア!$E$11,\"\")","v":""},{"$f":"IF(C$1<>\"\",IF($A761<>\"\",COUNT(カテゴリースコア!M763),\"\"),\"\")","v":""},{"$f":"IF(D$1<>\"\",IF($A761<>\"\",COUNT(カテゴリースコア!N763),\"\"),\"\")","v":""},{"$f":"IF(E$1<>\"\",IF($A761<>\"\",COUNT(カテゴリースコア!O763),\"\"),\"\")","v":""},{"$f":"IF(F$1<>\"\",IF($A761<>\"\",COUNT(カテゴリースコア!P763),\"\"),\"\")","v":""},{"$f":"IF(G$1<>\"\",IF($A761<>\"\",COUNT(カテゴリースコア!Q763),\"\"),\"\")","v":""},{"$f":"IF(H$1<>\"\",IF($A761<>\"\",COUNT(カテゴリースコア!R763),\"\"),\"\")","v":""},{"$f":"IF(I$1<>\"\",IF($A761<>\"\",COUNT(カテゴリースコア!S763),\"\"),\"\")","v":""},{"$f":"IF(J$1<>\"\",IF($A761<>\"\",COUNT(カテゴリースコア!T763),\"\"),\"\")","v":""},{"$f":"IF(K$1<>\"\",IF($A761<>\"\",COUNT(カテゴリースコア!U763),\"\"),\"\")","v":""}]
[{"$f":"IF(データセット1!C762<>\"\",データセット1!C762,\"\")","v":""},{"$f":"IF(データセット1!C762<>\"\",データセット1!D762-カテゴリースコア!$E$11,\"\")","v":""},{"$f":"IF(C$1<>\"\",IF($A762<>\"\",COUNT(カテゴリースコア!M764),\"\"),\"\")","v":""},{"$f":"IF(D$1<>\"\",IF($A762<>\"\",COUNT(カテゴリースコア!N764),\"\"),\"\")","v":""},{"$f":"IF(E$1<>\"\",IF($A762<>\"\",COUNT(カテゴリースコア!O764),\"\"),\"\")","v":""},{"$f":"IF(F$1<>\"\",IF($A762<>\"\",COUNT(カテゴリースコア!P764),\"\"),\"\")","v":""},{"$f":"IF(G$1<>\"\",IF($A762<>\"\",COUNT(カテゴリースコア!Q764),\"\"),\"\")","v":""},{"$f":"IF(H$1<>\"\",IF($A762<>\"\",COUNT(カテゴリースコア!R764),\"\"),\"\")","v":""},{"$f":"IF(I$1<>\"\",IF($A762<>\"\",COUNT(カテゴリースコア!S764),\"\"),\"\")","v":""},{"$f":"IF(J$1<>\"\",IF($A762<>\"\",COUNT(カテゴリースコア!T764),\"\"),\"\")","v":""},{"$f":"IF(K$1<>\"\",IF($A762<>\"\",COUNT(カテゴリースコア!U764),\"\"),\"\")","v":""}]
[{"$f":"IF(データセット1!C763<>\"\",データセット1!C763,\"\")","v":""},{"$f":"IF(データセット1!C763<>\"\",データセット1!D763-カテゴリースコア!$E$11,\"\")","v":""},{"$f":"IF(C$1<>\"\",IF($A763<>\"\",COUNT(カテゴリースコア!M765),\"\"),\"\")","v":""},{"$f":"IF(D$1<>\"\",IF($A763<>\"\",COUNT(カテゴリースコア!N765),\"\"),\"\")","v":""},{"$f":"IF(E$1<>\"\",IF($A763<>\"\",COUNT(カテゴリースコア!O765),\"\"),\"\")","v":""},{"$f":"IF(F$1<>\"\",IF($A763<>\"\",COUNT(カテゴリースコア!P765),\"\"),\"\")","v":""},{"$f":"IF(G$1<>\"\",IF($A763<>\"\",COUNT(カテゴリースコア!Q765),\"\"),\"\")","v":""},{"$f":"IF(H$1<>\"\",IF($A763<>\"\",COUNT(カテゴリースコア!R765),\"\"),\"\")","v":""},{"$f":"IF(I$1<>\"\",IF($A763<>\"\",COUNT(カテゴリースコア!S765),\"\"),\"\")","v":""},{"$f":"IF(J$1<>\"\",IF($A763<>\"\",COUNT(カテゴリースコア!T765),\"\"),\"\")","v":""},{"$f":"IF(K$1<>\"\",IF($A763<>\"\",COUNT(カテゴリースコア!U765),\"\"),\"\")","v":""}]
[{"$f":"IF(データセット1!C764<>\"\",データセット1!C764,\"\")","v":""},{"$f":"IF(データセット1!C764<>\"\",データセット1!D764-カテゴリースコア!$E$11,\"\")","v":""},{"$f":"IF(C$1<>\"\",IF($A764<>\"\",COUNT(カテゴリースコア!M766),\"\"),\"\")","v":""},{"$f":"IF(D$1<>\"\",IF($A764<>\"\",COUNT(カテゴリースコア!N766),\"\"),\"\")","v":""},{"$f":"IF(E$1<>\"\",IF($A764<>\"\",COUNT(カテゴリースコア!O766),\"\"),\"\")","v":""},{"$f":"IF(F$1<>\"\",IF($A764<>\"\",COUNT(カテゴリースコア!P766),\"\"),\"\")","v":""},{"$f":"IF(G$1<>\"\",IF($A764<>\"\",COUNT(カテゴリースコア!Q766),\"\"),\"\")","v":""},{"$f":"IF(H$1<>\"\",IF($A764<>\"\",COUNT(カテゴリースコア!R766),\"\"),\"\")","v":""},{"$f":"IF(I$1<>\"\",IF($A764<>\"\",COUNT(カテゴリースコア!S766),\"\"),\"\")","v":""},{"$f":"IF(J$1<>\"\",IF($A764<>\"\",COUNT(カテゴリースコア!T766),\"\"),\"\")","v":""},{"$f":"IF(K$1<>\"\",IF($A764<>\"\",COUNT(カテゴリースコア!U766),\"\"),\"\")","v":""}]
[{"$f":"IF(データセット1!C765<>\"\",データセット1!C765,\"\")","v":""},{"$f":"IF(データセット1!C765<>\"\",データセット1!D765-カテゴリースコア!$E$11,\"\")","v":""},{"$f":"IF(C$1<>\"\",IF($A765<>\"\",COUNT(カテゴリースコア!M767),\"\"),\"\")","v":""},{"$f":"IF(D$1<>\"\",IF($A765<>\"\",COUNT(カテゴリースコア!N767),\"\"),\"\")","v":""},{"$f":"IF(E$1<>\"\",IF($A765<>\"\",COUNT(カテゴリースコア!O767),\"\"),\"\")","v":""},{"$f":"IF(F$1<>\"\",IF($A765<>\"\",COUNT(カテゴリースコア!P767),\"\"),\"\")","v":""},{"$f":"IF(G$1<>\"\",IF($A765<>\"\",COUNT(カテゴリースコア!Q767),\"\"),\"\")","v":""},{"$f":"IF(H$1<>\"\",IF($A765<>\"\",COUNT(カテゴリースコア!R767),\"\"),\"\")","v":""},{"$f":"IF(I$1<>\"\",IF($A765<>\"\",COUNT(カテゴリースコア!S767),\"\"),\"\")","v":""},{"$f":"IF(J$1<>\"\",IF($A765<>\"\",COUNT(カテゴリースコア!T767),\"\"),\"\")","v":""},{"$f":"IF(K$1<>\"\",IF($A765<>\"\",COUNT(カテゴリースコア!U767),\"\"),\"\")","v":""}]
[{"$f":"IF(データセット1!C766<>\"\",データセット1!C766,\"\")","v":""},{"$f":"IF(データセット1!C766<>\"\",データセット1!D766-カテゴリースコア!$E$11,\"\")","v":""},{"$f":"IF(C$1<>\"\",IF($A766<>\"\",COUNT(カテゴリースコア!M768),\"\"),\"\")","v":""},{"$f":"IF(D$1<>\"\",IF($A766<>\"\",COUNT(カテゴリースコア!N768),\"\"),\"\")","v":""},{"$f":"IF(E$1<>\"\",IF($A766<>\"\",COUNT(カテゴリースコア!O768),\"\"),\"\")","v":""},{"$f":"IF(F$1<>\"\",IF($A766<>\"\",COUNT(カテゴリースコア!P768),\"\"),\"\")","v":""},{"$f":"IF(G$1<>\"\",IF($A766<>\"\",COUNT(カテゴリースコア!Q768),\"\"),\"\")","v":""},{"$f":"IF(H$1<>\"\",IF($A766<>\"\",COUNT(カテゴリースコア!R768),\"\"),\"\")","v":""},{"$f":"IF(I$1<>\"\",IF($A766<>\"\",COUNT(カテゴリースコア!S768),\"\"),\"\")","v":""},{"$f":"IF(J$1<>\"\",IF($A766<>\"\",COUNT(カテゴリースコア!T768),\"\"),\"\")","v":""},{"$f":"IF(K$1<>\"\",IF($A766<>\"\",COUNT(カテゴリースコア!U768),\"\"),\"\")","v":""}]
[{"$f":"IF(データセット1!C767<>\"\",データセット1!C767,\"\")","v":""},{"$f":"IF(データセット1!C767<>\"\",データセット1!D767-カテゴリースコア!$E$11,\"\")","v":""},{"$f":"IF(C$1<>\"\",IF($A767<>\"\",COUNT(カテゴリースコア!M769),\"\"),\"\")","v":""},{"$f":"IF(D$1<>\"\",IF($A767<>\"\",COUNT(カテゴリースコア!N769),\"\"),\"\")","v":""},{"$f":"IF(E$1<>\"\",IF($A767<>\"\",COUNT(カテゴリースコア!O769),\"\"),\"\")","v":""},{"$f":"IF(F$1<>\"\",IF($A767<>\"\",COUNT(カテゴリースコア!P769),\"\"),\"\")","v":""},{"$f":"IF(G$1<>\"\",IF($A767<>\"\",COUNT(カテゴリースコア!Q769),\"\"),\"\")","v":""},{"$f":"IF(H$1<>\"\",IF($A767<>\"\",COUNT(カテゴリースコア!R769),\"\"),\"\")","v":""},{"$f":"IF(I$1<>\"\",IF($A767<>\"\",COUNT(カテゴリースコア!S769),\"\"),\"\")","v":""},{"$f":"IF(J$1<>\"\",IF($A767<>\"\",COUNT(カテゴリースコア!T769),\"\"),\"\")","v":""},{"$f":"IF(K$1<>\"\",IF($A767<>\"\",COUNT(カテゴリースコア!U769),\"\"),\"\")","v":""}]
[{"$f":"IF(データセット1!C768<>\"\",データセット1!C768,\"\")","v":""},{"$f":"IF(データセット1!C768<>\"\",データセット1!D768-カテゴリースコア!$E$11,\"\")","v":""},{"$f":"IF(C$1<>\"\",IF($A768<>\"\",COUNT(カテゴリースコア!M770),\"\"),\"\")","v":""},{"$f":"IF(D$1<>\"\",IF($A768<>\"\",COUNT(カテゴリースコア!N770),\"\"),\"\")","v":""},{"$f":"IF(E$1<>\"\",IF($A768<>\"\",COUNT(カテゴリースコア!O770),\"\"),\"\")","v":""},{"$f":"IF(F$1<>\"\",IF($A768<>\"\",COUNT(カテゴリースコア!P770),\"\"),\"\")","v":""},{"$f":"IF(G$1<>\"\",IF($A768<>\"\",COUNT(カテゴリースコア!Q770),\"\"),\"\")","v":""},{"$f":"IF(H$1<>\"\",IF($A768<>\"\",COUNT(カテゴリースコア!R770),\"\"),\"\")","v":""},{"$f":"IF(I$1<>\"\",IF($A768<>\"\",COUNT(カテゴリースコア!S770),\"\"),\"\")","v":""},{"$f":"IF(J$1<>\"\",IF($A768<>\"\",COUNT(カテゴリースコア!T770),\"\"),\"\")","v":""},{"$f":"IF(K$1<>\"\",IF($A768<>\"\",COUNT(カテゴリースコア!U770),\"\"),\"\")","v":""}]
[{"$f":"IF(データセット1!C769<>\"\",データセット1!C769,\"\")","v":""},{"$f":"IF(データセット1!C769<>\"\",データセット1!D769-カテゴリースコア!$E$11,\"\")","v":""},{"$f":"IF(C$1<>\"\",IF($A769<>\"\",COUNT(カテゴリースコア!M771),\"\"),\"\")","v":""},{"$f":"IF(D$1<>\"\",IF($A769<>\"\",COUNT(カテゴリースコア!N771),\"\"),\"\")","v":""},{"$f":"IF(E$1<>\"\",IF($A769<>\"\",COUNT(カテゴリースコア!O771),\"\"),\"\")","v":""},{"$f":"IF(F$1<>\"\",IF($A769<>\"\",COUNT(カテゴリースコア!P771),\"\"),\"\")","v":""},{"$f":"IF(G$1<>\"\",IF($A769<>\"\",COUNT(カテゴリースコア!Q771),\"\"),\"\")","v":""},{"$f":"IF(H$1<>\"\",IF($A769<>\"\",COUNT(カテゴリースコア!R771),\"\"),\"\")","v":""},{"$f":"IF(I$1<>\"\",IF($A769<>\"\",COUNT(カテゴリースコア!S771),\"\"),\"\")","v":""},{"$f":"IF(J$1<>\"\",IF($A769<>\"\",COUNT(カテゴリースコア!T771),\"\"),\"\")","v":""},{"$f":"IF(K$1<>\"\",IF($A769<>\"\",COUNT(カテゴリースコア!U771),\"\"),\"\")","v":""}]
[{"$f":"IF(データセット1!C770<>\"\",データセット1!C770,\"\")","v":""},{"$f":"IF(データセット1!C770<>\"\",データセット1!D770-カテゴリースコア!$E$11,\"\")","v":""},{"$f":"IF(C$1<>\"\",IF($A770<>\"\",COUNT(カテゴリースコア!M772),\"\"),\"\")","v":""},{"$f":"IF(D$1<>\"\",IF($A770<>\"\",COUNT(カテゴリースコア!N772),\"\"),\"\")","v":""},{"$f":"IF(E$1<>\"\",IF($A770<>\"\",COUNT(カテゴリースコア!O772),\"\"),\"\")","v":""},{"$f":"IF(F$1<>\"\",IF($A770<>\"\",COUNT(カテゴリースコア!P772),\"\"),\"\")","v":""},{"$f":"IF(G$1<>\"\",IF($A770<>\"\",COUNT(カテゴリースコア!Q772),\"\"),\"\")","v":""},{"$f":"IF(H$1<>\"\",IF($A770<>\"\",COUNT(カテゴリースコア!R772),\"\"),\"\")","v":""},{"$f":"IF(I$1<>\"\",IF($A770<>\"\",COUNT(カテゴリースコア!S772),\"\"),\"\")","v":""},{"$f":"IF(J$1<>\"\",IF($A770<>\"\",COUNT(カテゴリースコア!T772),\"\"),\"\")","v":""},{"$f":"IF(K$1<>\"\",IF($A770<>\"\",COUNT(カテゴリースコア!U772),\"\"),\"\")","v":""}]
[{"$f":"IF(データセット1!C771<>\"\",データセット1!C771,\"\")","v":""},{"$f":"IF(データセット1!C771<>\"\",データセット1!D771-カテゴリースコア!$E$11,\"\")","v":""},{"$f":"IF(C$1<>\"\",IF($A771<>\"\",COUNT(カテゴリースコア!M773),\"\"),\"\")","v":""},{"$f":"IF(D$1<>\"\",IF($A771<>\"\",COUNT(カテゴリースコア!N773),\"\"),\"\")","v":""},{"$f":"IF(E$1<>\"\",IF($A771<>\"\",COUNT(カテゴリースコア!O773),\"\"),\"\")","v":""},{"$f":"IF(F$1<>\"\",IF($A771<>\"\",COUNT(カテゴリースコア!P773),\"\"),\"\")","v":""},{"$f":"IF(G$1<>\"\",IF($A771<>\"\",COUNT(カテゴリースコア!Q773),\"\"),\"\")","v":""},{"$f":"IF(H$1<>\"\",IF($A771<>\"\",COUNT(カテゴリースコア!R773),\"\"),\"\")","v":""},{"$f":"IF(I$1<>\"\",IF($A771<>\"\",COUNT(カテゴリースコア!S773),\"\"),\"\")","v":""},{"$f":"IF(J$1<>\"\",IF($A771<>\"\",COUNT(カテゴリースコア!T773),\"\"),\"\")","v":""},{"$f":"IF(K$1<>\"\",IF($A771<>\"\",COUNT(カテゴリースコア!U773),\"\"),\"\")","v":""}]
[{"$f":"IF(データセット1!C772<>\"\",データセット1!C772,\"\")","v":""},{"$f":"IF(データセット1!C772<>\"\",データセット1!D772-カテゴリースコア!$E$11,\"\")","v":""},{"$f":"IF(C$1<>\"\",IF($A772<>\"\",COUNT(カテゴリースコア!M774),\"\"),\"\")","v":""},{"$f":"IF(D$1<>\"\",IF($A772<>\"\",COUNT(カテゴリースコア!N774),\"\"),\"\")","v":""},{"$f":"IF(E$1<>\"\",IF($A772<>\"\",COUNT(カテゴリースコア!O774),\"\"),\"\")","v":""},{"$f":"IF(F$1<>\"\",IF($A772<>\"\",COUNT(カテゴリースコア!P774),\"\"),\"\")","v":""},{"$f":"IF(G$1<>\"\",IF($A772<>\"\",COUNT(カテゴリースコア!Q774),\"\"),\"\")","v":""},{"$f":"IF(H$1<>\"\",IF($A772<>\"\",COUNT(カテゴリースコア!R774),\"\"),\"\")","v":""},{"$f":"IF(I$1<>\"\",IF($A772<>\"\",COUNT(カテゴリースコア!S774),\"\"),\"\")","v":""},{"$f":"IF(J$1<>\"\",IF($A772<>\"\",COUNT(カテゴリースコア!T774),\"\"),\"\")","v":""},{"$f":"IF(K$1<>\"\",IF($A772<>\"\",COUNT(カテゴリースコア!U774),\"\"),\"\")","v":""}]
[{"$f":"IF(データセット1!C773<>\"\",データセット1!C773,\"\")","v":""},{"$f":"IF(データセット1!C773<>\"\",データセット1!D773-カテゴリースコア!$E$11,\"\")","v":""},{"$f":"IF(C$1<>\"\",IF($A773<>\"\",COUNT(カテゴリースコア!M775),\"\"),\"\")","v":""},{"$f":"IF(D$1<>\"\",IF($A773<>\"\",COUNT(カテゴリースコア!N775),\"\"),\"\")","v":""},{"$f":"IF(E$1<>\"\",IF($A773<>\"\",COUNT(カテゴリースコア!O775),\"\"),\"\")","v":""},{"$f":"IF(F$1<>\"\",IF($A773<>\"\",COUNT(カテゴリースコア!P775),\"\"),\"\")","v":""},{"$f":"IF(G$1<>\"\",IF($A773<>\"\",COUNT(カテゴリースコア!Q775),\"\"),\"\")","v":""},{"$f":"IF(H$1<>\"\",IF($A773<>\"\",COUNT(カテゴリースコア!R775),\"\"),\"\")","v":""},{"$f":"IF(I$1<>\"\",IF($A773<>\"\",COUNT(カテゴリースコア!S775),\"\"),\"\")","v":""},{"$f":"IF(J$1<>\"\",IF($A773<>\"\",COUNT(カテゴリースコア!T775),\"\"),\"\")","v":""},{"$f":"IF(K$1<>\"\",IF($A773<>\"\",COUNT(カテゴリースコア!U775),\"\"),\"\")","v":""}]
[{"$f":"IF(データセット1!C774<>\"\",データセット1!C774,\"\")","v":""},{"$f":"IF(データセット1!C774<>\"\",データセット1!D774-カテゴリースコア!$E$11,\"\")","v":""},{"$f":"IF(C$1<>\"\",IF($A774<>\"\",COUNT(カテゴリースコア!M776),\"\"),\"\")","v":""},{"$f":"IF(D$1<>\"\",IF($A774<>\"\",COUNT(カテゴリースコア!N776),\"\"),\"\")","v":""},{"$f":"IF(E$1<>\"\",IF($A774<>\"\",COUNT(カテゴリースコア!O776),\"\"),\"\")","v":""},{"$f":"IF(F$1<>\"\",IF($A774<>\"\",COUNT(カテゴリースコア!P776),\"\"),\"\")","v":""},{"$f":"IF(G$1<>\"\",IF($A774<>\"\",COUNT(カテゴリースコア!Q776),\"\"),\"\")","v":""},{"$f":"IF(H$1<>\"\",IF($A774<>\"\",COUNT(カテゴリースコア!R776),\"\"),\"\")","v":""},{"$f":"IF(I$1<>\"\",IF($A774<>\"\",COUNT(カテゴリースコア!S776),\"\"),\"\")","v":""},{"$f":"IF(J$1<>\"\",IF($A774<>\"\",COUNT(カテゴリースコア!T776),\"\"),\"\")","v":""},{"$f":"IF(K$1<>\"\",IF($A774<>\"\",COUNT(カテゴリースコア!U776),\"\"),\"\")","v":""}]
[{"$f":"IF(データセット1!C775<>\"\",データセット1!C775,\"\")","v":""},{"$f":"IF(データセット1!C775<>\"\",データセット1!D775-カテゴリースコア!$E$11,\"\")","v":""},{"$f":"IF(C$1<>\"\",IF($A775<>\"\",COUNT(カテゴリースコア!M777),\"\"),\"\")","v":""},{"$f":"IF(D$1<>\"\",IF($A775<>\"\",COUNT(カテゴリースコア!N777),\"\"),\"\")","v":""},{"$f":"IF(E$1<>\"\",IF($A775<>\"\",COUNT(カテゴリースコア!O777),\"\"),\"\")","v":""},{"$f":"IF(F$1<>\"\",IF($A775<>\"\",COUNT(カテゴリースコア!P777),\"\"),\"\")","v":""},{"$f":"IF(G$1<>\"\",IF($A775<>\"\",COUNT(カテゴリースコア!Q777),\"\"),\"\")","v":""},{"$f":"IF(H$1<>\"\",IF($A775<>\"\",COUNT(カテゴリースコア!R777),\"\"),\"\")","v":""},{"$f":"IF(I$1<>\"\",IF($A775<>\"\",COUNT(カテゴリースコア!S777),\"\"),\"\")","v":""},{"$f":"IF(J$1<>\"\",IF($A775<>\"\",COUNT(カテゴリースコア!T777),\"\"),\"\")","v":""},{"$f":"IF(K$1<>\"\",IF($A775<>\"\",COUNT(カテゴリースコア!U777),\"\"),\"\")","v":""}]
[{"$f":"IF(データセット1!C776<>\"\",データセット1!C776,\"\")","v":""},{"$f":"IF(データセット1!C776<>\"\",データセット1!D776-カテゴリースコア!$E$11,\"\")","v":""},{"$f":"IF(C$1<>\"\",IF($A776<>\"\",COUNT(カテゴリースコア!M778),\"\"),\"\")","v":""},{"$f":"IF(D$1<>\"\",IF($A776<>\"\",COUNT(カテゴリースコア!N778),\"\"),\"\")","v":""},{"$f":"IF(E$1<>\"\",IF($A776<>\"\",COUNT(カテゴリースコア!O778),\"\"),\"\")","v":""},{"$f":"IF(F$1<>\"\",IF($A776<>\"\",COUNT(カテゴリースコア!P778),\"\"),\"\")","v":""},{"$f":"IF(G$1<>\"\",IF($A776<>\"\",COUNT(カテゴリースコア!Q778),\"\"),\"\")","v":""},{"$f":"IF(H$1<>\"\",IF($A776<>\"\",COUNT(カテゴリースコア!R778),\"\"),\"\")","v":""},{"$f":"IF(I$1<>\"\",IF($A776<>\"\",COUNT(カテゴリースコア!S778),\"\"),\"\")","v":""},{"$f":"IF(J$1<>\"\",IF($A776<>\"\",COUNT(カテゴリースコア!T778),\"\"),\"\")","v":""},{"$f":"IF(K$1<>\"\",IF($A776<>\"\",COUNT(カテゴリースコア!U778),\"\"),\"\")","v":""}]
[{"$f":"IF(データセット1!C777<>\"\",データセット1!C777,\"\")","v":""},{"$f":"IF(データセット1!C777<>\"\",データセット1!D777-カテゴリースコア!$E$11,\"\")","v":""},{"$f":"IF(C$1<>\"\",IF($A777<>\"\",COUNT(カテゴリースコア!M779),\"\"),\"\")","v":""},{"$f":"IF(D$1<>\"\",IF($A777<>\"\",COUNT(カテゴリースコア!N779),\"\"),\"\")","v":""},{"$f":"IF(E$1<>\"\",IF($A777<>\"\",COUNT(カテゴリースコア!O779),\"\"),\"\")","v":""},{"$f":"IF(F$1<>\"\",IF($A777<>\"\",COUNT(カテゴリースコア!P779),\"\"),\"\")","v":""},{"$f":"IF(G$1<>\"\",IF($A777<>\"\",COUNT(カテゴリースコア!Q779),\"\"),\"\")","v":""},{"$f":"IF(H$1<>\"\",IF($A777<>\"\",COUNT(カテゴリースコア!R779),\"\"),\"\")","v":""},{"$f":"IF(I$1<>\"\",IF($A777<>\"\",COUNT(カテゴリースコア!S779),\"\"),\"\")","v":""},{"$f":"IF(J$1<>\"\",IF($A777<>\"\",COUNT(カテゴリースコア!T779),\"\"),\"\")","v":""},{"$f":"IF(K$1<>\"\",IF($A777<>\"\",COUNT(カテゴリースコア!U779),\"\"),\"\")","v":""}]
[{"$f":"IF(データセット1!C778<>\"\",データセット1!C778,\"\")","v":""},{"$f":"IF(データセット1!C778<>\"\",データセット1!D778-カテゴリースコア!$E$11,\"\")","v":""},{"$f":"IF(C$1<>\"\",IF($A778<>\"\",COUNT(カテゴリースコア!M780),\"\"),\"\")","v":""},{"$f":"IF(D$1<>\"\",IF($A778<>\"\",COUNT(カテゴリースコア!N780),\"\"),\"\")","v":""},{"$f":"IF(E$1<>\"\",IF($A778<>\"\",COUNT(カテゴリースコア!O780),\"\"),\"\")","v":""},{"$f":"IF(F$1<>\"\",IF($A778<>\"\",COUNT(カテゴリースコア!P780),\"\"),\"\")","v":""},{"$f":"IF(G$1<>\"\",IF($A778<>\"\",COUNT(カテゴリースコア!Q780),\"\"),\"\")","v":""},{"$f":"IF(H$1<>\"\",IF($A778<>\"\",COUNT(カテゴリースコア!R780),\"\"),\"\")","v":""},{"$f":"IF(I$1<>\"\",IF($A778<>\"\",COUNT(カテゴリースコア!S780),\"\"),\"\")","v":""},{"$f":"IF(J$1<>\"\",IF($A778<>\"\",COUNT(カテゴリースコア!T780),\"\"),\"\")","v":""},{"$f":"IF(K$1<>\"\",IF($A778<>\"\",COUNT(カテゴリースコア!U780),\"\"),\"\")","v":""}]
[{"$f":"IF(データセット1!C779<>\"\",データセット1!C779,\"\")","v":""},{"$f":"IF(データセット1!C779<>\"\",データセット1!D779-カテゴリースコア!$E$11,\"\")","v":""},{"$f":"IF(C$1<>\"\",IF($A779<>\"\",COUNT(カテゴリースコア!M781),\"\"),\"\")","v":""},{"$f":"IF(D$1<>\"\",IF($A779<>\"\",COUNT(カテゴリースコア!N781),\"\"),\"\")","v":""},{"$f":"IF(E$1<>\"\",IF($A779<>\"\",COUNT(カテゴリースコア!O781),\"\"),\"\")","v":""},{"$f":"IF(F$1<>\"\",IF($A779<>\"\",COUNT(カテゴリースコア!P781),\"\"),\"\")","v":""},{"$f":"IF(G$1<>\"\",IF($A779<>\"\",COUNT(カテゴリースコア!Q781),\"\"),\"\")","v":""},{"$f":"IF(H$1<>\"\",IF($A779<>\"\",COUNT(カテゴリースコア!R781),\"\"),\"\")","v":""},{"$f":"IF(I$1<>\"\",IF($A779<>\"\",COUNT(カテゴリースコア!S781),\"\"),\"\")","v":""},{"$f":"IF(J$1<>\"\",IF($A779<>\"\",COUNT(カテゴリースコア!T781),\"\"),\"\")","v":""},{"$f":"IF(K$1<>\"\",IF($A779<>\"\",COUNT(カテゴリースコア!U781),\"\"),\"\")","v":""}]
[{"$f":"IF(データセット1!C780<>\"\",データセット1!C780,\"\")","v":""},{"$f":"IF(データセット1!C780<>\"\",データセット1!D780-カテゴリースコア!$E$11,\"\")","v":""},{"$f":"IF(C$1<>\"\",IF($A780<>\"\",COUNT(カテゴリースコア!M782),\"\"),\"\")","v":""},{"$f":"IF(D$1<>\"\",IF($A780<>\"\",COUNT(カテゴリースコア!N782),\"\"),\"\")","v":""},{"$f":"IF(E$1<>\"\",IF($A780<>\"\",COUNT(カテゴリースコア!O782),\"\"),\"\")","v":""},{"$f":"IF(F$1<>\"\",IF($A780<>\"\",COUNT(カテゴリースコア!P782),\"\"),\"\")","v":""},{"$f":"IF(G$1<>\"\",IF($A780<>\"\",COUNT(カテゴリースコア!Q782),\"\"),\"\")","v":""},{"$f":"IF(H$1<>\"\",IF($A780<>\"\",COUNT(カテゴリースコア!R782),\"\"),\"\")","v":""},{"$f":"IF(I$1<>\"\",IF($A780<>\"\",COUNT(カテゴリースコア!S782),\"\"),\"\")","v":""},{"$f":"IF(J$1<>\"\",IF($A780<>\"\",COUNT(カテゴリースコア!T782),\"\"),\"\")","v":""},{"$f":"IF(K$1<>\"\",IF($A780<>\"\",COUNT(カテゴリースコア!U782),\"\"),\"\")","v":""}]
[{"$f":"IF(データセット1!C781<>\"\",データセット1!C781,\"\")","v":""},{"$f":"IF(データセット1!C781<>\"\",データセット1!D781-カテゴリースコア!$E$11,\"\")","v":""},{"$f":"IF(C$1<>\"\",IF($A781<>\"\",COUNT(カテゴリースコア!M783),\"\"),\"\")","v":""},{"$f":"IF(D$1<>\"\",IF($A781<>\"\",COUNT(カテゴリースコア!N783),\"\"),\"\")","v":""},{"$f":"IF(E$1<>\"\",IF($A781<>\"\",COUNT(カテゴリースコア!O783),\"\"),\"\")","v":""},{"$f":"IF(F$1<>\"\",IF($A781<>\"\",COUNT(カテゴリースコア!P783),\"\"),\"\")","v":""},{"$f":"IF(G$1<>\"\",IF($A781<>\"\",COUNT(カテゴリースコア!Q783),\"\"),\"\")","v":""},{"$f":"IF(H$1<>\"\",IF($A781<>\"\",COUNT(カテゴリースコア!R783),\"\"),\"\")","v":""},{"$f":"IF(I$1<>\"\",IF($A781<>\"\",COUNT(カテゴリースコア!S783),\"\"),\"\")","v":""},{"$f":"IF(J$1<>\"\",IF($A781<>\"\",COUNT(カテゴリースコア!T783),\"\"),\"\")","v":""},{"$f":"IF(K$1<>\"\",IF($A781<>\"\",COUNT(カテゴリースコア!U783),\"\"),\"\")","v":""}]
[{"$f":"IF(データセット1!C782<>\"\",データセット1!C782,\"\")","v":""},{"$f":"IF(データセット1!C782<>\"\",データセット1!D782-カテゴリースコア!$E$11,\"\")","v":""},{"$f":"IF(C$1<>\"\",IF($A782<>\"\",COUNT(カテゴリースコア!M784),\"\"),\"\")","v":""},{"$f":"IF(D$1<>\"\",IF($A782<>\"\",COUNT(カテゴリースコア!N784),\"\"),\"\")","v":""},{"$f":"IF(E$1<>\"\",IF($A782<>\"\",COUNT(カテゴリースコア!O784),\"\"),\"\")","v":""},{"$f":"IF(F$1<>\"\",IF($A782<>\"\",COUNT(カテゴリースコア!P784),\"\"),\"\")","v":""},{"$f":"IF(G$1<>\"\",IF($A782<>\"\",COUNT(カテゴリースコア!Q784),\"\"),\"\")","v":""},{"$f":"IF(H$1<>\"\",IF($A782<>\"\",COUNT(カテゴリースコア!R784),\"\"),\"\")","v":""},{"$f":"IF(I$1<>\"\",IF($A782<>\"\",COUNT(カテゴリースコア!S784),\"\"),\"\")","v":""},{"$f":"IF(J$1<>\"\",IF($A782<>\"\",COUNT(カテゴリースコア!T784),\"\"),\"\")","v":""},{"$f":"IF(K$1<>\"\",IF($A782<>\"\",COUNT(カテゴリースコア!U784),\"\"),\"\")","v":""}]
[{"$f":"IF(データセット1!C783<>\"\",データセット1!C783,\"\")","v":""},{"$f":"IF(データセット1!C783<>\"\",データセット1!D783-カテゴリースコア!$E$11,\"\")","v":""},{"$f":"IF(C$1<>\"\",IF($A783<>\"\",COUNT(カテゴリースコア!M785),\"\"),\"\")","v":""},{"$f":"IF(D$1<>\"\",IF($A783<>\"\",COUNT(カテゴリースコア!N785),\"\"),\"\")","v":""},{"$f":"IF(E$1<>\"\",IF($A783<>\"\",COUNT(カテゴリースコア!O785),\"\"),\"\")","v":""},{"$f":"IF(F$1<>\"\",IF($A783<>\"\",COUNT(カテゴリースコア!P785),\"\"),\"\")","v":""},{"$f":"IF(G$1<>\"\",IF($A783<>\"\",COUNT(カテゴリースコア!Q785),\"\"),\"\")","v":""},{"$f":"IF(H$1<>\"\",IF($A783<>\"\",COUNT(カテゴリースコア!R785),\"\"),\"\")","v":""},{"$f":"IF(I$1<>\"\",IF($A783<>\"\",COUNT(カテゴリースコア!S785),\"\"),\"\")","v":""},{"$f":"IF(J$1<>\"\",IF($A783<>\"\",COUNT(カテゴリースコア!T785),\"\"),\"\")","v":""},{"$f":"IF(K$1<>\"\",IF($A783<>\"\",COUNT(カテゴリースコア!U785),\"\"),\"\")","v":""}]
[{"$f":"IF(データセット1!C784<>\"\",データセット1!C784,\"\")","v":""},{"$f":"IF(データセット1!C784<>\"\",データセット1!D784-カテゴリースコア!$E$11,\"\")","v":""},{"$f":"IF(C$1<>\"\",IF($A784<>\"\",COUNT(カテゴリースコア!M786),\"\"),\"\")","v":""},{"$f":"IF(D$1<>\"\",IF($A784<>\"\",COUNT(カテゴリースコア!N786),\"\"),\"\")","v":""},{"$f":"IF(E$1<>\"\",IF($A784<>\"\",COUNT(カテゴリースコア!O786),\"\"),\"\")","v":""},{"$f":"IF(F$1<>\"\",IF($A784<>\"\",COUNT(カテゴリースコア!P786),\"\"),\"\")","v":""},{"$f":"IF(G$1<>\"\",IF($A784<>\"\",COUNT(カテゴリースコア!Q786),\"\"),\"\")","v":""},{"$f":"IF(H$1<>\"\",IF($A784<>\"\",COUNT(カテゴリースコア!R786),\"\"),\"\")","v":""},{"$f":"IF(I$1<>\"\",IF($A784<>\"\",COUNT(カテゴリースコア!S786),\"\"),\"\")","v":""},{"$f":"IF(J$1<>\"\",IF($A784<>\"\",COUNT(カテゴリースコア!T786),\"\"),\"\")","v":""},{"$f":"IF(K$1<>\"\",IF($A784<>\"\",COUNT(カテゴリースコア!U786),\"\"),\"\")","v":""}]
[{"$f":"IF(データセット1!C785<>\"\",データセット1!C785,\"\")","v":""},{"$f":"IF(データセット1!C785<>\"\",データセット1!D785-カテゴリースコア!$E$11,\"\")","v":""},{"$f":"IF(C$1<>\"\",IF($A785<>\"\",COUNT(カテゴリースコア!M787),\"\"),\"\")","v":""},{"$f":"IF(D$1<>\"\",IF($A785<>\"\",COUNT(カテゴリースコア!N787),\"\"),\"\")","v":""},{"$f":"IF(E$1<>\"\",IF($A785<>\"\",COUNT(カテゴリースコア!O787),\"\"),\"\")","v":""},{"$f":"IF(F$1<>\"\",IF($A785<>\"\",COUNT(カテゴリースコア!P787),\"\"),\"\")","v":""},{"$f":"IF(G$1<>\"\",IF($A785<>\"\",COUNT(カテゴリースコア!Q787),\"\"),\"\")","v":""},{"$f":"IF(H$1<>\"\",IF($A785<>\"\",COUNT(カテゴリースコア!R787),\"\"),\"\")","v":""},{"$f":"IF(I$1<>\"\",IF($A785<>\"\",COUNT(カテゴリースコア!S787),\"\"),\"\")","v":""},{"$f":"IF(J$1<>\"\",IF($A785<>\"\",COUNT(カテゴリースコア!T787),\"\"),\"\")","v":""},{"$f":"IF(K$1<>\"\",IF($A785<>\"\",COUNT(カテゴリースコア!U787),\"\"),\"\")","v":""}]
[{"$f":"IF(データセット1!C786<>\"\",データセット1!C786,\"\")","v":""},{"$f":"IF(データセット1!C786<>\"\",データセット1!D786-カテゴリースコア!$E$11,\"\")","v":""},{"$f":"IF(C$1<>\"\",IF($A786<>\"\",COUNT(カテゴリースコア!M788),\"\"),\"\")","v":""},{"$f":"IF(D$1<>\"\",IF($A786<>\"\",COUNT(カテゴリースコア!N788),\"\"),\"\")","v":""},{"$f":"IF(E$1<>\"\",IF($A786<>\"\",COUNT(カテゴリースコア!O788),\"\"),\"\")","v":""},{"$f":"IF(F$1<>\"\",IF($A786<>\"\",COUNT(カテゴリースコア!P788),\"\"),\"\")","v":""},{"$f":"IF(G$1<>\"\",IF($A786<>\"\",COUNT(カテゴリースコア!Q788),\"\"),\"\")","v":""},{"$f":"IF(H$1<>\"\",IF($A786<>\"\",COUNT(カテゴリースコア!R788),\"\"),\"\")","v":""},{"$f":"IF(I$1<>\"\",IF($A786<>\"\",COUNT(カテゴリースコア!S788),\"\"),\"\")","v":""},{"$f":"IF(J$1<>\"\",IF($A786<>\"\",COUNT(カテゴリースコア!T788),\"\"),\"\")","v":""},{"$f":"IF(K$1<>\"\",IF($A786<>\"\",COUNT(カテゴリースコア!U788),\"\"),\"\")","v":""}]
[{"$f":"IF(データセット1!C787<>\"\",データセット1!C787,\"\")","v":""},{"$f":"IF(データセット1!C787<>\"\",データセット1!D787-カテゴリースコア!$E$11,\"\")","v":""},{"$f":"IF(C$1<>\"\",IF($A787<>\"\",COUNT(カテゴリースコア!M789),\"\"),\"\")","v":""},{"$f":"IF(D$1<>\"\",IF($A787<>\"\",COUNT(カテゴリースコア!N789),\"\"),\"\")","v":""},{"$f":"IF(E$1<>\"\",IF($A787<>\"\",COUNT(カテゴリースコア!O789),\"\"),\"\")","v":""},{"$f":"IF(F$1<>\"\",IF($A787<>\"\",COUNT(カテゴリースコア!P789),\"\"),\"\")","v":""},{"$f":"IF(G$1<>\"\",IF($A787<>\"\",COUNT(カテゴリースコア!Q789),\"\"),\"\")","v":""},{"$f":"IF(H$1<>\"\",IF($A787<>\"\",COUNT(カテゴリースコア!R789),\"\"),\"\")","v":""},{"$f":"IF(I$1<>\"\",IF($A787<>\"\",COUNT(カテゴリースコア!S789),\"\"),\"\")","v":""},{"$f":"IF(J$1<>\"\",IF($A787<>\"\",COUNT(カテゴリースコア!T789),\"\"),\"\")","v":""},{"$f":"IF(K$1<>\"\",IF($A787<>\"\",COUNT(カテゴリースコア!U789),\"\"),\"\")","v":""}]
[{"$f":"IF(データセット1!C788<>\"\",データセット1!C788,\"\")","v":""},{"$f":"IF(データセット1!C788<>\"\",データセット1!D788-カテゴリースコア!$E$11,\"\")","v":""},{"$f":"IF(C$1<>\"\",IF($A788<>\"\",COUNT(カテゴリースコア!M790),\"\"),\"\")","v":""},{"$f":"IF(D$1<>\"\",IF($A788<>\"\",COUNT(カテゴリースコア!N790),\"\"),\"\")","v":""},{"$f":"IF(E$1<>\"\",IF($A788<>\"\",COUNT(カテゴリースコア!O790),\"\"),\"\")","v":""},{"$f":"IF(F$1<>\"\",IF($A788<>\"\",COUNT(カテゴリースコア!P790),\"\"),\"\")","v":""},{"$f":"IF(G$1<>\"\",IF($A788<>\"\",COUNT(カテゴリースコア!Q790),\"\"),\"\")","v":""},{"$f":"IF(H$1<>\"\",IF($A788<>\"\",COUNT(カテゴリースコア!R790),\"\"),\"\")","v":""},{"$f":"IF(I$1<>\"\",IF($A788<>\"\",COUNT(カテゴリースコア!S790),\"\"),\"\")","v":""},{"$f":"IF(J$1<>\"\",IF($A788<>\"\",COUNT(カテゴリースコア!T790),\"\"),\"\")","v":""},{"$f":"IF(K$1<>\"\",IF($A788<>\"\",COUNT(カテゴリースコア!U790),\"\"),\"\")","v":""}]
[{"$f":"IF(データセット1!C789<>\"\",データセット1!C789,\"\")","v":""},{"$f":"IF(データセット1!C789<>\"\",データセット1!D789-カテゴリースコア!$E$11,\"\")","v":""},{"$f":"IF(C$1<>\"\",IF($A789<>\"\",COUNT(カテゴリースコア!M791),\"\"),\"\")","v":""},{"$f":"IF(D$1<>\"\",IF($A789<>\"\",COUNT(カテゴリースコア!N791),\"\"),\"\")","v":""},{"$f":"IF(E$1<>\"\",IF($A789<>\"\",COUNT(カテゴリースコア!O791),\"\"),\"\")","v":""},{"$f":"IF(F$1<>\"\",IF($A789<>\"\",COUNT(カテゴリースコア!P791),\"\"),\"\")","v":""},{"$f":"IF(G$1<>\"\",IF($A789<>\"\",COUNT(カテゴリースコア!Q791),\"\"),\"\")","v":""},{"$f":"IF(H$1<>\"\",IF($A789<>\"\",COUNT(カテゴリースコア!R791),\"\"),\"\")","v":""},{"$f":"IF(I$1<>\"\",IF($A789<>\"\",COUNT(カテゴリースコア!S791),\"\"),\"\")","v":""},{"$f":"IF(J$1<>\"\",IF($A789<>\"\",COUNT(カテゴリースコア!T791),\"\"),\"\")","v":""},{"$f":"IF(K$1<>\"\",IF($A789<>\"\",COUNT(カテゴリースコア!U791),\"\"),\"\")","v":""}]
[{"$f":"IF(データセット1!C790<>\"\",データセット1!C790,\"\")","v":""},{"$f":"IF(データセット1!C790<>\"\",データセット1!D790-カテゴリースコア!$E$11,\"\")","v":""},{"$f":"IF(C$1<>\"\",IF($A790<>\"\",COUNT(カテゴリースコア!M792),\"\"),\"\")","v":""},{"$f":"IF(D$1<>\"\",IF($A790<>\"\",COUNT(カテゴリースコア!N792),\"\"),\"\")","v":""},{"$f":"IF(E$1<>\"\",IF($A790<>\"\",COUNT(カテゴリースコア!O792),\"\"),\"\")","v":""},{"$f":"IF(F$1<>\"\",IF($A790<>\"\",COUNT(カテゴリースコア!P792),\"\"),\"\")","v":""},{"$f":"IF(G$1<>\"\",IF($A790<>\"\",COUNT(カテゴリースコア!Q792),\"\"),\"\")","v":""},{"$f":"IF(H$1<>\"\",IF($A790<>\"\",COUNT(カテゴリースコア!R792),\"\"),\"\")","v":""},{"$f":"IF(I$1<>\"\",IF($A790<>\"\",COUNT(カテゴリースコア!S792),\"\"),\"\")","v":""},{"$f":"IF(J$1<>\"\",IF($A790<>\"\",COUNT(カテゴリースコア!T792),\"\"),\"\")","v":""},{"$f":"IF(K$1<>\"\",IF($A790<>\"\",COUNT(カテゴリースコア!U792),\"\"),\"\")","v":""}]
[{"$f":"IF(データセット1!C791<>\"\",データセット1!C791,\"\")","v":""},{"$f":"IF(データセット1!C791<>\"\",データセット1!D791-カテゴリースコア!$E$11,\"\")","v":""},{"$f":"IF(C$1<>\"\",IF($A791<>\"\",COUNT(カテゴリースコア!M793),\"\"),\"\")","v":""},{"$f":"IF(D$1<>\"\",IF($A791<>\"\",COUNT(カテゴリースコア!N793),\"\"),\"\")","v":""},{"$f":"IF(E$1<>\"\",IF($A791<>\"\",COUNT(カテゴリースコア!O793),\"\"),\"\")","v":""},{"$f":"IF(F$1<>\"\",IF($A791<>\"\",COUNT(カテゴリースコア!P793),\"\"),\"\")","v":""},{"$f":"IF(G$1<>\"\",IF($A791<>\"\",COUNT(カテゴリースコア!Q793),\"\"),\"\")","v":""},{"$f":"IF(H$1<>\"\",IF($A791<>\"\",COUNT(カテゴリースコア!R793),\"\"),\"\")","v":""},{"$f":"IF(I$1<>\"\",IF($A791<>\"\",COUNT(カテゴリースコア!S793),\"\"),\"\")","v":""},{"$f":"IF(J$1<>\"\",IF($A791<>\"\",COUNT(カテゴリースコア!T793),\"\"),\"\")","v":""},{"$f":"IF(K$1<>\"\",IF($A791<>\"\",COUNT(カテゴリースコア!U793),\"\"),\"\")","v":""}]
[{"$f":"IF(データセット1!C792<>\"\",データセット1!C792,\"\")","v":""},{"$f":"IF(データセット1!C792<>\"\",データセット1!D792-カテゴリースコア!$E$11,\"\")","v":""},{"$f":"IF(C$1<>\"\",IF($A792<>\"\",COUNT(カテゴリースコア!M794),\"\"),\"\")","v":""},{"$f":"IF(D$1<>\"\",IF($A792<>\"\",COUNT(カテゴリースコア!N794),\"\"),\"\")","v":""},{"$f":"IF(E$1<>\"\",IF($A792<>\"\",COUNT(カテゴリースコア!O794),\"\"),\"\")","v":""},{"$f":"IF(F$1<>\"\",IF($A792<>\"\",COUNT(カテゴリースコア!P794),\"\"),\"\")","v":""},{"$f":"IF(G$1<>\"\",IF($A792<>\"\",COUNT(カテゴリースコア!Q794),\"\"),\"\")","v":""},{"$f":"IF(H$1<>\"\",IF($A792<>\"\",COUNT(カテゴリースコア!R794),\"\"),\"\")","v":""},{"$f":"IF(I$1<>\"\",IF($A792<>\"\",COUNT(カテゴリースコア!S794),\"\"),\"\")","v":""},{"$f":"IF(J$1<>\"\",IF($A792<>\"\",COUNT(カテゴリースコア!T794),\"\"),\"\")","v":""},{"$f":"IF(K$1<>\"\",IF($A792<>\"\",COUNT(カテゴリースコア!U794),\"\"),\"\")","v":""}]
[{"$f":"IF(データセット1!C793<>\"\",データセット1!C793,\"\")","v":""},{"$f":"IF(データセット1!C793<>\"\",データセット1!D793-カテゴリースコア!$E$11,\"\")","v":""},{"$f":"IF(C$1<>\"\",IF($A793<>\"\",COUNT(カテゴリースコア!M795),\"\"),\"\")","v":""},{"$f":"IF(D$1<>\"\",IF($A793<>\"\",COUNT(カテゴリースコア!N795),\"\"),\"\")","v":""},{"$f":"IF(E$1<>\"\",IF($A793<>\"\",COUNT(カテゴリースコア!O795),\"\"),\"\")","v":""},{"$f":"IF(F$1<>\"\",IF($A793<>\"\",COUNT(カテゴリースコア!P795),\"\"),\"\")","v":""},{"$f":"IF(G$1<>\"\",IF($A793<>\"\",COUNT(カテゴリースコア!Q795),\"\"),\"\")","v":""},{"$f":"IF(H$1<>\"\",IF($A793<>\"\",COUNT(カテゴリースコア!R795),\"\"),\"\")","v":""},{"$f":"IF(I$1<>\"\",IF($A793<>\"\",COUNT(カテゴリースコア!S795),\"\"),\"\")","v":""},{"$f":"IF(J$1<>\"\",IF($A793<>\"\",COUNT(カテゴリースコア!T795),\"\"),\"\")","v":""},{"$f":"IF(K$1<>\"\",IF($A793<>\"\",COUNT(カテゴリースコア!U795),\"\"),\"\")","v":""}]
[{"$f":"IF(データセット1!C794<>\"\",データセット1!C794,\"\")","v":""},{"$f":"IF(データセット1!C794<>\"\",データセット1!D794-カテゴリースコア!$E$11,\"\")","v":""},{"$f":"IF(C$1<>\"\",IF($A794<>\"\",COUNT(カテゴリースコア!M796),\"\"),\"\")","v":""},{"$f":"IF(D$1<>\"\",IF($A794<>\"\",COUNT(カテゴリースコア!N796),\"\"),\"\")","v":""},{"$f":"IF(E$1<>\"\",IF($A794<>\"\",COUNT(カテゴリースコア!O796),\"\"),\"\")","v":""},{"$f":"IF(F$1<>\"\",IF($A794<>\"\",COUNT(カテゴリースコア!P796),\"\"),\"\")","v":""},{"$f":"IF(G$1<>\"\",IF($A794<>\"\",COUNT(カテゴリースコア!Q796),\"\"),\"\")","v":""},{"$f":"IF(H$1<>\"\",IF($A794<>\"\",COUNT(カテゴリースコア!R796),\"\"),\"\")","v":""},{"$f":"IF(I$1<>\"\",IF($A794<>\"\",COUNT(カテゴリースコア!S796),\"\"),\"\")","v":""},{"$f":"IF(J$1<>\"\",IF($A794<>\"\",COUNT(カテゴリースコア!T796),\"\"),\"\")","v":""},{"$f":"IF(K$1<>\"\",IF($A794<>\"\",COUNT(カテゴリースコア!U796),\"\"),\"\")","v":""}]
[{"$f":"IF(データセット1!C795<>\"\",データセット1!C795,\"\")","v":""},{"$f":"IF(データセット1!C795<>\"\",データセット1!D795-カテゴリースコア!$E$11,\"\")","v":""},{"$f":"IF(C$1<>\"\",IF($A795<>\"\",COUNT(カテゴリースコア!M797),\"\"),\"\")","v":""},{"$f":"IF(D$1<>\"\",IF($A795<>\"\",COUNT(カテゴリースコア!N797),\"\"),\"\")","v":""},{"$f":"IF(E$1<>\"\",IF($A795<>\"\",COUNT(カテゴリースコア!O797),\"\"),\"\")","v":""},{"$f":"IF(F$1<>\"\",IF($A795<>\"\",COUNT(カテゴリースコア!P797),\"\"),\"\")","v":""},{"$f":"IF(G$1<>\"\",IF($A795<>\"\",COUNT(カテゴリースコア!Q797),\"\"),\"\")","v":""},{"$f":"IF(H$1<>\"\",IF($A795<>\"\",COUNT(カテゴリースコア!R797),\"\"),\"\")","v":""},{"$f":"IF(I$1<>\"\",IF($A795<>\"\",COUNT(カテゴリースコア!S797),\"\"),\"\")","v":""},{"$f":"IF(J$1<>\"\",IF($A795<>\"\",COUNT(カテゴリースコア!T797),\"\"),\"\")","v":""},{"$f":"IF(K$1<>\"\",IF($A795<>\"\",COUNT(カテゴリースコア!U797),\"\"),\"\")","v":""}]
[{"$f":"IF(データセット1!C796<>\"\",データセット1!C796,\"\")","v":""},{"$f":"IF(データセット1!C796<>\"\",データセット1!D796-カテゴリースコア!$E$11,\"\")","v":""},{"$f":"IF(C$1<>\"\",IF($A796<>\"\",COUNT(カテゴリースコア!M798),\"\"),\"\")","v":""},{"$f":"IF(D$1<>\"\",IF($A796<>\"\",COUNT(カテゴリースコア!N798),\"\"),\"\")","v":""},{"$f":"IF(E$1<>\"\",IF($A796<>\"\",COUNT(カテゴリースコア!O798),\"\"),\"\")","v":""},{"$f":"IF(F$1<>\"\",IF($A796<>\"\",COUNT(カテゴリースコア!P798),\"\"),\"\")","v":""},{"$f":"IF(G$1<>\"\",IF($A796<>\"\",COUNT(カテゴリースコア!Q798),\"\"),\"\")","v":""},{"$f":"IF(H$1<>\"\",IF($A796<>\"\",COUNT(カテゴリースコア!R798),\"\"),\"\")","v":""},{"$f":"IF(I$1<>\"\",IF($A796<>\"\",COUNT(カテゴリースコア!S798),\"\"),\"\")","v":""},{"$f":"IF(J$1<>\"\",IF($A796<>\"\",COUNT(カテゴリースコア!T798),\"\"),\"\")","v":""},{"$f":"IF(K$1<>\"\",IF($A796<>\"\",COUNT(カテゴリースコア!U798),\"\"),\"\")","v":""}]
[{"$f":"IF(データセット1!C797<>\"\",データセット1!C797,\"\")","v":""},{"$f":"IF(データセット1!C797<>\"\",データセット1!D797-カテゴリースコア!$E$11,\"\")","v":""},{"$f":"IF(C$1<>\"\",IF($A797<>\"\",COUNT(カテゴリースコア!M799),\"\"),\"\")","v":""},{"$f":"IF(D$1<>\"\",IF($A797<>\"\",COUNT(カテゴリースコア!N799),\"\"),\"\")","v":""},{"$f":"IF(E$1<>\"\",IF($A797<>\"\",COUNT(カテゴリースコア!O799),\"\"),\"\")","v":""},{"$f":"IF(F$1<>\"\",IF($A797<>\"\",COUNT(カテゴリースコア!P799),\"\"),\"\")","v":""},{"$f":"IF(G$1<>\"\",IF($A797<>\"\",COUNT(カテゴリースコア!Q799),\"\"),\"\")","v":""},{"$f":"IF(H$1<>\"\",IF($A797<>\"\",COUNT(カテゴリースコア!R799),\"\"),\"\")","v":""},{"$f":"IF(I$1<>\"\",IF($A797<>\"\",COUNT(カテゴリースコア!S799),\"\"),\"\")","v":""},{"$f":"IF(J$1<>\"\",IF($A797<>\"\",COUNT(カテゴリースコア!T799),\"\"),\"\")","v":""},{"$f":"IF(K$1<>\"\",IF($A797<>\"\",COUNT(カテゴリースコア!U799),\"\"),\"\")","v":""}]
[{"$f":"IF(データセット1!C798<>\"\",データセット1!C798,\"\")","v":""},{"$f":"IF(データセット1!C798<>\"\",データセット1!D798-カテゴリースコア!$E$11,\"\")","v":""},{"$f":"IF(C$1<>\"\",IF($A798<>\"\",COUNT(カテゴリースコア!M800),\"\"),\"\")","v":""},{"$f":"IF(D$1<>\"\",IF($A798<>\"\",COUNT(カテゴリースコア!N800),\"\"),\"\")","v":""},{"$f":"IF(E$1<>\"\",IF($A798<>\"\",COUNT(カテゴリースコア!O800),\"\"),\"\")","v":""},{"$f":"IF(F$1<>\"\",IF($A798<>\"\",COUNT(カテゴリースコア!P800),\"\"),\"\")","v":""},{"$f":"IF(G$1<>\"\",IF($A798<>\"\",COUNT(カテゴリースコア!Q800),\"\"),\"\")","v":""},{"$f":"IF(H$1<>\"\",IF($A798<>\"\",COUNT(カテゴリースコア!R800),\"\"),\"\")","v":""},{"$f":"IF(I$1<>\"\",IF($A798<>\"\",COUNT(カテゴリースコア!S800),\"\"),\"\")","v":""},{"$f":"IF(J$1<>\"\",IF($A798<>\"\",COUNT(カテゴリースコア!T800),\"\"),\"\")","v":""},{"$f":"IF(K$1<>\"\",IF($A798<>\"\",COUNT(カテゴリースコア!U800),\"\"),\"\")","v":""}]
[{"$f":"IF(データセット1!C799<>\"\",データセット1!C799,\"\")","v":""},{"$f":"IF(データセット1!C799<>\"\",データセット1!D799-カテゴリースコア!$E$11,\"\")","v":""},{"$f":"IF(C$1<>\"\",IF($A799<>\"\",COUNT(カテゴリースコア!M801),\"\"),\"\")","v":""},{"$f":"IF(D$1<>\"\",IF($A799<>\"\",COUNT(カテゴリースコア!N801),\"\"),\"\")","v":""},{"$f":"IF(E$1<>\"\",IF($A799<>\"\",COUNT(カテゴリースコア!O801),\"\"),\"\")","v":""},{"$f":"IF(F$1<>\"\",IF($A799<>\"\",COUNT(カテゴリースコア!P801),\"\"),\"\")","v":""},{"$f":"IF(G$1<>\"\",IF($A799<>\"\",COUNT(カテゴリースコア!Q801),\"\"),\"\")","v":""},{"$f":"IF(H$1<>\"\",IF($A799<>\"\",COUNT(カテゴリースコア!R801),\"\"),\"\")","v":""},{"$f":"IF(I$1<>\"\",IF($A799<>\"\",COUNT(カテゴリースコア!S801),\"\"),\"\")","v":""},{"$f":"IF(J$1<>\"\",IF($A799<>\"\",COUNT(カテゴリースコア!T801),\"\"),\"\")","v":""},{"$f":"IF(K$1<>\"\",IF($A799<>\"\",COUNT(カテゴリースコア!U801),\"\"),\"\")","v":""}]
[{"$f":"IF(データセット1!C800<>\"\",データセット1!C800,\"\")","v":""},{"$f":"IF(データセット1!C800<>\"\",データセット1!D800-カテゴリースコア!$E$11,\"\")","v":""},{"$f":"IF(C$1<>\"\",IF($A800<>\"\",COUNT(カテゴリースコア!M802),\"\"),\"\")","v":""},{"$f":"IF(D$1<>\"\",IF($A800<>\"\",COUNT(カテゴリースコア!N802),\"\"),\"\")","v":""},{"$f":"IF(E$1<>\"\",IF($A800<>\"\",COUNT(カテゴリースコア!O802),\"\"),\"\")","v":""},{"$f":"IF(F$1<>\"\",IF($A800<>\"\",COUNT(カテゴリースコア!P802),\"\"),\"\")","v":""},{"$f":"IF(G$1<>\"\",IF($A800<>\"\",COUNT(カテゴリースコア!Q802),\"\"),\"\")","v":""},{"$f":"IF(H$1<>\"\",IF($A800<>\"\",COUNT(カテゴリースコア!R802),\"\"),\"\")","v":""},{"$f":"IF(I$1<>\"\",IF($A800<>\"\",COUNT(カテゴリースコア!S802),\"\"),\"\")","v":""},{"$f":"IF(J$1<>\"\",IF($A800<>\"\",COUNT(カテゴリースコア!T802),\"\"),\"\")","v":""},{"$f":"IF(K$1<>\"\",IF($A800<>\"\",COUNT(カテゴリースコア!U802),\"\"),\"\")","v":""}]
[{"$f":"IF(データセット1!C801<>\"\",データセット1!C801,\"\")","v":""},{"$f":"IF(データセット1!C801<>\"\",データセット1!D801-カテゴリースコア!$E$11,\"\")","v":""},{"$f":"IF(C$1<>\"\",IF($A801<>\"\",COUNT(カテゴリースコア!M803),\"\"),\"\")","v":""},{"$f":"IF(D$1<>\"\",IF($A801<>\"\",COUNT(カテゴリースコア!N803),\"\"),\"\")","v":""},{"$f":"IF(E$1<>\"\",IF($A801<>\"\",COUNT(カテゴリースコア!O803),\"\"),\"\")","v":""},{"$f":"IF(F$1<>\"\",IF($A801<>\"\",COUNT(カテゴリースコア!P803),\"\"),\"\")","v":""},{"$f":"IF(G$1<>\"\",IF($A801<>\"\",COUNT(カテゴリースコア!Q803),\"\"),\"\")","v":""},{"$f":"IF(H$1<>\"\",IF($A801<>\"\",COUNT(カテゴリースコア!R803),\"\"),\"\")","v":""},{"$f":"IF(I$1<>\"\",IF($A801<>\"\",COUNT(カテゴリースコア!S803),\"\"),\"\")","v":""},{"$f":"IF(J$1<>\"\",IF($A801<>\"\",COUNT(カテゴリースコア!T803),\"\"),\"\")","v":""},{"$f":"IF(K$1<>\"\",IF($A801<>\"\",COUNT(カテゴリースコア!U803),\"\"),\"\")","v":""}]
[{"$f":"IF(データセット1!C802<>\"\",データセット1!C802,\"\")","v":""},{"$f":"IF(データセット1!C802<>\"\",データセット1!D802-カテゴリースコア!$E$11,\"\")","v":""},{"$f":"IF(C$1<>\"\",IF($A802<>\"\",COUNT(カテゴリースコア!M804),\"\"),\"\")","v":""},{"$f":"IF(D$1<>\"\",IF($A802<>\"\",COUNT(カテゴリースコア!N804),\"\"),\"\")","v":""},{"$f":"IF(E$1<>\"\",IF($A802<>\"\",COUNT(カテゴリースコア!O804),\"\"),\"\")","v":""},{"$f":"IF(F$1<>\"\",IF($A802<>\"\",COUNT(カテゴリースコア!P804),\"\"),\"\")","v":""},{"$f":"IF(G$1<>\"\",IF($A802<>\"\",COUNT(カテゴリースコア!Q804),\"\"),\"\")","v":""},{"$f":"IF(H$1<>\"\",IF($A802<>\"\",COUNT(カテゴリースコア!R804),\"\"),\"\")","v":""},{"$f":"IF(I$1<>\"\",IF($A802<>\"\",COUNT(カテゴリースコア!S804),\"\"),\"\")","v":""},{"$f":"IF(J$1<>\"\",IF($A802<>\"\",COUNT(カテゴリースコア!T804),\"\"),\"\")","v":""},{"$f":"IF(K$1<>\"\",IF($A802<>\"\",COUNT(カテゴリースコア!U804),\"\"),\"\")","v":""}]
[{"$f":"IF(データセット1!C803<>\"\",データセット1!C803,\"\")","v":""},{"$f":"IF(データセット1!C803<>\"\",データセット1!D803-カテゴリースコア!$E$11,\"\")","v":""},{"$f":"IF(C$1<>\"\",IF($A803<>\"\",COUNT(カテゴリースコア!M805),\"\"),\"\")","v":""},{"$f":"IF(D$1<>\"\",IF($A803<>\"\",COUNT(カテゴリースコア!N805),\"\"),\"\")","v":""},{"$f":"IF(E$1<>\"\",IF($A803<>\"\",COUNT(カテゴリースコア!O805),\"\"),\"\")","v":""},{"$f":"IF(F$1<>\"\",IF($A803<>\"\",COUNT(カテゴリースコア!P805),\"\"),\"\")","v":""},{"$f":"IF(G$1<>\"\",IF($A803<>\"\",COUNT(カテゴリースコア!Q805),\"\"),\"\")","v":""},{"$f":"IF(H$1<>\"\",IF($A803<>\"\",COUNT(カテゴリースコア!R805),\"\"),\"\")","v":""},{"$f":"IF(I$1<>\"\",IF($A803<>\"\",COUNT(カテゴリースコア!S805),\"\"),\"\")","v":""},{"$f":"IF(J$1<>\"\",IF($A803<>\"\",COUNT(カテゴリースコア!T805),\"\"),\"\")","v":""},{"$f":"IF(K$1<>\"\",IF($A803<>\"\",COUNT(カテゴリースコア!U805),\"\"),\"\")","v":""}]
[{"$f":"IF(データセット1!C804<>\"\",データセット1!C804,\"\")","v":""},{"$f":"IF(データセット1!C804<>\"\",データセット1!D804-カテゴリースコア!$E$11,\"\")","v":""},{"$f":"IF(C$1<>\"\",IF($A804<>\"\",COUNT(カテゴリースコア!M806),\"\"),\"\")","v":""},{"$f":"IF(D$1<>\"\",IF($A804<>\"\",COUNT(カテゴリースコア!N806),\"\"),\"\")","v":""},{"$f":"IF(E$1<>\"\",IF($A804<>\"\",COUNT(カテゴリースコア!O806),\"\"),\"\")","v":""},{"$f":"IF(F$1<>\"\",IF($A804<>\"\",COUNT(カテゴリースコア!P806),\"\"),\"\")","v":""},{"$f":"IF(G$1<>\"\",IF($A804<>\"\",COUNT(カテゴリースコア!Q806),\"\"),\"\")","v":""},{"$f":"IF(H$1<>\"\",IF($A804<>\"\",COUNT(カテゴリースコア!R806),\"\"),\"\")","v":""},{"$f":"IF(I$1<>\"\",IF($A804<>\"\",COUNT(カテゴリースコア!S806),\"\"),\"\")","v":""},{"$f":"IF(J$1<>\"\",IF($A804<>\"\",COUNT(カテゴリースコア!T806),\"\"),\"\")","v":""},{"$f":"IF(K$1<>\"\",IF($A804<>\"\",COUNT(カテゴリースコア!U806),\"\"),\"\")","v":""}]
[{"$f":"IF(データセット1!C805<>\"\",データセット1!C805,\"\")","v":""},{"$f":"IF(データセット1!C805<>\"\",データセット1!D805-カテゴリースコア!$E$11,\"\")","v":""},{"$f":"IF(C$1<>\"\",IF($A805<>\"\",COUNT(カテゴリースコア!M807),\"\"),\"\")","v":""},{"$f":"IF(D$1<>\"\",IF($A805<>\"\",COUNT(カテゴリースコア!N807),\"\"),\"\")","v":""},{"$f":"IF(E$1<>\"\",IF($A805<>\"\",COUNT(カテゴリースコア!O807),\"\"),\"\")","v":""},{"$f":"IF(F$1<>\"\",IF($A805<>\"\",COUNT(カテゴリースコア!P807),\"\"),\"\")","v":""},{"$f":"IF(G$1<>\"\",IF($A805<>\"\",COUNT(カテゴリースコア!Q807),\"\"),\"\")","v":""},{"$f":"IF(H$1<>\"\",IF($A805<>\"\",COUNT(カテゴリースコア!R807),\"\"),\"\")","v":""},{"$f":"IF(I$1<>\"\",IF($A805<>\"\",COUNT(カテゴリースコア!S807),\"\"),\"\")","v":""},{"$f":"IF(J$1<>\"\",IF($A805<>\"\",COUNT(カテゴリースコア!T807),\"\"),\"\")","v":""},{"$f":"IF(K$1<>\"\",IF($A805<>\"\",COUNT(カテゴリースコア!U807),\"\"),\"\")","v":""}]
[{"$f":"IF(データセット1!C806<>\"\",データセット1!C806,\"\")","v":""},{"$f":"IF(データセット1!C806<>\"\",データセット1!D806-カテゴリースコア!$E$11,\"\")","v":""},{"$f":"IF(C$1<>\"\",IF($A806<>\"\",COUNT(カテゴリースコア!M808),\"\"),\"\")","v":""},{"$f":"IF(D$1<>\"\",IF($A806<>\"\",COUNT(カテゴリースコア!N808),\"\"),\"\")","v":""},{"$f":"IF(E$1<>\"\",IF($A806<>\"\",COUNT(カテゴリースコア!O808),\"\"),\"\")","v":""},{"$f":"IF(F$1<>\"\",IF($A806<>\"\",COUNT(カテゴリースコア!P808),\"\"),\"\")","v":""},{"$f":"IF(G$1<>\"\",IF($A806<>\"\",COUNT(カテゴリースコア!Q808),\"\"),\"\")","v":""},{"$f":"IF(H$1<>\"\",IF($A806<>\"\",COUNT(カテゴリースコア!R808),\"\"),\"\")","v":""},{"$f":"IF(I$1<>\"\",IF($A806<>\"\",COUNT(カテゴリースコア!S808),\"\"),\"\")","v":""},{"$f":"IF(J$1<>\"\",IF($A806<>\"\",COUNT(カテゴリースコア!T808),\"\"),\"\")","v":""},{"$f":"IF(K$1<>\"\",IF($A806<>\"\",COUNT(カテゴリースコア!U808),\"\"),\"\")","v":""}]
[{"$f":"IF(データセット1!C807<>\"\",データセット1!C807,\"\")","v":""},{"$f":"IF(データセット1!C807<>\"\",データセット1!D807-カテゴリースコア!$E$11,\"\")","v":""},{"$f":"IF(C$1<>\"\",IF($A807<>\"\",COUNT(カテゴリースコア!M809),\"\"),\"\")","v":""},{"$f":"IF(D$1<>\"\",IF($A807<>\"\",COUNT(カテゴリースコア!N809),\"\"),\"\")","v":""},{"$f":"IF(E$1<>\"\",IF($A807<>\"\",COUNT(カテゴリースコア!O809),\"\"),\"\")","v":""},{"$f":"IF(F$1<>\"\",IF($A807<>\"\",COUNT(カテゴリースコア!P809),\"\"),\"\")","v":""},{"$f":"IF(G$1<>\"\",IF($A807<>\"\",COUNT(カテゴリースコア!Q809),\"\"),\"\")","v":""},{"$f":"IF(H$1<>\"\",IF($A807<>\"\",COUNT(カテゴリースコア!R809),\"\"),\"\")","v":""},{"$f":"IF(I$1<>\"\",IF($A807<>\"\",COUNT(カテゴリースコア!S809),\"\"),\"\")","v":""},{"$f":"IF(J$1<>\"\",IF($A807<>\"\",COUNT(カテゴリースコア!T809),\"\"),\"\")","v":""},{"$f":"IF(K$1<>\"\",IF($A807<>\"\",COUNT(カテゴリースコア!U809),\"\"),\"\")","v":""}]
[{"$f":"IF(データセット1!C808<>\"\",データセット1!C808,\"\")","v":""},{"$f":"IF(データセット1!C808<>\"\",データセット1!D808-カテゴリースコア!$E$11,\"\")","v":""},{"$f":"IF(C$1<>\"\",IF($A808<>\"\",COUNT(カテゴリースコア!M810),\"\"),\"\")","v":""},{"$f":"IF(D$1<>\"\",IF($A808<>\"\",COUNT(カテゴリースコア!N810),\"\"),\"\")","v":""},{"$f":"IF(E$1<>\"\",IF($A808<>\"\",COUNT(カテゴリースコア!O810),\"\"),\"\")","v":""},{"$f":"IF(F$1<>\"\",IF($A808<>\"\",COUNT(カテゴリースコア!P810),\"\"),\"\")","v":""},{"$f":"IF(G$1<>\"\",IF($A808<>\"\",COUNT(カテゴリースコア!Q810),\"\"),\"\")","v":""},{"$f":"IF(H$1<>\"\",IF($A808<>\"\",COUNT(カテゴリースコア!R810),\"\"),\"\")","v":""},{"$f":"IF(I$1<>\"\",IF($A808<>\"\",COUNT(カテゴリースコア!S810),\"\"),\"\")","v":""},{"$f":"IF(J$1<>\"\",IF($A808<>\"\",COUNT(カテゴリースコア!T810),\"\"),\"\")","v":""},{"$f":"IF(K$1<>\"\",IF($A808<>\"\",COUNT(カテゴリースコア!U810),\"\"),\"\")","v":""}]
[{"$f":"IF(データセット1!C809<>\"\",データセット1!C809,\"\")","v":""},{"$f":"IF(データセット1!C809<>\"\",データセット1!D809-カテゴリースコア!$E$11,\"\")","v":""},{"$f":"IF(C$1<>\"\",IF($A809<>\"\",COUNT(カテゴリースコア!M811),\"\"),\"\")","v":""},{"$f":"IF(D$1<>\"\",IF($A809<>\"\",COUNT(カテゴリースコア!N811),\"\"),\"\")","v":""},{"$f":"IF(E$1<>\"\",IF($A809<>\"\",COUNT(カテゴリースコア!O811),\"\"),\"\")","v":""},{"$f":"IF(F$1<>\"\",IF($A809<>\"\",COUNT(カテゴリースコア!P811),\"\"),\"\")","v":""},{"$f":"IF(G$1<>\"\",IF($A809<>\"\",COUNT(カテゴリースコア!Q811),\"\"),\"\")","v":""},{"$f":"IF(H$1<>\"\",IF($A809<>\"\",COUNT(カテゴリースコア!R811),\"\"),\"\")","v":""},{"$f":"IF(I$1<>\"\",IF($A809<>\"\",COUNT(カテゴリースコア!S811),\"\"),\"\")","v":""},{"$f":"IF(J$1<>\"\",IF($A809<>\"\",COUNT(カテゴリースコア!T811),\"\"),\"\")","v":""},{"$f":"IF(K$1<>\"\",IF($A809<>\"\",COUNT(カテゴリースコア!U811),\"\"),\"\")","v":""}]
[{"$f":"IF(データセット1!C810<>\"\",データセット1!C810,\"\")","v":""},{"$f":"IF(データセット1!C810<>\"\",データセット1!D810-カテゴリースコア!$E$11,\"\")","v":""},{"$f":"IF(C$1<>\"\",IF($A810<>\"\",COUNT(カテゴリースコア!M812),\"\"),\"\")","v":""},{"$f":"IF(D$1<>\"\",IF($A810<>\"\",COUNT(カテゴリースコア!N812),\"\"),\"\")","v":""},{"$f":"IF(E$1<>\"\",IF($A810<>\"\",COUNT(カテゴリースコア!O812),\"\"),\"\")","v":""},{"$f":"IF(F$1<>\"\",IF($A810<>\"\",COUNT(カテゴリースコア!P812),\"\"),\"\")","v":""},{"$f":"IF(G$1<>\"\",IF($A810<>\"\",COUNT(カテゴリースコア!Q812),\"\"),\"\")","v":""},{"$f":"IF(H$1<>\"\",IF($A810<>\"\",COUNT(カテゴリースコア!R812),\"\"),\"\")","v":""},{"$f":"IF(I$1<>\"\",IF($A810<>\"\",COUNT(カテゴリースコア!S812),\"\"),\"\")","v":""},{"$f":"IF(J$1<>\"\",IF($A810<>\"\",COUNT(カテゴリースコア!T812),\"\"),\"\")","v":""},{"$f":"IF(K$1<>\"\",IF($A810<>\"\",COUNT(カテゴリースコア!U812),\"\"),\"\")","v":""}]
[{"$f":"IF(データセット1!C811<>\"\",データセット1!C811,\"\")","v":""},{"$f":"IF(データセット1!C811<>\"\",データセット1!D811-カテゴリースコア!$E$11,\"\")","v":""},{"$f":"IF(C$1<>\"\",IF($A811<>\"\",COUNT(カテゴリースコア!M813),\"\"),\"\")","v":""},{"$f":"IF(D$1<>\"\",IF($A811<>\"\",COUNT(カテゴリースコア!N813),\"\"),\"\")","v":""},{"$f":"IF(E$1<>\"\",IF($A811<>\"\",COUNT(カテゴリースコア!O813),\"\"),\"\")","v":""},{"$f":"IF(F$1<>\"\",IF($A811<>\"\",COUNT(カテゴリースコア!P813),\"\"),\"\")","v":""},{"$f":"IF(G$1<>\"\",IF($A811<>\"\",COUNT(カテゴリースコア!Q813),\"\"),\"\")","v":""},{"$f":"IF(H$1<>\"\",IF($A811<>\"\",COUNT(カテゴリースコア!R813),\"\"),\"\")","v":""},{"$f":"IF(I$1<>\"\",IF($A811<>\"\",COUNT(カテゴリースコア!S813),\"\"),\"\")","v":""},{"$f":"IF(J$1<>\"\",IF($A811<>\"\",COUNT(カテゴリースコア!T813),\"\"),\"\")","v":""},{"$f":"IF(K$1<>\"\",IF($A811<>\"\",COUNT(カテゴリースコア!U813),\"\"),\"\")","v":""}]
[{"$f":"IF(データセット1!C812<>\"\",データセット1!C812,\"\")","v":""},{"$f":"IF(データセット1!C812<>\"\",データセット1!D812-カテゴリースコア!$E$11,\"\")","v":""},{"$f":"IF(C$1<>\"\",IF($A812<>\"\",COUNT(カテゴリースコア!M814),\"\"),\"\")","v":""},{"$f":"IF(D$1<>\"\",IF($A812<>\"\",COUNT(カテゴリースコア!N814),\"\"),\"\")","v":""},{"$f":"IF(E$1<>\"\",IF($A812<>\"\",COUNT(カテゴリースコア!O814),\"\"),\"\")","v":""},{"$f":"IF(F$1<>\"\",IF($A812<>\"\",COUNT(カテゴリースコア!P814),\"\"),\"\")","v":""},{"$f":"IF(G$1<>\"\",IF($A812<>\"\",COUNT(カテゴリースコア!Q814),\"\"),\"\")","v":""},{"$f":"IF(H$1<>\"\",IF($A812<>\"\",COUNT(カテゴリースコア!R814),\"\"),\"\")","v":""},{"$f":"IF(I$1<>\"\",IF($A812<>\"\",COUNT(カテゴリースコア!S814),\"\"),\"\")","v":""},{"$f":"IF(J$1<>\"\",IF($A812<>\"\",COUNT(カテゴリースコア!T814),\"\"),\"\")","v":""},{"$f":"IF(K$1<>\"\",IF($A812<>\"\",COUNT(カテゴリースコア!U814),\"\"),\"\")","v":""}]
[{"$f":"IF(データセット1!C813<>\"\",データセット1!C813,\"\")","v":""},{"$f":"IF(データセット1!C813<>\"\",データセット1!D813-カテゴリースコア!$E$11,\"\")","v":""},{"$f":"IF(C$1<>\"\",IF($A813<>\"\",COUNT(カテゴリースコア!M815),\"\"),\"\")","v":""},{"$f":"IF(D$1<>\"\",IF($A813<>\"\",COUNT(カテゴリースコア!N815),\"\"),\"\")","v":""},{"$f":"IF(E$1<>\"\",IF($A813<>\"\",COUNT(カテゴリースコア!O815),\"\"),\"\")","v":""},{"$f":"IF(F$1<>\"\",IF($A813<>\"\",COUNT(カテゴリースコア!P815),\"\"),\"\")","v":""},{"$f":"IF(G$1<>\"\",IF($A813<>\"\",COUNT(カテゴリースコア!Q815),\"\"),\"\")","v":""},{"$f":"IF(H$1<>\"\",IF($A813<>\"\",COUNT(カテゴリースコア!R815),\"\"),\"\")","v":""},{"$f":"IF(I$1<>\"\",IF($A813<>\"\",COUNT(カテゴリースコア!S815),\"\"),\"\")","v":""},{"$f":"IF(J$1<>\"\",IF($A813<>\"\",COUNT(カテゴリースコア!T815),\"\"),\"\")","v":""},{"$f":"IF(K$1<>\"\",IF($A813<>\"\",COUNT(カテゴリースコア!U815),\"\"),\"\")","v":""}]
[{"$f":"IF(データセット1!C814<>\"\",データセット1!C814,\"\")","v":""},{"$f":"IF(データセット1!C814<>\"\",データセット1!D814-カテゴリースコア!$E$11,\"\")","v":""},{"$f":"IF(C$1<>\"\",IF($A814<>\"\",COUNT(カテゴリースコア!M816),\"\"),\"\")","v":""},{"$f":"IF(D$1<>\"\",IF($A814<>\"\",COUNT(カテゴリースコア!N816),\"\"),\"\")","v":""},{"$f":"IF(E$1<>\"\",IF($A814<>\"\",COUNT(カテゴリースコア!O816),\"\"),\"\")","v":""},{"$f":"IF(F$1<>\"\",IF($A814<>\"\",COUNT(カテゴリースコア!P816),\"\"),\"\")","v":""},{"$f":"IF(G$1<>\"\",IF($A814<>\"\",COUNT(カテゴリースコア!Q816),\"\"),\"\")","v":""},{"$f":"IF(H$1<>\"\",IF($A814<>\"\",COUNT(カテゴリースコア!R816),\"\"),\"\")","v":""},{"$f":"IF(I$1<>\"\",IF($A814<>\"\",COUNT(カテゴリースコア!S816),\"\"),\"\")","v":""},{"$f":"IF(J$1<>\"\",IF($A814<>\"\",COUNT(カテゴリースコア!T816),\"\"),\"\")","v":""},{"$f":"IF(K$1<>\"\",IF($A814<>\"\",COUNT(カテゴリースコア!U816),\"\"),\"\")","v":""}]
[{"$f":"IF(データセット1!C815<>\"\",データセット1!C815,\"\")","v":""},{"$f":"IF(データセット1!C815<>\"\",データセット1!D815-カテゴリースコア!$E$11,\"\")","v":""},{"$f":"IF(C$1<>\"\",IF($A815<>\"\",COUNT(カテゴリースコア!M817),\"\"),\"\")","v":""},{"$f":"IF(D$1<>\"\",IF($A815<>\"\",COUNT(カテゴリースコア!N817),\"\"),\"\")","v":""},{"$f":"IF(E$1<>\"\",IF($A815<>\"\",COUNT(カテゴリースコア!O817),\"\"),\"\")","v":""},{"$f":"IF(F$1<>\"\",IF($A815<>\"\",COUNT(カテゴリースコア!P817),\"\"),\"\")","v":""},{"$f":"IF(G$1<>\"\",IF($A815<>\"\",COUNT(カテゴリースコア!Q817),\"\"),\"\")","v":""},{"$f":"IF(H$1<>\"\",IF($A815<>\"\",COUNT(カテゴリースコア!R817),\"\"),\"\")","v":""},{"$f":"IF(I$1<>\"\",IF($A815<>\"\",COUNT(カテゴリースコア!S817),\"\"),\"\")","v":""},{"$f":"IF(J$1<>\"\",IF($A815<>\"\",COUNT(カテゴリースコア!T817),\"\"),\"\")","v":""},{"$f":"IF(K$1<>\"\",IF($A815<>\"\",COUNT(カテゴリースコア!U817),\"\"),\"\")","v":""}]
[{"$f":"IF(データセット1!C816<>\"\",データセット1!C816,\"\")","v":""},{"$f":"IF(データセット1!C816<>\"\",データセット1!D816-カテゴリースコア!$E$11,\"\")","v":""},{"$f":"IF(C$1<>\"\",IF($A816<>\"\",COUNT(カテゴリースコア!M818),\"\"),\"\")","v":""},{"$f":"IF(D$1<>\"\",IF($A816<>\"\",COUNT(カテゴリースコア!N818),\"\"),\"\")","v":""},{"$f":"IF(E$1<>\"\",IF($A816<>\"\",COUNT(カテゴリースコア!O818),\"\"),\"\")","v":""},{"$f":"IF(F$1<>\"\",IF($A816<>\"\",COUNT(カテゴリースコア!P818),\"\"),\"\")","v":""},{"$f":"IF(G$1<>\"\",IF($A816<>\"\",COUNT(カテゴリースコア!Q818),\"\"),\"\")","v":""},{"$f":"IF(H$1<>\"\",IF($A816<>\"\",COUNT(カテゴリースコア!R818),\"\"),\"\")","v":""},{"$f":"IF(I$1<>\"\",IF($A816<>\"\",COUNT(カテゴリースコア!S818),\"\"),\"\")","v":""},{"$f":"IF(J$1<>\"\",IF($A816<>\"\",COUNT(カテゴリースコア!T818),\"\"),\"\")","v":""},{"$f":"IF(K$1<>\"\",IF($A816<>\"\",COUNT(カテゴリースコア!U818),\"\"),\"\")","v":""}]
[{"$f":"IF(データセット1!C817<>\"\",データセット1!C817,\"\")","v":""},{"$f":"IF(データセット1!C817<>\"\",データセット1!D817-カテゴリースコア!$E$11,\"\")","v":""},{"$f":"IF(C$1<>\"\",IF($A817<>\"\",COUNT(カテゴリースコア!M819),\"\"),\"\")","v":""},{"$f":"IF(D$1<>\"\",IF($A817<>\"\",COUNT(カテゴリースコア!N819),\"\"),\"\")","v":""},{"$f":"IF(E$1<>\"\",IF($A817<>\"\",COUNT(カテゴリースコア!O819),\"\"),\"\")","v":""},{"$f":"IF(F$1<>\"\",IF($A817<>\"\",COUNT(カテゴリースコア!P819),\"\"),\"\")","v":""},{"$f":"IF(G$1<>\"\",IF($A817<>\"\",COUNT(カテゴリースコア!Q819),\"\"),\"\")","v":""},{"$f":"IF(H$1<>\"\",IF($A817<>\"\",COUNT(カテゴリースコア!R819),\"\"),\"\")","v":""},{"$f":"IF(I$1<>\"\",IF($A817<>\"\",COUNT(カテゴリースコア!S819),\"\"),\"\")","v":""},{"$f":"IF(J$1<>\"\",IF($A817<>\"\",COUNT(カテゴリースコア!T819),\"\"),\"\")","v":""},{"$f":"IF(K$1<>\"\",IF($A817<>\"\",COUNT(カテゴリースコア!U819),\"\"),\"\")","v":""}]
[{"$f":"IF(データセット1!C818<>\"\",データセット1!C818,\"\")","v":""},{"$f":"IF(データセット1!C818<>\"\",データセット1!D818-カテゴリースコア!$E$11,\"\")","v":""},{"$f":"IF(C$1<>\"\",IF($A818<>\"\",COUNT(カテゴリースコア!M820),\"\"),\"\")","v":""},{"$f":"IF(D$1<>\"\",IF($A818<>\"\",COUNT(カテゴリースコア!N820),\"\"),\"\")","v":""},{"$f":"IF(E$1<>\"\",IF($A818<>\"\",COUNT(カテゴリースコア!O820),\"\"),\"\")","v":""},{"$f":"IF(F$1<>\"\",IF($A818<>\"\",COUNT(カテゴリースコア!P820),\"\"),\"\")","v":""},{"$f":"IF(G$1<>\"\",IF($A818<>\"\",COUNT(カテゴリースコア!Q820),\"\"),\"\")","v":""},{"$f":"IF(H$1<>\"\",IF($A818<>\"\",COUNT(カテゴリースコア!R820),\"\"),\"\")","v":""},{"$f":"IF(I$1<>\"\",IF($A818<>\"\",COUNT(カテゴリースコア!S820),\"\"),\"\")","v":""},{"$f":"IF(J$1<>\"\",IF($A818<>\"\",COUNT(カテゴリースコア!T820),\"\"),\"\")","v":""},{"$f":"IF(K$1<>\"\",IF($A818<>\"\",COUNT(カテゴリースコア!U820),\"\"),\"\")","v":""}]
[{"$f":"IF(データセット1!C819<>\"\",データセット1!C819,\"\")","v":""},{"$f":"IF(データセット1!C819<>\"\",データセット1!D819-カテゴリースコア!$E$11,\"\")","v":""},{"$f":"IF(C$1<>\"\",IF($A819<>\"\",COUNT(カテゴリースコア!M821),\"\"),\"\")","v":""},{"$f":"IF(D$1<>\"\",IF($A819<>\"\",COUNT(カテゴリースコア!N821),\"\"),\"\")","v":""},{"$f":"IF(E$1<>\"\",IF($A819<>\"\",COUNT(カテゴリースコア!O821),\"\"),\"\")","v":""},{"$f":"IF(F$1<>\"\",IF($A819<>\"\",COUNT(カテゴリースコア!P821),\"\"),\"\")","v":""},{"$f":"IF(G$1<>\"\",IF($A819<>\"\",COUNT(カテゴリースコア!Q821),\"\"),\"\")","v":""},{"$f":"IF(H$1<>\"\",IF($A819<>\"\",COUNT(カテゴリースコア!R821),\"\"),\"\")","v":""},{"$f":"IF(I$1<>\"\",IF($A819<>\"\",COUNT(カテゴリースコア!S821),\"\"),\"\")","v":""},{"$f":"IF(J$1<>\"\",IF($A819<>\"\",COUNT(カテゴリースコア!T821),\"\"),\"\")","v":""},{"$f":"IF(K$1<>\"\",IF($A819<>\"\",COUNT(カテゴリースコア!U821),\"\"),\"\")","v":""}]
[{"$f":"IF(データセット1!C820<>\"\",データセット1!C820,\"\")","v":""},{"$f":"IF(データセット1!C820<>\"\",データセット1!D820-カテゴリースコア!$E$11,\"\")","v":""},{"$f":"IF(C$1<>\"\",IF($A820<>\"\",COUNT(カテゴリースコア!M822),\"\"),\"\")","v":""},{"$f":"IF(D$1<>\"\",IF($A820<>\"\",COUNT(カテゴリースコア!N822),\"\"),\"\")","v":""},{"$f":"IF(E$1<>\"\",IF($A820<>\"\",COUNT(カテゴリースコア!O822),\"\"),\"\")","v":""},{"$f":"IF(F$1<>\"\",IF($A820<>\"\",COUNT(カテゴリースコア!P822),\"\"),\"\")","v":""},{"$f":"IF(G$1<>\"\",IF($A820<>\"\",COUNT(カテゴリースコア!Q822),\"\"),\"\")","v":""},{"$f":"IF(H$1<>\"\",IF($A820<>\"\",COUNT(カテゴリースコア!R822),\"\"),\"\")","v":""},{"$f":"IF(I$1<>\"\",IF($A820<>\"\",COUNT(カテゴリースコア!S822),\"\"),\"\")","v":""},{"$f":"IF(J$1<>\"\",IF($A820<>\"\",COUNT(カテゴリースコア!T822),\"\"),\"\")","v":""},{"$f":"IF(K$1<>\"\",IF($A820<>\"\",COUNT(カテゴリースコア!U822),\"\"),\"\")","v":""}]
[{"$f":"IF(データセット1!C821<>\"\",データセット1!C821,\"\")","v":""},{"$f":"IF(データセット1!C821<>\"\",データセット1!D821-カテゴリースコア!$E$11,\"\")","v":""},{"$f":"IF(C$1<>\"\",IF($A821<>\"\",COUNT(カテゴリースコア!M823),\"\"),\"\")","v":""},{"$f":"IF(D$1<>\"\",IF($A821<>\"\",COUNT(カテゴリースコア!N823),\"\"),\"\")","v":""},{"$f":"IF(E$1<>\"\",IF($A821<>\"\",COUNT(カテゴリースコア!O823),\"\"),\"\")","v":""},{"$f":"IF(F$1<>\"\",IF($A821<>\"\",COUNT(カテゴリースコア!P823),\"\"),\"\")","v":""},{"$f":"IF(G$1<>\"\",IF($A821<>\"\",COUNT(カテゴリースコア!Q823),\"\"),\"\")","v":""},{"$f":"IF(H$1<>\"\",IF($A821<>\"\",COUNT(カテゴリースコア!R823),\"\"),\"\")","v":""},{"$f":"IF(I$1<>\"\",IF($A821<>\"\",COUNT(カテゴリースコア!S823),\"\"),\"\")","v":""},{"$f":"IF(J$1<>\"\",IF($A821<>\"\",COUNT(カテゴリースコア!T823),\"\"),\"\")","v":""},{"$f":"IF(K$1<>\"\",IF($A821<>\"\",COUNT(カテゴリースコア!U823),\"\"),\"\")","v":""}]
[{"$f":"IF(データセット1!C822<>\"\",データセット1!C822,\"\")","v":""},{"$f":"IF(データセット1!C822<>\"\",データセット1!D822-カテゴリースコア!$E$11,\"\")","v":""},{"$f":"IF(C$1<>\"\",IF($A822<>\"\",COUNT(カテゴリースコア!M824),\"\"),\"\")","v":""},{"$f":"IF(D$1<>\"\",IF($A822<>\"\",COUNT(カテゴリースコア!N824),\"\"),\"\")","v":""},{"$f":"IF(E$1<>\"\",IF($A822<>\"\",COUNT(カテゴリースコア!O824),\"\"),\"\")","v":""},{"$f":"IF(F$1<>\"\",IF($A822<>\"\",COUNT(カテゴリースコア!P824),\"\"),\"\")","v":""},{"$f":"IF(G$1<>\"\",IF($A822<>\"\",COUNT(カテゴリースコア!Q824),\"\"),\"\")","v":""},{"$f":"IF(H$1<>\"\",IF($A822<>\"\",COUNT(カテゴリースコア!R824),\"\"),\"\")","v":""},{"$f":"IF(I$1<>\"\",IF($A822<>\"\",COUNT(カテゴリースコア!S824),\"\"),\"\")","v":""},{"$f":"IF(J$1<>\"\",IF($A822<>\"\",COUNT(カテゴリースコア!T824),\"\"),\"\")","v":""},{"$f":"IF(K$1<>\"\",IF($A822<>\"\",COUNT(カテゴリースコア!U824),\"\"),\"\")","v":""}]
[{"$f":"IF(データセット1!C823<>\"\",データセット1!C823,\"\")","v":""},{"$f":"IF(データセット1!C823<>\"\",データセット1!D823-カテゴリースコア!$E$11,\"\")","v":""},{"$f":"IF(C$1<>\"\",IF($A823<>\"\",COUNT(カテゴリースコア!M825),\"\"),\"\")","v":""},{"$f":"IF(D$1<>\"\",IF($A823<>\"\",COUNT(カテゴリースコア!N825),\"\"),\"\")","v":""},{"$f":"IF(E$1<>\"\",IF($A823<>\"\",COUNT(カテゴリースコア!O825),\"\"),\"\")","v":""},{"$f":"IF(F$1<>\"\",IF($A823<>\"\",COUNT(カテゴリースコア!P825),\"\"),\"\")","v":""},{"$f":"IF(G$1<>\"\",IF($A823<>\"\",COUNT(カテゴリースコア!Q825),\"\"),\"\")","v":""},{"$f":"IF(H$1<>\"\",IF($A823<>\"\",COUNT(カテゴリースコア!R825),\"\"),\"\")","v":""},{"$f":"IF(I$1<>\"\",IF($A823<>\"\",COUNT(カテゴリースコア!S825),\"\"),\"\")","v":""},{"$f":"IF(J$1<>\"\",IF($A823<>\"\",COUNT(カテゴリースコア!T825),\"\"),\"\")","v":""},{"$f":"IF(K$1<>\"\",IF($A823<>\"\",COUNT(カテゴリースコア!U825),\"\"),\"\")","v":""}]
[{"$f":"IF(データセット1!C824<>\"\",データセット1!C824,\"\")","v":""},{"$f":"IF(データセット1!C824<>\"\",データセット1!D824-カテゴリースコア!$E$11,\"\")","v":""},{"$f":"IF(C$1<>\"\",IF($A824<>\"\",COUNT(カテゴリースコア!M826),\"\"),\"\")","v":""},{"$f":"IF(D$1<>\"\",IF($A824<>\"\",COUNT(カテゴリースコア!N826),\"\"),\"\")","v":""},{"$f":"IF(E$1<>\"\",IF($A824<>\"\",COUNT(カテゴリースコア!O826),\"\"),\"\")","v":""},{"$f":"IF(F$1<>\"\",IF($A824<>\"\",COUNT(カテゴリースコア!P826),\"\"),\"\")","v":""},{"$f":"IF(G$1<>\"\",IF($A824<>\"\",COUNT(カテゴリースコア!Q826),\"\"),\"\")","v":""},{"$f":"IF(H$1<>\"\",IF($A824<>\"\",COUNT(カテゴリースコア!R826),\"\"),\"\")","v":""},{"$f":"IF(I$1<>\"\",IF($A824<>\"\",COUNT(カテゴリースコア!S826),\"\"),\"\")","v":""},{"$f":"IF(J$1<>\"\",IF($A824<>\"\",COUNT(カテゴリースコア!T826),\"\"),\"\")","v":""},{"$f":"IF(K$1<>\"\",IF($A824<>\"\",COUNT(カテゴリースコア!U826),\"\"),\"\")","v":""}]
[{"$f":"IF(データセット1!C825<>\"\",データセット1!C825,\"\")","v":""},{"$f":"IF(データセット1!C825<>\"\",データセット1!D825-カテゴリースコア!$E$11,\"\")","v":""},{"$f":"IF(C$1<>\"\",IF($A825<>\"\",COUNT(カテゴリースコア!M827),\"\"),\"\")","v":""},{"$f":"IF(D$1<>\"\",IF($A825<>\"\",COUNT(カテゴリースコア!N827),\"\"),\"\")","v":""},{"$f":"IF(E$1<>\"\",IF($A825<>\"\",COUNT(カテゴリースコア!O827),\"\"),\"\")","v":""},{"$f":"IF(F$1<>\"\",IF($A825<>\"\",COUNT(カテゴリースコア!P827),\"\"),\"\")","v":""},{"$f":"IF(G$1<>\"\",IF($A825<>\"\",COUNT(カテゴリースコア!Q827),\"\"),\"\")","v":""},{"$f":"IF(H$1<>\"\",IF($A825<>\"\",COUNT(カテゴリースコア!R827),\"\"),\"\")","v":""},{"$f":"IF(I$1<>\"\",IF($A825<>\"\",COUNT(カテゴリースコア!S827),\"\"),\"\")","v":""},{"$f":"IF(J$1<>\"\",IF($A825<>\"\",COUNT(カテゴリースコア!T827),\"\"),\"\")","v":""},{"$f":"IF(K$1<>\"\",IF($A825<>\"\",COUNT(カテゴリースコア!U827),\"\"),\"\")","v":""}]
[{"$f":"IF(データセット1!C826<>\"\",データセット1!C826,\"\")","v":""},{"$f":"IF(データセット1!C826<>\"\",データセット1!D826-カテゴリースコア!$E$11,\"\")","v":""},{"$f":"IF(C$1<>\"\",IF($A826<>\"\",COUNT(カテゴリースコア!M828),\"\"),\"\")","v":""},{"$f":"IF(D$1<>\"\",IF($A826<>\"\",COUNT(カテゴリースコア!N828),\"\"),\"\")","v":""},{"$f":"IF(E$1<>\"\",IF($A826<>\"\",COUNT(カテゴリースコア!O828),\"\"),\"\")","v":""},{"$f":"IF(F$1<>\"\",IF($A826<>\"\",COUNT(カテゴリースコア!P828),\"\"),\"\")","v":""},{"$f":"IF(G$1<>\"\",IF($A826<>\"\",COUNT(カテゴリースコア!Q828),\"\"),\"\")","v":""},{"$f":"IF(H$1<>\"\",IF($A826<>\"\",COUNT(カテゴリースコア!R828),\"\"),\"\")","v":""},{"$f":"IF(I$1<>\"\",IF($A826<>\"\",COUNT(カテゴリースコア!S828),\"\"),\"\")","v":""},{"$f":"IF(J$1<>\"\",IF($A826<>\"\",COUNT(カテゴリースコア!T828),\"\"),\"\")","v":""},{"$f":"IF(K$1<>\"\",IF($A826<>\"\",COUNT(カテゴリースコア!U828),\"\"),\"\")","v":""}]
[{"$f":"IF(データセット1!C827<>\"\",データセット1!C827,\"\")","v":""},{"$f":"IF(データセット1!C827<>\"\",データセット1!D827-カテゴリースコア!$E$11,\"\")","v":""},{"$f":"IF(C$1<>\"\",IF($A827<>\"\",COUNT(カテゴリースコア!M829),\"\"),\"\")","v":""},{"$f":"IF(D$1<>\"\",IF($A827<>\"\",COUNT(カテゴリースコア!N829),\"\"),\"\")","v":""},{"$f":"IF(E$1<>\"\",IF($A827<>\"\",COUNT(カテゴリースコア!O829),\"\"),\"\")","v":""},{"$f":"IF(F$1<>\"\",IF($A827<>\"\",COUNT(カテゴリースコア!P829),\"\"),\"\")","v":""},{"$f":"IF(G$1<>\"\",IF($A827<>\"\",COUNT(カテゴリースコア!Q829),\"\"),\"\")","v":""},{"$f":"IF(H$1<>\"\",IF($A827<>\"\",COUNT(カテゴリースコア!R829),\"\"),\"\")","v":""},{"$f":"IF(I$1<>\"\",IF($A827<>\"\",COUNT(カテゴリースコア!S829),\"\"),\"\")","v":""},{"$f":"IF(J$1<>\"\",IF($A827<>\"\",COUNT(カテゴリースコア!T829),\"\"),\"\")","v":""},{"$f":"IF(K$1<>\"\",IF($A827<>\"\",COUNT(カテゴリースコア!U829),\"\"),\"\")","v":""}]
[{"$f":"IF(データセット1!C828<>\"\",データセット1!C828,\"\")","v":""},{"$f":"IF(データセット1!C828<>\"\",データセット1!D828-カテゴリースコア!$E$11,\"\")","v":""},{"$f":"IF(C$1<>\"\",IF($A828<>\"\",COUNT(カテゴリースコア!M830),\"\"),\"\")","v":""},{"$f":"IF(D$1<>\"\",IF($A828<>\"\",COUNT(カテゴリースコア!N830),\"\"),\"\")","v":""},{"$f":"IF(E$1<>\"\",IF($A828<>\"\",COUNT(カテゴリースコア!O830),\"\"),\"\")","v":""},{"$f":"IF(F$1<>\"\",IF($A828<>\"\",COUNT(カテゴリースコア!P830),\"\"),\"\")","v":""},{"$f":"IF(G$1<>\"\",IF($A828<>\"\",COUNT(カテゴリースコア!Q830),\"\"),\"\")","v":""},{"$f":"IF(H$1<>\"\",IF($A828<>\"\",COUNT(カテゴリースコア!R830),\"\"),\"\")","v":""},{"$f":"IF(I$1<>\"\",IF($A828<>\"\",COUNT(カテゴリースコア!S830),\"\"),\"\")","v":""},{"$f":"IF(J$1<>\"\",IF($A828<>\"\",COUNT(カテゴリースコア!T830),\"\"),\"\")","v":""},{"$f":"IF(K$1<>\"\",IF($A828<>\"\",COUNT(カテゴリースコア!U830),\"\"),\"\")","v":""}]
[{"$f":"IF(データセット1!C829<>\"\",データセット1!C829,\"\")","v":""},{"$f":"IF(データセット1!C829<>\"\",データセット1!D829-カテゴリースコア!$E$11,\"\")","v":""},{"$f":"IF(C$1<>\"\",IF($A829<>\"\",COUNT(カテゴリースコア!M831),\"\"),\"\")","v":""},{"$f":"IF(D$1<>\"\",IF($A829<>\"\",COUNT(カテゴリースコア!N831),\"\"),\"\")","v":""},{"$f":"IF(E$1<>\"\",IF($A829<>\"\",COUNT(カテゴリースコア!O831),\"\"),\"\")","v":""},{"$f":"IF(F$1<>\"\",IF($A829<>\"\",COUNT(カテゴリースコア!P831),\"\"),\"\")","v":""},{"$f":"IF(G$1<>\"\",IF($A829<>\"\",COUNT(カテゴリースコア!Q831),\"\"),\"\")","v":""},{"$f":"IF(H$1<>\"\",IF($A829<>\"\",COUNT(カテゴリースコア!R831),\"\"),\"\")","v":""},{"$f":"IF(I$1<>\"\",IF($A829<>\"\",COUNT(カテゴリースコア!S831),\"\"),\"\")","v":""},{"$f":"IF(J$1<>\"\",IF($A829<>\"\",COUNT(カテゴリースコア!T831),\"\"),\"\")","v":""},{"$f":"IF(K$1<>\"\",IF($A829<>\"\",COUNT(カテゴリースコア!U831),\"\"),\"\")","v":""}]
[{"$f":"IF(データセット1!C830<>\"\",データセット1!C830,\"\")","v":""},{"$f":"IF(データセット1!C830<>\"\",データセット1!D830-カテゴリースコア!$E$11,\"\")","v":""},{"$f":"IF(C$1<>\"\",IF($A830<>\"\",COUNT(カテゴリースコア!M832),\"\"),\"\")","v":""},{"$f":"IF(D$1<>\"\",IF($A830<>\"\",COUNT(カテゴリースコア!N832),\"\"),\"\")","v":""},{"$f":"IF(E$1<>\"\",IF($A830<>\"\",COUNT(カテゴリースコア!O832),\"\"),\"\")","v":""},{"$f":"IF(F$1<>\"\",IF($A830<>\"\",COUNT(カテゴリースコア!P832),\"\"),\"\")","v":""},{"$f":"IF(G$1<>\"\",IF($A830<>\"\",COUNT(カテゴリースコア!Q832),\"\"),\"\")","v":""},{"$f":"IF(H$1<>\"\",IF($A830<>\"\",COUNT(カテゴリースコア!R832),\"\"),\"\")","v":""},{"$f":"IF(I$1<>\"\",IF($A830<>\"\",COUNT(カテゴリースコア!S832),\"\"),\"\")","v":""},{"$f":"IF(J$1<>\"\",IF($A830<>\"\",COUNT(カテゴリースコア!T832),\"\"),\"\")","v":""},{"$f":"IF(K$1<>\"\",IF($A830<>\"\",COUNT(カテゴリースコア!U832),\"\"),\"\")","v":""}]
[{"$f":"IF(データセット1!C831<>\"\",データセット1!C831,\"\")","v":""},{"$f":"IF(データセット1!C831<>\"\",データセット1!D831-カテゴリースコア!$E$11,\"\")","v":""},{"$f":"IF(C$1<>\"\",IF($A831<>\"\",COUNT(カテゴリースコア!M833),\"\"),\"\")","v":""},{"$f":"IF(D$1<>\"\",IF($A831<>\"\",COUNT(カテゴリースコア!N833),\"\"),\"\")","v":""},{"$f":"IF(E$1<>\"\",IF($A831<>\"\",COUNT(カテゴリースコア!O833),\"\"),\"\")","v":""},{"$f":"IF(F$1<>\"\",IF($A831<>\"\",COUNT(カテゴリースコア!P833),\"\"),\"\")","v":""},{"$f":"IF(G$1<>\"\",IF($A831<>\"\",COUNT(カテゴリースコア!Q833),\"\"),\"\")","v":""},{"$f":"IF(H$1<>\"\",IF($A831<>\"\",COUNT(カテゴリースコア!R833),\"\"),\"\")","v":""},{"$f":"IF(I$1<>\"\",IF($A831<>\"\",COUNT(カテゴリースコア!S833),\"\"),\"\")","v":""},{"$f":"IF(J$1<>\"\",IF($A831<>\"\",COUNT(カテゴリースコア!T833),\"\"),\"\")","v":""},{"$f":"IF(K$1<>\"\",IF($A831<>\"\",COUNT(カテゴリースコア!U833),\"\"),\"\")","v":""}]
[{"$f":"IF(データセット1!C832<>\"\",データセット1!C832,\"\")","v":""},{"$f":"IF(データセット1!C832<>\"\",データセット1!D832-カテゴリースコア!$E$11,\"\")","v":""},{"$f":"IF(C$1<>\"\",IF($A832<>\"\",COUNT(カテゴリースコア!M834),\"\"),\"\")","v":""},{"$f":"IF(D$1<>\"\",IF($A832<>\"\",COUNT(カテゴリースコア!N834),\"\"),\"\")","v":""},{"$f":"IF(E$1<>\"\",IF($A832<>\"\",COUNT(カテゴリースコア!O834),\"\"),\"\")","v":""},{"$f":"IF(F$1<>\"\",IF($A832<>\"\",COUNT(カテゴリースコア!P834),\"\"),\"\")","v":""},{"$f":"IF(G$1<>\"\",IF($A832<>\"\",COUNT(カテゴリースコア!Q834),\"\"),\"\")","v":""},{"$f":"IF(H$1<>\"\",IF($A832<>\"\",COUNT(カテゴリースコア!R834),\"\"),\"\")","v":""},{"$f":"IF(I$1<>\"\",IF($A832<>\"\",COUNT(カテゴリースコア!S834),\"\"),\"\")","v":""},{"$f":"IF(J$1<>\"\",IF($A832<>\"\",COUNT(カテゴリースコア!T834),\"\"),\"\")","v":""},{"$f":"IF(K$1<>\"\",IF($A832<>\"\",COUNT(カテゴリースコア!U834),\"\"),\"\")","v":""}]
[{"$f":"IF(データセット1!C833<>\"\",データセット1!C833,\"\")","v":""},{"$f":"IF(データセット1!C833<>\"\",データセット1!D833-カテゴリースコア!$E$11,\"\")","v":""},{"$f":"IF(C$1<>\"\",IF($A833<>\"\",COUNT(カテゴリースコア!M835),\"\"),\"\")","v":""},{"$f":"IF(D$1<>\"\",IF($A833<>\"\",COUNT(カテゴリースコア!N835),\"\"),\"\")","v":""},{"$f":"IF(E$1<>\"\",IF($A833<>\"\",COUNT(カテゴリースコア!O835),\"\"),\"\")","v":""},{"$f":"IF(F$1<>\"\",IF($A833<>\"\",COUNT(カテゴリースコア!P835),\"\"),\"\")","v":""},{"$f":"IF(G$1<>\"\",IF($A833<>\"\",COUNT(カテゴリースコア!Q835),\"\"),\"\")","v":""},{"$f":"IF(H$1<>\"\",IF($A833<>\"\",COUNT(カテゴリースコア!R835),\"\"),\"\")","v":""},{"$f":"IF(I$1<>\"\",IF($A833<>\"\",COUNT(カテゴリースコア!S835),\"\"),\"\")","v":""},{"$f":"IF(J$1<>\"\",IF($A833<>\"\",COUNT(カテゴリースコア!T835),\"\"),\"\")","v":""},{"$f":"IF(K$1<>\"\",IF($A833<>\"\",COUNT(カテゴリースコア!U835),\"\"),\"\")","v":""}]
[{"$f":"IF(データセット1!C834<>\"\",データセット1!C834,\"\")","v":""},{"$f":"IF(データセット1!C834<>\"\",データセット1!D834-カテゴリースコア!$E$11,\"\")","v":""},{"$f":"IF(C$1<>\"\",IF($A834<>\"\",COUNT(カテゴリースコア!M836),\"\"),\"\")","v":""},{"$f":"IF(D$1<>\"\",IF($A834<>\"\",COUNT(カテゴリースコア!N836),\"\"),\"\")","v":""},{"$f":"IF(E$1<>\"\",IF($A834<>\"\",COUNT(カテゴリースコア!O836),\"\"),\"\")","v":""},{"$f":"IF(F$1<>\"\",IF($A834<>\"\",COUNT(カテゴリースコア!P836),\"\"),\"\")","v":""},{"$f":"IF(G$1<>\"\",IF($A834<>\"\",COUNT(カテゴリースコア!Q836),\"\"),\"\")","v":""},{"$f":"IF(H$1<>\"\",IF($A834<>\"\",COUNT(カテゴリースコア!R836),\"\"),\"\")","v":""},{"$f":"IF(I$1<>\"\",IF($A834<>\"\",COUNT(カテゴリースコア!S836),\"\"),\"\")","v":""},{"$f":"IF(J$1<>\"\",IF($A834<>\"\",COUNT(カテゴリースコア!T836),\"\"),\"\")","v":""},{"$f":"IF(K$1<>\"\",IF($A834<>\"\",COUNT(カテゴリースコア!U836),\"\"),\"\")","v":""}]
[{"$f":"IF(データセット1!C835<>\"\",データセット1!C835,\"\")","v":""},{"$f":"IF(データセット1!C835<>\"\",データセット1!D835-カテゴリースコア!$E$11,\"\")","v":""},{"$f":"IF(C$1<>\"\",IF($A835<>\"\",COUNT(カテゴリースコア!M837),\"\"),\"\")","v":""},{"$f":"IF(D$1<>\"\",IF($A835<>\"\",COUNT(カテゴリースコア!N837),\"\"),\"\")","v":""},{"$f":"IF(E$1<>\"\",IF($A835<>\"\",COUNT(カテゴリースコア!O837),\"\"),\"\")","v":""},{"$f":"IF(F$1<>\"\",IF($A835<>\"\",COUNT(カテゴリースコア!P837),\"\"),\"\")","v":""},{"$f":"IF(G$1<>\"\",IF($A835<>\"\",COUNT(カテゴリースコア!Q837),\"\"),\"\")","v":""},{"$f":"IF(H$1<>\"\",IF($A835<>\"\",COUNT(カテゴリースコア!R837),\"\"),\"\")","v":""},{"$f":"IF(I$1<>\"\",IF($A835<>\"\",COUNT(カテゴリースコア!S837),\"\"),\"\")","v":""},{"$f":"IF(J$1<>\"\",IF($A835<>\"\",COUNT(カテゴリースコア!T837),\"\"),\"\")","v":""},{"$f":"IF(K$1<>\"\",IF($A835<>\"\",COUNT(カテゴリースコア!U837),\"\"),\"\")","v":""}]
[{"$f":"IF(データセット1!C836<>\"\",データセット1!C836,\"\")","v":""},{"$f":"IF(データセット1!C836<>\"\",データセット1!D836-カテゴリースコア!$E$11,\"\")","v":""},{"$f":"IF(C$1<>\"\",IF($A836<>\"\",COUNT(カテゴリースコア!M838),\"\"),\"\")","v":""},{"$f":"IF(D$1<>\"\",IF($A836<>\"\",COUNT(カテゴリースコア!N838),\"\"),\"\")","v":""},{"$f":"IF(E$1<>\"\",IF($A836<>\"\",COUNT(カテゴリースコア!O838),\"\"),\"\")","v":""},{"$f":"IF(F$1<>\"\",IF($A836<>\"\",COUNT(カテゴリースコア!P838),\"\"),\"\")","v":""},{"$f":"IF(G$1<>\"\",IF($A836<>\"\",COUNT(カテゴリースコア!Q838),\"\"),\"\")","v":""},{"$f":"IF(H$1<>\"\",IF($A836<>\"\",COUNT(カテゴリースコア!R838),\"\"),\"\")","v":""},{"$f":"IF(I$1<>\"\",IF($A836<>\"\",COUNT(カテゴリースコア!S838),\"\"),\"\")","v":""},{"$f":"IF(J$1<>\"\",IF($A836<>\"\",COUNT(カテゴリースコア!T838),\"\"),\"\")","v":""},{"$f":"IF(K$1<>\"\",IF($A836<>\"\",COUNT(カテゴリースコア!U838),\"\"),\"\")","v":""}]
[{"$f":"IF(データセット1!C837<>\"\",データセット1!C837,\"\")","v":""},{"$f":"IF(データセット1!C837<>\"\",データセット1!D837-カテゴリースコア!$E$11,\"\")","v":""},{"$f":"IF(C$1<>\"\",IF($A837<>\"\",COUNT(カテゴリースコア!M839),\"\"),\"\")","v":""},{"$f":"IF(D$1<>\"\",IF($A837<>\"\",COUNT(カテゴリースコア!N839),\"\"),\"\")","v":""},{"$f":"IF(E$1<>\"\",IF($A837<>\"\",COUNT(カテゴリースコア!O839),\"\"),\"\")","v":""},{"$f":"IF(F$1<>\"\",IF($A837<>\"\",COUNT(カテゴリースコア!P839),\"\"),\"\")","v":""},{"$f":"IF(G$1<>\"\",IF($A837<>\"\",COUNT(カテゴリースコア!Q839),\"\"),\"\")","v":""},{"$f":"IF(H$1<>\"\",IF($A837<>\"\",COUNT(カテゴリースコア!R839),\"\"),\"\")","v":""},{"$f":"IF(I$1<>\"\",IF($A837<>\"\",COUNT(カテゴリースコア!S839),\"\"),\"\")","v":""},{"$f":"IF(J$1<>\"\",IF($A837<>\"\",COUNT(カテゴリースコア!T839),\"\"),\"\")","v":""},{"$f":"IF(K$1<>\"\",IF($A837<>\"\",COUNT(カテゴリースコア!U839),\"\"),\"\")","v":""}]
[{"$f":"IF(データセット1!C838<>\"\",データセット1!C838,\"\")","v":""},{"$f":"IF(データセット1!C838<>\"\",データセット1!D838-カテゴリースコア!$E$11,\"\")","v":""},{"$f":"IF(C$1<>\"\",IF($A838<>\"\",COUNT(カテゴリースコア!M840),\"\"),\"\")","v":""},{"$f":"IF(D$1<>\"\",IF($A838<>\"\",COUNT(カテゴリースコア!N840),\"\"),\"\")","v":""},{"$f":"IF(E$1<>\"\",IF($A838<>\"\",COUNT(カテゴリースコア!O840),\"\"),\"\")","v":""},{"$f":"IF(F$1<>\"\",IF($A838<>\"\",COUNT(カテゴリースコア!P840),\"\"),\"\")","v":""},{"$f":"IF(G$1<>\"\",IF($A838<>\"\",COUNT(カテゴリースコア!Q840),\"\"),\"\")","v":""},{"$f":"IF(H$1<>\"\",IF($A838<>\"\",COUNT(カテゴリースコア!R840),\"\"),\"\")","v":""},{"$f":"IF(I$1<>\"\",IF($A838<>\"\",COUNT(カテゴリースコア!S840),\"\"),\"\")","v":""},{"$f":"IF(J$1<>\"\",IF($A838<>\"\",COUNT(カテゴリースコア!T840),\"\"),\"\")","v":""},{"$f":"IF(K$1<>\"\",IF($A838<>\"\",COUNT(カテゴリースコア!U840),\"\"),\"\")","v":""}]
[{"$f":"IF(データセット1!C839<>\"\",データセット1!C839,\"\")","v":""},{"$f":"IF(データセット1!C839<>\"\",データセット1!D839-カテゴリースコア!$E$11,\"\")","v":""},{"$f":"IF(C$1<>\"\",IF($A839<>\"\",COUNT(カテゴリースコア!M841),\"\"),\"\")","v":""},{"$f":"IF(D$1<>\"\",IF($A839<>\"\",COUNT(カテゴリースコア!N841),\"\"),\"\")","v":""},{"$f":"IF(E$1<>\"\",IF($A839<>\"\",COUNT(カテゴリースコア!O841),\"\"),\"\")","v":""},{"$f":"IF(F$1<>\"\",IF($A839<>\"\",COUNT(カテゴリースコア!P841),\"\"),\"\")","v":""},{"$f":"IF(G$1<>\"\",IF($A839<>\"\",COUNT(カテゴリースコア!Q841),\"\"),\"\")","v":""},{"$f":"IF(H$1<>\"\",IF($A839<>\"\",COUNT(カテゴリースコア!R841),\"\"),\"\")","v":""},{"$f":"IF(I$1<>\"\",IF($A839<>\"\",COUNT(カテゴリースコア!S841),\"\"),\"\")","v":""},{"$f":"IF(J$1<>\"\",IF($A839<>\"\",COUNT(カテゴリースコア!T841),\"\"),\"\")","v":""},{"$f":"IF(K$1<>\"\",IF($A839<>\"\",COUNT(カテゴリースコア!U841),\"\"),\"\")","v":""}]
[{"$f":"IF(データセット1!C840<>\"\",データセット1!C840,\"\")","v":""},{"$f":"IF(データセット1!C840<>\"\",データセット1!D840-カテゴリースコア!$E$11,\"\")","v":""},{"$f":"IF(C$1<>\"\",IF($A840<>\"\",COUNT(カテゴリースコア!M842),\"\"),\"\")","v":""},{"$f":"IF(D$1<>\"\",IF($A840<>\"\",COUNT(カテゴリースコア!N842),\"\"),\"\")","v":""},{"$f":"IF(E$1<>\"\",IF($A840<>\"\",COUNT(カテゴリースコア!O842),\"\"),\"\")","v":""},{"$f":"IF(F$1<>\"\",IF($A840<>\"\",COUNT(カテゴリースコア!P842),\"\"),\"\")","v":""},{"$f":"IF(G$1<>\"\",IF($A840<>\"\",COUNT(カテゴリースコア!Q842),\"\"),\"\")","v":""},{"$f":"IF(H$1<>\"\",IF($A840<>\"\",COUNT(カテゴリースコア!R842),\"\"),\"\")","v":""},{"$f":"IF(I$1<>\"\",IF($A840<>\"\",COUNT(カテゴリースコア!S842),\"\"),\"\")","v":""},{"$f":"IF(J$1<>\"\",IF($A840<>\"\",COUNT(カテゴリースコア!T842),\"\"),\"\")","v":""},{"$f":"IF(K$1<>\"\",IF($A840<>\"\",COUNT(カテゴリースコア!U842),\"\"),\"\")","v":""}]
[{"$f":"IF(データセット1!C841<>\"\",データセット1!C841,\"\")","v":""},{"$f":"IF(データセット1!C841<>\"\",データセット1!D841-カテゴリースコア!$E$11,\"\")","v":""},{"$f":"IF(C$1<>\"\",IF($A841<>\"\",COUNT(カテゴリースコア!M843),\"\"),\"\")","v":""},{"$f":"IF(D$1<>\"\",IF($A841<>\"\",COUNT(カテゴリースコア!N843),\"\"),\"\")","v":""},{"$f":"IF(E$1<>\"\",IF($A841<>\"\",COUNT(カテゴリースコア!O843),\"\"),\"\")","v":""},{"$f":"IF(F$1<>\"\",IF($A841<>\"\",COUNT(カテゴリースコア!P843),\"\"),\"\")","v":""},{"$f":"IF(G$1<>\"\",IF($A841<>\"\",COUNT(カテゴリースコア!Q843),\"\"),\"\")","v":""},{"$f":"IF(H$1<>\"\",IF($A841<>\"\",COUNT(カテゴリースコア!R843),\"\"),\"\")","v":""},{"$f":"IF(I$1<>\"\",IF($A841<>\"\",COUNT(カテゴリースコア!S843),\"\"),\"\")","v":""},{"$f":"IF(J$1<>\"\",IF($A841<>\"\",COUNT(カテゴリースコア!T843),\"\"),\"\")","v":""},{"$f":"IF(K$1<>\"\",IF($A841<>\"\",COUNT(カテゴリースコア!U843),\"\"),\"\")","v":""}]
[{"$f":"IF(データセット1!C842<>\"\",データセット1!C842,\"\")","v":""},{"$f":"IF(データセット1!C842<>\"\",データセット1!D842-カテゴリースコア!$E$11,\"\")","v":""},{"$f":"IF(C$1<>\"\",IF($A842<>\"\",COUNT(カテゴリースコア!M844),\"\"),\"\")","v":""},{"$f":"IF(D$1<>\"\",IF($A842<>\"\",COUNT(カテゴリースコア!N844),\"\"),\"\")","v":""},{"$f":"IF(E$1<>\"\",IF($A842<>\"\",COUNT(カテゴリースコア!O844),\"\"),\"\")","v":""},{"$f":"IF(F$1<>\"\",IF($A842<>\"\",COUNT(カテゴリースコア!P844),\"\"),\"\")","v":""},{"$f":"IF(G$1<>\"\",IF($A842<>\"\",COUNT(カテゴリースコア!Q844),\"\"),\"\")","v":""},{"$f":"IF(H$1<>\"\",IF($A842<>\"\",COUNT(カテゴリースコア!R844),\"\"),\"\")","v":""},{"$f":"IF(I$1<>\"\",IF($A842<>\"\",COUNT(カテゴリースコア!S844),\"\"),\"\")","v":""},{"$f":"IF(J$1<>\"\",IF($A842<>\"\",COUNT(カテゴリースコア!T844),\"\"),\"\")","v":""},{"$f":"IF(K$1<>\"\",IF($A842<>\"\",COUNT(カテゴリースコア!U844),\"\"),\"\")","v":""}]
[{"$f":"IF(データセット1!C843<>\"\",データセット1!C843,\"\")","v":""},{"$f":"IF(データセット1!C843<>\"\",データセット1!D843-カテゴリースコア!$E$11,\"\")","v":""},{"$f":"IF(C$1<>\"\",IF($A843<>\"\",COUNT(カテゴリースコア!M845),\"\"),\"\")","v":""},{"$f":"IF(D$1<>\"\",IF($A843<>\"\",COUNT(カテゴリースコア!N845),\"\"),\"\")","v":""},{"$f":"IF(E$1<>\"\",IF($A843<>\"\",COUNT(カテゴリースコア!O845),\"\"),\"\")","v":""},{"$f":"IF(F$1<>\"\",IF($A843<>\"\",COUNT(カテゴリースコア!P845),\"\"),\"\")","v":""},{"$f":"IF(G$1<>\"\",IF($A843<>\"\",COUNT(カテゴリースコア!Q845),\"\"),\"\")","v":""},{"$f":"IF(H$1<>\"\",IF($A843<>\"\",COUNT(カテゴリースコア!R845),\"\"),\"\")","v":""},{"$f":"IF(I$1<>\"\",IF($A843<>\"\",COUNT(カテゴリースコア!S845),\"\"),\"\")","v":""},{"$f":"IF(J$1<>\"\",IF($A843<>\"\",COUNT(カテゴリースコア!T845),\"\"),\"\")","v":""},{"$f":"IF(K$1<>\"\",IF($A843<>\"\",COUNT(カテゴリースコア!U845),\"\"),\"\")","v":""}]
[{"$f":"IF(データセット1!C844<>\"\",データセット1!C844,\"\")","v":""},{"$f":"IF(データセット1!C844<>\"\",データセット1!D844-カテゴリースコア!$E$11,\"\")","v":""},{"$f":"IF(C$1<>\"\",IF($A844<>\"\",COUNT(カテゴリースコア!M846),\"\"),\"\")","v":""},{"$f":"IF(D$1<>\"\",IF($A844<>\"\",COUNT(カテゴリースコア!N846),\"\"),\"\")","v":""},{"$f":"IF(E$1<>\"\",IF($A844<>\"\",COUNT(カテゴリースコア!O846),\"\"),\"\")","v":""},{"$f":"IF(F$1<>\"\",IF($A844<>\"\",COUNT(カテゴリースコア!P846),\"\"),\"\")","v":""},{"$f":"IF(G$1<>\"\",IF($A844<>\"\",COUNT(カテゴリースコア!Q846),\"\"),\"\")","v":""},{"$f":"IF(H$1<>\"\",IF($A844<>\"\",COUNT(カテゴリースコア!R846),\"\"),\"\")","v":""},{"$f":"IF(I$1<>\"\",IF($A844<>\"\",COUNT(カテゴリースコア!S846),\"\"),\"\")","v":""},{"$f":"IF(J$1<>\"\",IF($A844<>\"\",COUNT(カテゴリースコア!T846),\"\"),\"\")","v":""},{"$f":"IF(K$1<>\"\",IF($A844<>\"\",COUNT(カテゴリースコア!U846),\"\"),\"\")","v":""}]
[{"$f":"IF(データセット1!C845<>\"\",データセット1!C845,\"\")","v":""},{"$f":"IF(データセット1!C845<>\"\",データセット1!D845-カテゴリースコア!$E$11,\"\")","v":""},{"$f":"IF(C$1<>\"\",IF($A845<>\"\",COUNT(カテゴリースコア!M847),\"\"),\"\")","v":""},{"$f":"IF(D$1<>\"\",IF($A845<>\"\",COUNT(カテゴリースコア!N847),\"\"),\"\")","v":""},{"$f":"IF(E$1<>\"\",IF($A845<>\"\",COUNT(カテゴリースコア!O847),\"\"),\"\")","v":""},{"$f":"IF(F$1<>\"\",IF($A845<>\"\",COUNT(カテゴリースコア!P847),\"\"),\"\")","v":""},{"$f":"IF(G$1<>\"\",IF($A845<>\"\",COUNT(カテゴリースコア!Q847),\"\"),\"\")","v":""},{"$f":"IF(H$1<>\"\",IF($A845<>\"\",COUNT(カテゴリースコア!R847),\"\"),\"\")","v":""},{"$f":"IF(I$1<>\"\",IF($A845<>\"\",COUNT(カテゴリースコア!S847),\"\"),\"\")","v":""},{"$f":"IF(J$1<>\"\",IF($A845<>\"\",COUNT(カテゴリースコア!T847),\"\"),\"\")","v":""},{"$f":"IF(K$1<>\"\",IF($A845<>\"\",COUNT(カテゴリースコア!U847),\"\"),\"\")","v":""}]
[{"$f":"IF(データセット1!C846<>\"\",データセット1!C846,\"\")","v":""},{"$f":"IF(データセット1!C846<>\"\",データセット1!D846-カテゴリースコア!$E$11,\"\")","v":""},{"$f":"IF(C$1<>\"\",IF($A846<>\"\",COUNT(カテゴリースコア!M848),\"\"),\"\")","v":""},{"$f":"IF(D$1<>\"\",IF($A846<>\"\",COUNT(カテゴリースコア!N848),\"\"),\"\")","v":""},{"$f":"IF(E$1<>\"\",IF($A846<>\"\",COUNT(カテゴリースコア!O848),\"\"),\"\")","v":""},{"$f":"IF(F$1<>\"\",IF($A846<>\"\",COUNT(カテゴリースコア!P848),\"\"),\"\")","v":""},{"$f":"IF(G$1<>\"\",IF($A846<>\"\",COUNT(カテゴリースコア!Q848),\"\"),\"\")","v":""},{"$f":"IF(H$1<>\"\",IF($A846<>\"\",COUNT(カテゴリースコア!R848),\"\"),\"\")","v":""},{"$f":"IF(I$1<>\"\",IF($A846<>\"\",COUNT(カテゴリースコア!S848),\"\"),\"\")","v":""},{"$f":"IF(J$1<>\"\",IF($A846<>\"\",COUNT(カテゴリースコア!T848),\"\"),\"\")","v":""},{"$f":"IF(K$1<>\"\",IF($A846<>\"\",COUNT(カテゴリースコア!U848),\"\"),\"\")","v":""}]
[{"$f":"IF(データセット1!C847<>\"\",データセット1!C847,\"\")","v":""},{"$f":"IF(データセット1!C847<>\"\",データセット1!D847-カテゴリースコア!$E$11,\"\")","v":""},{"$f":"IF(C$1<>\"\",IF($A847<>\"\",COUNT(カテゴリースコア!M849),\"\"),\"\")","v":""},{"$f":"IF(D$1<>\"\",IF($A847<>\"\",COUNT(カテゴリースコア!N849),\"\"),\"\")","v":""},{"$f":"IF(E$1<>\"\",IF($A847<>\"\",COUNT(カテゴリースコア!O849),\"\"),\"\")","v":""},{"$f":"IF(F$1<>\"\",IF($A847<>\"\",COUNT(カテゴリースコア!P849),\"\"),\"\")","v":""},{"$f":"IF(G$1<>\"\",IF($A847<>\"\",COUNT(カテゴリースコア!Q849),\"\"),\"\")","v":""},{"$f":"IF(H$1<>\"\",IF($A847<>\"\",COUNT(カテゴリースコア!R849),\"\"),\"\")","v":""},{"$f":"IF(I$1<>\"\",IF($A847<>\"\",COUNT(カテゴリースコア!S849),\"\"),\"\")","v":""},{"$f":"IF(J$1<>\"\",IF($A847<>\"\",COUNT(カテゴリースコア!T849),\"\"),\"\")","v":""},{"$f":"IF(K$1<>\"\",IF($A847<>\"\",COUNT(カテゴリースコア!U849),\"\"),\"\")","v":""}]
[{"$f":"IF(データセット1!C848<>\"\",データセット1!C848,\"\")","v":""},{"$f":"IF(データセット1!C848<>\"\",データセット1!D848-カテゴリースコア!$E$11,\"\")","v":""},{"$f":"IF(C$1<>\"\",IF($A848<>\"\",COUNT(カテゴリースコア!M850),\"\"),\"\")","v":""},{"$f":"IF(D$1<>\"\",IF($A848<>\"\",COUNT(カテゴリースコア!N850),\"\"),\"\")","v":""},{"$f":"IF(E$1<>\"\",IF($A848<>\"\",COUNT(カテゴリースコア!O850),\"\"),\"\")","v":""},{"$f":"IF(F$1<>\"\",IF($A848<>\"\",COUNT(カテゴリースコア!P850),\"\"),\"\")","v":""},{"$f":"IF(G$1<>\"\",IF($A848<>\"\",COUNT(カテゴリースコア!Q850),\"\"),\"\")","v":""},{"$f":"IF(H$1<>\"\",IF($A848<>\"\",COUNT(カテゴリースコア!R850),\"\"),\"\")","v":""},{"$f":"IF(I$1<>\"\",IF($A848<>\"\",COUNT(カテゴリースコア!S850),\"\"),\"\")","v":""},{"$f":"IF(J$1<>\"\",IF($A848<>\"\",COUNT(カテゴリースコア!T850),\"\"),\"\")","v":""},{"$f":"IF(K$1<>\"\",IF($A848<>\"\",COUNT(カテゴリースコア!U850),\"\"),\"\")","v":""}]
[{"$f":"IF(データセット1!C849<>\"\",データセット1!C849,\"\")","v":""},{"$f":"IF(データセット1!C849<>\"\",データセット1!D849-カテゴリースコア!$E$11,\"\")","v":""},{"$f":"IF(C$1<>\"\",IF($A849<>\"\",COUNT(カテゴリースコア!M851),\"\"),\"\")","v":""},{"$f":"IF(D$1<>\"\",IF($A849<>\"\",COUNT(カテゴリースコア!N851),\"\"),\"\")","v":""},{"$f":"IF(E$1<>\"\",IF($A849<>\"\",COUNT(カテゴリースコア!O851),\"\"),\"\")","v":""},{"$f":"IF(F$1<>\"\",IF($A849<>\"\",COUNT(カテゴリースコア!P851),\"\"),\"\")","v":""},{"$f":"IF(G$1<>\"\",IF($A849<>\"\",COUNT(カテゴリースコア!Q851),\"\"),\"\")","v":""},{"$f":"IF(H$1<>\"\",IF($A849<>\"\",COUNT(カテゴリースコア!R851),\"\"),\"\")","v":""},{"$f":"IF(I$1<>\"\",IF($A849<>\"\",COUNT(カテゴリースコア!S851),\"\"),\"\")","v":""},{"$f":"IF(J$1<>\"\",IF($A849<>\"\",COUNT(カテゴリースコア!T851),\"\"),\"\")","v":""},{"$f":"IF(K$1<>\"\",IF($A849<>\"\",COUNT(カテゴリースコア!U851),\"\"),\"\")","v":""}]
[{"$f":"IF(データセット1!C850<>\"\",データセット1!C850,\"\")","v":""},{"$f":"IF(データセット1!C850<>\"\",データセット1!D850-カテゴリースコア!$E$11,\"\")","v":""},{"$f":"IF(C$1<>\"\",IF($A850<>\"\",COUNT(カテゴリースコア!M852),\"\"),\"\")","v":""},{"$f":"IF(D$1<>\"\",IF($A850<>\"\",COUNT(カテゴリースコア!N852),\"\"),\"\")","v":""},{"$f":"IF(E$1<>\"\",IF($A850<>\"\",COUNT(カテゴリースコア!O852),\"\"),\"\")","v":""},{"$f":"IF(F$1<>\"\",IF($A850<>\"\",COUNT(カテゴリースコア!P852),\"\"),\"\")","v":""},{"$f":"IF(G$1<>\"\",IF($A850<>\"\",COUNT(カテゴリースコア!Q852),\"\"),\"\")","v":""},{"$f":"IF(H$1<>\"\",IF($A850<>\"\",COUNT(カテゴリースコア!R852),\"\"),\"\")","v":""},{"$f":"IF(I$1<>\"\",IF($A850<>\"\",COUNT(カテゴリースコア!S852),\"\"),\"\")","v":""},{"$f":"IF(J$1<>\"\",IF($A850<>\"\",COUNT(カテゴリースコア!T852),\"\"),\"\")","v":""},{"$f":"IF(K$1<>\"\",IF($A850<>\"\",COUNT(カテゴリースコア!U852),\"\"),\"\")","v":""}]
[{"$f":"IF(データセット1!C851<>\"\",データセット1!C851,\"\")","v":""},{"$f":"IF(データセット1!C851<>\"\",データセット1!D851-カテゴリースコア!$E$11,\"\")","v":""},{"$f":"IF(C$1<>\"\",IF($A851<>\"\",COUNT(カテゴリースコア!M853),\"\"),\"\")","v":""},{"$f":"IF(D$1<>\"\",IF($A851<>\"\",COUNT(カテゴリースコア!N853),\"\"),\"\")","v":""},{"$f":"IF(E$1<>\"\",IF($A851<>\"\",COUNT(カテゴリースコア!O853),\"\"),\"\")","v":""},{"$f":"IF(F$1<>\"\",IF($A851<>\"\",COUNT(カテゴリースコア!P853),\"\"),\"\")","v":""},{"$f":"IF(G$1<>\"\",IF($A851<>\"\",COUNT(カテゴリースコア!Q853),\"\"),\"\")","v":""},{"$f":"IF(H$1<>\"\",IF($A851<>\"\",COUNT(カテゴリースコア!R853),\"\"),\"\")","v":""},{"$f":"IF(I$1<>\"\",IF($A851<>\"\",COUNT(カテゴリースコア!S853),\"\"),\"\")","v":""},{"$f":"IF(J$1<>\"\",IF($A851<>\"\",COUNT(カテゴリースコア!T853),\"\"),\"\")","v":""},{"$f":"IF(K$1<>\"\",IF($A851<>\"\",COUNT(カテゴリースコア!U853),\"\"),\"\")","v":""}]
[{"$f":"IF(データセット1!C852<>\"\",データセット1!C852,\"\")","v":""},{"$f":"IF(データセット1!C852<>\"\",データセット1!D852-カテゴリースコア!$E$11,\"\")","v":""},{"$f":"IF(C$1<>\"\",IF($A852<>\"\",COUNT(カテゴリースコア!M854),\"\"),\"\")","v":""},{"$f":"IF(D$1<>\"\",IF($A852<>\"\",COUNT(カテゴリースコア!N854),\"\"),\"\")","v":""},{"$f":"IF(E$1<>\"\",IF($A852<>\"\",COUNT(カテゴリースコア!O854),\"\"),\"\")","v":""},{"$f":"IF(F$1<>\"\",IF($A852<>\"\",COUNT(カテゴリースコア!P854),\"\"),\"\")","v":""},{"$f":"IF(G$1<>\"\",IF($A852<>\"\",COUNT(カテゴリースコア!Q854),\"\"),\"\")","v":""},{"$f":"IF(H$1<>\"\",IF($A852<>\"\",COUNT(カテゴリースコア!R854),\"\"),\"\")","v":""},{"$f":"IF(I$1<>\"\",IF($A852<>\"\",COUNT(カテゴリースコア!S854),\"\"),\"\")","v":""},{"$f":"IF(J$1<>\"\",IF($A852<>\"\",COUNT(カテゴリースコア!T854),\"\"),\"\")","v":""},{"$f":"IF(K$1<>\"\",IF($A852<>\"\",COUNT(カテゴリースコア!U854),\"\"),\"\")","v":""}]
[{"$f":"IF(データセット1!C853<>\"\",データセット1!C853,\"\")","v":""},{"$f":"IF(データセット1!C853<>\"\",データセット1!D853-カテゴリースコア!$E$11,\"\")","v":""},{"$f":"IF(C$1<>\"\",IF($A853<>\"\",COUNT(カテゴリースコア!M855),\"\"),\"\")","v":""},{"$f":"IF(D$1<>\"\",IF($A853<>\"\",COUNT(カテゴリースコア!N855),\"\"),\"\")","v":""},{"$f":"IF(E$1<>\"\",IF($A853<>\"\",COUNT(カテゴリースコア!O855),\"\"),\"\")","v":""},{"$f":"IF(F$1<>\"\",IF($A853<>\"\",COUNT(カテゴリースコア!P855),\"\"),\"\")","v":""},{"$f":"IF(G$1<>\"\",IF($A853<>\"\",COUNT(カテゴリースコア!Q855),\"\"),\"\")","v":""},{"$f":"IF(H$1<>\"\",IF($A853<>\"\",COUNT(カテゴリースコア!R855),\"\"),\"\")","v":""},{"$f":"IF(I$1<>\"\",IF($A853<>\"\",COUNT(カテゴリースコア!S855),\"\"),\"\")","v":""},{"$f":"IF(J$1<>\"\",IF($A853<>\"\",COUNT(カテゴリースコア!T855),\"\"),\"\")","v":""},{"$f":"IF(K$1<>\"\",IF($A853<>\"\",COUNT(カテゴリースコア!U855),\"\"),\"\")","v":""}]
[{"$f":"IF(データセット1!C854<>\"\",データセット1!C854,\"\")","v":""},{"$f":"IF(データセット1!C854<>\"\",データセット1!D854-カテゴリースコア!$E$11,\"\")","v":""},{"$f":"IF(C$1<>\"\",IF($A854<>\"\",COUNT(カテゴリースコア!M856),\"\"),\"\")","v":""},{"$f":"IF(D$1<>\"\",IF($A854<>\"\",COUNT(カテゴリースコア!N856),\"\"),\"\")","v":""},{"$f":"IF(E$1<>\"\",IF($A854<>\"\",COUNT(カテゴリースコア!O856),\"\"),\"\")","v":""},{"$f":"IF(F$1<>\"\",IF($A854<>\"\",COUNT(カテゴリースコア!P856),\"\"),\"\")","v":""},{"$f":"IF(G$1<>\"\",IF($A854<>\"\",COUNT(カテゴリースコア!Q856),\"\"),\"\")","v":""},{"$f":"IF(H$1<>\"\",IF($A854<>\"\",COUNT(カテゴリースコア!R856),\"\"),\"\")","v":""},{"$f":"IF(I$1<>\"\",IF($A854<>\"\",COUNT(カテゴリースコア!S856),\"\"),\"\")","v":""},{"$f":"IF(J$1<>\"\",IF($A854<>\"\",COUNT(カテゴリースコア!T856),\"\"),\"\")","v":""},{"$f":"IF(K$1<>\"\",IF($A854<>\"\",COUNT(カテゴリースコア!U856),\"\"),\"\")","v":""}]
[{"$f":"IF(データセット1!C855<>\"\",データセット1!C855,\"\")","v":""},{"$f":"IF(データセット1!C855<>\"\",データセット1!D855-カテゴリースコア!$E$11,\"\")","v":""},{"$f":"IF(C$1<>\"\",IF($A855<>\"\",COUNT(カテゴリースコア!M857),\"\"),\"\")","v":""},{"$f":"IF(D$1<>\"\",IF($A855<>\"\",COUNT(カテゴリースコア!N857),\"\"),\"\")","v":""},{"$f":"IF(E$1<>\"\",IF($A855<>\"\",COUNT(カテゴリースコア!O857),\"\"),\"\")","v":""},{"$f":"IF(F$1<>\"\",IF($A855<>\"\",COUNT(カテゴリースコア!P857),\"\"),\"\")","v":""},{"$f":"IF(G$1<>\"\",IF($A855<>\"\",COUNT(カテゴリースコア!Q857),\"\"),\"\")","v":""},{"$f":"IF(H$1<>\"\",IF($A855<>\"\",COUNT(カテゴリースコア!R857),\"\"),\"\")","v":""},{"$f":"IF(I$1<>\"\",IF($A855<>\"\",COUNT(カテゴリースコア!S857),\"\"),\"\")","v":""},{"$f":"IF(J$1<>\"\",IF($A855<>\"\",COUNT(カテゴリースコア!T857),\"\"),\"\")","v":""},{"$f":"IF(K$1<>\"\",IF($A855<>\"\",COUNT(カテゴリースコア!U857),\"\"),\"\")","v":""}]
[{"$f":"IF(データセット1!C856<>\"\",データセット1!C856,\"\")","v":""},{"$f":"IF(データセット1!C856<>\"\",データセット1!D856-カテゴリースコア!$E$11,\"\")","v":""},{"$f":"IF(C$1<>\"\",IF($A856<>\"\",COUNT(カテゴリースコア!M858),\"\"),\"\")","v":""},{"$f":"IF(D$1<>\"\",IF($A856<>\"\",COUNT(カテゴリースコア!N858),\"\"),\"\")","v":""},{"$f":"IF(E$1<>\"\",IF($A856<>\"\",COUNT(カテゴリースコア!O858),\"\"),\"\")","v":""},{"$f":"IF(F$1<>\"\",IF($A856<>\"\",COUNT(カテゴリースコア!P858),\"\"),\"\")","v":""},{"$f":"IF(G$1<>\"\",IF($A856<>\"\",COUNT(カテゴリースコア!Q858),\"\"),\"\")","v":""},{"$f":"IF(H$1<>\"\",IF($A856<>\"\",COUNT(カテゴリースコア!R858),\"\"),\"\")","v":""},{"$f":"IF(I$1<>\"\",IF($A856<>\"\",COUNT(カテゴリースコア!S858),\"\"),\"\")","v":""},{"$f":"IF(J$1<>\"\",IF($A856<>\"\",COUNT(カテゴリースコア!T858),\"\"),\"\")","v":""},{"$f":"IF(K$1<>\"\",IF($A856<>\"\",COUNT(カテゴリースコア!U858),\"\"),\"\")","v":""}]
[{"$f":"IF(データセット1!C857<>\"\",データセット1!C857,\"\")","v":""},{"$f":"IF(データセット1!C857<>\"\",データセット1!D857-カテゴリースコア!$E$11,\"\")","v":""},{"$f":"IF(C$1<>\"\",IF($A857<>\"\",COUNT(カテゴリースコア!M859),\"\"),\"\")","v":""},{"$f":"IF(D$1<>\"\",IF($A857<>\"\",COUNT(カテゴリースコア!N859),\"\"),\"\")","v":""},{"$f":"IF(E$1<>\"\",IF($A857<>\"\",COUNT(カテゴリースコア!O859),\"\"),\"\")","v":""},{"$f":"IF(F$1<>\"\",IF($A857<>\"\",COUNT(カテゴリースコア!P859),\"\"),\"\")","v":""},{"$f":"IF(G$1<>\"\",IF($A857<>\"\",COUNT(カテゴリースコア!Q859),\"\"),\"\")","v":""},{"$f":"IF(H$1<>\"\",IF($A857<>\"\",COUNT(カテゴリースコア!R859),\"\"),\"\")","v":""},{"$f":"IF(I$1<>\"\",IF($A857<>\"\",COUNT(カテゴリースコア!S859),\"\"),\"\")","v":""},{"$f":"IF(J$1<>\"\",IF($A857<>\"\",COUNT(カテゴリースコア!T859),\"\"),\"\")","v":""},{"$f":"IF(K$1<>\"\",IF($A857<>\"\",COUNT(カテゴリースコア!U859),\"\"),\"\")","v":""}]
[{"$f":"IF(データセット1!C858<>\"\",データセット1!C858,\"\")","v":""},{"$f":"IF(データセット1!C858<>\"\",データセット1!D858-カテゴリースコア!$E$11,\"\")","v":""},{"$f":"IF(C$1<>\"\",IF($A858<>\"\",COUNT(カテゴリースコア!M860),\"\"),\"\")","v":""},{"$f":"IF(D$1<>\"\",IF($A858<>\"\",COUNT(カテゴリースコア!N860),\"\"),\"\")","v":""},{"$f":"IF(E$1<>\"\",IF($A858<>\"\",COUNT(カテゴリースコア!O860),\"\"),\"\")","v":""},{"$f":"IF(F$1<>\"\",IF($A858<>\"\",COUNT(カテゴリースコア!P860),\"\"),\"\")","v":""},{"$f":"IF(G$1<>\"\",IF($A858<>\"\",COUNT(カテゴリースコア!Q860),\"\"),\"\")","v":""},{"$f":"IF(H$1<>\"\",IF($A858<>\"\",COUNT(カテゴリースコア!R860),\"\"),\"\")","v":""},{"$f":"IF(I$1<>\"\",IF($A858<>\"\",COUNT(カテゴリースコア!S860),\"\"),\"\")","v":""},{"$f":"IF(J$1<>\"\",IF($A858<>\"\",COUNT(カテゴリースコア!T860),\"\"),\"\")","v":""},{"$f":"IF(K$1<>\"\",IF($A858<>\"\",COUNT(カテゴリースコア!U860),\"\"),\"\")","v":""}]
[{"$f":"IF(データセット1!C859<>\"\",データセット1!C859,\"\")","v":""},{"$f":"IF(データセット1!C859<>\"\",データセット1!D859-カテゴリースコア!$E$11,\"\")","v":""},{"$f":"IF(C$1<>\"\",IF($A859<>\"\",COUNT(カテゴリースコア!M861),\"\"),\"\")","v":""},{"$f":"IF(D$1<>\"\",IF($A859<>\"\",COUNT(カテゴリースコア!N861),\"\"),\"\")","v":""},{"$f":"IF(E$1<>\"\",IF($A859<>\"\",COUNT(カテゴリースコア!O861),\"\"),\"\")","v":""},{"$f":"IF(F$1<>\"\",IF($A859<>\"\",COUNT(カテゴリースコア!P861),\"\"),\"\")","v":""},{"$f":"IF(G$1<>\"\",IF($A859<>\"\",COUNT(カテゴリースコア!Q861),\"\"),\"\")","v":""},{"$f":"IF(H$1<>\"\",IF($A859<>\"\",COUNT(カテゴリースコア!R861),\"\"),\"\")","v":""},{"$f":"IF(I$1<>\"\",IF($A859<>\"\",COUNT(カテゴリースコア!S861),\"\"),\"\")","v":""},{"$f":"IF(J$1<>\"\",IF($A859<>\"\",COUNT(カテゴリースコア!T861),\"\"),\"\")","v":""},{"$f":"IF(K$1<>\"\",IF($A859<>\"\",COUNT(カテゴリースコア!U861),\"\"),\"\")","v":""}]
[{"$f":"IF(データセット1!C860<>\"\",データセット1!C860,\"\")","v":""},{"$f":"IF(データセット1!C860<>\"\",データセット1!D860-カテゴリースコア!$E$11,\"\")","v":""},{"$f":"IF(C$1<>\"\",IF($A860<>\"\",COUNT(カテゴリースコア!M862),\"\"),\"\")","v":""},{"$f":"IF(D$1<>\"\",IF($A860<>\"\",COUNT(カテゴリースコア!N862),\"\"),\"\")","v":""},{"$f":"IF(E$1<>\"\",IF($A860<>\"\",COUNT(カテゴリースコア!O862),\"\"),\"\")","v":""},{"$f":"IF(F$1<>\"\",IF($A860<>\"\",COUNT(カテゴリースコア!P862),\"\"),\"\")","v":""},{"$f":"IF(G$1<>\"\",IF($A860<>\"\",COUNT(カテゴリースコア!Q862),\"\"),\"\")","v":""},{"$f":"IF(H$1<>\"\",IF($A860<>\"\",COUNT(カテゴリースコア!R862),\"\"),\"\")","v":""},{"$f":"IF(I$1<>\"\",IF($A860<>\"\",COUNT(カテゴリースコア!S862),\"\"),\"\")","v":""},{"$f":"IF(J$1<>\"\",IF($A860<>\"\",COUNT(カテゴリースコア!T862),\"\"),\"\")","v":""},{"$f":"IF(K$1<>\"\",IF($A860<>\"\",COUNT(カテゴリースコア!U862),\"\"),\"\")","v":""}]
[{"$f":"IF(データセット1!C861<>\"\",データセット1!C861,\"\")","v":""},{"$f":"IF(データセット1!C861<>\"\",データセット1!D861-カテゴリースコア!$E$11,\"\")","v":""},{"$f":"IF(C$1<>\"\",IF($A861<>\"\",COUNT(カテゴリースコア!M863),\"\"),\"\")","v":""},{"$f":"IF(D$1<>\"\",IF($A861<>\"\",COUNT(カテゴリースコア!N863),\"\"),\"\")","v":""},{"$f":"IF(E$1<>\"\",IF($A861<>\"\",COUNT(カテゴリースコア!O863),\"\"),\"\")","v":""},{"$f":"IF(F$1<>\"\",IF($A861<>\"\",COUNT(カテゴリースコア!P863),\"\"),\"\")","v":""},{"$f":"IF(G$1<>\"\",IF($A861<>\"\",COUNT(カテゴリースコア!Q863),\"\"),\"\")","v":""},{"$f":"IF(H$1<>\"\",IF($A861<>\"\",COUNT(カテゴリースコア!R863),\"\"),\"\")","v":""},{"$f":"IF(I$1<>\"\",IF($A861<>\"\",COUNT(カテゴリースコア!S863),\"\"),\"\")","v":""},{"$f":"IF(J$1<>\"\",IF($A861<>\"\",COUNT(カテゴリースコア!T863),\"\"),\"\")","v":""},{"$f":"IF(K$1<>\"\",IF($A861<>\"\",COUNT(カテゴリースコア!U863),\"\"),\"\")","v":""}]
[{"$f":"IF(データセット1!C862<>\"\",データセット1!C862,\"\")","v":""},{"$f":"IF(データセット1!C862<>\"\",データセット1!D862-カテゴリースコア!$E$11,\"\")","v":""},{"$f":"IF(C$1<>\"\",IF($A862<>\"\",COUNT(カテゴリースコア!M864),\"\"),\"\")","v":""},{"$f":"IF(D$1<>\"\",IF($A862<>\"\",COUNT(カテゴリースコア!N864),\"\"),\"\")","v":""},{"$f":"IF(E$1<>\"\",IF($A862<>\"\",COUNT(カテゴリースコア!O864),\"\"),\"\")","v":""},{"$f":"IF(F$1<>\"\",IF($A862<>\"\",COUNT(カテゴリースコア!P864),\"\"),\"\")","v":""},{"$f":"IF(G$1<>\"\",IF($A862<>\"\",COUNT(カテゴリースコア!Q864),\"\"),\"\")","v":""},{"$f":"IF(H$1<>\"\",IF($A862<>\"\",COUNT(カテゴリースコア!R864),\"\"),\"\")","v":""},{"$f":"IF(I$1<>\"\",IF($A862<>\"\",COUNT(カテゴリースコア!S864),\"\"),\"\")","v":""},{"$f":"IF(J$1<>\"\",IF($A862<>\"\",COUNT(カテゴリースコア!T864),\"\"),\"\")","v":""},{"$f":"IF(K$1<>\"\",IF($A862<>\"\",COUNT(カテゴリースコア!U864),\"\"),\"\")","v":""}]
[{"$f":"IF(データセット1!C863<>\"\",データセット1!C863,\"\")","v":""},{"$f":"IF(データセット1!C863<>\"\",データセット1!D863-カテゴリースコア!$E$11,\"\")","v":""},{"$f":"IF(C$1<>\"\",IF($A863<>\"\",COUNT(カテゴリースコア!M865),\"\"),\"\")","v":""},{"$f":"IF(D$1<>\"\",IF($A863<>\"\",COUNT(カテゴリースコア!N865),\"\"),\"\")","v":""},{"$f":"IF(E$1<>\"\",IF($A863<>\"\",COUNT(カテゴリースコア!O865),\"\"),\"\")","v":""},{"$f":"IF(F$1<>\"\",IF($A863<>\"\",COUNT(カテゴリースコア!P865),\"\"),\"\")","v":""},{"$f":"IF(G$1<>\"\",IF($A863<>\"\",COUNT(カテゴリースコア!Q865),\"\"),\"\")","v":""},{"$f":"IF(H$1<>\"\",IF($A863<>\"\",COUNT(カテゴリースコア!R865),\"\"),\"\")","v":""},{"$f":"IF(I$1<>\"\",IF($A863<>\"\",COUNT(カテゴリースコア!S865),\"\"),\"\")","v":""},{"$f":"IF(J$1<>\"\",IF($A863<>\"\",COUNT(カテゴリースコア!T865),\"\"),\"\")","v":""},{"$f":"IF(K$1<>\"\",IF($A863<>\"\",COUNT(カテゴリースコア!U865),\"\"),\"\")","v":""}]
[{"$f":"IF(データセット1!C864<>\"\",データセット1!C864,\"\")","v":""},{"$f":"IF(データセット1!C864<>\"\",データセット1!D864-カテゴリースコア!$E$11,\"\")","v":""},{"$f":"IF(C$1<>\"\",IF($A864<>\"\",COUNT(カテゴリースコア!M866),\"\"),\"\")","v":""},{"$f":"IF(D$1<>\"\",IF($A864<>\"\",COUNT(カテゴリースコア!N866),\"\"),\"\")","v":""},{"$f":"IF(E$1<>\"\",IF($A864<>\"\",COUNT(カテゴリースコア!O866),\"\"),\"\")","v":""},{"$f":"IF(F$1<>\"\",IF($A864<>\"\",COUNT(カテゴリースコア!P866),\"\"),\"\")","v":""},{"$f":"IF(G$1<>\"\",IF($A864<>\"\",COUNT(カテゴリースコア!Q866),\"\"),\"\")","v":""},{"$f":"IF(H$1<>\"\",IF($A864<>\"\",COUNT(カテゴリースコア!R866),\"\"),\"\")","v":""},{"$f":"IF(I$1<>\"\",IF($A864<>\"\",COUNT(カテゴリースコア!S866),\"\"),\"\")","v":""},{"$f":"IF(J$1<>\"\",IF($A864<>\"\",COUNT(カテゴリースコア!T866),\"\"),\"\")","v":""},{"$f":"IF(K$1<>\"\",IF($A864<>\"\",COUNT(カテゴリースコア!U866),\"\"),\"\")","v":""}]
[{"$f":"IF(データセット1!C865<>\"\",データセット1!C865,\"\")","v":""},{"$f":"IF(データセット1!C865<>\"\",データセット1!D865-カテゴリースコア!$E$11,\"\")","v":""},{"$f":"IF(C$1<>\"\",IF($A865<>\"\",COUNT(カテゴリースコア!M867),\"\"),\"\")","v":""},{"$f":"IF(D$1<>\"\",IF($A865<>\"\",COUNT(カテゴリースコア!N867),\"\"),\"\")","v":""},{"$f":"IF(E$1<>\"\",IF($A865<>\"\",COUNT(カテゴリースコア!O867),\"\"),\"\")","v":""},{"$f":"IF(F$1<>\"\",IF($A865<>\"\",COUNT(カテゴリースコア!P867),\"\"),\"\")","v":""},{"$f":"IF(G$1<>\"\",IF($A865<>\"\",COUNT(カテゴリースコア!Q867),\"\"),\"\")","v":""},{"$f":"IF(H$1<>\"\",IF($A865<>\"\",COUNT(カテゴリースコア!R867),\"\"),\"\")","v":""},{"$f":"IF(I$1<>\"\",IF($A865<>\"\",COUNT(カテゴリースコア!S867),\"\"),\"\")","v":""},{"$f":"IF(J$1<>\"\",IF($A865<>\"\",COUNT(カテゴリースコア!T867),\"\"),\"\")","v":""},{"$f":"IF(K$1<>\"\",IF($A865<>\"\",COUNT(カテゴリースコア!U867),\"\"),\"\")","v":""}]
[{"$f":"IF(データセット1!C866<>\"\",データセット1!C866,\"\")","v":""},{"$f":"IF(データセット1!C866<>\"\",データセット1!D866-カテゴリースコア!$E$11,\"\")","v":""},{"$f":"IF(C$1<>\"\",IF($A866<>\"\",COUNT(カテゴリースコア!M868),\"\"),\"\")","v":""},{"$f":"IF(D$1<>\"\",IF($A866<>\"\",COUNT(カテゴリースコア!N868),\"\"),\"\")","v":""},{"$f":"IF(E$1<>\"\",IF($A866<>\"\",COUNT(カテゴリースコア!O868),\"\"),\"\")","v":""},{"$f":"IF(F$1<>\"\",IF($A866<>\"\",COUNT(カテゴリースコア!P868),\"\"),\"\")","v":""},{"$f":"IF(G$1<>\"\",IF($A866<>\"\",COUNT(カテゴリースコア!Q868),\"\"),\"\")","v":""},{"$f":"IF(H$1<>\"\",IF($A866<>\"\",COUNT(カテゴリースコア!R868),\"\"),\"\")","v":""},{"$f":"IF(I$1<>\"\",IF($A866<>\"\",COUNT(カテゴリースコア!S868),\"\"),\"\")","v":""},{"$f":"IF(J$1<>\"\",IF($A866<>\"\",COUNT(カテゴリースコア!T868),\"\"),\"\")","v":""},{"$f":"IF(K$1<>\"\",IF($A866<>\"\",COUNT(カテゴリースコア!U868),\"\"),\"\")","v":""}]
[{"$f":"IF(データセット1!C867<>\"\",データセット1!C867,\"\")","v":""},{"$f":"IF(データセット1!C867<>\"\",データセット1!D867-カテゴリースコア!$E$11,\"\")","v":""},{"$f":"IF(C$1<>\"\",IF($A867<>\"\",COUNT(カテゴリースコア!M869),\"\"),\"\")","v":""},{"$f":"IF(D$1<>\"\",IF($A867<>\"\",COUNT(カテゴリースコア!N869),\"\"),\"\")","v":""},{"$f":"IF(E$1<>\"\",IF($A867<>\"\",COUNT(カテゴリースコア!O869),\"\"),\"\")","v":""},{"$f":"IF(F$1<>\"\",IF($A867<>\"\",COUNT(カテゴリースコア!P869),\"\"),\"\")","v":""},{"$f":"IF(G$1<>\"\",IF($A867<>\"\",COUNT(カテゴリースコア!Q869),\"\"),\"\")","v":""},{"$f":"IF(H$1<>\"\",IF($A867<>\"\",COUNT(カテゴリースコア!R869),\"\"),\"\")","v":""},{"$f":"IF(I$1<>\"\",IF($A867<>\"\",COUNT(カテゴリースコア!S869),\"\"),\"\")","v":""},{"$f":"IF(J$1<>\"\",IF($A867<>\"\",COUNT(カテゴリースコア!T869),\"\"),\"\")","v":""},{"$f":"IF(K$1<>\"\",IF($A867<>\"\",COUNT(カテゴリースコア!U869),\"\"),\"\")","v":""}]
[{"$f":"IF(データセット1!C868<>\"\",データセット1!C868,\"\")","v":""},{"$f":"IF(データセット1!C868<>\"\",データセット1!D868-カテゴリースコア!$E$11,\"\")","v":""},{"$f":"IF(C$1<>\"\",IF($A868<>\"\",COUNT(カテゴリースコア!M870),\"\"),\"\")","v":""},{"$f":"IF(D$1<>\"\",IF($A868<>\"\",COUNT(カテゴリースコア!N870),\"\"),\"\")","v":""},{"$f":"IF(E$1<>\"\",IF($A868<>\"\",COUNT(カテゴリースコア!O870),\"\"),\"\")","v":""},{"$f":"IF(F$1<>\"\",IF($A868<>\"\",COUNT(カテゴリースコア!P870),\"\"),\"\")","v":""},{"$f":"IF(G$1<>\"\",IF($A868<>\"\",COUNT(カテゴリースコア!Q870),\"\"),\"\")","v":""},{"$f":"IF(H$1<>\"\",IF($A868<>\"\",COUNT(カテゴリースコア!R870),\"\"),\"\")","v":""},{"$f":"IF(I$1<>\"\",IF($A868<>\"\",COUNT(カテゴリースコア!S870),\"\"),\"\")","v":""},{"$f":"IF(J$1<>\"\",IF($A868<>\"\",COUNT(カテゴリースコア!T870),\"\"),\"\")","v":""},{"$f":"IF(K$1<>\"\",IF($A868<>\"\",COUNT(カテゴリースコア!U870),\"\"),\"\")","v":""}]
[{"$f":"IF(データセット1!C869<>\"\",データセット1!C869,\"\")","v":""},{"$f":"IF(データセット1!C869<>\"\",データセット1!D869-カテゴリースコア!$E$11,\"\")","v":""},{"$f":"IF(C$1<>\"\",IF($A869<>\"\",COUNT(カテゴリースコア!M871),\"\"),\"\")","v":""},{"$f":"IF(D$1<>\"\",IF($A869<>\"\",COUNT(カテゴリースコア!N871),\"\"),\"\")","v":""},{"$f":"IF(E$1<>\"\",IF($A869<>\"\",COUNT(カテゴリースコア!O871),\"\"),\"\")","v":""},{"$f":"IF(F$1<>\"\",IF($A869<>\"\",COUNT(カテゴリースコア!P871),\"\"),\"\")","v":""},{"$f":"IF(G$1<>\"\",IF($A869<>\"\",COUNT(カテゴリースコア!Q871),\"\"),\"\")","v":""},{"$f":"IF(H$1<>\"\",IF($A869<>\"\",COUNT(カテゴリースコア!R871),\"\"),\"\")","v":""},{"$f":"IF(I$1<>\"\",IF($A869<>\"\",COUNT(カテゴリースコア!S871),\"\"),\"\")","v":""},{"$f":"IF(J$1<>\"\",IF($A869<>\"\",COUNT(カテゴリースコア!T871),\"\"),\"\")","v":""},{"$f":"IF(K$1<>\"\",IF($A869<>\"\",COUNT(カテゴリースコア!U871),\"\"),\"\")","v":""}]
[{"$f":"IF(データセット1!C870<>\"\",データセット1!C870,\"\")","v":""},{"$f":"IF(データセット1!C870<>\"\",データセット1!D870-カテゴリースコア!$E$11,\"\")","v":""},{"$f":"IF(C$1<>\"\",IF($A870<>\"\",COUNT(カテゴリースコア!M872),\"\"),\"\")","v":""},{"$f":"IF(D$1<>\"\",IF($A870<>\"\",COUNT(カテゴリースコア!N872),\"\"),\"\")","v":""},{"$f":"IF(E$1<>\"\",IF($A870<>\"\",COUNT(カテゴリースコア!O872),\"\"),\"\")","v":""},{"$f":"IF(F$1<>\"\",IF($A870<>\"\",COUNT(カテゴリースコア!P872),\"\"),\"\")","v":""},{"$f":"IF(G$1<>\"\",IF($A870<>\"\",COUNT(カテゴリースコア!Q872),\"\"),\"\")","v":""},{"$f":"IF(H$1<>\"\",IF($A870<>\"\",COUNT(カテゴリースコア!R872),\"\"),\"\")","v":""},{"$f":"IF(I$1<>\"\",IF($A870<>\"\",COUNT(カテゴリースコア!S872),\"\"),\"\")","v":""},{"$f":"IF(J$1<>\"\",IF($A870<>\"\",COUNT(カテゴリースコア!T872),\"\"),\"\")","v":""},{"$f":"IF(K$1<>\"\",IF($A870<>\"\",COUNT(カテゴリースコア!U872),\"\"),\"\")","v":""}]
[{"$f":"IF(データセット1!C871<>\"\",データセット1!C871,\"\")","v":""},{"$f":"IF(データセット1!C871<>\"\",データセット1!D871-カテゴリースコア!$E$11,\"\")","v":""},{"$f":"IF(C$1<>\"\",IF($A871<>\"\",COUNT(カテゴリースコア!M873),\"\"),\"\")","v":""},{"$f":"IF(D$1<>\"\",IF($A871<>\"\",COUNT(カテゴリースコア!N873),\"\"),\"\")","v":""},{"$f":"IF(E$1<>\"\",IF($A871<>\"\",COUNT(カテゴリースコア!O873),\"\"),\"\")","v":""},{"$f":"IF(F$1<>\"\",IF($A871<>\"\",COUNT(カテゴリースコア!P873),\"\"),\"\")","v":""},{"$f":"IF(G$1<>\"\",IF($A871<>\"\",COUNT(カテゴリースコア!Q873),\"\"),\"\")","v":""},{"$f":"IF(H$1<>\"\",IF($A871<>\"\",COUNT(カテゴリースコア!R873),\"\"),\"\")","v":""},{"$f":"IF(I$1<>\"\",IF($A871<>\"\",COUNT(カテゴリースコア!S873),\"\"),\"\")","v":""},{"$f":"IF(J$1<>\"\",IF($A871<>\"\",COUNT(カテゴリースコア!T873),\"\"),\"\")","v":""},{"$f":"IF(K$1<>\"\",IF($A871<>\"\",COUNT(カテゴリースコア!U873),\"\"),\"\")","v":""}]
[{"$f":"IF(データセット1!C872<>\"\",データセット1!C872,\"\")","v":""},{"$f":"IF(データセット1!C872<>\"\",データセット1!D872-カテゴリースコア!$E$11,\"\")","v":""},{"$f":"IF(C$1<>\"\",IF($A872<>\"\",COUNT(カテゴリースコア!M874),\"\"),\"\")","v":""},{"$f":"IF(D$1<>\"\",IF($A872<>\"\",COUNT(カテゴリースコア!N874),\"\"),\"\")","v":""},{"$f":"IF(E$1<>\"\",IF($A872<>\"\",COUNT(カテゴリースコア!O874),\"\"),\"\")","v":""},{"$f":"IF(F$1<>\"\",IF($A872<>\"\",COUNT(カテゴリースコア!P874),\"\"),\"\")","v":""},{"$f":"IF(G$1<>\"\",IF($A872<>\"\",COUNT(カテゴリースコア!Q874),\"\"),\"\")","v":""},{"$f":"IF(H$1<>\"\",IF($A872<>\"\",COUNT(カテゴリースコア!R874),\"\"),\"\")","v":""},{"$f":"IF(I$1<>\"\",IF($A872<>\"\",COUNT(カテゴリースコア!S874),\"\"),\"\")","v":""},{"$f":"IF(J$1<>\"\",IF($A872<>\"\",COUNT(カテゴリースコア!T874),\"\"),\"\")","v":""},{"$f":"IF(K$1<>\"\",IF($A872<>\"\",COUNT(カテゴリースコア!U874),\"\"),\"\")","v":""}]
[{"$f":"IF(データセット1!C873<>\"\",データセット1!C873,\"\")","v":""},{"$f":"IF(データセット1!C873<>\"\",データセット1!D873-カテゴリースコア!$E$11,\"\")","v":""},{"$f":"IF(C$1<>\"\",IF($A873<>\"\",COUNT(カテゴリースコア!M875),\"\"),\"\")","v":""},{"$f":"IF(D$1<>\"\",IF($A873<>\"\",COUNT(カテゴリースコア!N875),\"\"),\"\")","v":""},{"$f":"IF(E$1<>\"\",IF($A873<>\"\",COUNT(カテゴリースコア!O875),\"\"),\"\")","v":""},{"$f":"IF(F$1<>\"\",IF($A873<>\"\",COUNT(カテゴリースコア!P875),\"\"),\"\")","v":""},{"$f":"IF(G$1<>\"\",IF($A873<>\"\",COUNT(カテゴリースコア!Q875),\"\"),\"\")","v":""},{"$f":"IF(H$1<>\"\",IF($A873<>\"\",COUNT(カテゴリースコア!R875),\"\"),\"\")","v":""},{"$f":"IF(I$1<>\"\",IF($A873<>\"\",COUNT(カテゴリースコア!S875),\"\"),\"\")","v":""},{"$f":"IF(J$1<>\"\",IF($A873<>\"\",COUNT(カテゴリースコア!T875),\"\"),\"\")","v":""},{"$f":"IF(K$1<>\"\",IF($A873<>\"\",COUNT(カテゴリースコア!U875),\"\"),\"\")","v":""}]
[{"$f":"IF(データセット1!C874<>\"\",データセット1!C874,\"\")","v":""},{"$f":"IF(データセット1!C874<>\"\",データセット1!D874-カテゴリースコア!$E$11,\"\")","v":""},{"$f":"IF(C$1<>\"\",IF($A874<>\"\",COUNT(カテゴリースコア!M876),\"\"),\"\")","v":""},{"$f":"IF(D$1<>\"\",IF($A874<>\"\",COUNT(カテゴリースコア!N876),\"\"),\"\")","v":""},{"$f":"IF(E$1<>\"\",IF($A874<>\"\",COUNT(カテゴリースコア!O876),\"\"),\"\")","v":""},{"$f":"IF(F$1<>\"\",IF($A874<>\"\",COUNT(カテゴリースコア!P876),\"\"),\"\")","v":""},{"$f":"IF(G$1<>\"\",IF($A874<>\"\",COUNT(カテゴリースコア!Q876),\"\"),\"\")","v":""},{"$f":"IF(H$1<>\"\",IF($A874<>\"\",COUNT(カテゴリースコア!R876),\"\"),\"\")","v":""},{"$f":"IF(I$1<>\"\",IF($A874<>\"\",COUNT(カテゴリースコア!S876),\"\"),\"\")","v":""},{"$f":"IF(J$1<>\"\",IF($A874<>\"\",COUNT(カテゴリースコア!T876),\"\"),\"\")","v":""},{"$f":"IF(K$1<>\"\",IF($A874<>\"\",COUNT(カテゴリースコア!U876),\"\"),\"\")","v":""}]
[{"$f":"IF(データセット1!C875<>\"\",データセット1!C875,\"\")","v":""},{"$f":"IF(データセット1!C875<>\"\",データセット1!D875-カテゴリースコア!$E$11,\"\")","v":""},{"$f":"IF(C$1<>\"\",IF($A875<>\"\",COUNT(カテゴリースコア!M877),\"\"),\"\")","v":""},{"$f":"IF(D$1<>\"\",IF($A875<>\"\",COUNT(カテゴリースコア!N877),\"\"),\"\")","v":""},{"$f":"IF(E$1<>\"\",IF($A875<>\"\",COUNT(カテゴリースコア!O877),\"\"),\"\")","v":""},{"$f":"IF(F$1<>\"\",IF($A875<>\"\",COUNT(カテゴリースコア!P877),\"\"),\"\")","v":""},{"$f":"IF(G$1<>\"\",IF($A875<>\"\",COUNT(カテゴリースコア!Q877),\"\"),\"\")","v":""},{"$f":"IF(H$1<>\"\",IF($A875<>\"\",COUNT(カテゴリースコア!R877),\"\"),\"\")","v":""},{"$f":"IF(I$1<>\"\",IF($A875<>\"\",COUNT(カテゴリースコア!S877),\"\"),\"\")","v":""},{"$f":"IF(J$1<>\"\",IF($A875<>\"\",COUNT(カテゴリースコア!T877),\"\"),\"\")","v":""},{"$f":"IF(K$1<>\"\",IF($A875<>\"\",COUNT(カテゴリースコア!U877),\"\"),\"\")","v":""}]
[{"$f":"IF(データセット1!C876<>\"\",データセット1!C876,\"\")","v":""},{"$f":"IF(データセット1!C876<>\"\",データセット1!D876-カテゴリースコア!$E$11,\"\")","v":""},{"$f":"IF(C$1<>\"\",IF($A876<>\"\",COUNT(カテゴリースコア!M878),\"\"),\"\")","v":""},{"$f":"IF(D$1<>\"\",IF($A876<>\"\",COUNT(カテゴリースコア!N878),\"\"),\"\")","v":""},{"$f":"IF(E$1<>\"\",IF($A876<>\"\",COUNT(カテゴリースコア!O878),\"\"),\"\")","v":""},{"$f":"IF(F$1<>\"\",IF($A876<>\"\",COUNT(カテゴリースコア!P878),\"\"),\"\")","v":""},{"$f":"IF(G$1<>\"\",IF($A876<>\"\",COUNT(カテゴリースコア!Q878),\"\"),\"\")","v":""},{"$f":"IF(H$1<>\"\",IF($A876<>\"\",COUNT(カテゴリースコア!R878),\"\"),\"\")","v":""},{"$f":"IF(I$1<>\"\",IF($A876<>\"\",COUNT(カテゴリースコア!S878),\"\"),\"\")","v":""},{"$f":"IF(J$1<>\"\",IF($A876<>\"\",COUNT(カテゴリースコア!T878),\"\"),\"\")","v":""},{"$f":"IF(K$1<>\"\",IF($A876<>\"\",COUNT(カテゴリースコア!U878),\"\"),\"\")","v":""}]
[{"$f":"IF(データセット1!C877<>\"\",データセット1!C877,\"\")","v":""},{"$f":"IF(データセット1!C877<>\"\",データセット1!D877-カテゴリースコア!$E$11,\"\")","v":""},{"$f":"IF(C$1<>\"\",IF($A877<>\"\",COUNT(カテゴリースコア!M879),\"\"),\"\")","v":""},{"$f":"IF(D$1<>\"\",IF($A877<>\"\",COUNT(カテゴリースコア!N879),\"\"),\"\")","v":""},{"$f":"IF(E$1<>\"\",IF($A877<>\"\",COUNT(カテゴリースコア!O879),\"\"),\"\")","v":""},{"$f":"IF(F$1<>\"\",IF($A877<>\"\",COUNT(カテゴリースコア!P879),\"\"),\"\")","v":""},{"$f":"IF(G$1<>\"\",IF($A877<>\"\",COUNT(カテゴリースコア!Q879),\"\"),\"\")","v":""},{"$f":"IF(H$1<>\"\",IF($A877<>\"\",COUNT(カテゴリースコア!R879),\"\"),\"\")","v":""},{"$f":"IF(I$1<>\"\",IF($A877<>\"\",COUNT(カテゴリースコア!S879),\"\"),\"\")","v":""},{"$f":"IF(J$1<>\"\",IF($A877<>\"\",COUNT(カテゴリースコア!T879),\"\"),\"\")","v":""},{"$f":"IF(K$1<>\"\",IF($A877<>\"\",COUNT(カテゴリースコア!U879),\"\"),\"\")","v":""}]
[{"$f":"IF(データセット1!C878<>\"\",データセット1!C878,\"\")","v":""},{"$f":"IF(データセット1!C878<>\"\",データセット1!D878-カテゴリースコア!$E$11,\"\")","v":""},{"$f":"IF(C$1<>\"\",IF($A878<>\"\",COUNT(カテゴリースコア!M880),\"\"),\"\")","v":""},{"$f":"IF(D$1<>\"\",IF($A878<>\"\",COUNT(カテゴリースコア!N880),\"\"),\"\")","v":""},{"$f":"IF(E$1<>\"\",IF($A878<>\"\",COUNT(カテゴリースコア!O880),\"\"),\"\")","v":""},{"$f":"IF(F$1<>\"\",IF($A878<>\"\",COUNT(カテゴリースコア!P880),\"\"),\"\")","v":""},{"$f":"IF(G$1<>\"\",IF($A878<>\"\",COUNT(カテゴリースコア!Q880),\"\"),\"\")","v":""},{"$f":"IF(H$1<>\"\",IF($A878<>\"\",COUNT(カテゴリースコア!R880),\"\"),\"\")","v":""},{"$f":"IF(I$1<>\"\",IF($A878<>\"\",COUNT(カテゴリースコア!S880),\"\"),\"\")","v":""},{"$f":"IF(J$1<>\"\",IF($A878<>\"\",COUNT(カテゴリースコア!T880),\"\"),\"\")","v":""},{"$f":"IF(K$1<>\"\",IF($A878<>\"\",COUNT(カテゴリースコア!U880),\"\"),\"\")","v":""}]
[{"$f":"IF(データセット1!C879<>\"\",データセット1!C879,\"\")","v":""},{"$f":"IF(データセット1!C879<>\"\",データセット1!D879-カテゴリースコア!$E$11,\"\")","v":""},{"$f":"IF(C$1<>\"\",IF($A879<>\"\",COUNT(カテゴリースコア!M881),\"\"),\"\")","v":""},{"$f":"IF(D$1<>\"\",IF($A879<>\"\",COUNT(カテゴリースコア!N881),\"\"),\"\")","v":""},{"$f":"IF(E$1<>\"\",IF($A879<>\"\",COUNT(カテゴリースコア!O881),\"\"),\"\")","v":""},{"$f":"IF(F$1<>\"\",IF($A879<>\"\",COUNT(カテゴリースコア!P881),\"\"),\"\")","v":""},{"$f":"IF(G$1<>\"\",IF($A879<>\"\",COUNT(カテゴリースコア!Q881),\"\"),\"\")","v":""},{"$f":"IF(H$1<>\"\",IF($A879<>\"\",COUNT(カテゴリースコア!R881),\"\"),\"\")","v":""},{"$f":"IF(I$1<>\"\",IF($A879<>\"\",COUNT(カテゴリースコア!S881),\"\"),\"\")","v":""},{"$f":"IF(J$1<>\"\",IF($A879<>\"\",COUNT(カテゴリースコア!T881),\"\"),\"\")","v":""},{"$f":"IF(K$1<>\"\",IF($A879<>\"\",COUNT(カテゴリースコア!U881),\"\"),\"\")","v":""}]
[{"$f":"IF(データセット1!C880<>\"\",データセット1!C880,\"\")","v":""},{"$f":"IF(データセット1!C880<>\"\",データセット1!D880-カテゴリースコア!$E$11,\"\")","v":""},{"$f":"IF(C$1<>\"\",IF($A880<>\"\",COUNT(カテゴリースコア!M882),\"\"),\"\")","v":""},{"$f":"IF(D$1<>\"\",IF($A880<>\"\",COUNT(カテゴリースコア!N882),\"\"),\"\")","v":""},{"$f":"IF(E$1<>\"\",IF($A880<>\"\",COUNT(カテゴリースコア!O882),\"\"),\"\")","v":""},{"$f":"IF(F$1<>\"\",IF($A880<>\"\",COUNT(カテゴリースコア!P882),\"\"),\"\")","v":""},{"$f":"IF(G$1<>\"\",IF($A880<>\"\",COUNT(カテゴリースコア!Q882),\"\"),\"\")","v":""},{"$f":"IF(H$1<>\"\",IF($A880<>\"\",COUNT(カテゴリースコア!R882),\"\"),\"\")","v":""},{"$f":"IF(I$1<>\"\",IF($A880<>\"\",COUNT(カテゴリースコア!S882),\"\"),\"\")","v":""},{"$f":"IF(J$1<>\"\",IF($A880<>\"\",COUNT(カテゴリースコア!T882),\"\"),\"\")","v":""},{"$f":"IF(K$1<>\"\",IF($A880<>\"\",COUNT(カテゴリースコア!U882),\"\"),\"\")","v":""}]
[{"$f":"IF(データセット1!C881<>\"\",データセット1!C881,\"\")","v":""},{"$f":"IF(データセット1!C881<>\"\",データセット1!D881-カテゴリースコア!$E$11,\"\")","v":""},{"$f":"IF(C$1<>\"\",IF($A881<>\"\",COUNT(カテゴリースコア!M883),\"\"),\"\")","v":""},{"$f":"IF(D$1<>\"\",IF($A881<>\"\",COUNT(カテゴリースコア!N883),\"\"),\"\")","v":""},{"$f":"IF(E$1<>\"\",IF($A881<>\"\",COUNT(カテゴリースコア!O883),\"\"),\"\")","v":""},{"$f":"IF(F$1<>\"\",IF($A881<>\"\",COUNT(カテゴリースコア!P883),\"\"),\"\")","v":""},{"$f":"IF(G$1<>\"\",IF($A881<>\"\",COUNT(カテゴリースコア!Q883),\"\"),\"\")","v":""},{"$f":"IF(H$1<>\"\",IF($A881<>\"\",COUNT(カテゴリースコア!R883),\"\"),\"\")","v":""},{"$f":"IF(I$1<>\"\",IF($A881<>\"\",COUNT(カテゴリースコア!S883),\"\"),\"\")","v":""},{"$f":"IF(J$1<>\"\",IF($A881<>\"\",COUNT(カテゴリースコア!T883),\"\"),\"\")","v":""},{"$f":"IF(K$1<>\"\",IF($A881<>\"\",COUNT(カテゴリースコア!U883),\"\"),\"\")","v":""}]
[{"$f":"IF(データセット1!C882<>\"\",データセット1!C882,\"\")","v":""},{"$f":"IF(データセット1!C882<>\"\",データセット1!D882-カテゴリースコア!$E$11,\"\")","v":""},{"$f":"IF(C$1<>\"\",IF($A882<>\"\",COUNT(カテゴリースコア!M884),\"\"),\"\")","v":""},{"$f":"IF(D$1<>\"\",IF($A882<>\"\",COUNT(カテゴリースコア!N884),\"\"),\"\")","v":""},{"$f":"IF(E$1<>\"\",IF($A882<>\"\",COUNT(カテゴリースコア!O884),\"\"),\"\")","v":""},{"$f":"IF(F$1<>\"\",IF($A882<>\"\",COUNT(カテゴリースコア!P884),\"\"),\"\")","v":""},{"$f":"IF(G$1<>\"\",IF($A882<>\"\",COUNT(カテゴリースコア!Q884),\"\"),\"\")","v":""},{"$f":"IF(H$1<>\"\",IF($A882<>\"\",COUNT(カテゴリースコア!R884),\"\"),\"\")","v":""},{"$f":"IF(I$1<>\"\",IF($A882<>\"\",COUNT(カテゴリースコア!S884),\"\"),\"\")","v":""},{"$f":"IF(J$1<>\"\",IF($A882<>\"\",COUNT(カテゴリースコア!T884),\"\"),\"\")","v":""},{"$f":"IF(K$1<>\"\",IF($A882<>\"\",COUNT(カテゴリースコア!U884),\"\"),\"\")","v":""}]
[{"$f":"IF(データセット1!C883<>\"\",データセット1!C883,\"\")","v":""},{"$f":"IF(データセット1!C883<>\"\",データセット1!D883-カテゴリースコア!$E$11,\"\")","v":""},{"$f":"IF(C$1<>\"\",IF($A883<>\"\",COUNT(カテゴリースコア!M885),\"\"),\"\")","v":""},{"$f":"IF(D$1<>\"\",IF($A883<>\"\",COUNT(カテゴリースコア!N885),\"\"),\"\")","v":""},{"$f":"IF(E$1<>\"\",IF($A883<>\"\",COUNT(カテゴリースコア!O885),\"\"),\"\")","v":""},{"$f":"IF(F$1<>\"\",IF($A883<>\"\",COUNT(カテゴリースコア!P885),\"\"),\"\")","v":""},{"$f":"IF(G$1<>\"\",IF($A883<>\"\",COUNT(カテゴリースコア!Q885),\"\"),\"\")","v":""},{"$f":"IF(H$1<>\"\",IF($A883<>\"\",COUNT(カテゴリースコア!R885),\"\"),\"\")","v":""},{"$f":"IF(I$1<>\"\",IF($A883<>\"\",COUNT(カテゴリースコア!S885),\"\"),\"\")","v":""},{"$f":"IF(J$1<>\"\",IF($A883<>\"\",COUNT(カテゴリースコア!T885),\"\"),\"\")","v":""},{"$f":"IF(K$1<>\"\",IF($A883<>\"\",COUNT(カテゴリースコア!U885),\"\"),\"\")","v":""}]
[{"$f":"IF(データセット1!C884<>\"\",データセット1!C884,\"\")","v":""},{"$f":"IF(データセット1!C884<>\"\",データセット1!D884-カテゴリースコア!$E$11,\"\")","v":""},{"$f":"IF(C$1<>\"\",IF($A884<>\"\",COUNT(カテゴリースコア!M886),\"\"),\"\")","v":""},{"$f":"IF(D$1<>\"\",IF($A884<>\"\",COUNT(カテゴリースコア!N886),\"\"),\"\")","v":""},{"$f":"IF(E$1<>\"\",IF($A884<>\"\",COUNT(カテゴリースコア!O886),\"\"),\"\")","v":""},{"$f":"IF(F$1<>\"\",IF($A884<>\"\",COUNT(カテゴリースコア!P886),\"\"),\"\")","v":""},{"$f":"IF(G$1<>\"\",IF($A884<>\"\",COUNT(カテゴリースコア!Q886),\"\"),\"\")","v":""},{"$f":"IF(H$1<>\"\",IF($A884<>\"\",COUNT(カテゴリースコア!R886),\"\"),\"\")","v":""},{"$f":"IF(I$1<>\"\",IF($A884<>\"\",COUNT(カテゴリースコア!S886),\"\"),\"\")","v":""},{"$f":"IF(J$1<>\"\",IF($A884<>\"\",COUNT(カテゴリースコア!T886),\"\"),\"\")","v":""},{"$f":"IF(K$1<>\"\",IF($A884<>\"\",COUNT(カテゴリースコア!U886),\"\"),\"\")","v":""}]
[{"$f":"IF(データセット1!C885<>\"\",データセット1!C885,\"\")","v":""},{"$f":"IF(データセット1!C885<>\"\",データセット1!D885-カテゴリースコア!$E$11,\"\")","v":""},{"$f":"IF(C$1<>\"\",IF($A885<>\"\",COUNT(カテゴリースコア!M887),\"\"),\"\")","v":""},{"$f":"IF(D$1<>\"\",IF($A885<>\"\",COUNT(カテゴリースコア!N887),\"\"),\"\")","v":""},{"$f":"IF(E$1<>\"\",IF($A885<>\"\",COUNT(カテゴリースコア!O887),\"\"),\"\")","v":""},{"$f":"IF(F$1<>\"\",IF($A885<>\"\",COUNT(カテゴリースコア!P887),\"\"),\"\")","v":""},{"$f":"IF(G$1<>\"\",IF($A885<>\"\",COUNT(カテゴリースコア!Q887),\"\"),\"\")","v":""},{"$f":"IF(H$1<>\"\",IF($A885<>\"\",COUNT(カテゴリースコア!R887),\"\"),\"\")","v":""},{"$f":"IF(I$1<>\"\",IF($A885<>\"\",COUNT(カテゴリースコア!S887),\"\"),\"\")","v":""},{"$f":"IF(J$1<>\"\",IF($A885<>\"\",COUNT(カテゴリースコア!T887),\"\"),\"\")","v":""},{"$f":"IF(K$1<>\"\",IF($A885<>\"\",COUNT(カテゴリースコア!U887),\"\"),\"\")","v":""}]
[{"$f":"IF(データセット1!C886<>\"\",データセット1!C886,\"\")","v":""},{"$f":"IF(データセット1!C886<>\"\",データセット1!D886-カテゴリースコア!$E$11,\"\")","v":""},{"$f":"IF(C$1<>\"\",IF($A886<>\"\",COUNT(カテゴリースコア!M888),\"\"),\"\")","v":""},{"$f":"IF(D$1<>\"\",IF($A886<>\"\",COUNT(カテゴリースコア!N888),\"\"),\"\")","v":""},{"$f":"IF(E$1<>\"\",IF($A886<>\"\",COUNT(カテゴリースコア!O888),\"\"),\"\")","v":""},{"$f":"IF(F$1<>\"\",IF($A886<>\"\",COUNT(カテゴリースコア!P888),\"\"),\"\")","v":""},{"$f":"IF(G$1<>\"\",IF($A886<>\"\",COUNT(カテゴリースコア!Q888),\"\"),\"\")","v":""},{"$f":"IF(H$1<>\"\",IF($A886<>\"\",COUNT(カテゴリースコア!R888),\"\"),\"\")","v":""},{"$f":"IF(I$1<>\"\",IF($A886<>\"\",COUNT(カテゴリースコア!S888),\"\"),\"\")","v":""},{"$f":"IF(J$1<>\"\",IF($A886<>\"\",COUNT(カテゴリースコア!T888),\"\"),\"\")","v":""},{"$f":"IF(K$1<>\"\",IF($A886<>\"\",COUNT(カテゴリースコア!U888),\"\"),\"\")","v":""}]
[{"$f":"IF(データセット1!C887<>\"\",データセット1!C887,\"\")","v":""},{"$f":"IF(データセット1!C887<>\"\",データセット1!D887-カテゴリースコア!$E$11,\"\")","v":""},{"$f":"IF(C$1<>\"\",IF($A887<>\"\",COUNT(カテゴリースコア!M889),\"\"),\"\")","v":""},{"$f":"IF(D$1<>\"\",IF($A887<>\"\",COUNT(カテゴリースコア!N889),\"\"),\"\")","v":""},{"$f":"IF(E$1<>\"\",IF($A887<>\"\",COUNT(カテゴリースコア!O889),\"\"),\"\")","v":""},{"$f":"IF(F$1<>\"\",IF($A887<>\"\",COUNT(カテゴリースコア!P889),\"\"),\"\")","v":""},{"$f":"IF(G$1<>\"\",IF($A887<>\"\",COUNT(カテゴリースコア!Q889),\"\"),\"\")","v":""},{"$f":"IF(H$1<>\"\",IF($A887<>\"\",COUNT(カテゴリースコア!R889),\"\"),\"\")","v":""},{"$f":"IF(I$1<>\"\",IF($A887<>\"\",COUNT(カテゴリースコア!S889),\"\"),\"\")","v":""},{"$f":"IF(J$1<>\"\",IF($A887<>\"\",COUNT(カテゴリースコア!T889),\"\"),\"\")","v":""},{"$f":"IF(K$1<>\"\",IF($A887<>\"\",COUNT(カテゴリースコア!U889),\"\"),\"\")","v":""}]
[{"$f":"IF(データセット1!C888<>\"\",データセット1!C888,\"\")","v":""},{"$f":"IF(データセット1!C888<>\"\",データセット1!D888-カテゴリースコア!$E$11,\"\")","v":""},{"$f":"IF(C$1<>\"\",IF($A888<>\"\",COUNT(カテゴリースコア!M890),\"\"),\"\")","v":""},{"$f":"IF(D$1<>\"\",IF($A888<>\"\",COUNT(カテゴリースコア!N890),\"\"),\"\")","v":""},{"$f":"IF(E$1<>\"\",IF($A888<>\"\",COUNT(カテゴリースコア!O890),\"\"),\"\")","v":""},{"$f":"IF(F$1<>\"\",IF($A888<>\"\",COUNT(カテゴリースコア!P890),\"\"),\"\")","v":""},{"$f":"IF(G$1<>\"\",IF($A888<>\"\",COUNT(カテゴリースコア!Q890),\"\"),\"\")","v":""},{"$f":"IF(H$1<>\"\",IF($A888<>\"\",COUNT(カテゴリースコア!R890),\"\"),\"\")","v":""},{"$f":"IF(I$1<>\"\",IF($A888<>\"\",COUNT(カテゴリースコア!S890),\"\"),\"\")","v":""},{"$f":"IF(J$1<>\"\",IF($A888<>\"\",COUNT(カテゴリースコア!T890),\"\"),\"\")","v":""},{"$f":"IF(K$1<>\"\",IF($A888<>\"\",COUNT(カテゴリースコア!U890),\"\"),\"\")","v":""}]
[{"$f":"IF(データセット1!C889<>\"\",データセット1!C889,\"\")","v":""},{"$f":"IF(データセット1!C889<>\"\",データセット1!D889-カテゴリースコア!$E$11,\"\")","v":""},{"$f":"IF(C$1<>\"\",IF($A889<>\"\",COUNT(カテゴリースコア!M891),\"\"),\"\")","v":""},{"$f":"IF(D$1<>\"\",IF($A889<>\"\",COUNT(カテゴリースコア!N891),\"\"),\"\")","v":""},{"$f":"IF(E$1<>\"\",IF($A889<>\"\",COUNT(カテゴリースコア!O891),\"\"),\"\")","v":""},{"$f":"IF(F$1<>\"\",IF($A889<>\"\",COUNT(カテゴリースコア!P891),\"\"),\"\")","v":""},{"$f":"IF(G$1<>\"\",IF($A889<>\"\",COUNT(カテゴリースコア!Q891),\"\"),\"\")","v":""},{"$f":"IF(H$1<>\"\",IF($A889<>\"\",COUNT(カテゴリースコア!R891),\"\"),\"\")","v":""},{"$f":"IF(I$1<>\"\",IF($A889<>\"\",COUNT(カテゴリースコア!S891),\"\"),\"\")","v":""},{"$f":"IF(J$1<>\"\",IF($A889<>\"\",COUNT(カテゴリースコア!T891),\"\"),\"\")","v":""},{"$f":"IF(K$1<>\"\",IF($A889<>\"\",COUNT(カテゴリースコア!U891),\"\"),\"\")","v":""}]
[{"$f":"IF(データセット1!C890<>\"\",データセット1!C890,\"\")","v":""},{"$f":"IF(データセット1!C890<>\"\",データセット1!D890-カテゴリースコア!$E$11,\"\")","v":""},{"$f":"IF(C$1<>\"\",IF($A890<>\"\",COUNT(カテゴリースコア!M892),\"\"),\"\")","v":""},{"$f":"IF(D$1<>\"\",IF($A890<>\"\",COUNT(カテゴリースコア!N892),\"\"),\"\")","v":""},{"$f":"IF(E$1<>\"\",IF($A890<>\"\",COUNT(カテゴリースコア!O892),\"\"),\"\")","v":""},{"$f":"IF(F$1<>\"\",IF($A890<>\"\",COUNT(カテゴリースコア!P892),\"\"),\"\")","v":""},{"$f":"IF(G$1<>\"\",IF($A890<>\"\",COUNT(カテゴリースコア!Q892),\"\"),\"\")","v":""},{"$f":"IF(H$1<>\"\",IF($A890<>\"\",COUNT(カテゴリースコア!R892),\"\"),\"\")","v":""},{"$f":"IF(I$1<>\"\",IF($A890<>\"\",COUNT(カテゴリースコア!S892),\"\"),\"\")","v":""},{"$f":"IF(J$1<>\"\",IF($A890<>\"\",COUNT(カテゴリースコア!T892),\"\"),\"\")","v":""},{"$f":"IF(K$1<>\"\",IF($A890<>\"\",COUNT(カテゴリースコア!U892),\"\"),\"\")","v":""}]
[{"$f":"IF(データセット1!C891<>\"\",データセット1!C891,\"\")","v":""},{"$f":"IF(データセット1!C891<>\"\",データセット1!D891-カテゴリースコア!$E$11,\"\")","v":""},{"$f":"IF(C$1<>\"\",IF($A891<>\"\",COUNT(カテゴリースコア!M893),\"\"),\"\")","v":""},{"$f":"IF(D$1<>\"\",IF($A891<>\"\",COUNT(カテゴリースコア!N893),\"\"),\"\")","v":""},{"$f":"IF(E$1<>\"\",IF($A891<>\"\",COUNT(カテゴリースコア!O893),\"\"),\"\")","v":""},{"$f":"IF(F$1<>\"\",IF($A891<>\"\",COUNT(カテゴリースコア!P893),\"\"),\"\")","v":""},{"$f":"IF(G$1<>\"\",IF($A891<>\"\",COUNT(カテゴリースコア!Q893),\"\"),\"\")","v":""},{"$f":"IF(H$1<>\"\",IF($A891<>\"\",COUNT(カテゴリースコア!R893),\"\"),\"\")","v":""},{"$f":"IF(I$1<>\"\",IF($A891<>\"\",COUNT(カテゴリースコア!S893),\"\"),\"\")","v":""},{"$f":"IF(J$1<>\"\",IF($A891<>\"\",COUNT(カテゴリースコア!T893),\"\"),\"\")","v":""},{"$f":"IF(K$1<>\"\",IF($A891<>\"\",COUNT(カテゴリースコア!U893),\"\"),\"\")","v":""}]
[{"$f":"IF(データセット1!C892<>\"\",データセット1!C892,\"\")","v":""},{"$f":"IF(データセット1!C892<>\"\",データセット1!D892-カテゴリースコア!$E$11,\"\")","v":""},{"$f":"IF(C$1<>\"\",IF($A892<>\"\",COUNT(カテゴリースコア!M894),\"\"),\"\")","v":""},{"$f":"IF(D$1<>\"\",IF($A892<>\"\",COUNT(カテゴリースコア!N894),\"\"),\"\")","v":""},{"$f":"IF(E$1<>\"\",IF($A892<>\"\",COUNT(カテゴリースコア!O894),\"\"),\"\")","v":""},{"$f":"IF(F$1<>\"\",IF($A892<>\"\",COUNT(カテゴリースコア!P894),\"\"),\"\")","v":""},{"$f":"IF(G$1<>\"\",IF($A892<>\"\",COUNT(カテゴリースコア!Q894),\"\"),\"\")","v":""},{"$f":"IF(H$1<>\"\",IF($A892<>\"\",COUNT(カテゴリースコア!R894),\"\"),\"\")","v":""},{"$f":"IF(I$1<>\"\",IF($A892<>\"\",COUNT(カテゴリースコア!S894),\"\"),\"\")","v":""},{"$f":"IF(J$1<>\"\",IF($A892<>\"\",COUNT(カテゴリースコア!T894),\"\"),\"\")","v":""},{"$f":"IF(K$1<>\"\",IF($A892<>\"\",COUNT(カテゴリースコア!U894),\"\"),\"\")","v":""}]
[{"$f":"IF(データセット1!C893<>\"\",データセット1!C893,\"\")","v":""},{"$f":"IF(データセット1!C893<>\"\",データセット1!D893-カテゴリースコア!$E$11,\"\")","v":""},{"$f":"IF(C$1<>\"\",IF($A893<>\"\",COUNT(カテゴリースコア!M895),\"\"),\"\")","v":""},{"$f":"IF(D$1<>\"\",IF($A893<>\"\",COUNT(カテゴリースコア!N895),\"\"),\"\")","v":""},{"$f":"IF(E$1<>\"\",IF($A893<>\"\",COUNT(カテゴリースコア!O895),\"\"),\"\")","v":""},{"$f":"IF(F$1<>\"\",IF($A893<>\"\",COUNT(カテゴリースコア!P895),\"\"),\"\")","v":""},{"$f":"IF(G$1<>\"\",IF($A893<>\"\",COUNT(カテゴリースコア!Q895),\"\"),\"\")","v":""},{"$f":"IF(H$1<>\"\",IF($A893<>\"\",COUNT(カテゴリースコア!R895),\"\"),\"\")","v":""},{"$f":"IF(I$1<>\"\",IF($A893<>\"\",COUNT(カテゴリースコア!S895),\"\"),\"\")","v":""},{"$f":"IF(J$1<>\"\",IF($A893<>\"\",COUNT(カテゴリースコア!T895),\"\"),\"\")","v":""},{"$f":"IF(K$1<>\"\",IF($A893<>\"\",COUNT(カテゴリースコア!U895),\"\"),\"\")","v":""}]
[{"$f":"IF(データセット1!C894<>\"\",データセット1!C894,\"\")","v":""},{"$f":"IF(データセット1!C894<>\"\",データセット1!D894-カテゴリースコア!$E$11,\"\")","v":""},{"$f":"IF(C$1<>\"\",IF($A894<>\"\",COUNT(カテゴリースコア!M896),\"\"),\"\")","v":""},{"$f":"IF(D$1<>\"\",IF($A894<>\"\",COUNT(カテゴリースコア!N896),\"\"),\"\")","v":""},{"$f":"IF(E$1<>\"\",IF($A894<>\"\",COUNT(カテゴリースコア!O896),\"\"),\"\")","v":""},{"$f":"IF(F$1<>\"\",IF($A894<>\"\",COUNT(カテゴリースコア!P896),\"\"),\"\")","v":""},{"$f":"IF(G$1<>\"\",IF($A894<>\"\",COUNT(カテゴリースコア!Q896),\"\"),\"\")","v":""},{"$f":"IF(H$1<>\"\",IF($A894<>\"\",COUNT(カテゴリースコア!R896),\"\"),\"\")","v":""},{"$f":"IF(I$1<>\"\",IF($A894<>\"\",COUNT(カテゴリースコア!S896),\"\"),\"\")","v":""},{"$f":"IF(J$1<>\"\",IF($A894<>\"\",COUNT(カテゴリースコア!T896),\"\"),\"\")","v":""},{"$f":"IF(K$1<>\"\",IF($A894<>\"\",COUNT(カテゴリースコア!U896),\"\"),\"\")","v":""}]
[{"$f":"IF(データセット1!C895<>\"\",データセット1!C895,\"\")","v":""},{"$f":"IF(データセット1!C895<>\"\",データセット1!D895-カテゴリースコア!$E$11,\"\")","v":""},{"$f":"IF(C$1<>\"\",IF($A895<>\"\",COUNT(カテゴリースコア!M897),\"\"),\"\")","v":""},{"$f":"IF(D$1<>\"\",IF($A895<>\"\",COUNT(カテゴリースコア!N897),\"\"),\"\")","v":""},{"$f":"IF(E$1<>\"\",IF($A895<>\"\",COUNT(カテゴリースコア!O897),\"\"),\"\")","v":""},{"$f":"IF(F$1<>\"\",IF($A895<>\"\",COUNT(カテゴリースコア!P897),\"\"),\"\")","v":""},{"$f":"IF(G$1<>\"\",IF($A895<>\"\",COUNT(カテゴリースコア!Q897),\"\"),\"\")","v":""},{"$f":"IF(H$1<>\"\",IF($A895<>\"\",COUNT(カテゴリースコア!R897),\"\"),\"\")","v":""},{"$f":"IF(I$1<>\"\",IF($A895<>\"\",COUNT(カテゴリースコア!S897),\"\"),\"\")","v":""},{"$f":"IF(J$1<>\"\",IF($A895<>\"\",COUNT(カテゴリースコア!T897),\"\"),\"\")","v":""},{"$f":"IF(K$1<>\"\",IF($A895<>\"\",COUNT(カテゴリースコア!U897),\"\"),\"\")","v":""}]
[{"$f":"IF(データセット1!C896<>\"\",データセット1!C896,\"\")","v":""},{"$f":"IF(データセット1!C896<>\"\",データセット1!D896-カテゴリースコア!$E$11,\"\")","v":""},{"$f":"IF(C$1<>\"\",IF($A896<>\"\",COUNT(カテゴリースコア!M898),\"\"),\"\")","v":""},{"$f":"IF(D$1<>\"\",IF($A896<>\"\",COUNT(カテゴリースコア!N898),\"\"),\"\")","v":""},{"$f":"IF(E$1<>\"\",IF($A896<>\"\",COUNT(カテゴリースコア!O898),\"\"),\"\")","v":""},{"$f":"IF(F$1<>\"\",IF($A896<>\"\",COUNT(カテゴリースコア!P898),\"\"),\"\")","v":""},{"$f":"IF(G$1<>\"\",IF($A896<>\"\",COUNT(カテゴリースコア!Q898),\"\"),\"\")","v":""},{"$f":"IF(H$1<>\"\",IF($A896<>\"\",COUNT(カテゴリースコア!R898),\"\"),\"\")","v":""},{"$f":"IF(I$1<>\"\",IF($A896<>\"\",COUNT(カテゴリースコア!S898),\"\"),\"\")","v":""},{"$f":"IF(J$1<>\"\",IF($A896<>\"\",COUNT(カテゴリースコア!T898),\"\"),\"\")","v":""},{"$f":"IF(K$1<>\"\",IF($A896<>\"\",COUNT(カテゴリースコア!U898),\"\"),\"\")","v":""}]
[{"$f":"IF(データセット1!C897<>\"\",データセット1!C897,\"\")","v":""},{"$f":"IF(データセット1!C897<>\"\",データセット1!D897-カテゴリースコア!$E$11,\"\")","v":""},{"$f":"IF(C$1<>\"\",IF($A897<>\"\",COUNT(カテゴリースコア!M899),\"\"),\"\")","v":""},{"$f":"IF(D$1<>\"\",IF($A897<>\"\",COUNT(カテゴリースコア!N899),\"\"),\"\")","v":""},{"$f":"IF(E$1<>\"\",IF($A897<>\"\",COUNT(カテゴリースコア!O899),\"\"),\"\")","v":""},{"$f":"IF(F$1<>\"\",IF($A897<>\"\",COUNT(カテゴリースコア!P899),\"\"),\"\")","v":""},{"$f":"IF(G$1<>\"\",IF($A897<>\"\",COUNT(カテゴリースコア!Q899),\"\"),\"\")","v":""},{"$f":"IF(H$1<>\"\",IF($A897<>\"\",COUNT(カテゴリースコア!R899),\"\"),\"\")","v":""},{"$f":"IF(I$1<>\"\",IF($A897<>\"\",COUNT(カテゴリースコア!S899),\"\"),\"\")","v":""},{"$f":"IF(J$1<>\"\",IF($A897<>\"\",COUNT(カテゴリースコア!T899),\"\"),\"\")","v":""},{"$f":"IF(K$1<>\"\",IF($A897<>\"\",COUNT(カテゴリースコア!U899),\"\"),\"\")","v":""}]
[{"$f":"IF(データセット1!C898<>\"\",データセット1!C898,\"\")","v":""},{"$f":"IF(データセット1!C898<>\"\",データセット1!D898-カテゴリースコア!$E$11,\"\")","v":""},{"$f":"IF(C$1<>\"\",IF($A898<>\"\",COUNT(カテゴリースコア!M900),\"\"),\"\")","v":""},{"$f":"IF(D$1<>\"\",IF($A898<>\"\",COUNT(カテゴリースコア!N900),\"\"),\"\")","v":""},{"$f":"IF(E$1<>\"\",IF($A898<>\"\",COUNT(カテゴリースコア!O900),\"\"),\"\")","v":""},{"$f":"IF(F$1<>\"\",IF($A898<>\"\",COUNT(カテゴリースコア!P900),\"\"),\"\")","v":""},{"$f":"IF(G$1<>\"\",IF($A898<>\"\",COUNT(カテゴリースコア!Q900),\"\"),\"\")","v":""},{"$f":"IF(H$1<>\"\",IF($A898<>\"\",COUNT(カテゴリースコア!R900),\"\"),\"\")","v":""},{"$f":"IF(I$1<>\"\",IF($A898<>\"\",COUNT(カテゴリースコア!S900),\"\"),\"\")","v":""},{"$f":"IF(J$1<>\"\",IF($A898<>\"\",COUNT(カテゴリースコア!T900),\"\"),\"\")","v":""},{"$f":"IF(K$1<>\"\",IF($A898<>\"\",COUNT(カテゴリースコア!U900),\"\"),\"\")","v":""}]
[{"$f":"IF(データセット1!C899<>\"\",データセット1!C899,\"\")","v":""},{"$f":"IF(データセット1!C899<>\"\",データセット1!D899-カテゴリースコア!$E$11,\"\")","v":""},{"$f":"IF(C$1<>\"\",IF($A899<>\"\",COUNT(カテゴリースコア!M901),\"\"),\"\")","v":""},{"$f":"IF(D$1<>\"\",IF($A899<>\"\",COUNT(カテゴリースコア!N901),\"\"),\"\")","v":""},{"$f":"IF(E$1<>\"\",IF($A899<>\"\",COUNT(カテゴリースコア!O901),\"\"),\"\")","v":""},{"$f":"IF(F$1<>\"\",IF($A899<>\"\",COUNT(カテゴリースコア!P901),\"\"),\"\")","v":""},{"$f":"IF(G$1<>\"\",IF($A899<>\"\",COUNT(カテゴリースコア!Q901),\"\"),\"\")","v":""},{"$f":"IF(H$1<>\"\",IF($A899<>\"\",COUNT(カテゴリースコア!R901),\"\"),\"\")","v":""},{"$f":"IF(I$1<>\"\",IF($A899<>\"\",COUNT(カテゴリースコア!S901),\"\"),\"\")","v":""},{"$f":"IF(J$1<>\"\",IF($A899<>\"\",COUNT(カテゴリースコア!T901),\"\"),\"\")","v":""},{"$f":"IF(K$1<>\"\",IF($A899<>\"\",COUNT(カテゴリースコア!U901),\"\"),\"\")","v":""}]
[{"$f":"IF(データセット1!C900<>\"\",データセット1!C900,\"\")","v":""},{"$f":"IF(データセット1!C900<>\"\",データセット1!D900-カテゴリースコア!$E$11,\"\")","v":""},{"$f":"IF(C$1<>\"\",IF($A900<>\"\",COUNT(カテゴリースコア!M902),\"\"),\"\")","v":""},{"$f":"IF(D$1<>\"\",IF($A900<>\"\",COUNT(カテゴリースコア!N902),\"\"),\"\")","v":""},{"$f":"IF(E$1<>\"\",IF($A900<>\"\",COUNT(カテゴリースコア!O902),\"\"),\"\")","v":""},{"$f":"IF(F$1<>\"\",IF($A900<>\"\",COUNT(カテゴリースコア!P902),\"\"),\"\")","v":""},{"$f":"IF(G$1<>\"\",IF($A900<>\"\",COUNT(カテゴリースコア!Q902),\"\"),\"\")","v":""},{"$f":"IF(H$1<>\"\",IF($A900<>\"\",COUNT(カテゴリースコア!R902),\"\"),\"\")","v":""},{"$f":"IF(I$1<>\"\",IF($A900<>\"\",COUNT(カテゴリースコア!S902),\"\"),\"\")","v":""},{"$f":"IF(J$1<>\"\",IF($A900<>\"\",COUNT(カテゴリースコア!T902),\"\"),\"\")","v":""},{"$f":"IF(K$1<>\"\",IF($A900<>\"\",COUNT(カテゴリースコア!U902),\"\"),\"\")","v":""}]
[{"$f":"IF(データセット1!C901<>\"\",データセット1!C901,\"\")","v":""},{"$f":"IF(データセット1!C901<>\"\",データセット1!D901-カテゴリースコア!$E$11,\"\")","v":""},{"$f":"IF(C$1<>\"\",IF($A901<>\"\",COUNT(カテゴリースコア!M903),\"\"),\"\")","v":""},{"$f":"IF(D$1<>\"\",IF($A901<>\"\",COUNT(カテゴリースコア!N903),\"\"),\"\")","v":""},{"$f":"IF(E$1<>\"\",IF($A901<>\"\",COUNT(カテゴリースコア!O903),\"\"),\"\")","v":""},{"$f":"IF(F$1<>\"\",IF($A901<>\"\",COUNT(カテゴリースコア!P903),\"\"),\"\")","v":""},{"$f":"IF(G$1<>\"\",IF($A901<>\"\",COUNT(カテゴリースコア!Q903),\"\"),\"\")","v":""},{"$f":"IF(H$1<>\"\",IF($A901<>\"\",COUNT(カテゴリースコア!R903),\"\"),\"\")","v":""},{"$f":"IF(I$1<>\"\",IF($A901<>\"\",COUNT(カテゴリースコア!S903),\"\"),\"\")","v":""},{"$f":"IF(J$1<>\"\",IF($A901<>\"\",COUNT(カテゴリースコア!T903),\"\"),\"\")","v":""},{"$f":"IF(K$1<>\"\",IF($A901<>\"\",COUNT(カテゴリースコア!U903),\"\"),\"\")","v":""}]
[{"$f":"IF(データセット1!C902<>\"\",データセット1!C902,\"\")","v":""},{"$f":"IF(データセット1!C902<>\"\",データセット1!D902-カテゴリースコア!$E$11,\"\")","v":""},{"$f":"IF(C$1<>\"\",IF($A902<>\"\",COUNT(カテゴリースコア!M904),\"\"),\"\")","v":""},{"$f":"IF(D$1<>\"\",IF($A902<>\"\",COUNT(カテゴリースコア!N904),\"\"),\"\")","v":""},{"$f":"IF(E$1<>\"\",IF($A902<>\"\",COUNT(カテゴリースコア!O904),\"\"),\"\")","v":""},{"$f":"IF(F$1<>\"\",IF($A902<>\"\",COUNT(カテゴリースコア!P904),\"\"),\"\")","v":""},{"$f":"IF(G$1<>\"\",IF($A902<>\"\",COUNT(カテゴリースコア!Q904),\"\"),\"\")","v":""},{"$f":"IF(H$1<>\"\",IF($A902<>\"\",COUNT(カテゴリースコア!R904),\"\"),\"\")","v":""},{"$f":"IF(I$1<>\"\",IF($A902<>\"\",COUNT(カテゴリースコア!S904),\"\"),\"\")","v":""},{"$f":"IF(J$1<>\"\",IF($A902<>\"\",COUNT(カテゴリースコア!T904),\"\"),\"\")","v":""},{"$f":"IF(K$1<>\"\",IF($A902<>\"\",COUNT(カテゴリースコア!U904),\"\"),\"\")","v":""}]
[{"$f":"IF(データセット1!C903<>\"\",データセット1!C903,\"\")","v":""},{"$f":"IF(データセット1!C903<>\"\",データセット1!D903-カテゴリースコア!$E$11,\"\")","v":""},{"$f":"IF(C$1<>\"\",IF($A903<>\"\",COUNT(カテゴリースコア!M905),\"\"),\"\")","v":""},{"$f":"IF(D$1<>\"\",IF($A903<>\"\",COUNT(カテゴリースコア!N905),\"\"),\"\")","v":""},{"$f":"IF(E$1<>\"\",IF($A903<>\"\",COUNT(カテゴリースコア!O905),\"\"),\"\")","v":""},{"$f":"IF(F$1<>\"\",IF($A903<>\"\",COUNT(カテゴリースコア!P905),\"\"),\"\")","v":""},{"$f":"IF(G$1<>\"\",IF($A903<>\"\",COUNT(カテゴリースコア!Q905),\"\"),\"\")","v":""},{"$f":"IF(H$1<>\"\",IF($A903<>\"\",COUNT(カテゴリースコア!R905),\"\"),\"\")","v":""},{"$f":"IF(I$1<>\"\",IF($A903<>\"\",COUNT(カテゴリースコア!S905),\"\"),\"\")","v":""},{"$f":"IF(J$1<>\"\",IF($A903<>\"\",COUNT(カテゴリースコア!T905),\"\"),\"\")","v":""},{"$f":"IF(K$1<>\"\",IF($A903<>\"\",COUNT(カテゴリースコア!U905),\"\"),\"\")","v":""}]
[{"$f":"IF(データセット1!C904<>\"\",データセット1!C904,\"\")","v":""},{"$f":"IF(データセット1!C904<>\"\",データセット1!D904-カテゴリースコア!$E$11,\"\")","v":""},{"$f":"IF(C$1<>\"\",IF($A904<>\"\",COUNT(カテゴリースコア!M906),\"\"),\"\")","v":""},{"$f":"IF(D$1<>\"\",IF($A904<>\"\",COUNT(カテゴリースコア!N906),\"\"),\"\")","v":""},{"$f":"IF(E$1<>\"\",IF($A904<>\"\",COUNT(カテゴリースコア!O906),\"\"),\"\")","v":""},{"$f":"IF(F$1<>\"\",IF($A904<>\"\",COUNT(カテゴリースコア!P906),\"\"),\"\")","v":""},{"$f":"IF(G$1<>\"\",IF($A904<>\"\",COUNT(カテゴリースコア!Q906),\"\"),\"\")","v":""},{"$f":"IF(H$1<>\"\",IF($A904<>\"\",COUNT(カテゴリースコア!R906),\"\"),\"\")","v":""},{"$f":"IF(I$1<>\"\",IF($A904<>\"\",COUNT(カテゴリースコア!S906),\"\"),\"\")","v":""},{"$f":"IF(J$1<>\"\",IF($A904<>\"\",COUNT(カテゴリースコア!T906),\"\"),\"\")","v":""},{"$f":"IF(K$1<>\"\",IF($A904<>\"\",COUNT(カテゴリースコア!U906),\"\"),\"\")","v":""}]
[{"$f":"IF(データセット1!C905<>\"\",データセット1!C905,\"\")","v":""},{"$f":"IF(データセット1!C905<>\"\",データセット1!D905-カテゴリースコア!$E$11,\"\")","v":""},{"$f":"IF(C$1<>\"\",IF($A905<>\"\",COUNT(カテゴリースコア!M907),\"\"),\"\")","v":""},{"$f":"IF(D$1<>\"\",IF($A905<>\"\",COUNT(カテゴリースコア!N907),\"\"),\"\")","v":""},{"$f":"IF(E$1<>\"\",IF($A905<>\"\",COUNT(カテゴリースコア!O907),\"\"),\"\")","v":""},{"$f":"IF(F$1<>\"\",IF($A905<>\"\",COUNT(カテゴリースコア!P907),\"\"),\"\")","v":""},{"$f":"IF(G$1<>\"\",IF($A905<>\"\",COUNT(カテゴリースコア!Q907),\"\"),\"\")","v":""},{"$f":"IF(H$1<>\"\",IF($A905<>\"\",COUNT(カテゴリースコア!R907),\"\"),\"\")","v":""},{"$f":"IF(I$1<>\"\",IF($A905<>\"\",COUNT(カテゴリースコア!S907),\"\"),\"\")","v":""},{"$f":"IF(J$1<>\"\",IF($A905<>\"\",COUNT(カテゴリースコア!T907),\"\"),\"\")","v":""},{"$f":"IF(K$1<>\"\",IF($A905<>\"\",COUNT(カテゴリースコア!U907),\"\"),\"\")","v":""}]
[{"$f":"IF(データセット1!C906<>\"\",データセット1!C906,\"\")","v":""},{"$f":"IF(データセット1!C906<>\"\",データセット1!D906-カテゴリースコア!$E$11,\"\")","v":""},{"$f":"IF(C$1<>\"\",IF($A906<>\"\",COUNT(カテゴリースコア!M908),\"\"),\"\")","v":""},{"$f":"IF(D$1<>\"\",IF($A906<>\"\",COUNT(カテゴリースコア!N908),\"\"),\"\")","v":""},{"$f":"IF(E$1<>\"\",IF($A906<>\"\",COUNT(カテゴリースコア!O908),\"\"),\"\")","v":""},{"$f":"IF(F$1<>\"\",IF($A906<>\"\",COUNT(カテゴリースコア!P908),\"\"),\"\")","v":""},{"$f":"IF(G$1<>\"\",IF($A906<>\"\",COUNT(カテゴリースコア!Q908),\"\"),\"\")","v":""},{"$f":"IF(H$1<>\"\",IF($A906<>\"\",COUNT(カテゴリースコア!R908),\"\"),\"\")","v":""},{"$f":"IF(I$1<>\"\",IF($A906<>\"\",COUNT(カテゴリースコア!S908),\"\"),\"\")","v":""},{"$f":"IF(J$1<>\"\",IF($A906<>\"\",COUNT(カテゴリースコア!T908),\"\"),\"\")","v":""},{"$f":"IF(K$1<>\"\",IF($A906<>\"\",COUNT(カテゴリースコア!U908),\"\"),\"\")","v":""}]
[{"$f":"IF(データセット1!C907<>\"\",データセット1!C907,\"\")","v":""},{"$f":"IF(データセット1!C907<>\"\",データセット1!D907-カテゴリースコア!$E$11,\"\")","v":""},{"$f":"IF(C$1<>\"\",IF($A907<>\"\",COUNT(カテゴリースコア!M909),\"\"),\"\")","v":""},{"$f":"IF(D$1<>\"\",IF($A907<>\"\",COUNT(カテゴリースコア!N909),\"\"),\"\")","v":""},{"$f":"IF(E$1<>\"\",IF($A907<>\"\",COUNT(カテゴリースコア!O909),\"\"),\"\")","v":""},{"$f":"IF(F$1<>\"\",IF($A907<>\"\",COUNT(カテゴリースコア!P909),\"\"),\"\")","v":""},{"$f":"IF(G$1<>\"\",IF($A907<>\"\",COUNT(カテゴリースコア!Q909),\"\"),\"\")","v":""},{"$f":"IF(H$1<>\"\",IF($A907<>\"\",COUNT(カテゴリースコア!R909),\"\"),\"\")","v":""},{"$f":"IF(I$1<>\"\",IF($A907<>\"\",COUNT(カテゴリースコア!S909),\"\"),\"\")","v":""},{"$f":"IF(J$1<>\"\",IF($A907<>\"\",COUNT(カテゴリースコア!T909),\"\"),\"\")","v":""},{"$f":"IF(K$1<>\"\",IF($A907<>\"\",COUNT(カテゴリースコア!U909),\"\"),\"\")","v":""}]
[{"$f":"IF(データセット1!C908<>\"\",データセット1!C908,\"\")","v":""},{"$f":"IF(データセット1!C908<>\"\",データセット1!D908-カテゴリースコア!$E$11,\"\")","v":""},{"$f":"IF(C$1<>\"\",IF($A908<>\"\",COUNT(カテゴリースコア!M910),\"\"),\"\")","v":""},{"$f":"IF(D$1<>\"\",IF($A908<>\"\",COUNT(カテゴリースコア!N910),\"\"),\"\")","v":""},{"$f":"IF(E$1<>\"\",IF($A908<>\"\",COUNT(カテゴリースコア!O910),\"\"),\"\")","v":""},{"$f":"IF(F$1<>\"\",IF($A908<>\"\",COUNT(カテゴリースコア!P910),\"\"),\"\")","v":""},{"$f":"IF(G$1<>\"\",IF($A908<>\"\",COUNT(カテゴリースコア!Q910),\"\"),\"\")","v":""},{"$f":"IF(H$1<>\"\",IF($A908<>\"\",COUNT(カテゴリースコア!R910),\"\"),\"\")","v":""},{"$f":"IF(I$1<>\"\",IF($A908<>\"\",COUNT(カテゴリースコア!S910),\"\"),\"\")","v":""},{"$f":"IF(J$1<>\"\",IF($A908<>\"\",COUNT(カテゴリースコア!T910),\"\"),\"\")","v":""},{"$f":"IF(K$1<>\"\",IF($A908<>\"\",COUNT(カテゴリースコア!U910),\"\"),\"\")","v":""}]
[{"$f":"IF(データセット1!C909<>\"\",データセット1!C909,\"\")","v":""},{"$f":"IF(データセット1!C909<>\"\",データセット1!D909-カテゴリースコア!$E$11,\"\")","v":""},{"$f":"IF(C$1<>\"\",IF($A909<>\"\",COUNT(カテゴリースコア!M911),\"\"),\"\")","v":""},{"$f":"IF(D$1<>\"\",IF($A909<>\"\",COUNT(カテゴリースコア!N911),\"\"),\"\")","v":""},{"$f":"IF(E$1<>\"\",IF($A909<>\"\",COUNT(カテゴリースコア!O911),\"\"),\"\")","v":""},{"$f":"IF(F$1<>\"\",IF($A909<>\"\",COUNT(カテゴリースコア!P911),\"\"),\"\")","v":""},{"$f":"IF(G$1<>\"\",IF($A909<>\"\",COUNT(カテゴリースコア!Q911),\"\"),\"\")","v":""},{"$f":"IF(H$1<>\"\",IF($A909<>\"\",COUNT(カテゴリースコア!R911),\"\"),\"\")","v":""},{"$f":"IF(I$1<>\"\",IF($A909<>\"\",COUNT(カテゴリースコア!S911),\"\"),\"\")","v":""},{"$f":"IF(J$1<>\"\",IF($A909<>\"\",COUNT(カテゴリースコア!T911),\"\"),\"\")","v":""},{"$f":"IF(K$1<>\"\",IF($A909<>\"\",COUNT(カテゴリースコア!U911),\"\"),\"\")","v":""}]
[{"$f":"IF(データセット1!C910<>\"\",データセット1!C910,\"\")","v":""},{"$f":"IF(データセット1!C910<>\"\",データセット1!D910-カテゴリースコア!$E$11,\"\")","v":""},{"$f":"IF(C$1<>\"\",IF($A910<>\"\",COUNT(カテゴリースコア!M912),\"\"),\"\")","v":""},{"$f":"IF(D$1<>\"\",IF($A910<>\"\",COUNT(カテゴリースコア!N912),\"\"),\"\")","v":""},{"$f":"IF(E$1<>\"\",IF($A910<>\"\",COUNT(カテゴリースコア!O912),\"\"),\"\")","v":""},{"$f":"IF(F$1<>\"\",IF($A910<>\"\",COUNT(カテゴリースコア!P912),\"\"),\"\")","v":""},{"$f":"IF(G$1<>\"\",IF($A910<>\"\",COUNT(カテゴリースコア!Q912),\"\"),\"\")","v":""},{"$f":"IF(H$1<>\"\",IF($A910<>\"\",COUNT(カテゴリースコア!R912),\"\"),\"\")","v":""},{"$f":"IF(I$1<>\"\",IF($A910<>\"\",COUNT(カテゴリースコア!S912),\"\"),\"\")","v":""},{"$f":"IF(J$1<>\"\",IF($A910<>\"\",COUNT(カテゴリースコア!T912),\"\"),\"\")","v":""},{"$f":"IF(K$1<>\"\",IF($A910<>\"\",COUNT(カテゴリースコア!U912),\"\"),\"\")","v":""}]
[{"$f":"IF(データセット1!C911<>\"\",データセット1!C911,\"\")","v":""},{"$f":"IF(データセット1!C911<>\"\",データセット1!D911-カテゴリースコア!$E$11,\"\")","v":""},{"$f":"IF(C$1<>\"\",IF($A911<>\"\",COUNT(カテゴリースコア!M913),\"\"),\"\")","v":""},{"$f":"IF(D$1<>\"\",IF($A911<>\"\",COUNT(カテゴリースコア!N913),\"\"),\"\")","v":""},{"$f":"IF(E$1<>\"\",IF($A911<>\"\",COUNT(カテゴリースコア!O913),\"\"),\"\")","v":""},{"$f":"IF(F$1<>\"\",IF($A911<>\"\",COUNT(カテゴリースコア!P913),\"\"),\"\")","v":""},{"$f":"IF(G$1<>\"\",IF($A911<>\"\",COUNT(カテゴリースコア!Q913),\"\"),\"\")","v":""},{"$f":"IF(H$1<>\"\",IF($A911<>\"\",COUNT(カテゴリースコア!R913),\"\"),\"\")","v":""},{"$f":"IF(I$1<>\"\",IF($A911<>\"\",COUNT(カテゴリースコア!S913),\"\"),\"\")","v":""},{"$f":"IF(J$1<>\"\",IF($A911<>\"\",COUNT(カテゴリースコア!T913),\"\"),\"\")","v":""},{"$f":"IF(K$1<>\"\",IF($A911<>\"\",COUNT(カテゴリースコア!U913),\"\"),\"\")","v":""}]
[{"$f":"IF(データセット1!C912<>\"\",データセット1!C912,\"\")","v":""},{"$f":"IF(データセット1!C912<>\"\",データセット1!D912-カテゴリースコア!$E$11,\"\")","v":""},{"$f":"IF(C$1<>\"\",IF($A912<>\"\",COUNT(カテゴリースコア!M914),\"\"),\"\")","v":""},{"$f":"IF(D$1<>\"\",IF($A912<>\"\",COUNT(カテゴリースコア!N914),\"\"),\"\")","v":""},{"$f":"IF(E$1<>\"\",IF($A912<>\"\",COUNT(カテゴリースコア!O914),\"\"),\"\")","v":""},{"$f":"IF(F$1<>\"\",IF($A912<>\"\",COUNT(カテゴリースコア!P914),\"\"),\"\")","v":""},{"$f":"IF(G$1<>\"\",IF($A912<>\"\",COUNT(カテゴリースコア!Q914),\"\"),\"\")","v":""},{"$f":"IF(H$1<>\"\",IF($A912<>\"\",COUNT(カテゴリースコア!R914),\"\"),\"\")","v":""},{"$f":"IF(I$1<>\"\",IF($A912<>\"\",COUNT(カテゴリースコア!S914),\"\"),\"\")","v":""},{"$f":"IF(J$1<>\"\",IF($A912<>\"\",COUNT(カテゴリースコア!T914),\"\"),\"\")","v":""},{"$f":"IF(K$1<>\"\",IF($A912<>\"\",COUNT(カテゴリースコア!U914),\"\"),\"\")","v":""}]
[{"$f":"IF(データセット1!C913<>\"\",データセット1!C913,\"\")","v":""},{"$f":"IF(データセット1!C913<>\"\",データセット1!D913-カテゴリースコア!$E$11,\"\")","v":""},{"$f":"IF(C$1<>\"\",IF($A913<>\"\",COUNT(カテゴリースコア!M915),\"\"),\"\")","v":""},{"$f":"IF(D$1<>\"\",IF($A913<>\"\",COUNT(カテゴリースコア!N915),\"\"),\"\")","v":""},{"$f":"IF(E$1<>\"\",IF($A913<>\"\",COUNT(カテゴリースコア!O915),\"\"),\"\")","v":""},{"$f":"IF(F$1<>\"\",IF($A913<>\"\",COUNT(カテゴリースコア!P915),\"\"),\"\")","v":""},{"$f":"IF(G$1<>\"\",IF($A913<>\"\",COUNT(カテゴリースコア!Q915),\"\"),\"\")","v":""},{"$f":"IF(H$1<>\"\",IF($A913<>\"\",COUNT(カテゴリースコア!R915),\"\"),\"\")","v":""},{"$f":"IF(I$1<>\"\",IF($A913<>\"\",COUNT(カテゴリースコア!S915),\"\"),\"\")","v":""},{"$f":"IF(J$1<>\"\",IF($A913<>\"\",COUNT(カテゴリースコア!T915),\"\"),\"\")","v":""},{"$f":"IF(K$1<>\"\",IF($A913<>\"\",COUNT(カテゴリースコア!U915),\"\"),\"\")","v":""}]
[{"$f":"IF(データセット1!C914<>\"\",データセット1!C914,\"\")","v":""},{"$f":"IF(データセット1!C914<>\"\",データセット1!D914-カテゴリースコア!$E$11,\"\")","v":""},{"$f":"IF(C$1<>\"\",IF($A914<>\"\",COUNT(カテゴリースコア!M916),\"\"),\"\")","v":""},{"$f":"IF(D$1<>\"\",IF($A914<>\"\",COUNT(カテゴリースコア!N916),\"\"),\"\")","v":""},{"$f":"IF(E$1<>\"\",IF($A914<>\"\",COUNT(カテゴリースコア!O916),\"\"),\"\")","v":""},{"$f":"IF(F$1<>\"\",IF($A914<>\"\",COUNT(カテゴリースコア!P916),\"\"),\"\")","v":""},{"$f":"IF(G$1<>\"\",IF($A914<>\"\",COUNT(カテゴリースコア!Q916),\"\"),\"\")","v":""},{"$f":"IF(H$1<>\"\",IF($A914<>\"\",COUNT(カテゴリースコア!R916),\"\"),\"\")","v":""},{"$f":"IF(I$1<>\"\",IF($A914<>\"\",COUNT(カテゴリースコア!S916),\"\"),\"\")","v":""},{"$f":"IF(J$1<>\"\",IF($A914<>\"\",COUNT(カテゴリースコア!T916),\"\"),\"\")","v":""},{"$f":"IF(K$1<>\"\",IF($A914<>\"\",COUNT(カテゴリースコア!U916),\"\"),\"\")","v":""}]
[{"$f":"IF(データセット1!C915<>\"\",データセット1!C915,\"\")","v":""},{"$f":"IF(データセット1!C915<>\"\",データセット1!D915-カテゴリースコア!$E$11,\"\")","v":""},{"$f":"IF(C$1<>\"\",IF($A915<>\"\",COUNT(カテゴリースコア!M917),\"\"),\"\")","v":""},{"$f":"IF(D$1<>\"\",IF($A915<>\"\",COUNT(カテゴリースコア!N917),\"\"),\"\")","v":""},{"$f":"IF(E$1<>\"\",IF($A915<>\"\",COUNT(カテゴリースコア!O917),\"\"),\"\")","v":""},{"$f":"IF(F$1<>\"\",IF($A915<>\"\",COUNT(カテゴリースコア!P917),\"\"),\"\")","v":""},{"$f":"IF(G$1<>\"\",IF($A915<>\"\",COUNT(カテゴリースコア!Q917),\"\"),\"\")","v":""},{"$f":"IF(H$1<>\"\",IF($A915<>\"\",COUNT(カテゴリースコア!R917),\"\"),\"\")","v":""},{"$f":"IF(I$1<>\"\",IF($A915<>\"\",COUNT(カテゴリースコア!S917),\"\"),\"\")","v":""},{"$f":"IF(J$1<>\"\",IF($A915<>\"\",COUNT(カテゴリースコア!T917),\"\"),\"\")","v":""},{"$f":"IF(K$1<>\"\",IF($A915<>\"\",COUNT(カテゴリースコア!U917),\"\"),\"\")","v":""}]
[{"$f":"IF(データセット1!C916<>\"\",データセット1!C916,\"\")","v":""},{"$f":"IF(データセット1!C916<>\"\",データセット1!D916-カテゴリースコア!$E$11,\"\")","v":""},{"$f":"IF(C$1<>\"\",IF($A916<>\"\",COUNT(カテゴリースコア!M918),\"\"),\"\")","v":""},{"$f":"IF(D$1<>\"\",IF($A916<>\"\",COUNT(カテゴリースコア!N918),\"\"),\"\")","v":""},{"$f":"IF(E$1<>\"\",IF($A916<>\"\",COUNT(カテゴリースコア!O918),\"\"),\"\")","v":""},{"$f":"IF(F$1<>\"\",IF($A916<>\"\",COUNT(カテゴリースコア!P918),\"\"),\"\")","v":""},{"$f":"IF(G$1<>\"\",IF($A916<>\"\",COUNT(カテゴリースコア!Q918),\"\"),\"\")","v":""},{"$f":"IF(H$1<>\"\",IF($A916<>\"\",COUNT(カテゴリースコア!R918),\"\"),\"\")","v":""},{"$f":"IF(I$1<>\"\",IF($A916<>\"\",COUNT(カテゴリースコア!S918),\"\"),\"\")","v":""},{"$f":"IF(J$1<>\"\",IF($A916<>\"\",COUNT(カテゴリースコア!T918),\"\"),\"\")","v":""},{"$f":"IF(K$1<>\"\",IF($A916<>\"\",COUNT(カテゴリースコア!U918),\"\"),\"\")","v":""}]
[{"$f":"IF(データセット1!C917<>\"\",データセット1!C917,\"\")","v":""},{"$f":"IF(データセット1!C917<>\"\",データセット1!D917-カテゴリースコア!$E$11,\"\")","v":""},{"$f":"IF(C$1<>\"\",IF($A917<>\"\",COUNT(カテゴリースコア!M919),\"\"),\"\")","v":""},{"$f":"IF(D$1<>\"\",IF($A917<>\"\",COUNT(カテゴリースコア!N919),\"\"),\"\")","v":""},{"$f":"IF(E$1<>\"\",IF($A917<>\"\",COUNT(カテゴリースコア!O919),\"\"),\"\")","v":""},{"$f":"IF(F$1<>\"\",IF($A917<>\"\",COUNT(カテゴリースコア!P919),\"\"),\"\")","v":""},{"$f":"IF(G$1<>\"\",IF($A917<>\"\",COUNT(カテゴリースコア!Q919),\"\"),\"\")","v":""},{"$f":"IF(H$1<>\"\",IF($A917<>\"\",COUNT(カテゴリースコア!R919),\"\"),\"\")","v":""},{"$f":"IF(I$1<>\"\",IF($A917<>\"\",COUNT(カテゴリースコア!S919),\"\"),\"\")","v":""},{"$f":"IF(J$1<>\"\",IF($A917<>\"\",COUNT(カテゴリースコア!T919),\"\"),\"\")","v":""},{"$f":"IF(K$1<>\"\",IF($A917<>\"\",COUNT(カテゴリースコア!U919),\"\"),\"\")","v":""}]
[{"$f":"IF(データセット1!C918<>\"\",データセット1!C918,\"\")","v":""},{"$f":"IF(データセット1!C918<>\"\",データセット1!D918-カテゴリースコア!$E$11,\"\")","v":""},{"$f":"IF(C$1<>\"\",IF($A918<>\"\",COUNT(カテゴリースコア!M920),\"\"),\"\")","v":""},{"$f":"IF(D$1<>\"\",IF($A918<>\"\",COUNT(カテゴリースコア!N920),\"\"),\"\")","v":""},{"$f":"IF(E$1<>\"\",IF($A918<>\"\",COUNT(カテゴリースコア!O920),\"\"),\"\")","v":""},{"$f":"IF(F$1<>\"\",IF($A918<>\"\",COUNT(カテゴリースコア!P920),\"\"),\"\")","v":""},{"$f":"IF(G$1<>\"\",IF($A918<>\"\",COUNT(カテゴリースコア!Q920),\"\"),\"\")","v":""},{"$f":"IF(H$1<>\"\",IF($A918<>\"\",COUNT(カテゴリースコア!R920),\"\"),\"\")","v":""},{"$f":"IF(I$1<>\"\",IF($A918<>\"\",COUNT(カテゴリースコア!S920),\"\"),\"\")","v":""},{"$f":"IF(J$1<>\"\",IF($A918<>\"\",COUNT(カテゴリースコア!T920),\"\"),\"\")","v":""},{"$f":"IF(K$1<>\"\",IF($A918<>\"\",COUNT(カテゴリースコア!U920),\"\"),\"\")","v":""}]
[{"$f":"IF(データセット1!C919<>\"\",データセット1!C919,\"\")","v":""},{"$f":"IF(データセット1!C919<>\"\",データセット1!D919-カテゴリースコア!$E$11,\"\")","v":""},{"$f":"IF(C$1<>\"\",IF($A919<>\"\",COUNT(カテゴリースコア!M921),\"\"),\"\")","v":""},{"$f":"IF(D$1<>\"\",IF($A919<>\"\",COUNT(カテゴリースコア!N921),\"\"),\"\")","v":""},{"$f":"IF(E$1<>\"\",IF($A919<>\"\",COUNT(カテゴリースコア!O921),\"\"),\"\")","v":""},{"$f":"IF(F$1<>\"\",IF($A919<>\"\",COUNT(カテゴリースコア!P921),\"\"),\"\")","v":""},{"$f":"IF(G$1<>\"\",IF($A919<>\"\",COUNT(カテゴリースコア!Q921),\"\"),\"\")","v":""},{"$f":"IF(H$1<>\"\",IF($A919<>\"\",COUNT(カテゴリースコア!R921),\"\"),\"\")","v":""},{"$f":"IF(I$1<>\"\",IF($A919<>\"\",COUNT(カテゴリースコア!S921),\"\"),\"\")","v":""},{"$f":"IF(J$1<>\"\",IF($A919<>\"\",COUNT(カテゴリースコア!T921),\"\"),\"\")","v":""},{"$f":"IF(K$1<>\"\",IF($A919<>\"\",COUNT(カテゴリースコア!U921),\"\"),\"\")","v":""}]
[{"$f":"IF(データセット1!C920<>\"\",データセット1!C920,\"\")","v":""},{"$f":"IF(データセット1!C920<>\"\",データセット1!D920-カテゴリースコア!$E$11,\"\")","v":""},{"$f":"IF(C$1<>\"\",IF($A920<>\"\",COUNT(カテゴリースコア!M922),\"\"),\"\")","v":""},{"$f":"IF(D$1<>\"\",IF($A920<>\"\",COUNT(カテゴリースコア!N922),\"\"),\"\")","v":""},{"$f":"IF(E$1<>\"\",IF($A920<>\"\",COUNT(カテゴリースコア!O922),\"\"),\"\")","v":""},{"$f":"IF(F$1<>\"\",IF($A920<>\"\",COUNT(カテゴリースコア!P922),\"\"),\"\")","v":""},{"$f":"IF(G$1<>\"\",IF($A920<>\"\",COUNT(カテゴリースコア!Q922),\"\"),\"\")","v":""},{"$f":"IF(H$1<>\"\",IF($A920<>\"\",COUNT(カテゴリースコア!R922),\"\"),\"\")","v":""},{"$f":"IF(I$1<>\"\",IF($A920<>\"\",COUNT(カテゴリースコア!S922),\"\"),\"\")","v":""},{"$f":"IF(J$1<>\"\",IF($A920<>\"\",COUNT(カテゴリースコア!T922),\"\"),\"\")","v":""},{"$f":"IF(K$1<>\"\",IF($A920<>\"\",COUNT(カテゴリースコア!U922),\"\"),\"\")","v":""}]
[{"$f":"IF(データセット1!C921<>\"\",データセット1!C921,\"\")","v":""},{"$f":"IF(データセット1!C921<>\"\",データセット1!D921-カテゴリースコア!$E$11,\"\")","v":""},{"$f":"IF(C$1<>\"\",IF($A921<>\"\",COUNT(カテゴリースコア!M923),\"\"),\"\")","v":""},{"$f":"IF(D$1<>\"\",IF($A921<>\"\",COUNT(カテゴリースコア!N923),\"\"),\"\")","v":""},{"$f":"IF(E$1<>\"\",IF($A921<>\"\",COUNT(カテゴリースコア!O923),\"\"),\"\")","v":""},{"$f":"IF(F$1<>\"\",IF($A921<>\"\",COUNT(カテゴリースコア!P923),\"\"),\"\")","v":""},{"$f":"IF(G$1<>\"\",IF($A921<>\"\",COUNT(カテゴリースコア!Q923),\"\"),\"\")","v":""},{"$f":"IF(H$1<>\"\",IF($A921<>\"\",COUNT(カテゴリースコア!R923),\"\"),\"\")","v":""},{"$f":"IF(I$1<>\"\",IF($A921<>\"\",COUNT(カテゴリースコア!S923),\"\"),\"\")","v":""},{"$f":"IF(J$1<>\"\",IF($A921<>\"\",COUNT(カテゴリースコア!T923),\"\"),\"\")","v":""},{"$f":"IF(K$1<>\"\",IF($A921<>\"\",COUNT(カテゴリースコア!U923),\"\"),\"\")","v":""}]
[{"$f":"IF(データセット1!C922<>\"\",データセット1!C922,\"\")","v":""},{"$f":"IF(データセット1!C922<>\"\",データセット1!D922-カテゴリースコア!$E$11,\"\")","v":""},{"$f":"IF(C$1<>\"\",IF($A922<>\"\",COUNT(カテゴリースコア!M924),\"\"),\"\")","v":""},{"$f":"IF(D$1<>\"\",IF($A922<>\"\",COUNT(カテゴリースコア!N924),\"\"),\"\")","v":""},{"$f":"IF(E$1<>\"\",IF($A922<>\"\",COUNT(カテゴリースコア!O924),\"\"),\"\")","v":""},{"$f":"IF(F$1<>\"\",IF($A922<>\"\",COUNT(カテゴリースコア!P924),\"\"),\"\")","v":""},{"$f":"IF(G$1<>\"\",IF($A922<>\"\",COUNT(カテゴリースコア!Q924),\"\"),\"\")","v":""},{"$f":"IF(H$1<>\"\",IF($A922<>\"\",COUNT(カテゴリースコア!R924),\"\"),\"\")","v":""},{"$f":"IF(I$1<>\"\",IF($A922<>\"\",COUNT(カテゴリースコア!S924),\"\"),\"\")","v":""},{"$f":"IF(J$1<>\"\",IF($A922<>\"\",COUNT(カテゴリースコア!T924),\"\"),\"\")","v":""},{"$f":"IF(K$1<>\"\",IF($A922<>\"\",COUNT(カテゴリースコア!U924),\"\"),\"\")","v":""}]
[{"$f":"IF(データセット1!C923<>\"\",データセット1!C923,\"\")","v":""},{"$f":"IF(データセット1!C923<>\"\",データセット1!D923-カテゴリースコア!$E$11,\"\")","v":""},{"$f":"IF(C$1<>\"\",IF($A923<>\"\",COUNT(カテゴリースコア!M925),\"\"),\"\")","v":""},{"$f":"IF(D$1<>\"\",IF($A923<>\"\",COUNT(カテゴリースコア!N925),\"\"),\"\")","v":""},{"$f":"IF(E$1<>\"\",IF($A923<>\"\",COUNT(カテゴリースコア!O925),\"\"),\"\")","v":""},{"$f":"IF(F$1<>\"\",IF($A923<>\"\",COUNT(カテゴリースコア!P925),\"\"),\"\")","v":""},{"$f":"IF(G$1<>\"\",IF($A923<>\"\",COUNT(カテゴリースコア!Q925),\"\"),\"\")","v":""},{"$f":"IF(H$1<>\"\",IF($A923<>\"\",COUNT(カテゴリースコア!R925),\"\"),\"\")","v":""},{"$f":"IF(I$1<>\"\",IF($A923<>\"\",COUNT(カテゴリースコア!S925),\"\"),\"\")","v":""},{"$f":"IF(J$1<>\"\",IF($A923<>\"\",COUNT(カテゴリースコア!T925),\"\"),\"\")","v":""},{"$f":"IF(K$1<>\"\",IF($A923<>\"\",COUNT(カテゴリースコア!U925),\"\"),\"\")","v":""}]
[{"$f":"IF(データセット1!C924<>\"\",データセット1!C924,\"\")","v":""},{"$f":"IF(データセット1!C924<>\"\",データセット1!D924-カテゴリースコア!$E$11,\"\")","v":""},{"$f":"IF(C$1<>\"\",IF($A924<>\"\",COUNT(カテゴリースコア!M926),\"\"),\"\")","v":""},{"$f":"IF(D$1<>\"\",IF($A924<>\"\",COUNT(カテゴリースコア!N926),\"\"),\"\")","v":""},{"$f":"IF(E$1<>\"\",IF($A924<>\"\",COUNT(カテゴリースコア!O926),\"\"),\"\")","v":""},{"$f":"IF(F$1<>\"\",IF($A924<>\"\",COUNT(カテゴリースコア!P926),\"\"),\"\")","v":""},{"$f":"IF(G$1<>\"\",IF($A924<>\"\",COUNT(カテゴリースコア!Q926),\"\"),\"\")","v":""},{"$f":"IF(H$1<>\"\",IF($A924<>\"\",COUNT(カテゴリースコア!R926),\"\"),\"\")","v":""},{"$f":"IF(I$1<>\"\",IF($A924<>\"\",COUNT(カテゴリースコア!S926),\"\"),\"\")","v":""},{"$f":"IF(J$1<>\"\",IF($A924<>\"\",COUNT(カテゴリースコア!T926),\"\"),\"\")","v":""},{"$f":"IF(K$1<>\"\",IF($A924<>\"\",COUNT(カテゴリースコア!U926),\"\"),\"\")","v":""}]
[{"$f":"IF(データセット1!C925<>\"\",データセット1!C925,\"\")","v":""},{"$f":"IF(データセット1!C925<>\"\",データセット1!D925-カテゴリースコア!$E$11,\"\")","v":""},{"$f":"IF(C$1<>\"\",IF($A925<>\"\",COUNT(カテゴリースコア!M927),\"\"),\"\")","v":""},{"$f":"IF(D$1<>\"\",IF($A925<>\"\",COUNT(カテゴリースコア!N927),\"\"),\"\")","v":""},{"$f":"IF(E$1<>\"\",IF($A925<>\"\",COUNT(カテゴリースコア!O927),\"\"),\"\")","v":""},{"$f":"IF(F$1<>\"\",IF($A925<>\"\",COUNT(カテゴリースコア!P927),\"\"),\"\")","v":""},{"$f":"IF(G$1<>\"\",IF($A925<>\"\",COUNT(カテゴリースコア!Q927),\"\"),\"\")","v":""},{"$f":"IF(H$1<>\"\",IF($A925<>\"\",COUNT(カテゴリースコア!R927),\"\"),\"\")","v":""},{"$f":"IF(I$1<>\"\",IF($A925<>\"\",COUNT(カテゴリースコア!S927),\"\"),\"\")","v":""},{"$f":"IF(J$1<>\"\",IF($A925<>\"\",COUNT(カテゴリースコア!T927),\"\"),\"\")","v":""},{"$f":"IF(K$1<>\"\",IF($A925<>\"\",COUNT(カテゴリースコア!U927),\"\"),\"\")","v":""}]
[{"$f":"IF(データセット1!C926<>\"\",データセット1!C926,\"\")","v":""},{"$f":"IF(データセット1!C926<>\"\",データセット1!D926-カテゴリースコア!$E$11,\"\")","v":""},{"$f":"IF(C$1<>\"\",IF($A926<>\"\",COUNT(カテゴリースコア!M928),\"\"),\"\")","v":""},{"$f":"IF(D$1<>\"\",IF($A926<>\"\",COUNT(カテゴリースコア!N928),\"\"),\"\")","v":""},{"$f":"IF(E$1<>\"\",IF($A926<>\"\",COUNT(カテゴリースコア!O928),\"\"),\"\")","v":""},{"$f":"IF(F$1<>\"\",IF($A926<>\"\",COUNT(カテゴリースコア!P928),\"\"),\"\")","v":""},{"$f":"IF(G$1<>\"\",IF($A926<>\"\",COUNT(カテゴリースコア!Q928),\"\"),\"\")","v":""},{"$f":"IF(H$1<>\"\",IF($A926<>\"\",COUNT(カテゴリースコア!R928),\"\"),\"\")","v":""},{"$f":"IF(I$1<>\"\",IF($A926<>\"\",COUNT(カテゴリースコア!S928),\"\"),\"\")","v":""},{"$f":"IF(J$1<>\"\",IF($A926<>\"\",COUNT(カテゴリースコア!T928),\"\"),\"\")","v":""},{"$f":"IF(K$1<>\"\",IF($A926<>\"\",COUNT(カテゴリースコア!U928),\"\"),\"\")","v":""}]
[{"$f":"IF(データセット1!C927<>\"\",データセット1!C927,\"\")","v":""},{"$f":"IF(データセット1!C927<>\"\",データセット1!D927-カテゴリースコア!$E$11,\"\")","v":""},{"$f":"IF(C$1<>\"\",IF($A927<>\"\",COUNT(カテゴリースコア!M929),\"\"),\"\")","v":""},{"$f":"IF(D$1<>\"\",IF($A927<>\"\",COUNT(カテゴリースコア!N929),\"\"),\"\")","v":""},{"$f":"IF(E$1<>\"\",IF($A927<>\"\",COUNT(カテゴリースコア!O929),\"\"),\"\")","v":""},{"$f":"IF(F$1<>\"\",IF($A927<>\"\",COUNT(カテゴリースコア!P929),\"\"),\"\")","v":""},{"$f":"IF(G$1<>\"\",IF($A927<>\"\",COUNT(カテゴリースコア!Q929),\"\"),\"\")","v":""},{"$f":"IF(H$1<>\"\",IF($A927<>\"\",COUNT(カテゴリースコア!R929),\"\"),\"\")","v":""},{"$f":"IF(I$1<>\"\",IF($A927<>\"\",COUNT(カテゴリースコア!S929),\"\"),\"\")","v":""},{"$f":"IF(J$1<>\"\",IF($A927<>\"\",COUNT(カテゴリースコア!T929),\"\"),\"\")","v":""},{"$f":"IF(K$1<>\"\",IF($A927<>\"\",COUNT(カテゴリースコア!U929),\"\"),\"\")","v":""}]
[{"$f":"IF(データセット1!C928<>\"\",データセット1!C928,\"\")","v":""},{"$f":"IF(データセット1!C928<>\"\",データセット1!D928-カテゴリースコア!$E$11,\"\")","v":""},{"$f":"IF(C$1<>\"\",IF($A928<>\"\",COUNT(カテゴリースコア!M930),\"\"),\"\")","v":""},{"$f":"IF(D$1<>\"\",IF($A928<>\"\",COUNT(カテゴリースコア!N930),\"\"),\"\")","v":""},{"$f":"IF(E$1<>\"\",IF($A928<>\"\",COUNT(カテゴリースコア!O930),\"\"),\"\")","v":""},{"$f":"IF(F$1<>\"\",IF($A928<>\"\",COUNT(カテゴリースコア!P930),\"\"),\"\")","v":""},{"$f":"IF(G$1<>\"\",IF($A928<>\"\",COUNT(カテゴリースコア!Q930),\"\"),\"\")","v":""},{"$f":"IF(H$1<>\"\",IF($A928<>\"\",COUNT(カテゴリースコア!R930),\"\"),\"\")","v":""},{"$f":"IF(I$1<>\"\",IF($A928<>\"\",COUNT(カテゴリースコア!S930),\"\"),\"\")","v":""},{"$f":"IF(J$1<>\"\",IF($A928<>\"\",COUNT(カテゴリースコア!T930),\"\"),\"\")","v":""},{"$f":"IF(K$1<>\"\",IF($A928<>\"\",COUNT(カテゴリースコア!U930),\"\"),\"\")","v":""}]
[{"$f":"IF(データセット1!C929<>\"\",データセット1!C929,\"\")","v":""},{"$f":"IF(データセット1!C929<>\"\",データセット1!D929-カテゴリースコア!$E$11,\"\")","v":""},{"$f":"IF(C$1<>\"\",IF($A929<>\"\",COUNT(カテゴリースコア!M931),\"\"),\"\")","v":""},{"$f":"IF(D$1<>\"\",IF($A929<>\"\",COUNT(カテゴリースコア!N931),\"\"),\"\")","v":""},{"$f":"IF(E$1<>\"\",IF($A929<>\"\",COUNT(カテゴリースコア!O931),\"\"),\"\")","v":""},{"$f":"IF(F$1<>\"\",IF($A929<>\"\",COUNT(カテゴリースコア!P931),\"\"),\"\")","v":""},{"$f":"IF(G$1<>\"\",IF($A929<>\"\",COUNT(カテゴリースコア!Q931),\"\"),\"\")","v":""},{"$f":"IF(H$1<>\"\",IF($A929<>\"\",COUNT(カテゴリースコア!R931),\"\"),\"\")","v":""},{"$f":"IF(I$1<>\"\",IF($A929<>\"\",COUNT(カテゴリースコア!S931),\"\"),\"\")","v":""},{"$f":"IF(J$1<>\"\",IF($A929<>\"\",COUNT(カテゴリースコア!T931),\"\"),\"\")","v":""},{"$f":"IF(K$1<>\"\",IF($A929<>\"\",COUNT(カテゴリースコア!U931),\"\"),\"\")","v":""}]
[{"$f":"IF(データセット1!C930<>\"\",データセット1!C930,\"\")","v":""},{"$f":"IF(データセット1!C930<>\"\",データセット1!D930-カテゴリースコア!$E$11,\"\")","v":""},{"$f":"IF(C$1<>\"\",IF($A930<>\"\",COUNT(カテゴリースコア!M932),\"\"),\"\")","v":""},{"$f":"IF(D$1<>\"\",IF($A930<>\"\",COUNT(カテゴリースコア!N932),\"\"),\"\")","v":""},{"$f":"IF(E$1<>\"\",IF($A930<>\"\",COUNT(カテゴリースコア!O932),\"\"),\"\")","v":""},{"$f":"IF(F$1<>\"\",IF($A930<>\"\",COUNT(カテゴリースコア!P932),\"\"),\"\")","v":""},{"$f":"IF(G$1<>\"\",IF($A930<>\"\",COUNT(カテゴリースコア!Q932),\"\"),\"\")","v":""},{"$f":"IF(H$1<>\"\",IF($A930<>\"\",COUNT(カテゴリースコア!R932),\"\"),\"\")","v":""},{"$f":"IF(I$1<>\"\",IF($A930<>\"\",COUNT(カテゴリースコア!S932),\"\"),\"\")","v":""},{"$f":"IF(J$1<>\"\",IF($A930<>\"\",COUNT(カテゴリースコア!T932),\"\"),\"\")","v":""},{"$f":"IF(K$1<>\"\",IF($A930<>\"\",COUNT(カテゴリースコア!U932),\"\"),\"\")","v":""}]
[{"$f":"IF(データセット1!C931<>\"\",データセット1!C931,\"\")","v":""},{"$f":"IF(データセット1!C931<>\"\",データセット1!D931-カテゴリースコア!$E$11,\"\")","v":""},{"$f":"IF(C$1<>\"\",IF($A931<>\"\",COUNT(カテゴリースコア!M933),\"\"),\"\")","v":""},{"$f":"IF(D$1<>\"\",IF($A931<>\"\",COUNT(カテゴリースコア!N933),\"\"),\"\")","v":""},{"$f":"IF(E$1<>\"\",IF($A931<>\"\",COUNT(カテゴリースコア!O933),\"\"),\"\")","v":""},{"$f":"IF(F$1<>\"\",IF($A931<>\"\",COUNT(カテゴリースコア!P933),\"\"),\"\")","v":""},{"$f":"IF(G$1<>\"\",IF($A931<>\"\",COUNT(カテゴリースコア!Q933),\"\"),\"\")","v":""},{"$f":"IF(H$1<>\"\",IF($A931<>\"\",COUNT(カテゴリースコア!R933),\"\"),\"\")","v":""},{"$f":"IF(I$1<>\"\",IF($A931<>\"\",COUNT(カテゴリースコア!S933),\"\"),\"\")","v":""},{"$f":"IF(J$1<>\"\",IF($A931<>\"\",COUNT(カテゴリースコア!T933),\"\"),\"\")","v":""},{"$f":"IF(K$1<>\"\",IF($A931<>\"\",COUNT(カテゴリースコア!U933),\"\"),\"\")","v":""}]
[{"$f":"IF(データセット1!C932<>\"\",データセット1!C932,\"\")","v":""},{"$f":"IF(データセット1!C932<>\"\",データセット1!D932-カテゴリースコア!$E$11,\"\")","v":""},{"$f":"IF(C$1<>\"\",IF($A932<>\"\",COUNT(カテゴリースコア!M934),\"\"),\"\")","v":""},{"$f":"IF(D$1<>\"\",IF($A932<>\"\",COUNT(カテゴリースコア!N934),\"\"),\"\")","v":""},{"$f":"IF(E$1<>\"\",IF($A932<>\"\",COUNT(カテゴリースコア!O934),\"\"),\"\")","v":""},{"$f":"IF(F$1<>\"\",IF($A932<>\"\",COUNT(カテゴリースコア!P934),\"\"),\"\")","v":""},{"$f":"IF(G$1<>\"\",IF($A932<>\"\",COUNT(カテゴリースコア!Q934),\"\"),\"\")","v":""},{"$f":"IF(H$1<>\"\",IF($A932<>\"\",COUNT(カテゴリースコア!R934),\"\"),\"\")","v":""},{"$f":"IF(I$1<>\"\",IF($A932<>\"\",COUNT(カテゴリースコア!S934),\"\"),\"\")","v":""},{"$f":"IF(J$1<>\"\",IF($A932<>\"\",COUNT(カテゴリースコア!T934),\"\"),\"\")","v":""},{"$f":"IF(K$1<>\"\",IF($A932<>\"\",COUNT(カテゴリースコア!U934),\"\"),\"\")","v":""}]
[{"$f":"IF(データセット1!C933<>\"\",データセット1!C933,\"\")","v":""},{"$f":"IF(データセット1!C933<>\"\",データセット1!D933-カテゴリースコア!$E$11,\"\")","v":""},{"$f":"IF(C$1<>\"\",IF($A933<>\"\",COUNT(カテゴリースコア!M935),\"\"),\"\")","v":""},{"$f":"IF(D$1<>\"\",IF($A933<>\"\",COUNT(カテゴリースコア!N935),\"\"),\"\")","v":""},{"$f":"IF(E$1<>\"\",IF($A933<>\"\",COUNT(カテゴリースコア!O935),\"\"),\"\")","v":""},{"$f":"IF(F$1<>\"\",IF($A933<>\"\",COUNT(カテゴリースコア!P935),\"\"),\"\")","v":""},{"$f":"IF(G$1<>\"\",IF($A933<>\"\",COUNT(カテゴリースコア!Q935),\"\"),\"\")","v":""},{"$f":"IF(H$1<>\"\",IF($A933<>\"\",COUNT(カテゴリースコア!R935),\"\"),\"\")","v":""},{"$f":"IF(I$1<>\"\",IF($A933<>\"\",COUNT(カテゴリースコア!S935),\"\"),\"\")","v":""},{"$f":"IF(J$1<>\"\",IF($A933<>\"\",COUNT(カテゴリースコア!T935),\"\"),\"\")","v":""},{"$f":"IF(K$1<>\"\",IF($A933<>\"\",COUNT(カテゴリースコア!U935),\"\"),\"\")","v":""}]
[{"$f":"IF(データセット1!C934<>\"\",データセット1!C934,\"\")","v":""},{"$f":"IF(データセット1!C934<>\"\",データセット1!D934-カテゴリースコア!$E$11,\"\")","v":""},{"$f":"IF(C$1<>\"\",IF($A934<>\"\",COUNT(カテゴリースコア!M936),\"\"),\"\")","v":""},{"$f":"IF(D$1<>\"\",IF($A934<>\"\",COUNT(カテゴリースコア!N936),\"\"),\"\")","v":""},{"$f":"IF(E$1<>\"\",IF($A934<>\"\",COUNT(カテゴリースコア!O936),\"\"),\"\")","v":""},{"$f":"IF(F$1<>\"\",IF($A934<>\"\",COUNT(カテゴリースコア!P936),\"\"),\"\")","v":""},{"$f":"IF(G$1<>\"\",IF($A934<>\"\",COUNT(カテゴリースコア!Q936),\"\"),\"\")","v":""},{"$f":"IF(H$1<>\"\",IF($A934<>\"\",COUNT(カテゴリースコア!R936),\"\"),\"\")","v":""},{"$f":"IF(I$1<>\"\",IF($A934<>\"\",COUNT(カテゴリースコア!S936),\"\"),\"\")","v":""},{"$f":"IF(J$1<>\"\",IF($A934<>\"\",COUNT(カテゴリースコア!T936),\"\"),\"\")","v":""},{"$f":"IF(K$1<>\"\",IF($A934<>\"\",COUNT(カテゴリースコア!U936),\"\"),\"\")","v":""}]
[{"$f":"IF(データセット1!C935<>\"\",データセット1!C935,\"\")","v":""},{"$f":"IF(データセット1!C935<>\"\",データセット1!D935-カテゴリースコア!$E$11,\"\")","v":""},{"$f":"IF(C$1<>\"\",IF($A935<>\"\",COUNT(カテゴリースコア!M937),\"\"),\"\")","v":""},{"$f":"IF(D$1<>\"\",IF($A935<>\"\",COUNT(カテゴリースコア!N937),\"\"),\"\")","v":""},{"$f":"IF(E$1<>\"\",IF($A935<>\"\",COUNT(カテゴリースコア!O937),\"\"),\"\")","v":""},{"$f":"IF(F$1<>\"\",IF($A935<>\"\",COUNT(カテゴリースコア!P937),\"\"),\"\")","v":""},{"$f":"IF(G$1<>\"\",IF($A935<>\"\",COUNT(カテゴリースコア!Q937),\"\"),\"\")","v":""},{"$f":"IF(H$1<>\"\",IF($A935<>\"\",COUNT(カテゴリースコア!R937),\"\"),\"\")","v":""},{"$f":"IF(I$1<>\"\",IF($A935<>\"\",COUNT(カテゴリースコア!S937),\"\"),\"\")","v":""},{"$f":"IF(J$1<>\"\",IF($A935<>\"\",COUNT(カテゴリースコア!T937),\"\"),\"\")","v":""},{"$f":"IF(K$1<>\"\",IF($A935<>\"\",COUNT(カテゴリースコア!U937),\"\"),\"\")","v":""}]
[{"$f":"IF(データセット1!C936<>\"\",データセット1!C936,\"\")","v":""},{"$f":"IF(データセット1!C936<>\"\",データセット1!D936-カテゴリースコア!$E$11,\"\")","v":""},{"$f":"IF(C$1<>\"\",IF($A936<>\"\",COUNT(カテゴリースコア!M938),\"\"),\"\")","v":""},{"$f":"IF(D$1<>\"\",IF($A936<>\"\",COUNT(カテゴリースコア!N938),\"\"),\"\")","v":""},{"$f":"IF(E$1<>\"\",IF($A936<>\"\",COUNT(カテゴリースコア!O938),\"\"),\"\")","v":""},{"$f":"IF(F$1<>\"\",IF($A936<>\"\",COUNT(カテゴリースコア!P938),\"\"),\"\")","v":""},{"$f":"IF(G$1<>\"\",IF($A936<>\"\",COUNT(カテゴリースコア!Q938),\"\"),\"\")","v":""},{"$f":"IF(H$1<>\"\",IF($A936<>\"\",COUNT(カテゴリースコア!R938),\"\"),\"\")","v":""},{"$f":"IF(I$1<>\"\",IF($A936<>\"\",COUNT(カテゴリースコア!S938),\"\"),\"\")","v":""},{"$f":"IF(J$1<>\"\",IF($A936<>\"\",COUNT(カテゴリースコア!T938),\"\"),\"\")","v":""},{"$f":"IF(K$1<>\"\",IF($A936<>\"\",COUNT(カテゴリースコア!U938),\"\"),\"\")","v":""}]
[{"$f":"IF(データセット1!C937<>\"\",データセット1!C937,\"\")","v":""},{"$f":"IF(データセット1!C937<>\"\",データセット1!D937-カテゴリースコア!$E$11,\"\")","v":""},{"$f":"IF(C$1<>\"\",IF($A937<>\"\",COUNT(カテゴリースコア!M939),\"\"),\"\")","v":""},{"$f":"IF(D$1<>\"\",IF($A937<>\"\",COUNT(カテゴリースコア!N939),\"\"),\"\")","v":""},{"$f":"IF(E$1<>\"\",IF($A937<>\"\",COUNT(カテゴリースコア!O939),\"\"),\"\")","v":""},{"$f":"IF(F$1<>\"\",IF($A937<>\"\",COUNT(カテゴリースコア!P939),\"\"),\"\")","v":""},{"$f":"IF(G$1<>\"\",IF($A937<>\"\",COUNT(カテゴリースコア!Q939),\"\"),\"\")","v":""},{"$f":"IF(H$1<>\"\",IF($A937<>\"\",COUNT(カテゴリースコア!R939),\"\"),\"\")","v":""},{"$f":"IF(I$1<>\"\",IF($A937<>\"\",COUNT(カテゴリースコア!S939),\"\"),\"\")","v":""},{"$f":"IF(J$1<>\"\",IF($A937<>\"\",COUNT(カテゴリースコア!T939),\"\"),\"\")","v":""},{"$f":"IF(K$1<>\"\",IF($A937<>\"\",COUNT(カテゴリースコア!U939),\"\"),\"\")","v":""}]
[{"$f":"IF(データセット1!C938<>\"\",データセット1!C938,\"\")","v":""},{"$f":"IF(データセット1!C938<>\"\",データセット1!D938-カテゴリースコア!$E$11,\"\")","v":""},{"$f":"IF(C$1<>\"\",IF($A938<>\"\",COUNT(カテゴリースコア!M940),\"\"),\"\")","v":""},{"$f":"IF(D$1<>\"\",IF($A938<>\"\",COUNT(カテゴリースコア!N940),\"\"),\"\")","v":""},{"$f":"IF(E$1<>\"\",IF($A938<>\"\",COUNT(カテゴリースコア!O940),\"\"),\"\")","v":""},{"$f":"IF(F$1<>\"\",IF($A938<>\"\",COUNT(カテゴリースコア!P940),\"\"),\"\")","v":""},{"$f":"IF(G$1<>\"\",IF($A938<>\"\",COUNT(カテゴリースコア!Q940),\"\"),\"\")","v":""},{"$f":"IF(H$1<>\"\",IF($A938<>\"\",COUNT(カテゴリースコア!R940),\"\"),\"\")","v":""},{"$f":"IF(I$1<>\"\",IF($A938<>\"\",COUNT(カテゴリースコア!S940),\"\"),\"\")","v":""},{"$f":"IF(J$1<>\"\",IF($A938<>\"\",COUNT(カテゴリースコア!T940),\"\"),\"\")","v":""},{"$f":"IF(K$1<>\"\",IF($A938<>\"\",COUNT(カテゴリースコア!U940),\"\"),\"\")","v":""}]
[{"$f":"IF(データセット1!C939<>\"\",データセット1!C939,\"\")","v":""},{"$f":"IF(データセット1!C939<>\"\",データセット1!D939-カテゴリースコア!$E$11,\"\")","v":""},{"$f":"IF(C$1<>\"\",IF($A939<>\"\",COUNT(カテゴリースコア!M941),\"\"),\"\")","v":""},{"$f":"IF(D$1<>\"\",IF($A939<>\"\",COUNT(カテゴリースコア!N941),\"\"),\"\")","v":""},{"$f":"IF(E$1<>\"\",IF($A939<>\"\",COUNT(カテゴリースコア!O941),\"\"),\"\")","v":""},{"$f":"IF(F$1<>\"\",IF($A939<>\"\",COUNT(カテゴリースコア!P941),\"\"),\"\")","v":""},{"$f":"IF(G$1<>\"\",IF($A939<>\"\",COUNT(カテゴリースコア!Q941),\"\"),\"\")","v":""},{"$f":"IF(H$1<>\"\",IF($A939<>\"\",COUNT(カテゴリースコア!R941),\"\"),\"\")","v":""},{"$f":"IF(I$1<>\"\",IF($A939<>\"\",COUNT(カテゴリースコア!S941),\"\"),\"\")","v":""},{"$f":"IF(J$1<>\"\",IF($A939<>\"\",COUNT(カテゴリースコア!T941),\"\"),\"\")","v":""},{"$f":"IF(K$1<>\"\",IF($A939<>\"\",COUNT(カテゴリースコア!U941),\"\"),\"\")","v":""}]
[{"$f":"IF(データセット1!C940<>\"\",データセット1!C940,\"\")","v":""},{"$f":"IF(データセット1!C940<>\"\",データセット1!D940-カテゴリースコア!$E$11,\"\")","v":""},{"$f":"IF(C$1<>\"\",IF($A940<>\"\",COUNT(カテゴリースコア!M942),\"\"),\"\")","v":""},{"$f":"IF(D$1<>\"\",IF($A940<>\"\",COUNT(カテゴリースコア!N942),\"\"),\"\")","v":""},{"$f":"IF(E$1<>\"\",IF($A940<>\"\",COUNT(カテゴリースコア!O942),\"\"),\"\")","v":""},{"$f":"IF(F$1<>\"\",IF($A940<>\"\",COUNT(カテゴリースコア!P942),\"\"),\"\")","v":""},{"$f":"IF(G$1<>\"\",IF($A940<>\"\",COUNT(カテゴリースコア!Q942),\"\"),\"\")","v":""},{"$f":"IF(H$1<>\"\",IF($A940<>\"\",COUNT(カテゴリースコア!R942),\"\"),\"\")","v":""},{"$f":"IF(I$1<>\"\",IF($A940<>\"\",COUNT(カテゴリースコア!S942),\"\"),\"\")","v":""},{"$f":"IF(J$1<>\"\",IF($A940<>\"\",COUNT(カテゴリースコア!T942),\"\"),\"\")","v":""},{"$f":"IF(K$1<>\"\",IF($A940<>\"\",COUNT(カテゴリースコア!U942),\"\"),\"\")","v":""}]
[{"$f":"IF(データセット1!C941<>\"\",データセット1!C941,\"\")","v":""},{"$f":"IF(データセット1!C941<>\"\",データセット1!D941-カテゴリースコア!$E$11,\"\")","v":""},{"$f":"IF(C$1<>\"\",IF($A941<>\"\",COUNT(カテゴリースコア!M943),\"\"),\"\")","v":""},{"$f":"IF(D$1<>\"\",IF($A941<>\"\",COUNT(カテゴリースコア!N943),\"\"),\"\")","v":""},{"$f":"IF(E$1<>\"\",IF($A941<>\"\",COUNT(カテゴリースコア!O943),\"\"),\"\")","v":""},{"$f":"IF(F$1<>\"\",IF($A941<>\"\",COUNT(カテゴリースコア!P943),\"\"),\"\")","v":""},{"$f":"IF(G$1<>\"\",IF($A941<>\"\",COUNT(カテゴリースコア!Q943),\"\"),\"\")","v":""},{"$f":"IF(H$1<>\"\",IF($A941<>\"\",COUNT(カテゴリースコア!R943),\"\"),\"\")","v":""},{"$f":"IF(I$1<>\"\",IF($A941<>\"\",COUNT(カテゴリースコア!S943),\"\"),\"\")","v":""},{"$f":"IF(J$1<>\"\",IF($A941<>\"\",COUNT(カテゴリースコア!T943),\"\"),\"\")","v":""},{"$f":"IF(K$1<>\"\",IF($A941<>\"\",COUNT(カテゴリースコア!U943),\"\"),\"\")","v":""}]
[{"$f":"IF(データセット1!C942<>\"\",データセット1!C942,\"\")","v":""},{"$f":"IF(データセット1!C942<>\"\",データセット1!D942-カテゴリースコア!$E$11,\"\")","v":""},{"$f":"IF(C$1<>\"\",IF($A942<>\"\",COUNT(カテゴリースコア!M944),\"\"),\"\")","v":""},{"$f":"IF(D$1<>\"\",IF($A942<>\"\",COUNT(カテゴリースコア!N944),\"\"),\"\")","v":""},{"$f":"IF(E$1<>\"\",IF($A942<>\"\",COUNT(カテゴリースコア!O944),\"\"),\"\")","v":""},{"$f":"IF(F$1<>\"\",IF($A942<>\"\",COUNT(カテゴリースコア!P944),\"\"),\"\")","v":""},{"$f":"IF(G$1<>\"\",IF($A942<>\"\",COUNT(カテゴリースコア!Q944),\"\"),\"\")","v":""},{"$f":"IF(H$1<>\"\",IF($A942<>\"\",COUNT(カテゴリースコア!R944),\"\"),\"\")","v":""},{"$f":"IF(I$1<>\"\",IF($A942<>\"\",COUNT(カテゴリースコア!S944),\"\"),\"\")","v":""},{"$f":"IF(J$1<>\"\",IF($A942<>\"\",COUNT(カテゴリースコア!T944),\"\"),\"\")","v":""},{"$f":"IF(K$1<>\"\",IF($A942<>\"\",COUNT(カテゴリースコア!U944),\"\"),\"\")","v":""}]
[{"$f":"IF(データセット1!C943<>\"\",データセット1!C943,\"\")","v":""},{"$f":"IF(データセット1!C943<>\"\",データセット1!D943-カテゴリースコア!$E$11,\"\")","v":""},{"$f":"IF(C$1<>\"\",IF($A943<>\"\",COUNT(カテゴリースコア!M945),\"\"),\"\")","v":""},{"$f":"IF(D$1<>\"\",IF($A943<>\"\",COUNT(カテゴリースコア!N945),\"\"),\"\")","v":""},{"$f":"IF(E$1<>\"\",IF($A943<>\"\",COUNT(カテゴリースコア!O945),\"\"),\"\")","v":""},{"$f":"IF(F$1<>\"\",IF($A943<>\"\",COUNT(カテゴリースコア!P945),\"\"),\"\")","v":""},{"$f":"IF(G$1<>\"\",IF($A943<>\"\",COUNT(カテゴリースコア!Q945),\"\"),\"\")","v":""},{"$f":"IF(H$1<>\"\",IF($A943<>\"\",COUNT(カテゴリースコア!R945),\"\"),\"\")","v":""},{"$f":"IF(I$1<>\"\",IF($A943<>\"\",COUNT(カテゴリースコア!S945),\"\"),\"\")","v":""},{"$f":"IF(J$1<>\"\",IF($A943<>\"\",COUNT(カテゴリースコア!T945),\"\"),\"\")","v":""},{"$f":"IF(K$1<>\"\",IF($A943<>\"\",COUNT(カテゴリースコア!U945),\"\"),\"\")","v":""}]
[{"$f":"IF(データセット1!C944<>\"\",データセット1!C944,\"\")","v":""},{"$f":"IF(データセット1!C944<>\"\",データセット1!D944-カテゴリースコア!$E$11,\"\")","v":""},{"$f":"IF(C$1<>\"\",IF($A944<>\"\",COUNT(カテゴリースコア!M946),\"\"),\"\")","v":""},{"$f":"IF(D$1<>\"\",IF($A944<>\"\",COUNT(カテゴリースコア!N946),\"\"),\"\")","v":""},{"$f":"IF(E$1<>\"\",IF($A944<>\"\",COUNT(カテゴリースコア!O946),\"\"),\"\")","v":""},{"$f":"IF(F$1<>\"\",IF($A944<>\"\",COUNT(カテゴリースコア!P946),\"\"),\"\")","v":""},{"$f":"IF(G$1<>\"\",IF($A944<>\"\",COUNT(カテゴリースコア!Q946),\"\"),\"\")","v":""},{"$f":"IF(H$1<>\"\",IF($A944<>\"\",COUNT(カテゴリースコア!R946),\"\"),\"\")","v":""},{"$f":"IF(I$1<>\"\",IF($A944<>\"\",COUNT(カテゴリースコア!S946),\"\"),\"\")","v":""},{"$f":"IF(J$1<>\"\",IF($A944<>\"\",COUNT(カテゴリースコア!T946),\"\"),\"\")","v":""},{"$f":"IF(K$1<>\"\",IF($A944<>\"\",COUNT(カテゴリースコア!U946),\"\"),\"\")","v":""}]
[{"$f":"IF(データセット1!C945<>\"\",データセット1!C945,\"\")","v":""},{"$f":"IF(データセット1!C945<>\"\",データセット1!D945-カテゴリースコア!$E$11,\"\")","v":""},{"$f":"IF(C$1<>\"\",IF($A945<>\"\",COUNT(カテゴリースコア!M947),\"\"),\"\")","v":""},{"$f":"IF(D$1<>\"\",IF($A945<>\"\",COUNT(カテゴリースコア!N947),\"\"),\"\")","v":""},{"$f":"IF(E$1<>\"\",IF($A945<>\"\",COUNT(カテゴリースコア!O947),\"\"),\"\")","v":""},{"$f":"IF(F$1<>\"\",IF($A945<>\"\",COUNT(カテゴリースコア!P947),\"\"),\"\")","v":""},{"$f":"IF(G$1<>\"\",IF($A945<>\"\",COUNT(カテゴリースコア!Q947),\"\"),\"\")","v":""},{"$f":"IF(H$1<>\"\",IF($A945<>\"\",COUNT(カテゴリースコア!R947),\"\"),\"\")","v":""},{"$f":"IF(I$1<>\"\",IF($A945<>\"\",COUNT(カテゴリースコア!S947),\"\"),\"\")","v":""},{"$f":"IF(J$1<>\"\",IF($A945<>\"\",COUNT(カテゴリースコア!T947),\"\"),\"\")","v":""},{"$f":"IF(K$1<>\"\",IF($A945<>\"\",COUNT(カテゴリースコア!U947),\"\"),\"\")","v":""}]
[{"$f":"IF(データセット1!C946<>\"\",データセット1!C946,\"\")","v":""},{"$f":"IF(データセット1!C946<>\"\",データセット1!D946-カテゴリースコア!$E$11,\"\")","v":""},{"$f":"IF(C$1<>\"\",IF($A946<>\"\",COUNT(カテゴリースコア!M948),\"\"),\"\")","v":""},{"$f":"IF(D$1<>\"\",IF($A946<>\"\",COUNT(カテゴリースコア!N948),\"\"),\"\")","v":""},{"$f":"IF(E$1<>\"\",IF($A946<>\"\",COUNT(カテゴリースコア!O948),\"\"),\"\")","v":""},{"$f":"IF(F$1<>\"\",IF($A946<>\"\",COUNT(カテゴリースコア!P948),\"\"),\"\")","v":""},{"$f":"IF(G$1<>\"\",IF($A946<>\"\",COUNT(カテゴリースコア!Q948),\"\"),\"\")","v":""},{"$f":"IF(H$1<>\"\",IF($A946<>\"\",COUNT(カテゴリースコア!R948),\"\"),\"\")","v":""},{"$f":"IF(I$1<>\"\",IF($A946<>\"\",COUNT(カテゴリースコア!S948),\"\"),\"\")","v":""},{"$f":"IF(J$1<>\"\",IF($A946<>\"\",COUNT(カテゴリースコア!T948),\"\"),\"\")","v":""},{"$f":"IF(K$1<>\"\",IF($A946<>\"\",COUNT(カテゴリースコア!U948),\"\"),\"\")","v":""}]
[{"$f":"IF(データセット1!C947<>\"\",データセット1!C947,\"\")","v":""},{"$f":"IF(データセット1!C947<>\"\",データセット1!D947-カテゴリースコア!$E$11,\"\")","v":""},{"$f":"IF(C$1<>\"\",IF($A947<>\"\",COUNT(カテゴリースコア!M949),\"\"),\"\")","v":""},{"$f":"IF(D$1<>\"\",IF($A947<>\"\",COUNT(カテゴリースコア!N949),\"\"),\"\")","v":""},{"$f":"IF(E$1<>\"\",IF($A947<>\"\",COUNT(カテゴリースコア!O949),\"\"),\"\")","v":""},{"$f":"IF(F$1<>\"\",IF($A947<>\"\",COUNT(カテゴリースコア!P949),\"\"),\"\")","v":""},{"$f":"IF(G$1<>\"\",IF($A947<>\"\",COUNT(カテゴリースコア!Q949),\"\"),\"\")","v":""},{"$f":"IF(H$1<>\"\",IF($A947<>\"\",COUNT(カテゴリースコア!R949),\"\"),\"\")","v":""},{"$f":"IF(I$1<>\"\",IF($A947<>\"\",COUNT(カテゴリースコア!S949),\"\"),\"\")","v":""},{"$f":"IF(J$1<>\"\",IF($A947<>\"\",COUNT(カテゴリースコア!T949),\"\"),\"\")","v":""},{"$f":"IF(K$1<>\"\",IF($A947<>\"\",COUNT(カテゴリースコア!U949),\"\"),\"\")","v":""}]
[{"$f":"IF(データセット1!C948<>\"\",データセット1!C948,\"\")","v":""},{"$f":"IF(データセット1!C948<>\"\",データセット1!D948-カテゴリースコア!$E$11,\"\")","v":""},{"$f":"IF(C$1<>\"\",IF($A948<>\"\",COUNT(カテゴリースコア!M950),\"\"),\"\")","v":""},{"$f":"IF(D$1<>\"\",IF($A948<>\"\",COUNT(カテゴリースコア!N950),\"\"),\"\")","v":""},{"$f":"IF(E$1<>\"\",IF($A948<>\"\",COUNT(カテゴリースコア!O950),\"\"),\"\")","v":""},{"$f":"IF(F$1<>\"\",IF($A948<>\"\",COUNT(カテゴリースコア!P950),\"\"),\"\")","v":""},{"$f":"IF(G$1<>\"\",IF($A948<>\"\",COUNT(カテゴリースコア!Q950),\"\"),\"\")","v":""},{"$f":"IF(H$1<>\"\",IF($A948<>\"\",COUNT(カテゴリースコア!R950),\"\"),\"\")","v":""},{"$f":"IF(I$1<>\"\",IF($A948<>\"\",COUNT(カテゴリースコア!S950),\"\"),\"\")","v":""},{"$f":"IF(J$1<>\"\",IF($A948<>\"\",COUNT(カテゴリースコア!T950),\"\"),\"\")","v":""},{"$f":"IF(K$1<>\"\",IF($A948<>\"\",COUNT(カテゴリースコア!U950),\"\"),\"\")","v":""}]
[{"$f":"IF(データセット1!C949<>\"\",データセット1!C949,\"\")","v":""},{"$f":"IF(データセット1!C949<>\"\",データセット1!D949-カテゴリースコア!$E$11,\"\")","v":""},{"$f":"IF(C$1<>\"\",IF($A949<>\"\",COUNT(カテゴリースコア!M951),\"\"),\"\")","v":""},{"$f":"IF(D$1<>\"\",IF($A949<>\"\",COUNT(カテゴリースコア!N951),\"\"),\"\")","v":""},{"$f":"IF(E$1<>\"\",IF($A949<>\"\",COUNT(カテゴリースコア!O951),\"\"),\"\")","v":""},{"$f":"IF(F$1<>\"\",IF($A949<>\"\",COUNT(カテゴリースコア!P951),\"\"),\"\")","v":""},{"$f":"IF(G$1<>\"\",IF($A949<>\"\",COUNT(カテゴリースコア!Q951),\"\"),\"\")","v":""},{"$f":"IF(H$1<>\"\",IF($A949<>\"\",COUNT(カテゴリースコア!R951),\"\"),\"\")","v":""},{"$f":"IF(I$1<>\"\",IF($A949<>\"\",COUNT(カテゴリースコア!S951),\"\"),\"\")","v":""},{"$f":"IF(J$1<>\"\",IF($A949<>\"\",COUNT(カテゴリースコア!T951),\"\"),\"\")","v":""},{"$f":"IF(K$1<>\"\",IF($A949<>\"\",COUNT(カテゴリースコア!U951),\"\"),\"\")","v":""}]
[{"$f":"IF(データセット1!C950<>\"\",データセット1!C950,\"\")","v":""},{"$f":"IF(データセット1!C950<>\"\",データセット1!D950-カテゴリースコア!$E$11,\"\")","v":""},{"$f":"IF(C$1<>\"\",IF($A950<>\"\",COUNT(カテゴリースコア!M952),\"\"),\"\")","v":""},{"$f":"IF(D$1<>\"\",IF($A950<>\"\",COUNT(カテゴリースコア!N952),\"\"),\"\")","v":""},{"$f":"IF(E$1<>\"\",IF($A950<>\"\",COUNT(カテゴリースコア!O952),\"\"),\"\")","v":""},{"$f":"IF(F$1<>\"\",IF($A950<>\"\",COUNT(カテゴリースコア!P952),\"\"),\"\")","v":""},{"$f":"IF(G$1<>\"\",IF($A950<>\"\",COUNT(カテゴリースコア!Q952),\"\"),\"\")","v":""},{"$f":"IF(H$1<>\"\",IF($A950<>\"\",COUNT(カテゴリースコア!R952),\"\"),\"\")","v":""},{"$f":"IF(I$1<>\"\",IF($A950<>\"\",COUNT(カテゴリースコア!S952),\"\"),\"\")","v":""},{"$f":"IF(J$1<>\"\",IF($A950<>\"\",COUNT(カテゴリースコア!T952),\"\"),\"\")","v":""},{"$f":"IF(K$1<>\"\",IF($A950<>\"\",COUNT(カテゴリースコア!U952),\"\"),\"\")","v":""}]
[{"$f":"IF(データセット1!C951<>\"\",データセット1!C951,\"\")","v":""},{"$f":"IF(データセット1!C951<>\"\",データセット1!D951-カテゴリースコア!$E$11,\"\")","v":""},{"$f":"IF(C$1<>\"\",IF($A951<>\"\",COUNT(カテゴリースコア!M953),\"\"),\"\")","v":""},{"$f":"IF(D$1<>\"\",IF($A951<>\"\",COUNT(カテゴリースコア!N953),\"\"),\"\")","v":""},{"$f":"IF(E$1<>\"\",IF($A951<>\"\",COUNT(カテゴリースコア!O953),\"\"),\"\")","v":""},{"$f":"IF(F$1<>\"\",IF($A951<>\"\",COUNT(カテゴリースコア!P953),\"\"),\"\")","v":""},{"$f":"IF(G$1<>\"\",IF($A951<>\"\",COUNT(カテゴリースコア!Q953),\"\"),\"\")","v":""},{"$f":"IF(H$1<>\"\",IF($A951<>\"\",COUNT(カテゴリースコア!R953),\"\"),\"\")","v":""},{"$f":"IF(I$1<>\"\",IF($A951<>\"\",COUNT(カテゴリースコア!S953),\"\"),\"\")","v":""},{"$f":"IF(J$1<>\"\",IF($A951<>\"\",COUNT(カテゴリースコア!T953),\"\"),\"\")","v":""},{"$f":"IF(K$1<>\"\",IF($A951<>\"\",COUNT(カテゴリースコア!U953),\"\"),\"\")","v":""}]
[{"$f":"IF(データセット1!C952<>\"\",データセット1!C952,\"\")","v":""},{"$f":"IF(データセット1!C952<>\"\",データセット1!D952-カテゴリースコア!$E$11,\"\")","v":""},{"$f":"IF(C$1<>\"\",IF($A952<>\"\",COUNT(カテゴリースコア!M954),\"\"),\"\")","v":""},{"$f":"IF(D$1<>\"\",IF($A952<>\"\",COUNT(カテゴリースコア!N954),\"\"),\"\")","v":""},{"$f":"IF(E$1<>\"\",IF($A952<>\"\",COUNT(カテゴリースコア!O954),\"\"),\"\")","v":""},{"$f":"IF(F$1<>\"\",IF($A952<>\"\",COUNT(カテゴリースコア!P954),\"\"),\"\")","v":""},{"$f":"IF(G$1<>\"\",IF($A952<>\"\",COUNT(カテゴリースコア!Q954),\"\"),\"\")","v":""},{"$f":"IF(H$1<>\"\",IF($A952<>\"\",COUNT(カテゴリースコア!R954),\"\"),\"\")","v":""},{"$f":"IF(I$1<>\"\",IF($A952<>\"\",COUNT(カテゴリースコア!S954),\"\"),\"\")","v":""},{"$f":"IF(J$1<>\"\",IF($A952<>\"\",COUNT(カテゴリースコア!T954),\"\"),\"\")","v":""},{"$f":"IF(K$1<>\"\",IF($A952<>\"\",COUNT(カテゴリースコア!U954),\"\"),\"\")","v":""}]
[{"$f":"IF(データセット1!C953<>\"\",データセット1!C953,\"\")","v":""},{"$f":"IF(データセット1!C953<>\"\",データセット1!D953-カテゴリースコア!$E$11,\"\")","v":""},{"$f":"IF(C$1<>\"\",IF($A953<>\"\",COUNT(カテゴリースコア!M955),\"\"),\"\")","v":""},{"$f":"IF(D$1<>\"\",IF($A953<>\"\",COUNT(カテゴリースコア!N955),\"\"),\"\")","v":""},{"$f":"IF(E$1<>\"\",IF($A953<>\"\",COUNT(カテゴリースコア!O955),\"\"),\"\")","v":""},{"$f":"IF(F$1<>\"\",IF($A953<>\"\",COUNT(カテゴリースコア!P955),\"\"),\"\")","v":""},{"$f":"IF(G$1<>\"\",IF($A953<>\"\",COUNT(カテゴリースコア!Q955),\"\"),\"\")","v":""},{"$f":"IF(H$1<>\"\",IF($A953<>\"\",COUNT(カテゴリースコア!R955),\"\"),\"\")","v":""},{"$f":"IF(I$1<>\"\",IF($A953<>\"\",COUNT(カテゴリースコア!S955),\"\"),\"\")","v":""},{"$f":"IF(J$1<>\"\",IF($A953<>\"\",COUNT(カテゴリースコア!T955),\"\"),\"\")","v":""},{"$f":"IF(K$1<>\"\",IF($A953<>\"\",COUNT(カテゴリースコア!U955),\"\"),\"\")","v":""}]
[{"$f":"IF(データセット1!C954<>\"\",データセット1!C954,\"\")","v":""},{"$f":"IF(データセット1!C954<>\"\",データセット1!D954-カテゴリースコア!$E$11,\"\")","v":""},{"$f":"IF(C$1<>\"\",IF($A954<>\"\",COUNT(カテゴリースコア!M956),\"\"),\"\")","v":""},{"$f":"IF(D$1<>\"\",IF($A954<>\"\",COUNT(カテゴリースコア!N956),\"\"),\"\")","v":""},{"$f":"IF(E$1<>\"\",IF($A954<>\"\",COUNT(カテゴリースコア!O956),\"\"),\"\")","v":""},{"$f":"IF(F$1<>\"\",IF($A954<>\"\",COUNT(カテゴリースコア!P956),\"\"),\"\")","v":""},{"$f":"IF(G$1<>\"\",IF($A954<>\"\",COUNT(カテゴリースコア!Q956),\"\"),\"\")","v":""},{"$f":"IF(H$1<>\"\",IF($A954<>\"\",COUNT(カテゴリースコア!R956),\"\"),\"\")","v":""},{"$f":"IF(I$1<>\"\",IF($A954<>\"\",COUNT(カテゴリースコア!S956),\"\"),\"\")","v":""},{"$f":"IF(J$1<>\"\",IF($A954<>\"\",COUNT(カテゴリースコア!T956),\"\"),\"\")","v":""},{"$f":"IF(K$1<>\"\",IF($A954<>\"\",COUNT(カテゴリースコア!U956),\"\"),\"\")","v":""}]
[{"$f":"IF(データセット1!C955<>\"\",データセット1!C955,\"\")","v":""},{"$f":"IF(データセット1!C955<>\"\",データセット1!D955-カテゴリースコア!$E$11,\"\")","v":""},{"$f":"IF(C$1<>\"\",IF($A955<>\"\",COUNT(カテゴリースコア!M957),\"\"),\"\")","v":""},{"$f":"IF(D$1<>\"\",IF($A955<>\"\",COUNT(カテゴリースコア!N957),\"\"),\"\")","v":""},{"$f":"IF(E$1<>\"\",IF($A955<>\"\",COUNT(カテゴリースコア!O957),\"\"),\"\")","v":""},{"$f":"IF(F$1<>\"\",IF($A955<>\"\",COUNT(カテゴリースコア!P957),\"\"),\"\")","v":""},{"$f":"IF(G$1<>\"\",IF($A955<>\"\",COUNT(カテゴリースコア!Q957),\"\"),\"\")","v":""},{"$f":"IF(H$1<>\"\",IF($A955<>\"\",COUNT(カテゴリースコア!R957),\"\"),\"\")","v":""},{"$f":"IF(I$1<>\"\",IF($A955<>\"\",COUNT(カテゴリースコア!S957),\"\"),\"\")","v":""},{"$f":"IF(J$1<>\"\",IF($A955<>\"\",COUNT(カテゴリースコア!T957),\"\"),\"\")","v":""},{"$f":"IF(K$1<>\"\",IF($A955<>\"\",COUNT(カテゴリースコア!U957),\"\"),\"\")","v":""}]
[{"$f":"IF(データセット1!C956<>\"\",データセット1!C956,\"\")","v":""},{"$f":"IF(データセット1!C956<>\"\",データセット1!D956-カテゴリースコア!$E$11,\"\")","v":""},{"$f":"IF(C$1<>\"\",IF($A956<>\"\",COUNT(カテゴリースコア!M958),\"\"),\"\")","v":""},{"$f":"IF(D$1<>\"\",IF($A956<>\"\",COUNT(カテゴリースコア!N958),\"\"),\"\")","v":""},{"$f":"IF(E$1<>\"\",IF($A956<>\"\",COUNT(カテゴリースコア!O958),\"\"),\"\")","v":""},{"$f":"IF(F$1<>\"\",IF($A956<>\"\",COUNT(カテゴリースコア!P958),\"\"),\"\")","v":""},{"$f":"IF(G$1<>\"\",IF($A956<>\"\",COUNT(カテゴリースコア!Q958),\"\"),\"\")","v":""},{"$f":"IF(H$1<>\"\",IF($A956<>\"\",COUNT(カテゴリースコア!R958),\"\"),\"\")","v":""},{"$f":"IF(I$1<>\"\",IF($A956<>\"\",COUNT(カテゴリースコア!S958),\"\"),\"\")","v":""},{"$f":"IF(J$1<>\"\",IF($A956<>\"\",COUNT(カテゴリースコア!T958),\"\"),\"\")","v":""},{"$f":"IF(K$1<>\"\",IF($A956<>\"\",COUNT(カテゴリースコア!U958),\"\"),\"\")","v":""}]
[{"$f":"IF(データセット1!C957<>\"\",データセット1!C957,\"\")","v":""},{"$f":"IF(データセット1!C957<>\"\",データセット1!D957-カテゴリースコア!$E$11,\"\")","v":""},{"$f":"IF(C$1<>\"\",IF($A957<>\"\",COUNT(カテゴリースコア!M959),\"\"),\"\")","v":""},{"$f":"IF(D$1<>\"\",IF($A957<>\"\",COUNT(カテゴリースコア!N959),\"\"),\"\")","v":""},{"$f":"IF(E$1<>\"\",IF($A957<>\"\",COUNT(カテゴリースコア!O959),\"\"),\"\")","v":""},{"$f":"IF(F$1<>\"\",IF($A957<>\"\",COUNT(カテゴリースコア!P959),\"\"),\"\")","v":""},{"$f":"IF(G$1<>\"\",IF($A957<>\"\",COUNT(カテゴリースコア!Q959),\"\"),\"\")","v":""},{"$f":"IF(H$1<>\"\",IF($A957<>\"\",COUNT(カテゴリースコア!R959),\"\"),\"\")","v":""},{"$f":"IF(I$1<>\"\",IF($A957<>\"\",COUNT(カテゴリースコア!S959),\"\"),\"\")","v":""},{"$f":"IF(J$1<>\"\",IF($A957<>\"\",COUNT(カテゴリースコア!T959),\"\"),\"\")","v":""},{"$f":"IF(K$1<>\"\",IF($A957<>\"\",COUNT(カテゴリースコア!U959),\"\"),\"\")","v":""}]
[{"$f":"IF(データセット1!C958<>\"\",データセット1!C958,\"\")","v":""},{"$f":"IF(データセット1!C958<>\"\",データセット1!D958-カテゴリースコア!$E$11,\"\")","v":""},{"$f":"IF(C$1<>\"\",IF($A958<>\"\",COUNT(カテゴリースコア!M960),\"\"),\"\")","v":""},{"$f":"IF(D$1<>\"\",IF($A958<>\"\",COUNT(カテゴリースコア!N960),\"\"),\"\")","v":""},{"$f":"IF(E$1<>\"\",IF($A958<>\"\",COUNT(カテゴリースコア!O960),\"\"),\"\")","v":""},{"$f":"IF(F$1<>\"\",IF($A958<>\"\",COUNT(カテゴリースコア!P960),\"\"),\"\")","v":""},{"$f":"IF(G$1<>\"\",IF($A958<>\"\",COUNT(カテゴリースコア!Q960),\"\"),\"\")","v":""},{"$f":"IF(H$1<>\"\",IF($A958<>\"\",COUNT(カテゴリースコア!R960),\"\"),\"\")","v":""},{"$f":"IF(I$1<>\"\",IF($A958<>\"\",COUNT(カテゴリースコア!S960),\"\"),\"\")","v":""},{"$f":"IF(J$1<>\"\",IF($A958<>\"\",COUNT(カテゴリースコア!T960),\"\"),\"\")","v":""},{"$f":"IF(K$1<>\"\",IF($A958<>\"\",COUNT(カテゴリースコア!U960),\"\"),\"\")","v":""}]
[{"$f":"IF(データセット1!C959<>\"\",データセット1!C959,\"\")","v":""},{"$f":"IF(データセット1!C959<>\"\",データセット1!D959-カテゴリースコア!$E$11,\"\")","v":""},{"$f":"IF(C$1<>\"\",IF($A959<>\"\",COUNT(カテゴリースコア!M961),\"\"),\"\")","v":""},{"$f":"IF(D$1<>\"\",IF($A959<>\"\",COUNT(カテゴリースコア!N961),\"\"),\"\")","v":""},{"$f":"IF(E$1<>\"\",IF($A959<>\"\",COUNT(カテゴリースコア!O961),\"\"),\"\")","v":""},{"$f":"IF(F$1<>\"\",IF($A959<>\"\",COUNT(カテゴリースコア!P961),\"\"),\"\")","v":""},{"$f":"IF(G$1<>\"\",IF($A959<>\"\",COUNT(カテゴリースコア!Q961),\"\"),\"\")","v":""},{"$f":"IF(H$1<>\"\",IF($A959<>\"\",COUNT(カテゴリースコア!R961),\"\"),\"\")","v":""},{"$f":"IF(I$1<>\"\",IF($A959<>\"\",COUNT(カテゴリースコア!S961),\"\"),\"\")","v":""},{"$f":"IF(J$1<>\"\",IF($A959<>\"\",COUNT(カテゴリースコア!T961),\"\"),\"\")","v":""},{"$f":"IF(K$1<>\"\",IF($A959<>\"\",COUNT(カテゴリースコア!U961),\"\"),\"\")","v":""}]
[{"$f":"IF(データセット1!C960<>\"\",データセット1!C960,\"\")","v":""},{"$f":"IF(データセット1!C960<>\"\",データセット1!D960-カテゴリースコア!$E$11,\"\")","v":""},{"$f":"IF(C$1<>\"\",IF($A960<>\"\",COUNT(カテゴリースコア!M962),\"\"),\"\")","v":""},{"$f":"IF(D$1<>\"\",IF($A960<>\"\",COUNT(カテゴリースコア!N962),\"\"),\"\")","v":""},{"$f":"IF(E$1<>\"\",IF($A960<>\"\",COUNT(カテゴリースコア!O962),\"\"),\"\")","v":""},{"$f":"IF(F$1<>\"\",IF($A960<>\"\",COUNT(カテゴリースコア!P962),\"\"),\"\")","v":""},{"$f":"IF(G$1<>\"\",IF($A960<>\"\",COUNT(カテゴリースコア!Q962),\"\"),\"\")","v":""},{"$f":"IF(H$1<>\"\",IF($A960<>\"\",COUNT(カテゴリースコア!R962),\"\"),\"\")","v":""},{"$f":"IF(I$1<>\"\",IF($A960<>\"\",COUNT(カテゴリースコア!S962),\"\"),\"\")","v":""},{"$f":"IF(J$1<>\"\",IF($A960<>\"\",COUNT(カテゴリースコア!T962),\"\"),\"\")","v":""},{"$f":"IF(K$1<>\"\",IF($A960<>\"\",COUNT(カテゴリースコア!U962),\"\"),\"\")","v":""}]
[{"$f":"IF(データセット1!C961<>\"\",データセット1!C961,\"\")","v":""},{"$f":"IF(データセット1!C961<>\"\",データセット1!D961-カテゴリースコア!$E$11,\"\")","v":""},{"$f":"IF(C$1<>\"\",IF($A961<>\"\",COUNT(カテゴリースコア!M963),\"\"),\"\")","v":""},{"$f":"IF(D$1<>\"\",IF($A961<>\"\",COUNT(カテゴリースコア!N963),\"\"),\"\")","v":""},{"$f":"IF(E$1<>\"\",IF($A961<>\"\",COUNT(カテゴリースコア!O963),\"\"),\"\")","v":""},{"$f":"IF(F$1<>\"\",IF($A961<>\"\",COUNT(カテゴリースコア!P963),\"\"),\"\")","v":""},{"$f":"IF(G$1<>\"\",IF($A961<>\"\",COUNT(カテゴリースコア!Q963),\"\"),\"\")","v":""},{"$f":"IF(H$1<>\"\",IF($A961<>\"\",COUNT(カテゴリースコア!R963),\"\"),\"\")","v":""},{"$f":"IF(I$1<>\"\",IF($A961<>\"\",COUNT(カテゴリースコア!S963),\"\"),\"\")","v":""},{"$f":"IF(J$1<>\"\",IF($A961<>\"\",COUNT(カテゴリースコア!T963),\"\"),\"\")","v":""},{"$f":"IF(K$1<>\"\",IF($A961<>\"\",COUNT(カテゴリースコア!U963),\"\"),\"\")","v":""}]
[{"$f":"IF(データセット1!C962<>\"\",データセット1!C962,\"\")","v":""},{"$f":"IF(データセット1!C962<>\"\",データセット1!D962-カテゴリースコア!$E$11,\"\")","v":""},{"$f":"IF(C$1<>\"\",IF($A962<>\"\",COUNT(カテゴリースコア!M964),\"\"),\"\")","v":""},{"$f":"IF(D$1<>\"\",IF($A962<>\"\",COUNT(カテゴリースコア!N964),\"\"),\"\")","v":""},{"$f":"IF(E$1<>\"\",IF($A962<>\"\",COUNT(カテゴリースコア!O964),\"\"),\"\")","v":""},{"$f":"IF(F$1<>\"\",IF($A962<>\"\",COUNT(カテゴリースコア!P964),\"\"),\"\")","v":""},{"$f":"IF(G$1<>\"\",IF($A962<>\"\",COUNT(カテゴリースコア!Q964),\"\"),\"\")","v":""},{"$f":"IF(H$1<>\"\",IF($A962<>\"\",COUNT(カテゴリースコア!R964),\"\"),\"\")","v":""},{"$f":"IF(I$1<>\"\",IF($A962<>\"\",COUNT(カテゴリースコア!S964),\"\"),\"\")","v":""},{"$f":"IF(J$1<>\"\",IF($A962<>\"\",COUNT(カテゴリースコア!T964),\"\"),\"\")","v":""},{"$f":"IF(K$1<>\"\",IF($A962<>\"\",COUNT(カテゴリースコア!U964),\"\"),\"\")","v":""}]
[{"$f":"IF(データセット1!C963<>\"\",データセット1!C963,\"\")","v":""},{"$f":"IF(データセット1!C963<>\"\",データセット1!D963-カテゴリースコア!$E$11,\"\")","v":""},{"$f":"IF(C$1<>\"\",IF($A963<>\"\",COUNT(カテゴリースコア!M965),\"\"),\"\")","v":""},{"$f":"IF(D$1<>\"\",IF($A963<>\"\",COUNT(カテゴリースコア!N965),\"\"),\"\")","v":""},{"$f":"IF(E$1<>\"\",IF($A963<>\"\",COUNT(カテゴリースコア!O965),\"\"),\"\")","v":""},{"$f":"IF(F$1<>\"\",IF($A963<>\"\",COUNT(カテゴリースコア!P965),\"\"),\"\")","v":""},{"$f":"IF(G$1<>\"\",IF($A963<>\"\",COUNT(カテゴリースコア!Q965),\"\"),\"\")","v":""},{"$f":"IF(H$1<>\"\",IF($A963<>\"\",COUNT(カテゴリースコア!R965),\"\"),\"\")","v":""},{"$f":"IF(I$1<>\"\",IF($A963<>\"\",COUNT(カテゴリースコア!S965),\"\"),\"\")","v":""},{"$f":"IF(J$1<>\"\",IF($A963<>\"\",COUNT(カテゴリースコア!T965),\"\"),\"\")","v":""},{"$f":"IF(K$1<>\"\",IF($A963<>\"\",COUNT(カテゴリースコア!U965),\"\"),\"\")","v":""}]
[{"$f":"IF(データセット1!C964<>\"\",データセット1!C964,\"\")","v":""},{"$f":"IF(データセット1!C964<>\"\",データセット1!D964-カテゴリースコア!$E$11,\"\")","v":""},{"$f":"IF(C$1<>\"\",IF($A964<>\"\",COUNT(カテゴリースコア!M966),\"\"),\"\")","v":""},{"$f":"IF(D$1<>\"\",IF($A964<>\"\",COUNT(カテゴリースコア!N966),\"\"),\"\")","v":""},{"$f":"IF(E$1<>\"\",IF($A964<>\"\",COUNT(カテゴリースコア!O966),\"\"),\"\")","v":""},{"$f":"IF(F$1<>\"\",IF($A964<>\"\",COUNT(カテゴリースコア!P966),\"\"),\"\")","v":""},{"$f":"IF(G$1<>\"\",IF($A964<>\"\",COUNT(カテゴリースコア!Q966),\"\"),\"\")","v":""},{"$f":"IF(H$1<>\"\",IF($A964<>\"\",COUNT(カテゴリースコア!R966),\"\"),\"\")","v":""},{"$f":"IF(I$1<>\"\",IF($A964<>\"\",COUNT(カテゴリースコア!S966),\"\"),\"\")","v":""},{"$f":"IF(J$1<>\"\",IF($A964<>\"\",COUNT(カテゴリースコア!T966),\"\"),\"\")","v":""},{"$f":"IF(K$1<>\"\",IF($A964<>\"\",COUNT(カテゴリースコア!U966),\"\"),\"\")","v":""}]
[{"$f":"IF(データセット1!C965<>\"\",データセット1!C965,\"\")","v":""},{"$f":"IF(データセット1!C965<>\"\",データセット1!D965-カテゴリースコア!$E$11,\"\")","v":""},{"$f":"IF(C$1<>\"\",IF($A965<>\"\",COUNT(カテゴリースコア!M967),\"\"),\"\")","v":""},{"$f":"IF(D$1<>\"\",IF($A965<>\"\",COUNT(カテゴリースコア!N967),\"\"),\"\")","v":""},{"$f":"IF(E$1<>\"\",IF($A965<>\"\",COUNT(カテゴリースコア!O967),\"\"),\"\")","v":""},{"$f":"IF(F$1<>\"\",IF($A965<>\"\",COUNT(カテゴリースコア!P967),\"\"),\"\")","v":""},{"$f":"IF(G$1<>\"\",IF($A965<>\"\",COUNT(カテゴリースコア!Q967),\"\"),\"\")","v":""},{"$f":"IF(H$1<>\"\",IF($A965<>\"\",COUNT(カテゴリースコア!R967),\"\"),\"\")","v":""},{"$f":"IF(I$1<>\"\",IF($A965<>\"\",COUNT(カテゴリースコア!S967),\"\"),\"\")","v":""},{"$f":"IF(J$1<>\"\",IF($A965<>\"\",COUNT(カテゴリースコア!T967),\"\"),\"\")","v":""},{"$f":"IF(K$1<>\"\",IF($A965<>\"\",COUNT(カテゴリースコア!U967),\"\"),\"\")","v":""}]
[{"$f":"IF(データセット1!C966<>\"\",データセット1!C966,\"\")","v":""},{"$f":"IF(データセット1!C966<>\"\",データセット1!D966-カテゴリースコア!$E$11,\"\")","v":""},{"$f":"IF(C$1<>\"\",IF($A966<>\"\",COUNT(カテゴリースコア!M968),\"\"),\"\")","v":""},{"$f":"IF(D$1<>\"\",IF($A966<>\"\",COUNT(カテゴリースコア!N968),\"\"),\"\")","v":""},{"$f":"IF(E$1<>\"\",IF($A966<>\"\",COUNT(カテゴリースコア!O968),\"\"),\"\")","v":""},{"$f":"IF(F$1<>\"\",IF($A966<>\"\",COUNT(カテゴリースコア!P968),\"\"),\"\")","v":""},{"$f":"IF(G$1<>\"\",IF($A966<>\"\",COUNT(カテゴリースコア!Q968),\"\"),\"\")","v":""},{"$f":"IF(H$1<>\"\",IF($A966<>\"\",COUNT(カテゴリースコア!R968),\"\"),\"\")","v":""},{"$f":"IF(I$1<>\"\",IF($A966<>\"\",COUNT(カテゴリースコア!S968),\"\"),\"\")","v":""},{"$f":"IF(J$1<>\"\",IF($A966<>\"\",COUNT(カテゴリースコア!T968),\"\"),\"\")","v":""},{"$f":"IF(K$1<>\"\",IF($A966<>\"\",COUNT(カテゴリースコア!U968),\"\"),\"\")","v":""}]
[{"$f":"IF(データセット1!C967<>\"\",データセット1!C967,\"\")","v":""},{"$f":"IF(データセット1!C967<>\"\",データセット1!D967-カテゴリースコア!$E$11,\"\")","v":""},{"$f":"IF(C$1<>\"\",IF($A967<>\"\",COUNT(カテゴリースコア!M969),\"\"),\"\")","v":""},{"$f":"IF(D$1<>\"\",IF($A967<>\"\",COUNT(カテゴリースコア!N969),\"\"),\"\")","v":""},{"$f":"IF(E$1<>\"\",IF($A967<>\"\",COUNT(カテゴリースコア!O969),\"\"),\"\")","v":""},{"$f":"IF(F$1<>\"\",IF($A967<>\"\",COUNT(カテゴリースコア!P969),\"\"),\"\")","v":""},{"$f":"IF(G$1<>\"\",IF($A967<>\"\",COUNT(カテゴリースコア!Q969),\"\"),\"\")","v":""},{"$f":"IF(H$1<>\"\",IF($A967<>\"\",COUNT(カテゴリースコア!R969),\"\"),\"\")","v":""},{"$f":"IF(I$1<>\"\",IF($A967<>\"\",COUNT(カテゴリースコア!S969),\"\"),\"\")","v":""},{"$f":"IF(J$1<>\"\",IF($A967<>\"\",COUNT(カテゴリースコア!T969),\"\"),\"\")","v":""},{"$f":"IF(K$1<>\"\",IF($A967<>\"\",COUNT(カテゴリースコア!U969),\"\"),\"\")","v":""}]
[{"$f":"IF(データセット1!C968<>\"\",データセット1!C968,\"\")","v":""},{"$f":"IF(データセット1!C968<>\"\",データセット1!D968-カテゴリースコア!$E$11,\"\")","v":""},{"$f":"IF(C$1<>\"\",IF($A968<>\"\",COUNT(カテゴリースコア!M970),\"\"),\"\")","v":""},{"$f":"IF(D$1<>\"\",IF($A968<>\"\",COUNT(カテゴリースコア!N970),\"\"),\"\")","v":""},{"$f":"IF(E$1<>\"\",IF($A968<>\"\",COUNT(カテゴリースコア!O970),\"\"),\"\")","v":""},{"$f":"IF(F$1<>\"\",IF($A968<>\"\",COUNT(カテゴリースコア!P970),\"\"),\"\")","v":""},{"$f":"IF(G$1<>\"\",IF($A968<>\"\",COUNT(カテゴリースコア!Q970),\"\"),\"\")","v":""},{"$f":"IF(H$1<>\"\",IF($A968<>\"\",COUNT(カテゴリースコア!R970),\"\"),\"\")","v":""},{"$f":"IF(I$1<>\"\",IF($A968<>\"\",COUNT(カテゴリースコア!S970),\"\"),\"\")","v":""},{"$f":"IF(J$1<>\"\",IF($A968<>\"\",COUNT(カテゴリースコア!T970),\"\"),\"\")","v":""},{"$f":"IF(K$1<>\"\",IF($A968<>\"\",COUNT(カテゴリースコア!U970),\"\"),\"\")","v":""}]
[{"$f":"IF(データセット1!C969<>\"\",データセット1!C969,\"\")","v":""},{"$f":"IF(データセット1!C969<>\"\",データセット1!D969-カテゴリースコア!$E$11,\"\")","v":""},{"$f":"IF(C$1<>\"\",IF($A969<>\"\",COUNT(カテゴリースコア!M971),\"\"),\"\")","v":""},{"$f":"IF(D$1<>\"\",IF($A969<>\"\",COUNT(カテゴリースコア!N971),\"\"),\"\")","v":""},{"$f":"IF(E$1<>\"\",IF($A969<>\"\",COUNT(カテゴリースコア!O971),\"\"),\"\")","v":""},{"$f":"IF(F$1<>\"\",IF($A969<>\"\",COUNT(カテゴリースコア!P971),\"\"),\"\")","v":""},{"$f":"IF(G$1<>\"\",IF($A969<>\"\",COUNT(カテゴリースコア!Q971),\"\"),\"\")","v":""},{"$f":"IF(H$1<>\"\",IF($A969<>\"\",COUNT(カテゴリースコア!R971),\"\"),\"\")","v":""},{"$f":"IF(I$1<>\"\",IF($A969<>\"\",COUNT(カテゴリースコア!S971),\"\"),\"\")","v":""},{"$f":"IF(J$1<>\"\",IF($A969<>\"\",COUNT(カテゴリースコア!T971),\"\"),\"\")","v":""},{"$f":"IF(K$1<>\"\",IF($A969<>\"\",COUNT(カテゴリースコア!U971),\"\"),\"\")","v":""}]
[{"$f":"IF(データセット1!C970<>\"\",データセット1!C970,\"\")","v":""},{"$f":"IF(データセット1!C970<>\"\",データセット1!D970-カテゴリースコア!$E$11,\"\")","v":""},{"$f":"IF(C$1<>\"\",IF($A970<>\"\",COUNT(カテゴリースコア!M972),\"\"),\"\")","v":""},{"$f":"IF(D$1<>\"\",IF($A970<>\"\",COUNT(カテゴリースコア!N972),\"\"),\"\")","v":""},{"$f":"IF(E$1<>\"\",IF($A970<>\"\",COUNT(カテゴリースコア!O972),\"\"),\"\")","v":""},{"$f":"IF(F$1<>\"\",IF($A970<>\"\",COUNT(カテゴリースコア!P972),\"\"),\"\")","v":""},{"$f":"IF(G$1<>\"\",IF($A970<>\"\",COUNT(カテゴリースコア!Q972),\"\"),\"\")","v":""},{"$f":"IF(H$1<>\"\",IF($A970<>\"\",COUNT(カテゴリースコア!R972),\"\"),\"\")","v":""},{"$f":"IF(I$1<>\"\",IF($A970<>\"\",COUNT(カテゴリースコア!S972),\"\"),\"\")","v":""},{"$f":"IF(J$1<>\"\",IF($A970<>\"\",COUNT(カテゴリースコア!T972),\"\"),\"\")","v":""},{"$f":"IF(K$1<>\"\",IF($A970<>\"\",COUNT(カテゴリースコア!U972),\"\"),\"\")","v":""}]
[{"$f":"IF(データセット1!C971<>\"\",データセット1!C971,\"\")","v":""},{"$f":"IF(データセット1!C971<>\"\",データセット1!D971-カテゴリースコア!$E$11,\"\")","v":""},{"$f":"IF(C$1<>\"\",IF($A971<>\"\",COUNT(カテゴリースコア!M973),\"\"),\"\")","v":""},{"$f":"IF(D$1<>\"\",IF($A971<>\"\",COUNT(カテゴリースコア!N973),\"\"),\"\")","v":""},{"$f":"IF(E$1<>\"\",IF($A971<>\"\",COUNT(カテゴリースコア!O973),\"\"),\"\")","v":""},{"$f":"IF(F$1<>\"\",IF($A971<>\"\",COUNT(カテゴリースコア!P973),\"\"),\"\")","v":""},{"$f":"IF(G$1<>\"\",IF($A971<>\"\",COUNT(カテゴリースコア!Q973),\"\"),\"\")","v":""},{"$f":"IF(H$1<>\"\",IF($A971<>\"\",COUNT(カテゴリースコア!R973),\"\"),\"\")","v":""},{"$f":"IF(I$1<>\"\",IF($A971<>\"\",COUNT(カテゴリースコア!S973),\"\"),\"\")","v":""},{"$f":"IF(J$1<>\"\",IF($A971<>\"\",COUNT(カテゴリースコア!T973),\"\"),\"\")","v":""},{"$f":"IF(K$1<>\"\",IF($A971<>\"\",COUNT(カテゴリースコア!U973),\"\"),\"\")","v":""}]
[{"$f":"IF(データセット1!C972<>\"\",データセット1!C972,\"\")","v":""},{"$f":"IF(データセット1!C972<>\"\",データセット1!D972-カテゴリースコア!$E$11,\"\")","v":""},{"$f":"IF(C$1<>\"\",IF($A972<>\"\",COUNT(カテゴリースコア!M974),\"\"),\"\")","v":""},{"$f":"IF(D$1<>\"\",IF($A972<>\"\",COUNT(カテゴリースコア!N974),\"\"),\"\")","v":""},{"$f":"IF(E$1<>\"\",IF($A972<>\"\",COUNT(カテゴリースコア!O974),\"\"),\"\")","v":""},{"$f":"IF(F$1<>\"\",IF($A972<>\"\",COUNT(カテゴリースコア!P974),\"\"),\"\")","v":""},{"$f":"IF(G$1<>\"\",IF($A972<>\"\",COUNT(カテゴリースコア!Q974),\"\"),\"\")","v":""},{"$f":"IF(H$1<>\"\",IF($A972<>\"\",COUNT(カテゴリースコア!R974),\"\"),\"\")","v":""},{"$f":"IF(I$1<>\"\",IF($A972<>\"\",COUNT(カテゴリースコア!S974),\"\"),\"\")","v":""},{"$f":"IF(J$1<>\"\",IF($A972<>\"\",COUNT(カテゴリースコア!T974),\"\"),\"\")","v":""},{"$f":"IF(K$1<>\"\",IF($A972<>\"\",COUNT(カテゴリースコア!U974),\"\"),\"\")","v":""}]
[{"$f":"IF(データセット1!C973<>\"\",データセット1!C973,\"\")","v":""},{"$f":"IF(データセット1!C973<>\"\",データセット1!D973-カテゴリースコア!$E$11,\"\")","v":""},{"$f":"IF(C$1<>\"\",IF($A973<>\"\",COUNT(カテゴリースコア!M975),\"\"),\"\")","v":""},{"$f":"IF(D$1<>\"\",IF($A973<>\"\",COUNT(カテゴリースコア!N975),\"\"),\"\")","v":""},{"$f":"IF(E$1<>\"\",IF($A973<>\"\",COUNT(カテゴリースコア!O975),\"\"),\"\")","v":""},{"$f":"IF(F$1<>\"\",IF($A973<>\"\",COUNT(カテゴリースコア!P975),\"\"),\"\")","v":""},{"$f":"IF(G$1<>\"\",IF($A973<>\"\",COUNT(カテゴリースコア!Q975),\"\"),\"\")","v":""},{"$f":"IF(H$1<>\"\",IF($A973<>\"\",COUNT(カテゴリースコア!R975),\"\"),\"\")","v":""},{"$f":"IF(I$1<>\"\",IF($A973<>\"\",COUNT(カテゴリースコア!S975),\"\"),\"\")","v":""},{"$f":"IF(J$1<>\"\",IF($A973<>\"\",COUNT(カテゴリースコア!T975),\"\"),\"\")","v":""},{"$f":"IF(K$1<>\"\",IF($A973<>\"\",COUNT(カテゴリースコア!U975),\"\"),\"\")","v":""}]
[{"$f":"IF(データセット1!C974<>\"\",データセット1!C974,\"\")","v":""},{"$f":"IF(データセット1!C974<>\"\",データセット1!D974-カテゴリースコア!$E$11,\"\")","v":""},{"$f":"IF(C$1<>\"\",IF($A974<>\"\",COUNT(カテゴリースコア!M976),\"\"),\"\")","v":""},{"$f":"IF(D$1<>\"\",IF($A974<>\"\",COUNT(カテゴリースコア!N976),\"\"),\"\")","v":""},{"$f":"IF(E$1<>\"\",IF($A974<>\"\",COUNT(カテゴリースコア!O976),\"\"),\"\")","v":""},{"$f":"IF(F$1<>\"\",IF($A974<>\"\",COUNT(カテゴリースコア!P976),\"\"),\"\")","v":""},{"$f":"IF(G$1<>\"\",IF($A974<>\"\",COUNT(カテゴリースコア!Q976),\"\"),\"\")","v":""},{"$f":"IF(H$1<>\"\",IF($A974<>\"\",COUNT(カテゴリースコア!R976),\"\"),\"\")","v":""},{"$f":"IF(I$1<>\"\",IF($A974<>\"\",COUNT(カテゴリースコア!S976),\"\"),\"\")","v":""},{"$f":"IF(J$1<>\"\",IF($A974<>\"\",COUNT(カテゴリースコア!T976),\"\"),\"\")","v":""},{"$f":"IF(K$1<>\"\",IF($A974<>\"\",COUNT(カテゴリースコア!U976),\"\"),\"\")","v":""}]
[{"$f":"IF(データセット1!C975<>\"\",データセット1!C975,\"\")","v":""},{"$f":"IF(データセット1!C975<>\"\",データセット1!D975-カテゴリースコア!$E$11,\"\")","v":""},{"$f":"IF(C$1<>\"\",IF($A975<>\"\",COUNT(カテゴリースコア!M977),\"\"),\"\")","v":""},{"$f":"IF(D$1<>\"\",IF($A975<>\"\",COUNT(カテゴリースコア!N977),\"\"),\"\")","v":""},{"$f":"IF(E$1<>\"\",IF($A975<>\"\",COUNT(カテゴリースコア!O977),\"\"),\"\")","v":""},{"$f":"IF(F$1<>\"\",IF($A975<>\"\",COUNT(カテゴリースコア!P977),\"\"),\"\")","v":""},{"$f":"IF(G$1<>\"\",IF($A975<>\"\",COUNT(カテゴリースコア!Q977),\"\"),\"\")","v":""},{"$f":"IF(H$1<>\"\",IF($A975<>\"\",COUNT(カテゴリースコア!R977),\"\"),\"\")","v":""},{"$f":"IF(I$1<>\"\",IF($A975<>\"\",COUNT(カテゴリースコア!S977),\"\"),\"\")","v":""},{"$f":"IF(J$1<>\"\",IF($A975<>\"\",COUNT(カテゴリースコア!T977),\"\"),\"\")","v":""},{"$f":"IF(K$1<>\"\",IF($A975<>\"\",COUNT(カテゴリースコア!U977),\"\"),\"\")","v":""}]
[{"$f":"IF(データセット1!C976<>\"\",データセット1!C976,\"\")","v":""},{"$f":"IF(データセット1!C976<>\"\",データセット1!D976-カテゴリースコア!$E$11,\"\")","v":""},{"$f":"IF(C$1<>\"\",IF($A976<>\"\",COUNT(カテゴリースコア!M978),\"\"),\"\")","v":""},{"$f":"IF(D$1<>\"\",IF($A976<>\"\",COUNT(カテゴリースコア!N978),\"\"),\"\")","v":""},{"$f":"IF(E$1<>\"\",IF($A976<>\"\",COUNT(カテゴリースコア!O978),\"\"),\"\")","v":""},{"$f":"IF(F$1<>\"\",IF($A976<>\"\",COUNT(カテゴリースコア!P978),\"\"),\"\")","v":""},{"$f":"IF(G$1<>\"\",IF($A976<>\"\",COUNT(カテゴリースコア!Q978),\"\"),\"\")","v":""},{"$f":"IF(H$1<>\"\",IF($A976<>\"\",COUNT(カテゴリースコア!R978),\"\"),\"\")","v":""},{"$f":"IF(I$1<>\"\",IF($A976<>\"\",COUNT(カテゴリースコア!S978),\"\"),\"\")","v":""},{"$f":"IF(J$1<>\"\",IF($A976<>\"\",COUNT(カテゴリースコア!T978),\"\"),\"\")","v":""},{"$f":"IF(K$1<>\"\",IF($A976<>\"\",COUNT(カテゴリースコア!U978),\"\"),\"\")","v":""}]
[{"$f":"IF(データセット1!C977<>\"\",データセット1!C977,\"\")","v":""},{"$f":"IF(データセット1!C977<>\"\",データセット1!D977-カテゴリースコア!$E$11,\"\")","v":""},{"$f":"IF(C$1<>\"\",IF($A977<>\"\",COUNT(カテゴリースコア!M979),\"\"),\"\")","v":""},{"$f":"IF(D$1<>\"\",IF($A977<>\"\",COUNT(カテゴリースコア!N979),\"\"),\"\")","v":""},{"$f":"IF(E$1<>\"\",IF($A977<>\"\",COUNT(カテゴリースコア!O979),\"\"),\"\")","v":""},{"$f":"IF(F$1<>\"\",IF($A977<>\"\",COUNT(カテゴリースコア!P979),\"\"),\"\")","v":""},{"$f":"IF(G$1<>\"\",IF($A977<>\"\",COUNT(カテゴリースコア!Q979),\"\"),\"\")","v":""},{"$f":"IF(H$1<>\"\",IF($A977<>\"\",COUNT(カテゴリースコア!R979),\"\"),\"\")","v":""},{"$f":"IF(I$1<>\"\",IF($A977<>\"\",COUNT(カテゴリースコア!S979),\"\"),\"\")","v":""},{"$f":"IF(J$1<>\"\",IF($A977<>\"\",COUNT(カテゴリースコア!T979),\"\"),\"\")","v":""},{"$f":"IF(K$1<>\"\",IF($A977<>\"\",COUNT(カテゴリースコア!U979),\"\"),\"\")","v":""}]
[{"$f":"IF(データセット1!C978<>\"\",データセット1!C978,\"\")","v":""},{"$f":"IF(データセット1!C978<>\"\",データセット1!D978-カテゴリースコア!$E$11,\"\")","v":""},{"$f":"IF(C$1<>\"\",IF($A978<>\"\",COUNT(カテゴリースコア!M980),\"\"),\"\")","v":""},{"$f":"IF(D$1<>\"\",IF($A978<>\"\",COUNT(カテゴリースコア!N980),\"\"),\"\")","v":""},{"$f":"IF(E$1<>\"\",IF($A978<>\"\",COUNT(カテゴリースコア!O980),\"\"),\"\")","v":""},{"$f":"IF(F$1<>\"\",IF($A978<>\"\",COUNT(カテゴリースコア!P980),\"\"),\"\")","v":""},{"$f":"IF(G$1<>\"\",IF($A978<>\"\",COUNT(カテゴリースコア!Q980),\"\"),\"\")","v":""},{"$f":"IF(H$1<>\"\",IF($A978<>\"\",COUNT(カテゴリースコア!R980),\"\"),\"\")","v":""},{"$f":"IF(I$1<>\"\",IF($A978<>\"\",COUNT(カテゴリースコア!S980),\"\"),\"\")","v":""},{"$f":"IF(J$1<>\"\",IF($A978<>\"\",COUNT(カテゴリースコア!T980),\"\"),\"\")","v":""},{"$f":"IF(K$1<>\"\",IF($A978<>\"\",COUNT(カテゴリースコア!U980),\"\"),\"\")","v":""}]
[{"$f":"IF(データセット1!C979<>\"\",データセット1!C979,\"\")","v":""},{"$f":"IF(データセット1!C979<>\"\",データセット1!D979-カテゴリースコア!$E$11,\"\")","v":""},{"$f":"IF(C$1<>\"\",IF($A979<>\"\",COUNT(カテゴリースコア!M981),\"\"),\"\")","v":""},{"$f":"IF(D$1<>\"\",IF($A979<>\"\",COUNT(カテゴリースコア!N981),\"\"),\"\")","v":""},{"$f":"IF(E$1<>\"\",IF($A979<>\"\",COUNT(カテゴリースコア!O981),\"\"),\"\")","v":""},{"$f":"IF(F$1<>\"\",IF($A979<>\"\",COUNT(カテゴリースコア!P981),\"\"),\"\")","v":""},{"$f":"IF(G$1<>\"\",IF($A979<>\"\",COUNT(カテゴリースコア!Q981),\"\"),\"\")","v":""},{"$f":"IF(H$1<>\"\",IF($A979<>\"\",COUNT(カテゴリースコア!R981),\"\"),\"\")","v":""},{"$f":"IF(I$1<>\"\",IF($A979<>\"\",COUNT(カテゴリースコア!S981),\"\"),\"\")","v":""},{"$f":"IF(J$1<>\"\",IF($A979<>\"\",COUNT(カテゴリースコア!T981),\"\"),\"\")","v":""},{"$f":"IF(K$1<>\"\",IF($A979<>\"\",COUNT(カテゴリースコア!U981),\"\"),\"\")","v":""}]
[{"$f":"IF(データセット1!C980<>\"\",データセット1!C980,\"\")","v":""},{"$f":"IF(データセット1!C980<>\"\",データセット1!D980-カテゴリースコア!$E$11,\"\")","v":""},{"$f":"IF(C$1<>\"\",IF($A980<>\"\",COUNT(カテゴリースコア!M982),\"\"),\"\")","v":""},{"$f":"IF(D$1<>\"\",IF($A980<>\"\",COUNT(カテゴリースコア!N982),\"\"),\"\")","v":""},{"$f":"IF(E$1<>\"\",IF($A980<>\"\",COUNT(カテゴリースコア!O982),\"\"),\"\")","v":""},{"$f":"IF(F$1<>\"\",IF($A980<>\"\",COUNT(カテゴリースコア!P982),\"\"),\"\")","v":""},{"$f":"IF(G$1<>\"\",IF($A980<>\"\",COUNT(カテゴリースコア!Q982),\"\"),\"\")","v":""},{"$f":"IF(H$1<>\"\",IF($A980<>\"\",COUNT(カテゴリースコア!R982),\"\"),\"\")","v":""},{"$f":"IF(I$1<>\"\",IF($A980<>\"\",COUNT(カテゴリースコア!S982),\"\"),\"\")","v":""},{"$f":"IF(J$1<>\"\",IF($A980<>\"\",COUNT(カテゴリースコア!T982),\"\"),\"\")","v":""},{"$f":"IF(K$1<>\"\",IF($A980<>\"\",COUNT(カテゴリースコア!U982),\"\"),\"\")","v":""}]
[{"$f":"IF(データセット1!C981<>\"\",データセット1!C981,\"\")","v":""},{"$f":"IF(データセット1!C981<>\"\",データセット1!D981-カテゴリースコア!$E$11,\"\")","v":""},{"$f":"IF(C$1<>\"\",IF($A981<>\"\",COUNT(カテゴリースコア!M983),\"\"),\"\")","v":""},{"$f":"IF(D$1<>\"\",IF($A981<>\"\",COUNT(カテゴリースコア!N983),\"\"),\"\")","v":""},{"$f":"IF(E$1<>\"\",IF($A981<>\"\",COUNT(カテゴリースコア!O983),\"\"),\"\")","v":""},{"$f":"IF(F$1<>\"\",IF($A981<>\"\",COUNT(カテゴリースコア!P983),\"\"),\"\")","v":""},{"$f":"IF(G$1<>\"\",IF($A981<>\"\",COUNT(カテゴリースコア!Q983),\"\"),\"\")","v":""},{"$f":"IF(H$1<>\"\",IF($A981<>\"\",COUNT(カテゴリースコア!R983),\"\"),\"\")","v":""},{"$f":"IF(I$1<>\"\",IF($A981<>\"\",COUNT(カテゴリースコア!S983),\"\"),\"\")","v":""},{"$f":"IF(J$1<>\"\",IF($A981<>\"\",COUNT(カテゴリースコア!T983),\"\"),\"\")","v":""},{"$f":"IF(K$1<>\"\",IF($A981<>\"\",COUNT(カテゴリースコア!U983),\"\"),\"\")","v":""}]
[{"$f":"IF(データセット1!C982<>\"\",データセット1!C982,\"\")","v":""},{"$f":"IF(データセット1!C982<>\"\",データセット1!D982-カテゴリースコア!$E$11,\"\")","v":""},{"$f":"IF(C$1<>\"\",IF($A982<>\"\",COUNT(カテゴリースコア!M984),\"\"),\"\")","v":""},{"$f":"IF(D$1<>\"\",IF($A982<>\"\",COUNT(カテゴリースコア!N984),\"\"),\"\")","v":""},{"$f":"IF(E$1<>\"\",IF($A982<>\"\",COUNT(カテゴリースコア!O984),\"\"),\"\")","v":""},{"$f":"IF(F$1<>\"\",IF($A982<>\"\",COUNT(カテゴリースコア!P984),\"\"),\"\")","v":""},{"$f":"IF(G$1<>\"\",IF($A982<>\"\",COUNT(カテゴリースコア!Q984),\"\"),\"\")","v":""},{"$f":"IF(H$1<>\"\",IF($A982<>\"\",COUNT(カテゴリースコア!R984),\"\"),\"\")","v":""},{"$f":"IF(I$1<>\"\",IF($A982<>\"\",COUNT(カテゴリースコア!S984),\"\"),\"\")","v":""},{"$f":"IF(J$1<>\"\",IF($A982<>\"\",COUNT(カテゴリースコア!T984),\"\"),\"\")","v":""},{"$f":"IF(K$1<>\"\",IF($A982<>\"\",COUNT(カテゴリースコア!U984),\"\"),\"\")","v":""}]
[{"$f":"IF(データセット1!C983<>\"\",データセット1!C983,\"\")","v":""},{"$f":"IF(データセット1!C983<>\"\",データセット1!D983-カテゴリースコア!$E$11,\"\")","v":""},{"$f":"IF(C$1<>\"\",IF($A983<>\"\",COUNT(カテゴリースコア!M985),\"\"),\"\")","v":""},{"$f":"IF(D$1<>\"\",IF($A983<>\"\",COUNT(カテゴリースコア!N985),\"\"),\"\")","v":""},{"$f":"IF(E$1<>\"\",IF($A983<>\"\",COUNT(カテゴリースコア!O985),\"\"),\"\")","v":""},{"$f":"IF(F$1<>\"\",IF($A983<>\"\",COUNT(カテゴリースコア!P985),\"\"),\"\")","v":""},{"$f":"IF(G$1<>\"\",IF($A983<>\"\",COUNT(カテゴリースコア!Q985),\"\"),\"\")","v":""},{"$f":"IF(H$1<>\"\",IF($A983<>\"\",COUNT(カテゴリースコア!R985),\"\"),\"\")","v":""},{"$f":"IF(I$1<>\"\",IF($A983<>\"\",COUNT(カテゴリースコア!S985),\"\"),\"\")","v":""},{"$f":"IF(J$1<>\"\",IF($A983<>\"\",COUNT(カテゴリースコア!T985),\"\"),\"\")","v":""},{"$f":"IF(K$1<>\"\",IF($A983<>\"\",COUNT(カテゴリースコア!U985),\"\"),\"\")","v":""}]
[{"$f":"IF(データセット1!C984<>\"\",データセット1!C984,\"\")","v":""},{"$f":"IF(データセット1!C984<>\"\",データセット1!D984-カテゴリースコア!$E$11,\"\")","v":""},{"$f":"IF(C$1<>\"\",IF($A984<>\"\",COUNT(カテゴリースコア!M986),\"\"),\"\")","v":""},{"$f":"IF(D$1<>\"\",IF($A984<>\"\",COUNT(カテゴリースコア!N986),\"\"),\"\")","v":""},{"$f":"IF(E$1<>\"\",IF($A984<>\"\",COUNT(カテゴリースコア!O986),\"\"),\"\")","v":""},{"$f":"IF(F$1<>\"\",IF($A984<>\"\",COUNT(カテゴリースコア!P986),\"\"),\"\")","v":""},{"$f":"IF(G$1<>\"\",IF($A984<>\"\",COUNT(カテゴリースコア!Q986),\"\"),\"\")","v":""},{"$f":"IF(H$1<>\"\",IF($A984<>\"\",COUNT(カテゴリースコア!R986),\"\"),\"\")","v":""},{"$f":"IF(I$1<>\"\",IF($A984<>\"\",COUNT(カテゴリースコア!S986),\"\"),\"\")","v":""},{"$f":"IF(J$1<>\"\",IF($A984<>\"\",COUNT(カテゴリースコア!T986),\"\"),\"\")","v":""},{"$f":"IF(K$1<>\"\",IF($A984<>\"\",COUNT(カテゴリースコア!U986),\"\"),\"\")","v":""}]
[{"$f":"IF(データセット1!C985<>\"\",データセット1!C985,\"\")","v":""},{"$f":"IF(データセット1!C985<>\"\",データセット1!D985-カテゴリースコア!$E$11,\"\")","v":""},{"$f":"IF(C$1<>\"\",IF($A985<>\"\",COUNT(カテゴリースコア!M987),\"\"),\"\")","v":""},{"$f":"IF(D$1<>\"\",IF($A985<>\"\",COUNT(カテゴリースコア!N987),\"\"),\"\")","v":""},{"$f":"IF(E$1<>\"\",IF($A985<>\"\",COUNT(カテゴリースコア!O987),\"\"),\"\")","v":""},{"$f":"IF(F$1<>\"\",IF($A985<>\"\",COUNT(カテゴリースコア!P987),\"\"),\"\")","v":""},{"$f":"IF(G$1<>\"\",IF($A985<>\"\",COUNT(カテゴリースコア!Q987),\"\"),\"\")","v":""},{"$f":"IF(H$1<>\"\",IF($A985<>\"\",COUNT(カテゴリースコア!R987),\"\"),\"\")","v":""},{"$f":"IF(I$1<>\"\",IF($A985<>\"\",COUNT(カテゴリースコア!S987),\"\"),\"\")","v":""},{"$f":"IF(J$1<>\"\",IF($A985<>\"\",COUNT(カテゴリースコア!T987),\"\"),\"\")","v":""},{"$f":"IF(K$1<>\"\",IF($A985<>\"\",COUNT(カテゴリースコア!U987),\"\"),\"\")","v":""}]
[{"$f":"IF(データセット1!C986<>\"\",データセット1!C986,\"\")","v":""},{"$f":"IF(データセット1!C986<>\"\",データセット1!D986-カテゴリースコア!$E$11,\"\")","v":""},{"$f":"IF(C$1<>\"\",IF($A986<>\"\",COUNT(カテゴリースコア!M988),\"\"),\"\")","v":""},{"$f":"IF(D$1<>\"\",IF($A986<>\"\",COUNT(カテゴリースコア!N988),\"\"),\"\")","v":""},{"$f":"IF(E$1<>\"\",IF($A986<>\"\",COUNT(カテゴリースコア!O988),\"\"),\"\")","v":""},{"$f":"IF(F$1<>\"\",IF($A986<>\"\",COUNT(カテゴリースコア!P988),\"\"),\"\")","v":""},{"$f":"IF(G$1<>\"\",IF($A986<>\"\",COUNT(カテゴリースコア!Q988),\"\"),\"\")","v":""},{"$f":"IF(H$1<>\"\",IF($A986<>\"\",COUNT(カテゴリースコア!R988),\"\"),\"\")","v":""},{"$f":"IF(I$1<>\"\",IF($A986<>\"\",COUNT(カテゴリースコア!S988),\"\"),\"\")","v":""},{"$f":"IF(J$1<>\"\",IF($A986<>\"\",COUNT(カテゴリースコア!T988),\"\"),\"\")","v":""},{"$f":"IF(K$1<>\"\",IF($A986<>\"\",COUNT(カテゴリースコア!U988),\"\"),\"\")","v":""}]
[{"$f":"IF(データセット1!C987<>\"\",データセット1!C987,\"\")","v":""},{"$f":"IF(データセット1!C987<>\"\",データセット1!D987-カテゴリースコア!$E$11,\"\")","v":""},{"$f":"IF(C$1<>\"\",IF($A987<>\"\",COUNT(カテゴリースコア!M989),\"\"),\"\")","v":""},{"$f":"IF(D$1<>\"\",IF($A987<>\"\",COUNT(カテゴリースコア!N989),\"\"),\"\")","v":""},{"$f":"IF(E$1<>\"\",IF($A987<>\"\",COUNT(カテゴリースコア!O989),\"\"),\"\")","v":""},{"$f":"IF(F$1<>\"\",IF($A987<>\"\",COUNT(カテゴリースコア!P989),\"\"),\"\")","v":""},{"$f":"IF(G$1<>\"\",IF($A987<>\"\",COUNT(カテゴリースコア!Q989),\"\"),\"\")","v":""},{"$f":"IF(H$1<>\"\",IF($A987<>\"\",COUNT(カテゴリースコア!R989),\"\"),\"\")","v":""},{"$f":"IF(I$1<>\"\",IF($A987<>\"\",COUNT(カテゴリースコア!S989),\"\"),\"\")","v":""},{"$f":"IF(J$1<>\"\",IF($A987<>\"\",COUNT(カテゴリースコア!T989),\"\"),\"\")","v":""},{"$f":"IF(K$1<>\"\",IF($A987<>\"\",COUNT(カテゴリースコア!U989),\"\"),\"\")","v":""}]
[{"$f":"IF(データセット1!C988<>\"\",データセット1!C988,\"\")","v":""},{"$f":"IF(データセット1!C988<>\"\",データセット1!D988-カテゴリースコア!$E$11,\"\")","v":""},{"$f":"IF(C$1<>\"\",IF($A988<>\"\",COUNT(カテゴリースコア!M990),\"\"),\"\")","v":""},{"$f":"IF(D$1<>\"\",IF($A988<>\"\",COUNT(カテゴリースコア!N990),\"\"),\"\")","v":""},{"$f":"IF(E$1<>\"\",IF($A988<>\"\",COUNT(カテゴリースコア!O990),\"\"),\"\")","v":""},{"$f":"IF(F$1<>\"\",IF($A988<>\"\",COUNT(カテゴリースコア!P990),\"\"),\"\")","v":""},{"$f":"IF(G$1<>\"\",IF($A988<>\"\",COUNT(カテゴリースコア!Q990),\"\"),\"\")","v":""},{"$f":"IF(H$1<>\"\",IF($A988<>\"\",COUNT(カテゴリースコア!R990),\"\"),\"\")","v":""},{"$f":"IF(I$1<>\"\",IF($A988<>\"\",COUNT(カテゴリースコア!S990),\"\"),\"\")","v":""},{"$f":"IF(J$1<>\"\",IF($A988<>\"\",COUNT(カテゴリースコア!T990),\"\"),\"\")","v":""},{"$f":"IF(K$1<>\"\",IF($A988<>\"\",COUNT(カテゴリースコア!U990),\"\"),\"\")","v":""}]
[{"$f":"IF(データセット1!C989<>\"\",データセット1!C989,\"\")","v":""},{"$f":"IF(データセット1!C989<>\"\",データセット1!D989-カテゴリースコア!$E$11,\"\")","v":""},{"$f":"IF(C$1<>\"\",IF($A989<>\"\",COUNT(カテゴリースコア!M991),\"\"),\"\")","v":""},{"$f":"IF(D$1<>\"\",IF($A989<>\"\",COUNT(カテゴリースコア!N991),\"\"),\"\")","v":""},{"$f":"IF(E$1<>\"\",IF($A989<>\"\",COUNT(カテゴリースコア!O991),\"\"),\"\")","v":""},{"$f":"IF(F$1<>\"\",IF($A989<>\"\",COUNT(カテゴリースコア!P991),\"\"),\"\")","v":""},{"$f":"IF(G$1<>\"\",IF($A989<>\"\",COUNT(カテゴリースコア!Q991),\"\"),\"\")","v":""},{"$f":"IF(H$1<>\"\",IF($A989<>\"\",COUNT(カテゴリースコア!R991),\"\"),\"\")","v":""},{"$f":"IF(I$1<>\"\",IF($A989<>\"\",COUNT(カテゴリースコア!S991),\"\"),\"\")","v":""},{"$f":"IF(J$1<>\"\",IF($A989<>\"\",COUNT(カテゴリースコア!T991),\"\"),\"\")","v":""},{"$f":"IF(K$1<>\"\",IF($A989<>\"\",COUNT(カテゴリースコア!U991),\"\"),\"\")","v":""}]
[{"$f":"IF(データセット1!C990<>\"\",データセット1!C990,\"\")","v":""},{"$f":"IF(データセット1!C990<>\"\",データセット1!D990-カテゴリースコア!$E$11,\"\")","v":""},{"$f":"IF(C$1<>\"\",IF($A990<>\"\",COUNT(カテゴリースコア!M992),\"\"),\"\")","v":""},{"$f":"IF(D$1<>\"\",IF($A990<>\"\",COUNT(カテゴリースコア!N992),\"\"),\"\")","v":""},{"$f":"IF(E$1<>\"\",IF($A990<>\"\",COUNT(カテゴリースコア!O992),\"\"),\"\")","v":""},{"$f":"IF(F$1<>\"\",IF($A990<>\"\",COUNT(カテゴリースコア!P992),\"\"),\"\")","v":""},{"$f":"IF(G$1<>\"\",IF($A990<>\"\",COUNT(カテゴリースコア!Q992),\"\"),\"\")","v":""},{"$f":"IF(H$1<>\"\",IF($A990<>\"\",COUNT(カテゴリースコア!R992),\"\"),\"\")","v":""},{"$f":"IF(I$1<>\"\",IF($A990<>\"\",COUNT(カテゴリースコア!S992),\"\"),\"\")","v":""},{"$f":"IF(J$1<>\"\",IF($A990<>\"\",COUNT(カテゴリースコア!T992),\"\"),\"\")","v":""},{"$f":"IF(K$1<>\"\",IF($A990<>\"\",COUNT(カテゴリースコア!U992),\"\"),\"\")","v":""}]
[{"$f":"IF(データセット1!C991<>\"\",データセット1!C991,\"\")","v":""},{"$f":"IF(データセット1!C991<>\"\",データセット1!D991-カテゴリースコア!$E$11,\"\")","v":""},{"$f":"IF(C$1<>\"\",IF($A991<>\"\",COUNT(カテゴリースコア!M993),\"\"),\"\")","v":""},{"$f":"IF(D$1<>\"\",IF($A991<>\"\",COUNT(カテゴリースコア!N993),\"\"),\"\")","v":""},{"$f":"IF(E$1<>\"\",IF($A991<>\"\",COUNT(カテゴリースコア!O993),\"\"),\"\")","v":""},{"$f":"IF(F$1<>\"\",IF($A991<>\"\",COUNT(カテゴリースコア!P993),\"\"),\"\")","v":""},{"$f":"IF(G$1<>\"\",IF($A991<>\"\",COUNT(カテゴリースコア!Q993),\"\"),\"\")","v":""},{"$f":"IF(H$1<>\"\",IF($A991<>\"\",COUNT(カテゴリースコア!R993),\"\"),\"\")","v":""},{"$f":"IF(I$1<>\"\",IF($A991<>\"\",COUNT(カテゴリースコア!S993),\"\"),\"\")","v":""},{"$f":"IF(J$1<>\"\",IF($A991<>\"\",COUNT(カテゴリースコア!T993),\"\"),\"\")","v":""},{"$f":"IF(K$1<>\"\",IF($A991<>\"\",COUNT(カテゴリースコア!U993),\"\"),\"\")","v":""}]
[{"$f":"IF(データセット1!C992<>\"\",データセット1!C992,\"\")","v":""},{"$f":"IF(データセット1!C992<>\"\",データセット1!D992-カテゴリースコア!$E$11,\"\")","v":""},{"$f":"IF(C$1<>\"\",IF($A992<>\"\",COUNT(カテゴリースコア!M994),\"\"),\"\")","v":""},{"$f":"IF(D$1<>\"\",IF($A992<>\"\",COUNT(カテゴリースコア!N994),\"\"),\"\")","v":""},{"$f":"IF(E$1<>\"\",IF($A992<>\"\",COUNT(カテゴリースコア!O994),\"\"),\"\")","v":""},{"$f":"IF(F$1<>\"\",IF($A992<>\"\",COUNT(カテゴリースコア!P994),\"\"),\"\")","v":""},{"$f":"IF(G$1<>\"\",IF($A992<>\"\",COUNT(カテゴリースコア!Q994),\"\"),\"\")","v":""},{"$f":"IF(H$1<>\"\",IF($A992<>\"\",COUNT(カテゴリースコア!R994),\"\"),\"\")","v":""},{"$f":"IF(I$1<>\"\",IF($A992<>\"\",COUNT(カテゴリースコア!S994),\"\"),\"\")","v":""},{"$f":"IF(J$1<>\"\",IF($A992<>\"\",COUNT(カテゴリースコア!T994),\"\"),\"\")","v":""},{"$f":"IF(K$1<>\"\",IF($A992<>\"\",COUNT(カテゴリースコア!U994),\"\"),\"\")","v":""}]
[{"$f":"IF(データセット1!C993<>\"\",データセット1!C993,\"\")","v":""},{"$f":"IF(データセット1!C993<>\"\",データセット1!D993-カテゴリースコア!$E$11,\"\")","v":""},{"$f":"IF(C$1<>\"\",IF($A993<>\"\",COUNT(カテゴリースコア!M995),\"\"),\"\")","v":""},{"$f":"IF(D$1<>\"\",IF($A993<>\"\",COUNT(カテゴリースコア!N995),\"\"),\"\")","v":""},{"$f":"IF(E$1<>\"\",IF($A993<>\"\",COUNT(カテゴリースコア!O995),\"\"),\"\")","v":""},{"$f":"IF(F$1<>\"\",IF($A993<>\"\",COUNT(カテゴリースコア!P995),\"\"),\"\")","v":""},{"$f":"IF(G$1<>\"\",IF($A993<>\"\",COUNT(カテゴリースコア!Q995),\"\"),\"\")","v":""},{"$f":"IF(H$1<>\"\",IF($A993<>\"\",COUNT(カテゴリースコア!R995),\"\"),\"\")","v":""},{"$f":"IF(I$1<>\"\",IF($A993<>\"\",COUNT(カテゴリースコア!S995),\"\"),\"\")","v":""},{"$f":"IF(J$1<>\"\",IF($A993<>\"\",COUNT(カテゴリースコア!T995),\"\"),\"\")","v":""},{"$f":"IF(K$1<>\"\",IF($A993<>\"\",COUNT(カテゴリースコア!U995),\"\"),\"\")","v":""}]
[{"$f":"IF(データセット1!C994<>\"\",データセット1!C994,\"\")","v":""},{"$f":"IF(データセット1!C994<>\"\",データセット1!D994-カテゴリースコア!$E$11,\"\")","v":""},{"$f":"IF(C$1<>\"\",IF($A994<>\"\",COUNT(カテゴリースコア!M996),\"\"),\"\")","v":""},{"$f":"IF(D$1<>\"\",IF($A994<>\"\",COUNT(カテゴリースコア!N996),\"\"),\"\")","v":""},{"$f":"IF(E$1<>\"\",IF($A994<>\"\",COUNT(カテゴリースコア!O996),\"\"),\"\")","v":""},{"$f":"IF(F$1<>\"\",IF($A994<>\"\",COUNT(カテゴリースコア!P996),\"\"),\"\")","v":""},{"$f":"IF(G$1<>\"\",IF($A994<>\"\",COUNT(カテゴリースコア!Q996),\"\"),\"\")","v":""},{"$f":"IF(H$1<>\"\",IF($A994<>\"\",COUNT(カテゴリースコア!R996),\"\"),\"\")","v":""},{"$f":"IF(I$1<>\"\",IF($A994<>\"\",COUNT(カテゴリースコア!S996),\"\"),\"\")","v":""},{"$f":"IF(J$1<>\"\",IF($A994<>\"\",COUNT(カテゴリースコア!T996),\"\"),\"\")","v":""},{"$f":"IF(K$1<>\"\",IF($A994<>\"\",COUNT(カテゴリースコア!U996),\"\"),\"\")","v":""}]
[{"$f":"IF(データセット1!C995<>\"\",データセット1!C995,\"\")","v":""},{"$f":"IF(データセット1!C995<>\"\",データセット1!D995-カテゴリースコア!$E$11,\"\")","v":""},{"$f":"IF(C$1<>\"\",IF($A995<>\"\",COUNT(カテゴリースコア!M997),\"\"),\"\")","v":""},{"$f":"IF(D$1<>\"\",IF($A995<>\"\",COUNT(カテゴリースコア!N997),\"\"),\"\")","v":""},{"$f":"IF(E$1<>\"\",IF($A995<>\"\",COUNT(カテゴリースコア!O997),\"\"),\"\")","v":""},{"$f":"IF(F$1<>\"\",IF($A995<>\"\",COUNT(カテゴリースコア!P997),\"\"),\"\")","v":""},{"$f":"IF(G$1<>\"\",IF($A995<>\"\",COUNT(カテゴリースコア!Q997),\"\"),\"\")","v":""},{"$f":"IF(H$1<>\"\",IF($A995<>\"\",COUNT(カテゴリースコア!R997),\"\"),\"\")","v":""},{"$f":"IF(I$1<>\"\",IF($A995<>\"\",COUNT(カテゴリースコア!S997),\"\"),\"\")","v":""},{"$f":"IF(J$1<>\"\",IF($A995<>\"\",COUNT(カテゴリースコア!T997),\"\"),\"\")","v":""},{"$f":"IF(K$1<>\"\",IF($A995<>\"\",COUNT(カテゴリースコア!U997),\"\"),\"\")","v":""}]
[{"$f":"IF(データセット1!C996<>\"\",データセット1!C996,\"\")","v":""},{"$f":"IF(データセット1!C996<>\"\",データセット1!D996-カテゴリースコア!$E$11,\"\")","v":""},{"$f":"IF(C$1<>\"\",IF($A996<>\"\",COUNT(カテゴリースコア!M998),\"\"),\"\")","v":""},{"$f":"IF(D$1<>\"\",IF($A996<>\"\",COUNT(カテゴリースコア!N998),\"\"),\"\")","v":""},{"$f":"IF(E$1<>\"\",IF($A996<>\"\",COUNT(カテゴリースコア!O998),\"\"),\"\")","v":""},{"$f":"IF(F$1<>\"\",IF($A996<>\"\",COUNT(カテゴリースコア!P998),\"\"),\"\")","v":""},{"$f":"IF(G$1<>\"\",IF($A996<>\"\",COUNT(カテゴリースコア!Q998),\"\"),\"\")","v":""},{"$f":"IF(H$1<>\"\",IF($A996<>\"\",COUNT(カテゴリースコア!R998),\"\"),\"\")","v":""},{"$f":"IF(I$1<>\"\",IF($A996<>\"\",COUNT(カテゴリースコア!S998),\"\"),\"\")","v":""},{"$f":"IF(J$1<>\"\",IF($A996<>\"\",COUNT(カテゴリースコア!T998),\"\"),\"\")","v":""},{"$f":"IF(K$1<>\"\",IF($A996<>\"\",COUNT(カテゴリースコア!U998),\"\"),\"\")","v":""}]
[{"$f":"IF(データセット1!C997<>\"\",データセット1!C997,\"\")","v":""},{"$f":"IF(データセット1!C997<>\"\",データセット1!D997-カテゴリースコア!$E$11,\"\")","v":""},{"$f":"IF(C$1<>\"\",IF($A997<>\"\",COUNT(カテゴリースコア!M999),\"\"),\"\")","v":""},{"$f":"IF(D$1<>\"\",IF($A997<>\"\",COUNT(カテゴリースコア!N999),\"\"),\"\")","v":""},{"$f":"IF(E$1<>\"\",IF($A997<>\"\",COUNT(カテゴリースコア!O999),\"\"),\"\")","v":""},{"$f":"IF(F$1<>\"\",IF($A997<>\"\",COUNT(カテゴリースコア!P999),\"\"),\"\")","v":""},{"$f":"IF(G$1<>\"\",IF($A997<>\"\",COUNT(カテゴリースコア!Q999),\"\"),\"\")","v":""},{"$f":"IF(H$1<>\"\",IF($A997<>\"\",COUNT(カテゴリースコア!R999),\"\"),\"\")","v":""},{"$f":"IF(I$1<>\"\",IF($A997<>\"\",COUNT(カテゴリースコア!S999),\"\"),\"\")","v":""},{"$f":"IF(J$1<>\"\",IF($A997<>\"\",COUNT(カテゴリースコア!T999),\"\"),\"\")","v":""},{"$f":"IF(K$1<>\"\",IF($A997<>\"\",COUNT(カテゴリースコア!U999),\"\"),\"\")","v":""}]
[{"$f":"IF(データセット1!C998<>\"\",データセット1!C998,\"\")","v":""},{"$f":"IF(データセット1!C998<>\"\",データセット1!D998-カテゴリースコア!$E$11,\"\")","v":""},{"$f":"IF(C$1<>\"\",IF($A998<>\"\",COUNT(カテゴリースコア!M1000),\"\"),\"\")","v":""},{"$f":"IF(D$1<>\"\",IF($A998<>\"\",COUNT(カテゴリースコア!N1000),\"\"),\"\")","v":""},{"$f":"IF(E$1<>\"\",IF($A998<>\"\",COUNT(カテゴリースコア!O1000),\"\"),\"\")","v":""},{"$f":"IF(F$1<>\"\",IF($A998<>\"\",COUNT(カテゴリースコア!P1000),\"\"),\"\")","v":""},{"$f":"IF(G$1<>\"\",IF($A998<>\"\",COUNT(カテゴリースコア!Q1000),\"\"),\"\")","v":""},{"$f":"IF(H$1<>\"\",IF($A998<>\"\",COUNT(カテゴリースコア!R1000),\"\"),\"\")","v":""},{"$f":"IF(I$1<>\"\",IF($A998<>\"\",COUNT(カテゴリースコア!S1000),\"\"),\"\")","v":""},{"$f":"IF(J$1<>\"\",IF($A998<>\"\",COUNT(カテゴリースコア!T1000),\"\"),\"\")","v":""},{"$f":"IF(K$1<>\"\",IF($A998<>\"\",COUNT(カテゴリースコア!U1000),\"\"),\"\")","v":""}]
[{"$f":"IF(データセット1!C999<>\"\",データセット1!C999,\"\")","v":""},{"$f":"IF(データセット1!C999<>\"\",データセット1!D999-カテゴリースコア!$E$11,\"\")","v":""},{"$f":"IF(C$1<>\"\",IF($A999<>\"\",COUNT(カテゴリースコア!M1001),\"\"),\"\")","v":""},{"$f":"IF(D$1<>\"\",IF($A999<>\"\",COUNT(カテゴリースコア!N1001),\"\"),\"\")","v":""},{"$f":"IF(E$1<>\"\",IF($A999<>\"\",COUNT(カテゴリースコア!O1001),\"\"),\"\")","v":""},{"$f":"IF(F$1<>\"\",IF($A999<>\"\",COUNT(カテゴリースコア!P1001),\"\"),\"\")","v":""},{"$f":"IF(G$1<>\"\",IF($A999<>\"\",COUNT(カテゴリースコア!Q1001),\"\"),\"\")","v":""},{"$f":"IF(H$1<>\"\",IF($A999<>\"\",COUNT(カテゴリースコア!R1001),\"\"),\"\")","v":""},{"$f":"IF(I$1<>\"\",IF($A999<>\"\",COUNT(カテゴリースコア!S1001),\"\"),\"\")","v":""},{"$f":"IF(J$1<>\"\",IF($A999<>\"\",COUNT(カテゴリースコア!T1001),\"\"),\"\")","v":""},{"$f":"IF(K$1<>\"\",IF($A999<>\"\",COUNT(カテゴリースコア!U1001),\"\"),\"\")","v":""}]
[{"$f":"IF(データセット1!C1000<>\"\",データセット1!C1000,\"\")","v":""},{"$f":"IF(データセット1!C1000<>\"\",データセット1!D1000-カテゴリースコア!$E$11,\"\")","v":""},{"$f":"IF(C$1<>\"\",IF($A1000<>\"\",COUNT(カテゴリースコア!M1002),\"\"),\"\")","v":""},{"$f":"IF(D$1<>\"\",IF($A1000<>\"\",COUNT(カテゴリースコア!N1002),\"\"),\"\")","v":""},{"$f":"IF(E$1<>\"\",IF($A1000<>\"\",COUNT(カテゴリースコア!O1002),\"\"),\"\")","v":""},{"$f":"IF(F$1<>\"\",IF($A1000<>\"\",COUNT(カテゴリースコア!P1002),\"\"),\"\")","v":""},{"$f":"IF(G$1<>\"\",IF($A1000<>\"\",COUNT(カテゴリースコア!Q1002),\"\"),\"\")","v":""},{"$f":"IF(H$1<>\"\",IF($A1000<>\"\",COUNT(カテゴリースコア!R1002),\"\"),\"\")","v":""},{"$f":"IF(I$1<>\"\",IF($A1000<>\"\",COUNT(カテゴリースコア!S1002),\"\"),\"\")","v":""},{"$f":"IF(J$1<>\"\",IF($A1000<>\"\",COUNT(カテゴリースコア!T1002),\"\"),\"\")","v":""},{"$f":"IF(K$1<>\"\",IF($A1000<>\"\",COUNT(カテゴリースコア!U1002),\"\"),\"\")","v":""}]